{"text_format":"1","workbook":"xlsx","n_sheets":6,"sheets":["TAS","Poissaolot","Osakoonti","Kalenteri","Tuloste","Suunnitelma"],"not_rendered":{"charts":0,"images":0,"macros":1,"external_links":0,"defined_names":31,"comments":1,"pivot_tables":0},"unopened":[],"bounds":{"document_bytes":16777216,"sheet_cells":100000,"rows_first":2000,"rows_last":500,"rows_between":2000,"halvings":0,"cell_chars":16384,"cell_head_chars":4096},"cells_cut":0,"cells_raw":0,"read":"whole","date_system":"1900"}

{"sheet":"TAS","index":0,"n_rows":35,"n_cols":3687,"rows_kept":35,"cut":false,"hidden":false,"merged":[[0,3,0,5]]}
["Tassi",null,"Opettajan nimi","Olli Opettaja",null,null,null,"OMNIA",null,null,null,null,"Vuoden alku","2019-01-01",{"$f":"N1+364","v":"2019-12-31"},null,"2019-01-07",null,null,"jako",null,"yht",{"$f":"WEEKDAY(X2,2)","v":2},{"$f":"IF(W1=1,\"Maanantai\",IF(W1=2,\"Tiistai\",IF(W1=3,\"Keskiviikko\",IF(W1=4,\"Torstai\",IF(W1=5,\"Perjantai\",IF(W1=6,\"Lauantai\",IF(W1=7,\"Sunnuntai\",\"\")))))))","v":"Tiistai"},null,null,null,null,null,"jako",null,"yht",{"$f":"WEEKDAY(AH2,2)","v":3},{"$f":"IF(AG1=1,\"Maanantai\",IF(AG1=2,\"Tiistai\",IF(AG1=3,\"Keskiviikko\",IF(AG1=4,\"Torstai\",IF(AG1=5,\"Perjantai\",IF(AG1=6,\"Lauantai\",IF(AG1=7,\"Sunnuntai\",\"\")))))))","v":"Keskiviikko"},null,null,null,null,null,"jako",null,"yht",{"$f":"WEEKDAY(AR2,2)","v":4},{"$f":"IF(AQ1=1,\"Maanantai\",IF(AQ1=2,\"Tiistai\",IF(AQ1=3,\"Keskiviikko\",IF(AQ1=4,\"Torstai\",IF(AQ1=5,\"Perjantai\",IF(AQ1=6,\"Lauantai\",IF(AQ1=7,\"Sunnuntai\",\"\")))))))","v":"Torstai"},null,null,null,null,null,"jako",null,"yht",{"$f":"WEEKDAY(BB2,2)","v":5},{"$f":"IF(BA1=1,\"Maanantai\",IF(BA1=2,\"Tiistai\",IF(BA1=3,\"Keskiviikko\",IF(BA1=4,\"Torstai\",IF(BA1=5,\"Perjantai\",IF(BA1=6,\"Lauantai\",IF(BA1=7,\"Sunnuntai\",\"\")))))))","v":"Perjantai"},null,null,null,null,null,"jako",null,"yht",{"$f":"WEEKDAY(BL2,2)","v":6},{"$f":"IF(BK1=1,\"Maanantai\",IF(BK1=2,\"Tiistai\",IF(BK1=3,\"Keskiviikko\",IF(BK1=4,\"Torstai\",IF(BK1=5,\"Perjantai\",IF(BK1=6,\"Lauantai\",IF(BK1=7,\"Sunnuntai\",\"\")))))))","v":"Lauantai"},null,null,null,null,null,"jako",null,"yht",{"$f":"WEEKDAY(BV2,2)","v":7},{"$f":"IF(BU1=1,\"Maanantai\",IF(BU1=2,\"Tiistai\",IF(BU1=3,\"Keskiviikko\",IF(BU1=4,\"Torstai\",IF(BU1=5,\"Perjantai\",IF(BU1=6,\"Lauantai\",IF(BU1=7,\"Sunnuntai\",\"\")))))))","v":"Sunnuntai"},null,null,null,null,null,"jako",null,"yht",{"$f":"WEEKDAY(CF2,2)","v":1},{"$f":"IF(CE1=1,\"Maanantai\",IF(CE1=2,\"Tiistai\",IF(CE1=3,\"Keskiviikko\",IF(CE1=4,\"Torstai\",IF(CE1=5,\"Perjantai\",IF(CE1=6,\"Lauantai\",IF(CE1=7,\"Sunnuntai\",\"\")))))))","v":"Maanantai"},null,null,null,null,null,"jako",null,"yht",{"$f":"WEEKDAY(CP2,2)","v":2},{"$f":"IF(CO1=1,\"Maanantai\",IF(CO1=2,\"Tiistai\",IF(CO1=3,\"Keskiviikko\",IF(CO1=4,\"Torstai\",IF(CO1=5,\"Perjantai\",IF(CO1=6,\"Lauantai\",IF(CO1=7,\"Sunnuntai\",\"\")))))))","v":"Tiistai"},null,null,null,null,null,"jako",null,"yht",{"$f":"WEEKDAY(CZ2,2)","v":3},{"$f":"IF(CY1=1,\"Maanantai\",IF(CY1=2,\"Tiistai\",IF(CY1=3,\"Keskiviikko\",IF(CY1=4,\"Torstai\",IF(CY1=5,\"Perjantai\",IF(CY1=6,\"Lauantai\",IF(CY1=7,\"Sunnuntai\",\"\")))))))","v":"Keskiviikko"},null,null,null,null,null,"jako",null,"yht",{"$f":"WEEKDAY(DJ2,2)","v":4},{"$f":"IF(DI1=1,\"Maanantai\",IF(DI1=2,\"Tiistai\",IF(DI1=3,\"Keskiviikko\",IF(DI1=4,\"Torstai\",IF(DI1=5,\"Perjantai\",IF(DI1=6,\"Lauantai\",IF(DI1=7,\"Sunnuntai\",\"\")))))))","v":"Torstai"},null,null,null,null,null,"jako",null,"yht",{"$f":"WEEKDAY(DT2,2)","v":5},{"$f":"IF(DS1=1,\"Maanantai\",IF(DS1=2,\"Tiistai\",IF(DS1=3,\"Keskiviikko\",IF(DS1=4,\"Torstai\",IF(DS1=5,\"Perjantai\",IF(DS1=6,\"Lauantai\",IF(DS1=7,\"Sunnuntai\",\"\")))))))","v":"Perjantai"},null,null,null,null,null,"jako",null,"yht",{"$f":"WEEKDAY(ED2,2)","v":6},{"$f":"IF(EC1=1,\"Maanantai\",IF(EC1=2,\"Tiistai\",IF(EC1=3,\"Keskiviikko\",IF(EC1=4,\"Torstai\",IF(EC1=5,\"Perjantai\",IF(EC1=6,\"Lauantai\",IF(EC1=7,\"Sunnuntai\",\"\")))))))","v":"Lauantai"},null,null,null,null,null,"jako",null,"yht",{"$f":"WEEKDAY(EN2,2)","v":7},{"$f":"IF(EM1=1,\"Maanantai\",IF(EM1=2,\"Tiistai\",IF(EM1=3,\"Keskiviikko\",IF(EM1=4,\"Torstai\",IF(EM1=5,\"Perjantai\",IF(EM1=6,\"Lauantai\",IF(EM1=7,\"Sunnuntai\",\"\")))))))","v":"Sunnuntai"},null,null,null,null,null,"jako",null,"yht",{"$f":"WEEKDAY(EX2,2)","v":1},{"$f":"IF(EW1=1,\"Maanantai\",IF(EW1=2,\"Tiistai\",IF(EW1=3,\"Keskiviikko\",IF(EW1=4,\"Torstai\",IF(EW1=5,\"Perjantai\",IF(EW1=6,\"Lauantai\",IF(EW1=7,\"Sunnuntai\",\"\")))))))","v":"Maanantai"},null,null,null,null,null,"jako",null,"yht",{"$f":"WEEKDAY(FH2,2)","v":2},{"$f":"IF(FG1=1,\"Maanantai\",IF(FG1=2,\"Tiistai\",IF(FG1=3,\"Keskiviikko\",IF(FG1=4,\"Torstai\",IF(FG1=5,\"Perjantai\",IF(FG1=6,\"Lauantai\",IF(FG1=7,\"Sunnuntai\",\"\")))))))","v":"Tiistai"},null,null,null,null,null,"jako",null,"yht",{"$f":"WEEKDAY(FR2,2)","v":3},{"$f":"IF(FQ1=1,\"Maanantai\",IF(FQ1=2,\"Tiistai\",IF(FQ1=3,\"Keskiviikko\",IF(FQ1=4,\"Torstai\",IF(FQ1=5,\"Perjantai\",IF(FQ1=6,\"Lauantai\",IF(FQ1=7,\"Sunnuntai\",\"\")))))))","v":"Keskiviikko"},null,null,null,null,null,"jako",null,"yht",{"$f":"WEEKDAY(GB2,2)","v":4},{"$f":"IF(GA1=1,\"Maanantai\",IF(GA1=2,\"Tiistai\",IF(GA1=3,\"Keskiviikko\",IF(GA1=4,\"Torstai\",IF(GA1=5,\"Perjantai\",IF(GA1=6,\"Lauantai\",IF(GA1=7,\"Sunnuntai\",\"\")))))))","v":"Torstai"},null,null,null,null,null,"jako",null,"yht",{"$f":"WEEKDAY(GL2,2)","v":5},{"$f":"IF(GK1=1,\"Maanantai\",IF(GK1=2,\"Tiistai\",IF(GK1=3,\"Keskiviikko\",IF(GK1=4,\"Torstai\",IF(GK1=5,\"Perjantai\",IF(GK1=6,\"Lauantai\",IF(GK1=7,\"Sunnuntai\",\"\")))))))","v":"Perjantai"},null,null,null,null,null,"jako",null,"yht",{"$f":"WEEKDAY(GV2,2)","v":6},{"$f":"IF(GU1=1,\"Maanantai\",IF(GU1=2,\"Tiistai\",IF(GU1=3,\"Keskiviikko\",IF(GU1=4,\"Torstai\",IF(GU1=5,\"Perjantai\",IF(GU1=6,\"Lauantai\",IF(GU1=7,\"Sunnuntai\",\"\")))))))","v":"Lauantai"},null,null,null,null,null,"jako",null,"yht",{"$f":"WEEKDAY(HF2,2)","v":7},{"$f":"IF(HE1=1,\"Maanantai\",IF(HE1=2,\"Tiistai\",IF(HE1=3,\"Keskiviikko\",IF(HE1=4,\"Torstai\",IF(HE1=5,\"Perjantai\",IF(HE1=6,\"Lauantai\",IF(HE1=7,\"Sunnuntai\",\"\")))))))","v":"Sunnuntai"},null,null,null,null,null,"jako",null,"yht",{"$f":"WEEKDAY(HP2,2)","v":1},{"$f":"IF(HO1=1,\"Maanantai\",IF(HO1=2,\"Tiistai\",IF(HO1=3,\"Keskiviikko\",IF(HO1=4,\"Torstai\",IF(HO1=5,\"Perjantai\",IF(HO1=6,\"Lauantai\",IF(HO1=7,\"Sunnuntai\",\"\")))))))","v":"Maanantai"},null,null,null,null,null,"jako",null,"yht",{"$f":"WEEKDAY(HZ2,2)","v":2},{"$f":"IF(HY1=1,\"Maanantai\",IF(HY1=2,\"Tiistai\",IF(HY1=3,\"Keskiviikko\",IF(HY1=4,\"Torstai\",IF(HY1=5,\"Perjantai\",IF(HY1=6,\"Lauantai\",IF(HY1=7,\"Sunnuntai\",\"\")))))))","v":"Tiistai"},null,null,null,null,null,"jako",null,"yht",{"$f":"WEEKDAY(IJ2,2)","v":3},{"$f":"IF(II1=1,\"Maanantai\",IF(II1=2,\"Tiistai\",IF(II1=3,\"Keskiviikko\",IF(II1=4,\"Torstai\",IF(II1=5,\"Perjantai\",IF(II1=6,\"Lauantai\",IF(II1=7,\"Sunnuntai\",\"\")))))))","v":"Keskiviikko"},null,null,null,null,null,"jako",null,"yht",{"$f":"WEEKDAY(IT2,2)","v":4},{"$f":"IF(IS1=1,\"Maanantai\",IF(IS1=2,\"Tiistai\",IF(IS1=3,\"Keskiviikko\",IF(IS1=4,\"Torstai\",IF(IS1=5,\"Perjantai\",IF(IS1=6,\"Lauantai\",IF(IS1=7,\"Sunnuntai\",\"\")))))))","v":"Torstai"},null,null,null,null,null,"jako",null,"yht",{"$f":"WEEKDAY(JD2,2)","v":5},{"$f":"IF(JC1=1,\"Maanantai\",IF(JC1=2,\"Tiistai\",IF(JC1=3,\"Keskiviikko\",IF(JC1=4,\"Torstai\",IF(JC1=5,\"Perjantai\",IF(JC1=6,\"Lauantai\",IF(JC1=7,\"Sunnuntai\",\"\")))))))","v":"Perjantai"},null,null,null,null,null,"jako",null,"yht",{"$f":"WEEKDAY(JN2,2)","v":6},{"$f":"IF(JM1=1,\"Maanantai\",IF(JM1=2,\"Tiistai\",IF(JM1=3,\"Keskiviikko\",IF(JM1=4,\"Torstai\",IF(JM1=5,\"Perjantai\",IF(JM1=6,\"Lauantai\",IF(JM1=7,\"Sunnuntai\",\"\")))))))","v":"Lauantai"},null,null,null,null,null,"jako",null,"yht",{"$f":"WEEKDAY(JX2,2)","v":7},{"$f":"IF(JW1=1,\"Maanantai\",IF(JW1=2,\"Tiistai\",IF(JW1=3,\"Keskiviikko\",IF(JW1=4,\"Torstai\",IF(JW1=5,\"Perjantai\",IF(JW1=6,\"Lauantai\",IF(JW1=7,\"Sunnuntai\",\"\")))))))","v":"Sunnuntai"},null,null,null,null,null,"jako",null,"yht",{"$f":"WEEKDAY(KH2,2)","v":1},{"$f":"IF(KG1=1,\"Maanantai\",IF(KG1=2,\"Tiistai\",IF(KG1=3,\"Keskiviikko\",IF(KG1=4,\"Torstai\",IF(KG1=5,\"Perjantai\",IF(KG1=6,\"Lauantai\",IF(KG1=7,\"Sunnuntai\",\"\")))))))","v":"Maanantai"},null,null,null,null,null,"jako",null,"yht",{"$f":"WEEKDAY(KR2,2)","v":2},{"$f":"IF(KQ1=1,\"Maanantai\",IF(KQ1=2,\"Tiistai\",IF(KQ1=3,\"Keskiviikko\",IF(KQ1=4,\"Torstai\",IF(KQ1=5,\"Perjantai\",IF(KQ1=6,\"Lauantai\",IF(KQ1=7,\"Sunnuntai\",\"\")))))))","v":"Tiistai"},null,null,null,null,null,"jako",null,"yht",{"$f":"WEEKDAY(LB2,2)","v":3},{"$f":"IF(LA1=1,\"Maanantai\",IF(LA1=2,\"Tiistai\",IF(LA1=3,\"Keskiviikko\",IF(LA1=4,\"Torstai\",IF(LA1=5,\"Perjantai\",IF(LA1=6,\"Lauantai\",IF(LA1=7,\"Sunnuntai\",\"\")))))))","v":"Keskiviikko"},null,null,null,null,null,"jako",null,"yht",{"$f":"WEEKDAY(LL2,2)","v":4},{"$f":"IF(LK1=1,\"Maanantai\",IF(LK1=2,\"Tiistai\",IF(LK1=3,\"Keskiviikko\",IF(LK1=4,\"Torstai\",IF(LK1=5,\"Perjantai\",IF(LK1=6,\"Lauantai\",IF(LK1=7,\"Sunnuntai\",\"\")))))))","v":"Torstai"},null,null,null,null,null,"jako",null,"yht",{"$f":"WEEKDAY(LV2,2)","v":5},{"$f":"IF(LU1=1,\"Maanantai\",IF(LU1=2,\"Tiistai\",IF(LU1=3,\"Keskiviikko\",IF(LU1=4,\"Torstai\",IF(LU1=5,\"Perjantai\",IF(LU1=6,\"Lauantai\",IF(LU1=7,\"Sunnuntai\",\"\")))))))","v":"Perjantai"},null,null,null,null,null,"jako",null,"yht",{"$f":"WEEKDAY(MF2,2)","v":6},{"$f":"IF(ME1=1,\"Maanantai\",IF(ME1=2,\"Tiistai\",IF(ME1=3,\"Keskiviikko\",IF(ME1=4,\"Torstai\",IF(ME1=5,\"Perjantai\",IF(ME1=6,\"Lauantai\",IF(ME1=7,\"Sunnuntai\",\"\")))))))","v":"Lauantai"},null,null,null,null,null,"jako",null,"yht",{"$f":"WEEKDAY(MP2,2)","v":7},{"$f":"IF(MO1=1,\"Maanantai\",IF(MO1=2,\"Tiistai\",IF(MO1=3,\"Keskiviikko\",IF(MO1=4,\"Torstai\",IF(MO1=5,\"Perjantai\",IF(MO1=6,\"Lauantai\",IF(MO1=7,\"Sunnuntai\",\"\")))))))","v":"Sunnuntai"},null,null,null,null,null,"jako",null,"yht",{"$f":"WEEKDAY(MZ2,2)","v":1},{"$f":"IF(MY1=1,\"Maanantai\",IF(MY1=2,\"Tiistai\",IF(MY1=3,\"Keskiviikko\",IF(MY1=4,\"Torstai\",IF(MY1=5,\"Perjantai\",IF(MY1=6,\"Lauantai\",IF(MY1=7,\"Sunnuntai\",\"\")))))))","v":"Maanantai"},null,null,null,null,null,"jako",null,"yht",{"$f":"WEEKDAY(NJ2,2)","v":2},{"$f":"IF(NI1=1,\"Maanantai\",IF(NI1=2,\"Tiistai\",IF(NI1=3,\"Keskiviikko\",IF(NI1=4,\"Torstai\",IF(NI1=5,\"Perjantai\",IF(NI1=6,\"Lauantai\",IF(NI1=7,\"Sunnuntai\",\"\")))))))","v":"Tiistai"},null,null,null,null,null,"jako",null,"yht",{"$f":"WEEKDAY(NT2,2)","v":3},{"$f":"IF(NS1=1,\"Maanantai\",IF(NS1=2,\"Tiistai\",IF(NS1=3,\"Keskiviikko\",IF(NS1=4,\"Torstai\",IF(NS1=5,\"Perjantai\",IF(NS1=6,\"Lauantai\",IF(NS1=7,\"Sunnuntai\",\"\")))))))","v":"Keskiviikko"},null,null,null,null,null,"jako",null,"yht",{"$f":"WEEKDAY(OD2,2)","v":4},{"$f":"IF(OC1=1,\"Maanantai\",IF(OC1=2,\"Tiistai\",IF(OC1=3,\"Keskiviikko\",IF(OC1=4,\"Torstai\",IF(OC1=5,\"Perjantai\",IF(OC1=6,\"Lauantai\",IF(OC1=7,\"Sunnuntai\",\"\")))))))","v":"Torstai"},null,null,null,null,null,"jako",null,"yht",{"$f":"WEEKDAY(ON2,2)","v":5},{"$f":"IF(OM1=1,\"Maanantai\",IF(OM1=2,\"Tiistai\",IF(OM1=3,\"Keskiviikko\",IF(OM1=4,\"Torstai\",IF(OM1=5,\"Perjantai\",IF(OM1=6,\"Lauantai\",IF(OM1=7,\"Sunnuntai\",\"\")))))))","v":"Perjantai"},null,null,null,null,null,"jako",null,"yht",{"$f":"WEEKDAY(OX2,2)","v":6},{"$f":"IF(OW1=1,\"Maanantai\",IF(OW1=2,\"Tiistai\",IF(OW1=3,\"Keskiviikko\",IF(OW1=4,\"Torstai\",IF(OW1=5,\"Perjantai\",IF(OW1=6,\"Lauantai\",IF(OW1=7,\"Sunnuntai\",\"\")))))))","v":"Lauantai"},null,null,null,null,null,"jako",null,"yht",{"$f":"WEEKDAY(PH2,2)","v":7},{"$f":"IF(PG1=1,\"Maanantai\",IF(PG1=2,\"Tiistai\",IF(PG1=3,\"Keskiviikko\",IF(PG1=4,\"Torstai\",IF(PG1=5,\"Perjantai\",IF(PG1=6,\"Lauantai\",IF(PG1=7,\"Sunnuntai\",\"\")))))))","v":"Sunnuntai"},null,null,null,null,null,"jako",null,"yht",{"$f":"WEEKDAY(PR2,2)","v":1},{"$f":"IF(PQ1=1,\"Maanantai\",IF(PQ1=2,\"Tiistai\",IF(PQ1=3,\"Keskiviikko\",IF(PQ1=4,\"Torstai\",IF(PQ1=5,\"Perjantai\",IF(PQ1=6,\"Lauantai\",IF(PQ1=7,\"Sunnuntai\",\"\")))))))","v":"Maanantai"},null,null,null,null,null,"jako",null,"yht",{"$f":"WEEKDAY(QB2,2)","v":2},{"$f":"IF(QA1=1,\"Maanantai\",IF(QA1=2,\"Tiistai\",IF(QA1=3,\"Keskiviikko\",IF(QA1=4,\"Torstai\",IF(QA1=5,\"Perjantai\",IF(QA1=6,\"Lauantai\",IF(QA1=7,\"Sunnuntai\",\"\")))))))","v":"Tiistai"},null,null,null,null,null,"jako",null,"yht",{"$f":"WEEKDAY(QL2,2)","v":3},{"$f":"IF(QK1=1,\"Maanantai\",IF(QK1=2,\"Tiistai\",IF(QK1=3,\"Keskiviikko\",IF(QK1=4,\"Torstai\",IF(QK1=5,\"Perjantai\",IF(QK1=6,\"Lauantai\",IF(QK1=7,\"Sunnuntai\",\"\")))))))","v":"Keskiviikko"},null,null,null,null,null,"jako",null,"yht",{"$f":"WEEKDAY(QV2,2)","v":4},{"$f":"IF(QU1=1,\"Maanantai\",IF(QU1=2,\"Tiistai\",IF(QU1=3,\"Keskiviikko\",IF(QU1=4,\"Torstai\",IF(QU1=5,\"Perjantai\",IF(QU1=6,\"Lauantai\",IF(QU1=7,\"Sunnuntai\",\"\")))))))","v":"Torstai"},null,null,null,null,null,"jako",null,"yht",{"$f":"WEEKDAY(RF2,2)","v":5},{"$f":"IF(RE1=1,\"Maanantai\",IF(RE1=2,\"Tiistai\",IF(RE1=3,\"Keskiviikko\",IF(RE1=4,\"Torstai\",IF(RE1=5,\"Perjantai\",IF(RE1=6,\"Lauantai\",IF(RE1=7,\"Sunnuntai\",\"\")))))))","v":"Perjantai"},null,null,null,null,null,"jako",null,"yht",{"$f":"WEEKDAY(RP2,2)","v":6},{"$f":"IF(RO1=1,\"Maanantai\",IF(RO1=2,\"Tiistai\",IF(RO1=3,\"Keskiviikko\",IF(RO1=4,\"Torstai\",IF(RO1=5,\"Perjantai\",IF(RO1=6,\"Lauantai\",IF(RO1=7,\"Sunnuntai\",\"\")))))))","v":"Lauantai"},null,null,null,null,null,"jako",null,"yht",{"$f":"WEEKDAY(RZ2,2)","v":7},{"$f":"IF(RY1=1,\"Maanantai\",IF(RY1=2,\"Tiistai\",IF(RY1=3,\"Keskiviikko\",IF(RY1=4,\"Torstai\",IF(RY1=5,\"Perjantai\",IF(RY1=6,\"Lauantai\",IF(RY1=7,\"Sunnuntai\",\"\")))))))","v":"Sunnuntai"},null,null,null,null,null,"jako",null,"yht",{"$f":"WEEKDAY(SJ2,2)","v":1},{"$f":"IF(SI1=1,\"Maanantai\",IF(SI1=2,\"Tiistai\",IF(SI1=3,\"Keskiviikko\",IF(SI1=4,\"Torstai\",IF(SI1=5,\"Perjantai\",IF(SI1=6,\"Lauantai\",IF(SI1=7,\"Sunnuntai\",\"\")))))))","v":"Maanantai"},null,null,null,null,null,"jako",null,"yht",{"$f":"WEEKDAY(ST2,2)","v":2},{"$f":"IF(SS1=1,\"Maanantai\",IF(SS1=2,\"Tiistai\",IF(SS1=3,\"Keskiviikko\",IF(SS1=4,\"Torstai\",IF(SS1=5,\"Perjantai\",IF(SS1=6,\"Lauantai\",IF(SS1=7,\"Sunnuntai\",\"\")))))))","v":"Tiistai"},null,null,null,null,null,"jako",null,"yht",{"$f":"WEEKDAY(TD2,2)","v":3},{"$f":"IF(TC1=1,\"Maanantai\",IF(TC1=2,\"Tiistai\",IF(TC1=3,\"Keskiviikko\",IF(TC1=4,\"Torstai\",IF(TC1=5,\"Perjantai\",IF(TC1=6,\"Lauantai\",IF(TC1=7,\"Sunnuntai\",\"\")))))))","v":"Keskiviikko"},null,null,null,null,null,"jako",null,"yht",{"$f":"WEEKDAY(TN2,2)","v":4},{"$f":"IF(TM1=1,\"Maanantai\",IF(TM1=2,\"Tiistai\",IF(TM1=3,\"Keskiviikko\",IF(TM1=4,\"Torstai\",IF(TM1=5,\"Perjantai\",IF(TM1=6,\"Lauantai\",IF(TM1=7,\"Sunnuntai\",\"\")))))))","v":"Torstai"},null,null,null,null,null,"jako",null,"yht",{"$f":"WEEKDAY(TX2,2)","v":5},{"$f":"IF(TW1=1,\"Maanantai\",IF(TW1=2,\"Tiistai\",IF(TW1=3,\"Keskiviikko\",IF(TW1=4,\"Torstai\",IF(TW1=5,\"Perjantai\",IF(TW1=6,\"Lauantai\",IF(TW1=7,\"Sunnuntai\",\"\")))))))","v":"Perjantai"},null,null,null,null,null,"jako",null,"yht",{"$f":"WEEKDAY(UH2,2)","v":6},{"$f":"IF(UG1=1,\"Maanantai\",IF(UG1=2,\"Tiistai\",IF(UG1=3,\"Keskiviikko\",IF(UG1=4,\"Torstai\",IF(UG1=5,\"Perjantai\",IF(UG1=6,\"Lauantai\",IF(UG1=7,\"Sunnuntai\",\"\")))))))","v":"Lauantai"},null,null,null,null,null,"jako",null,"yht",{"$f":"WEEKDAY(UR2,2)","v":7},{"$f":"IF(UQ1=1,\"Maanantai\",IF(UQ1=2,\"Tiistai\",IF(UQ1=3,\"Keskiviikko\",IF(UQ1=4,\"Torstai\",IF(UQ1=5,\"Perjantai\",IF(UQ1=6,\"Lauantai\",IF(UQ1=7,\"Sunnuntai\",\"\")))))))","v":"Sunnuntai"},null,null,null,null,null,"jako",null,"yht",{"$f":"WEEKDAY(VB2,2)","v":1},{"$f":"IF(VA1=1,\"Maanantai\",IF(VA1=2,\"Tiistai\",IF(VA1=3,\"Keskiviikko\",IF(VA1=4,\"Torstai\",IF(VA1=5,\"Perjantai\",IF(VA1=6,\"Lauantai\",IF(VA1=7,\"Sunnuntai\",\"\")))))))","v":"Maanantai"},null,null,null,null,null,"jako",null,"yht",{"$f":"WEEKDAY(VL2,2)","v":2},{"$f":"IF(VK1=1,\"Maanantai\",IF(VK1=2,\"Tiistai\",IF(VK1=3,\"Keskiviikko\",IF(VK1=4,\"Torstai\",IF(VK1=5,\"Perjantai\",IF(VK1=6,\"Lauantai\",IF(VK1=7,\"Sunnuntai\",\"\")))))))","v":"Tiistai"},null,null,null,null,null,"jako",null,"yht",{"$f":"WEEKDAY(VV2,2)","v":3},{"$f":"IF(VU1=1,\"Maanantai\",IF(VU1=2,\"Tiistai\",IF(VU1=3,\"Keskiviikko\",IF(VU1=4,\"Torstai\",IF(VU1=5,\"Perjantai\",IF(VU1=6,\"Lauantai\",IF(VU1=7,\"Sunnuntai\",\"\")))))))","v":"Keskiviikko"},null,null,null,null,null,"jako",null,"yht",{"$f":"WEEKDAY(WF2,2)","v":4},{"$f":"IF(WE1=1,\"Maanantai\",IF(WE1=2,\"Tiistai\",IF(WE1=3,\"Keskiviikko\",IF(WE1=4,\"Torstai\",IF(WE1=5,\"Perjantai\",IF(WE1=6,\"Lauantai\",IF(WE1=7,\"Sunnuntai\",\"\")))))))","v":"Torstai"},null,null,null,null,null,"jako",null,"yht",{"$f":"WEEKDAY(WP2,2)","v":5},{"$f":"IF(WO1=1,\"Maanantai\",IF(WO1=2,\"Tiistai\",IF(WO1=3,\"Keskiviikko\",IF(WO1=4,\"Torstai\",IF(WO1=5,\"Perjantai\",IF(WO1=6,\"Lauantai\",IF(WO1=7,\"Sunnuntai\",\"\")))))))","v":"Perjantai"},null,null,null,null,null,"jako",null,"yht",{"$f":"WEEKDAY(WZ2,2)","v":6},{"$f":"IF(WY1=1,\"Maanantai\",IF(WY1=2,\"Tiistai\",IF(WY1=3,\"Keskiviikko\",IF(WY1=4,\"Torstai\",IF(WY1=5,\"Perjantai\",IF(WY1=6,\"Lauantai\",IF(WY1=7,\"Sunnuntai\",\"\")))))))","v":"Lauantai"},null,null,null,null,null,"jako",null,"yht",{"$f":"WEEKDAY(XJ2,2)","v":7},{"$f":"IF(XI1=1,\"Maanantai\",IF(XI1=2,\"Tiistai\",IF(XI1=3,\"Keskiviikko\",IF(XI1=4,\"Torstai\",IF(XI1=5,\"Perjantai\",IF(XI1=6,\"Lauantai\",IF(XI1=7,\"Sunnuntai\",\"\")))))))","v":"Sunnuntai"},null,null,null,null,null,"jako",null,"yht",{"$f":"WEEKDAY(XT2,2)","v":1},{"$f":"IF(XS1=1,\"Maanantai\",IF(XS1=2,\"Tiistai\",IF(XS1=3,\"Keskiviikko\",IF(XS1=4,\"Torstai\",IF(XS1=5,\"Perjantai\",IF(XS1=6,\"Lauantai\",IF(XS1=7,\"Sunnuntai\",\"\")))))))","v":"Maanantai"},null,null,null,null,null,"jako",null,"yht",{"$f":"WEEKDAY(YD2,2)","v":2},{"$f":"IF(YC1=1,\"Maanantai\",IF(YC1=2,\"Tiistai\",IF(YC1=3,\"Keskiviikko\",IF(YC1=4,\"Torstai\",IF(YC1=5,\"Perjantai\",IF(YC1=6,\"Lauantai\",IF(YC1=7,\"Sunnuntai\",\"\")))))))","v":"Tiistai"},null,null,null,null,null,"jako",null,"yht",{"$f":"WEEKDAY(YN2,2)","v":3},{"$f":"IF(YM1=1,\"Maanantai\",IF(YM1=2,\"Tiistai\",IF(YM1=3,\"Keskiviikko\",IF(YM1=4,\"Torstai\",IF(YM1=5,\"Perjantai\",IF(YM1=6,\"Lauantai\",IF(YM1=7,\"Sunnuntai\",\"\")))))))","v":"Keskiviikko"},null,null,null,null,null,"jako",null,"yht",{"$f":"WEEKDAY(YX2,2)","v":4},{"$f":"IF(YW1=1,\"Maanantai\",IF(YW1=2,\"Tiistai\",IF(YW1=3,\"Keskiviikko\",IF(YW1=4,\"Torstai\",IF(YW1=5,\"Perjantai\",IF(YW1=6,\"Lauantai\",IF(YW1=7,\"Sunnuntai\",\"\")))))))","v":"Torstai"},null,null,null,null,null,"jako",null,"yht",{"$f":"WEEKDAY(ZH2,2)","v":5},{"$f":"IF(ZG1=1,\"Maanantai\",IF(ZG1=2,\"Tiistai\",IF(ZG1=3,\"Keskiviikko\",IF(ZG1=4,\"Torstai\",IF(ZG1=5,\"Perjantai\",IF(ZG1=6,\"Lauantai\",IF(ZG1=7,\"Sunnuntai\",\"\")))))))","v":"Perjantai"},null,null,null,null,null,"jako",null,"yht",{"$f":"WEEKDAY(ZR2,2)","v":6},{"$f":"IF(ZQ1=1,\"Maanantai\",IF(ZQ1=2,\"Tiistai\",IF(ZQ1=3,\"Keskiviikko\",IF(ZQ1=4,\"Torstai\",IF(ZQ1=5,\"Perjantai\",IF(ZQ1=6,\"Lauantai\",IF(ZQ1=7,\"Sunnuntai\",\"\")))))))","v":"Lauantai"},null,null,null,null,null,"jako",null,"yht",{"$f":"WEEKDAY(AAB2,2)","v":7},{"$f":"IF(AAA1=1,\"Maanantai\",IF(AAA1=2,\"Tiistai\",IF(AAA1=3,\"Keskiviikko\",IF(AAA1=4,\"Torstai\",IF(AAA1=5,\"Perjantai\",IF(AAA1=6,\"Lauantai\",IF(AAA1=7,\"Sunnuntai\",\"\")))))))","v":"Sunnuntai"},null,null,null,null,null,"jako",null,"yht",{"$f":"WEEKDAY(AAL2,2)","v":1},{"$f":"IF(AAK1=1,\"Maanantai\",IF(AAK1=2,\"Tiistai\",IF(AAK1=3,\"Keskiviikko\",IF(AAK1=4,\"Torstai\",IF(AAK1=5,\"Perjantai\",IF(AAK1=6,\"Lauantai\",IF(AAK1=7,\"Sunnuntai\",\"\")))))))","v":"Maanantai"},null,null,null,null,null,"jako",null,"yht",{"$f":"WEEKDAY(AAV2,2)","v":2},{"$f":"IF(AAU1=1,\"Maanantai\",IF(AAU1=2,\"Tiistai\",IF(AAU1=3,\"Keskiviikko\",IF(AAU1=4,\"Torstai\",IF(AAU1=5,\"Perjantai\",IF(AAU1=6,\"Lauantai\",IF(AAU1=7,\"Sunnuntai\",\"\")))))))","v":"Tiistai"},null,null,null,null,null,"jako",null,"yht",{"$f":"WEEKDAY(ABF2,2)","v":3},{"$f":"IF(ABE1=1,\"Maanantai\",IF(ABE1=2,\"Tiistai\",IF(ABE1=3,\"Keskiviikko\",IF(ABE1=4,\"Torstai\",IF(ABE1=5,\"Perjantai\",IF(ABE1=6,\"Lauantai\",IF(ABE1=7,\"Sunnuntai\",\"\")))))))","v":"Keskiviikko"},null,null,null,null,null,"jako",null,"yht",{"$f":"WEEKDAY(ABP2,2)","v":4},{"$f":"IF(ABO1=1,\"Maanantai\",IF(ABO1=2,\"Tiistai\",IF(ABO1=3,\"Keskiviikko\",IF(ABO1=4,\"Torstai\",IF(ABO1=5,\"Perjantai\",IF(ABO1=6,\"Lauantai\",IF(ABO1=7,\"Sunnuntai\",\"\")))))))","v":"Torstai"},null,null,null,null,null,"jako",null,"yht",{"$f":"WEEKDAY(ABZ2,2)","v":5},{"$f":"IF(ABY1=1,\"Maanantai\",IF(ABY1=2,\"Tiistai\",IF(ABY1=3,\"Keskiviikko\",IF(ABY1=4,\"Torstai\",IF(ABY1=5,\"Perjantai\",IF(ABY1=6,\"Lauantai\",IF(ABY1=7,\"Sunnuntai\",\"\")))))))","v":"Perjantai"},null,null,null,null,null,"jako",null,"yht",{"$f":"WEEKDAY(ACJ2,2)","v":6},{"$f":"IF(ACI1=1,\"Maanantai\",IF(ACI1=2,\"Tiistai\",IF(ACI1=3,\"Keskiviikko\",IF(ACI1=4,\"Torstai\",IF(ACI1=5,\"Perjantai\",IF(ACI1=6,\"Lauantai\",IF(ACI1=7,\"Sunnuntai\",\"\")))))))","v":"Lauantai"},null,null,null,null,null,"jako",null,"yht",{"$f":"WEEKDAY(ACT2,2)","v":7},{"$f":"IF(ACS1=1,\"Maanantai\",IF(ACS1=2,\"Tiistai\",IF(ACS1=3,\"Keskiviikko\",IF(ACS1=4,\"Torstai\",IF(ACS1=5,\"Perjantai\",IF(ACS1=6,\"Lauantai\",IF(ACS1=7,\"Sunnuntai\",\"\")))))))","v":"Sunnuntai"},null,null,null,null,null,"jako",null,"yht",{"$f":"WEEKDAY(ADD2,2)","v":1},{"$f":"IF(ADC1=1,\"Maanantai\",IF(ADC1=2,\"Tiistai\",IF(ADC1=3,\"Keskiviikko\",IF(ADC1=4,\"Torstai\",IF(ADC1=5,\"Perjantai\",IF(ADC1=6,\"Lauantai\",IF(ADC1=7,\"Sunnuntai\",\"\")))))))","v":"Maanantai"},null,null,null,null,null,"jako",null,"yht",{"$f":"WEEKDAY(ADN2,2)","v":2},{"$f":"IF(ADM1=1,\"Maanantai\",IF(ADM1=2,\"Tiistai\",IF(ADM1=3,\"Keskiviikko\",IF(ADM1=4,\"Torstai\",IF(ADM1=5,\"Perjantai\",IF(ADM1=6,\"Lauantai\",IF(ADM1=7,\"Sunnuntai\",\"\")))))))","v":"Tiistai"},null,null,null,null,null,"jako",null,"yht",{"$f":"WEEKDAY(ADX2,2)","v":3},{"$f":"IF(ADW1=1,\"Maanantai\",IF(ADW1=2,\"Tiistai\",IF(ADW1=3,\"Keskiviikko\",IF(ADW1=4,\"Torstai\",IF(ADW1=5,\"Perjantai\",IF(ADW1=6,\"Lauantai\",IF(ADW1=7,\"Sunnuntai\",\"\")))))))","v":"Keskiviikko"},null,null,null,null,null,"jako",null,"yht",{"$f":"WEEKDAY(AEH2,2)","v":4},{"$f":"IF(AEG1=1,\"Maanantai\",IF(AEG1=2,\"Tiistai\",IF(AEG1=3,\"Keskiviikko\",IF(AEG1=4,\"Torstai\",IF(AEG1=5,\"Perjantai\",IF(AEG1=6,\"Lauantai\",IF(AEG1=7,\"Sunnuntai\",\"\")))))))","v":"Torstai"},null,null,null,null,null,"jako",null,"yht",{"$f":"WEEKDAY(AER2,2)","v":5},{"$f":"IF(AEQ1=1,\"Maanantai\",IF(AEQ1=2,\"Tiistai\",IF(AEQ1=3,\"Keskiviikko\",IF(AEQ1=4,\"Torstai\",IF(AEQ1=5,\"Perjantai\",IF(AEQ1=6,\"Lauantai\",IF(AEQ1=7,\"Sunnuntai\",\"\")))))))","v":"Perjantai"},null,null,null,null,null,"jako",null,"yht",{"$f":"WEEKDAY(AFB2,2)","v":6},{"$f":"IF(AFA1=1,\"Maanantai\",IF(AFA1=2,\"Tiistai\",IF(AFA1=3,\"Keskiviikko\",IF(AFA1=4,\"Torstai\",IF(AFA1=5,\"Perjantai\",IF(AFA1=6,\"Lauantai\",IF(AFA1=7,\"Sunnuntai\",\"\")))))))","v":"Lauantai"},null,null,null,null,null,"jako",null,"yht",{"$f":"WEEKDAY(AFL2,2)","v":7},{"$f":"IF(AFK1=1,\"Maanantai\",IF(AFK1=2,\"Tiistai\",IF(AFK1=3,\"Keskiviikko\",IF(AFK1=4,\"Torstai\",IF(AFK1=5,\"Perjantai\",IF(AFK1=6,\"Lauantai\",IF(AFK1=7,\"Sunnuntai\",\"\")))))))","v":"Sunnuntai"},null,null,null,null,null,"jako",null,"yht",{"$f":"WEEKDAY(AFV2,2)","v":1},{"$f":"IF(AFU1=1,\"Maanantai\",IF(AFU1=2,\"Tiistai\",IF(AFU1=3,\"Keskiviikko\",IF(AFU1=4,\"Torstai\",IF(AFU1=5,\"Perjantai\",IF(AFU1=6,\"Lauantai\",IF(AFU1=7,\"Sunnuntai\",\"\")))))))","v":"Maanantai"},null,null,null,null,null,"jako",null,"yht",{"$f":"WEEKDAY(AGF2,2)","v":2},{"$f":"IF(AGE1=1,\"Maanantai\",IF(AGE1=2,\"Tiistai\",IF(AGE1=3,\"Keskiviikko\",IF(AGE1=4,\"Torstai\",IF(AGE1=5,\"Perjantai\",IF(AGE1=6,\"Lauantai\",IF(AGE1=7,\"Sunnuntai\",\"\")))))))","v":"Tiistai"},null,null,null,null,null,"jako",null,"yht",{"$f":"WEEKDAY(AGP2,2)","v":3},{"$f":"IF(AGO1=1,\"Maanantai\",IF(AGO1=2,\"Tiistai\",IF(AGO1=3,\"Keskiviikko\",IF(AGO1=4,\"Torstai\",IF(AGO1=5,\"Perjantai\",IF(AGO1=6,\"Lauantai\",IF(AGO1=7,\"Sunnuntai\",\"\")))))))","v":"Keskiviikko"},null,null,null,null,null,"jako",null,"yht",{"$f":"WEEKDAY(AGZ2,2)","v":4},{"$f":"IF(AGY1=1,\"Maanantai\",IF(AGY1=2,\"Tiistai\",IF(AGY1=3,\"Keskiviikko\",IF(AGY1=4,\"Torstai\",IF(AGY1=5,\"Perjantai\",IF(AGY1=6,\"Lauantai\",IF(AGY1=7,\"Sunnuntai\",\"\")))))))","v":"Torstai"},null,null,null,null,null,"jako",null,"yht",{"$f":"WEEKDAY(AHJ2,2)","v":5},{"$f":"IF(AHI1=1,\"Maanantai\",IF(AHI1=2,\"Tiistai\",IF(AHI1=3,\"Keskiviikko\",IF(AHI1=4,\"Torstai\",IF(AHI1=5,\"Perjantai\",IF(AHI1=6,\"Lauantai\",IF(AHI1=7,\"Sunnuntai\",\"\")))))))","v":"Perjantai"},null,null,null,null,null,"jako",null,"yht",{"$f":"WEEKDAY(AHT2,2)","v":6},{"$f":"IF(AHS1=1,\"Maanantai\",IF(AHS1=2,\"Tiistai\",IF(AHS1=3,\"Keskiviikko\",IF(AHS1=4,\"Torstai\",IF(AHS1=5,\"Perjantai\",IF(AHS1=6,\"Lauantai\",IF(AHS1=7,\"Sunnuntai\",\"\")))))))","v":"Lauantai"},null,null,null,null,null,"jako",null,"yht",{"$f":"WEEKDAY(AID2,2)","v":7},{"$f":"IF(AIC1=1,\"Maanantai\",IF(AIC1=2,\"Tiistai\",IF(AIC1=3,\"Keskiviikko\",IF(AIC1=4,\"Torstai\",IF(AIC1=5,\"Perjantai\",IF(AIC1=6,\"Lauantai\",IF(AIC1=7,\"Sunnuntai\",\"\")))))))","v":"Sunnuntai"},null,null,null,null,null,"jako",null,"yht",{"$f":"WEEKDAY(AIN2,2)","v":1},{"$f":"IF(AIM1=1,\"Maanantai\",IF(AIM1=2,\"Tiistai\",IF(AIM1=3,\"Keskiviikko\",IF(AIM1=4,\"Torstai\",IF(AIM1=5,\"Perjantai\",IF(AIM1=6,\"Lauantai\",IF(AIM1=7,\"Sunnuntai\",\"\")))))))","v":"Maanantai"},null,null,null,null,null,"jako",null,"yht",{"$f":"WEEKDAY(AIX2,2)","v":2},{"$f":"IF(AIW1=1,\"Maanantai\",IF(AIW1=2,\"Tiistai\",IF(AIW1=3,\"Keskiviikko\",IF(AIW1=4,\"Torstai\",IF(AIW1=5,\"Perjantai\",IF(AIW1=6,\"Lauantai\",IF(AIW1=7,\"Sunnuntai\",\"\")))))))","v":"Tiistai"},null,null,null,null,null,"jako",null,"yht",{"$f":"WEEKDAY(AJH2,2)","v":3},{"$f":"IF(AJG1=1,\"Maanantai\",IF(AJG1=2,\"Tiistai\",IF(AJG1=3,\"Keskiviikko\",IF(AJG1=4,\"Torstai\",IF(AJG1=5,\"Perjantai\",IF(AJG1=6,\"Lauantai\",IF(AJG1=7,\"Sunnuntai\",\"\")))))))","v":"Keskiviikko"},null,null,null,null,null,"jako",null,"yht",{"$f":"WEEKDAY(AJR2,2)","v":4},{"$f":"IF(AJQ1=1,\"Maanantai\",IF(AJQ1=2,\"Tiistai\",IF(AJQ1=3,\"Keskiviikko\",IF(AJQ1=4,\"Torstai\",IF(AJQ1=5,\"Perjantai\",IF(AJQ1=6,\"Lauantai\",IF(AJQ1=7,\"Sunnuntai\",\"\")))))))","v":"Torstai"},null,null,null,null,null,"jako",null,"yht",{"$f":"WEEKDAY(AKB2,2)","v":5},{"$f":"IF(AKA1=1,\"Maanantai\",IF(AKA1=2,\"Tiistai\",IF(AKA1=3,\"Keskiviikko\",IF(AKA1=4,\"Torstai\",IF(AKA1=5,\"Perjantai\",IF(AKA1=6,\"Lauantai\",IF(AKA1=7,\"Sunnuntai\",\"\")))))))","v":"Perjantai"},null,null,null,null,null,"jako",null,"yht",{"$f":"WEEKDAY(AKL2,2)","v":6},{"$f":"IF(AKK1=1,\"Maanantai\",IF(AKK1=2,\"Tiistai\",IF(AKK1=3,\"Keskiviikko\",IF(AKK1=4,\"Torstai\",IF(AKK1=5,\"Perjantai\",IF(AKK1=6,\"Lauantai\",IF(AKK1=7,\"Sunnuntai\",\"\")))))))","v":"Lauantai"},null,null,null,null,null,"jako",null,"yht",{"$f":"WEEKDAY(AKV2,2)","v":7},{"$f":"IF(AKU1=1,\"Maanantai\",IF(AKU1=2,\"Tiistai\",IF(AKU1=3,\"Keskiviikko\",IF(AKU1=4,\"Torstai\",IF(AKU1=5,\"Perjantai\",IF(AKU1=6,\"Lauantai\",IF(AKU1=7,\"Sunnuntai\",\"\")))))))","v":"Sunnuntai"},null,null,null,null,null,"jako",null,"yht",{"$f":"WEEKDAY(ALF2,2)","v":1},{"$f":"IF(ALE1=1,\"Maanantai\",IF(ALE1=2,\"Tiistai\",IF(ALE1=3,\"Keskiviikko\",IF(ALE1=4,\"Torstai\",IF(ALE1=5,\"Perjantai\",IF(ALE1=6,\"Lauantai\",IF(ALE1=7,\"Sunnuntai\",\"\")))))))","v":"Maanantai"},null,null,null,null,null,"jako",null,"yht",{"$f":"WEEKDAY(ALP2,2)","v":2},{"$f":"IF(ALO1=1,\"Maanantai\",IF(ALO1=2,\"Tiistai\",IF(ALO1=3,\"Keskiviikko\",IF(ALO1=4,\"Torstai\",IF(ALO1=5,\"Perjantai\",IF(ALO1=6,\"Lauantai\",IF(ALO1=7,\"Sunnuntai\",\"\")))))))","v":"Tiistai"},null,null,null,null,null,"jako",null,"yht",{"$f":"WEEKDAY(ALZ2,2)","v":3},{"$f":"IF(ALY1=1,\"Maanantai\",IF(ALY1=2,\"Tiistai\",IF(ALY1=3,\"Keskiviikko\",IF(ALY1=4,\"Torstai\",IF(ALY1=5,\"Perjantai\",IF(ALY1=6,\"Lauantai\",IF(ALY1=7,\"Sunnuntai\",\"\")))))))","v":"Keskiviikko"},null,null,null,null,null,"jako",null,"yht",{"$f":"WEEKDAY(AMJ2,2)","v":4},{"$f":"IF(AMI1=1,\"Maanantai\",IF(AMI1=2,\"Tiistai\",IF(AMI1=3,\"Keskiviikko\",IF(AMI1=4,\"Torstai\",IF(AMI1=5,\"Perjantai\",IF(AMI1=6,\"Lauantai\",IF(AMI1=7,\"Sunnuntai\",\"\")))))))","v":"Torstai"},null,null,null,null,null,"jako",null,"yht",{"$f":"WEEKDAY(AMT2,2)","v":5},{"$f":"IF(AMS1=1,\"Maanantai\",IF(AMS1=2,\"Tiistai\",IF(AMS1=3,\"Keskiviikko\",IF(AMS1=4,\"Torstai\",IF(AMS1=5,\"Perjantai\",IF(AMS1=6,\"Lauantai\",IF(AMS1=7,\"Sunnuntai\",\"\")))))))","v":"Perjantai"},null,null,null,null,null,"jako",null,"yht",{"$f":"WEEKDAY(AND2,2)","v":6},{"$f":"IF(ANC1=1,\"Maanantai\",IF(ANC1=2,\"Tiistai\",IF(ANC1=3,\"Keskiviikko\",IF(ANC1=4,\"Torstai\",IF(ANC1=5,\"Perjantai\",IF(ANC1=6,\"Lauantai\",IF(ANC1=7,\"Sunnuntai\",\"\")))))))","v":"Lauantai"},null,null,null,null,null,"jako",null,"yht",{"$f":"WEEKDAY(ANN2,2)","v":7},{"$f":"IF(ANM1=1,\"Maanantai\",IF(ANM1=2,\"Tiistai\",IF(ANM1=3,\"Keskiviikko\",IF(ANM1=4,\"Torstai\",IF(ANM1=5,\"Perjantai\",IF(ANM1=6,\"Lauantai\",IF(ANM1=7,\"Sunnuntai\",\"\")))))))","v":"Sunnuntai"},null,null,null,null,null,"jako",null,"yht",{"$f":"WEEKDAY(ANX2,2)","v":1},{"$f":"IF(ANW1=1,\"Maanantai\",IF(ANW1=2,\"Tiistai\",IF(ANW1=3,\"Keskiviikko\",IF(ANW1=4,\"Torstai\",IF(ANW1=5,\"Perjantai\",IF(ANW1=6,\"Lauantai\",IF(ANW1=7,\"Sunnuntai\",\"\")))))))","v":"Maanantai"},null,null,null,null,null,"jako",null,"yht",{"$f":"WEEKDAY(AOH2,2)","v":2},{"$f":"IF(AOG1=1,\"Maanantai\",IF(AOG1=2,\"Tiistai\",IF(AOG1=3,\"Keskiviikko\",IF(AOG1=4,\"Torstai\",IF(AOG1=5,\"Perjantai\",IF(AOG1=6,\"Lauantai\",IF(AOG1=7,\"Sunnuntai\",\"\")))))))","v":"Tiistai"},null,null,null,null,null,"jako",null,"yht",{"$f":"WEEKDAY(AOR2,2)","v":3},{"$f":"IF(AOQ1=1,\"Maanantai\",IF(AOQ1=2,\"Tiistai\",IF(AOQ1=3,\"Keskiviikko\",IF(AOQ1=4,\"Torstai\",IF(AOQ1=5,\"Perjantai\",IF(AOQ1=6,\"Lauantai\",IF(AOQ1=7,\"Sunnuntai\",\"\")))))))","v":"Keskiviikko"},null,null,null,null,null,"jako",null,"yht",{"$f":"WEEKDAY(APB2,2)","v":4},{"$f":"IF(APA1=1,\"Maanantai\",IF(APA1=2,\"Tiistai\",IF(APA1=3,\"Keskiviikko\",IF(APA1=4,\"Torstai\",IF(APA1=5,\"Perjantai\",IF(APA1=6,\"Lauantai\",IF(APA1=7,\"Sunnuntai\",\"\")))))))","v":"Torstai"},null,null,null,null,null,"jako",null,"yht",{"$f":"WEEKDAY(APL2,2)","v":5},{"$f":"IF(APK1=1,\"Maanantai\",IF(APK1=2,\"Tiistai\",IF(APK1=3,\"Keskiviikko\",IF(APK1=4,\"Torstai\",IF(APK1=5,\"Perjantai\",IF(APK1=6,\"Lauantai\",IF(APK1=7,\"Sunnuntai\",\"\")))))))","v":"Perjantai"},null,null,null,null,null,"jako",null,"yht",{"$f":"WEEKDAY(APV2,2)","v":6},{"$f":"IF(APU1=1,\"Maanantai\",IF(APU1=2,\"Tiistai\",IF(APU1=3,\"Keskiviikko\",IF(APU1=4,\"Torstai\",IF(APU1=5,\"Perjantai\",IF(APU1=6,\"Lauantai\",IF(APU1=7,\"Sunnuntai\",\"\")))))))","v":"Lauantai"},null,null,null,null,null,"jako",null,"yht",{"$f":"WEEKDAY(AQF2,2)","v":7},{"$f":"IF(AQE1=1,\"Maanantai\",IF(AQE1=2,\"Tiistai\",IF(AQE1=3,\"Keskiviikko\",IF(AQE1=4,\"Torstai\",IF(AQE1=5,\"Perjantai\",IF(AQE1=6,\"Lauantai\",IF(AQE1=7,\"Sunnuntai\",\"\")))))))","v":"Sunnuntai"},null,null,null,null,null,"jako",null,"yht",{"$f":"WEEKDAY(AQP2,2)","v":1},{"$f":"IF(AQO1=1,\"Maanantai\",IF(AQO1=2,\"Tiistai\",IF(AQO1=3,\"Keskiviikko\",IF(AQO1=4,\"Torstai\",IF(AQO1=5,\"Perjantai\",IF(AQO1=6,\"Lauantai\",IF(AQO1=7,\"Sunnuntai\",\"\")))))))","v":"Maanantai"},null,null,null,null,null,"jako",null,"yht",{"$f":"WEEKDAY(AQZ2,2)","v":2},{"$f":"IF(AQY1=1,\"Maanantai\",IF(AQY1=2,\"Tiistai\",IF(AQY1=3,\"Keskiviikko\",IF(AQY1=4,\"Torstai\",IF(AQY1=5,\"Perjantai\",IF(AQY1=6,\"Lauantai\",IF(AQY1=7,\"Sunnuntai\",\"\")))))))","v":"Tiistai"},null,null,null,null,null,"jako",null,"yht",{"$f":"WEEKDAY(ARJ2,2)","v":3},{"$f":"IF(ARI1=1,\"Maanantai\",IF(ARI1=2,\"Tiistai\",IF(ARI1=3,\"Keskiviikko\",IF(ARI1=4,\"Torstai\",IF(ARI1=5,\"Perjantai\",IF(ARI1=6,\"Lauantai\",IF(ARI1=7,\"Sunnuntai\",\"\")))))))","v":"Keskiviikko"},null,null,null,null,null,"jako",null,"yht",{"$f":"WEEKDAY(ART2,2)","v":4},{"$f":"IF(ARS1=1,\"Maanantai\",IF(ARS1=2,\"Tiistai\",IF(ARS1=3,\"Keskiviikko\",IF(ARS1=4,\"Torstai\",IF(ARS1=5,\"Perjantai\",IF(ARS1=6,\"Lauantai\",IF(ARS1=7,\"Sunnuntai\",\"\")))))))","v":"Torstai"},null,null,null,null,null,"jako",null,"yht",{"$f":"WEEKDAY(ASD2,2)","v":5},{"$f":"IF(ASC1=1,\"Maanantai\",IF(ASC1=2,\"Tiistai\",IF(ASC1=3,\"Keskiviikko\",IF(ASC1=4,\"Torstai\",IF(ASC1=5,\"Perjantai\",IF(ASC1=6,\"Lauantai\",IF(ASC1=7,\"Sunnuntai\",\"\")))))))","v":"Perjantai"},null,null,null,null,null,"jako",null,"yht",{"$f":"WEEKDAY(ASN2,2)","v":6},{"$f":"IF(ASM1=1,\"Maanantai\",IF(ASM1=2,\"Tiistai\",IF(ASM1=3,\"Keskiviikko\",IF(ASM1=4,\"Torstai\",IF(ASM1=5,\"Perjantai\",IF(ASM1=6,\"Lauantai\",IF(ASM1=7,\"Sunnuntai\",\"\")))))))","v":"Lauantai"},null,null,null,null,null,"jako",null,"yht",{"$f":"WEEKDAY(ASX2,2)","v":7},{"$f":"IF(ASW1=1,\"Maanantai\",IF(ASW1=2,\"Tiistai\",IF(ASW1=3,\"Keskiviikko\",IF(ASW1=4,\"Torstai\",IF(ASW1=5,\"Perjantai\",IF(ASW1=6,\"Lauantai\",IF(ASW1=7,\"Sunnuntai\",\"\")))))))","v":"Sunnuntai"},null,null,null,null,null,"jako",null,"yht",{"$f":"WEEKDAY(ATH2,2)","v":1},{"$f":"IF(ATG1=1,\"Maanantai\",IF(ATG1=2,\"Tiistai\",IF(ATG1=3,\"Keskiviikko\",IF(ATG1=4,\"Torstai\",IF(ATG1=5,\"Perjantai\",IF(ATG1=6,\"Lauantai\",IF(ATG1=7,\"Sunnuntai\",\"\")))))))","v":"Maanantai"},null,null,null,null,null,"jako",null,"yht",{"$f":"WEEKDAY(ATR2,2)","v":2},{"$f":"IF(ATQ1=1,\"Maanantai\",IF(ATQ1=2,\"Tiistai\",IF(ATQ1=3,\"Keskiviikko\",IF(ATQ1=4,\"Torstai\",IF(ATQ1=5,\"Perjantai\",IF(ATQ1=6,\"Lauantai\",IF(ATQ1=7,\"Sunnuntai\",\"\")))))))","v":"Tiistai"},null,null,null,null,null,"jako",null,"yht",{"$f":"WEEKDAY(AUB2,2)","v":3},{"$f":"IF(AUA1=1,\"Maanantai\",IF(AUA1=2,\"Tiistai\",IF(AUA1=3,\"Keskiviikko\",IF(AUA1=4,\"Torstai\",IF(AUA1=5,\"Perjantai\",IF(AUA1=6,\"Lauantai\",IF(AUA1=7,\"Sunnuntai\",\"\")))))))","v":"Keskiviikko"},null,null,null,null,null,"jako",null,"yht",{"$f":"WEEKDAY(AUL2,2)","v":4},{"$f":"IF(AUK1=1,\"Maanantai\",IF(AUK1=2,\"Tiistai\",IF(AUK1=3,\"Keskiviikko\",IF(AUK1=4,\"Torstai\",IF(AUK1=5,\"Perjantai\",IF(AUK1=6,\"Lauantai\",IF(AUK1=7,\"Sunnuntai\",\"\")))))))","v":"Torstai"},null,null,null,null,null,"jako",null,"yht",{"$f":"WEEKDAY(AUV2,2)","v":5},{"$f":"IF(AUU1=1,\"Maanantai\",IF(AUU1=2,\"Tiistai\",IF(AUU1=3,\"Keskiviikko\",IF(AUU1=4,\"Torstai\",IF(AUU1=5,\"Perjantai\",IF(AUU1=6,\"Lauantai\",IF(AUU1=7,\"Sunnuntai\",\"\")))))))","v":"Perjantai"},null,null,null,null,null,"jako",null,"yht",{"$f":"WEEKDAY(AVF2,2)","v":6},{"$f":"IF(AVE1=1,\"Maanantai\",IF(AVE1=2,\"Tiistai\",IF(AVE1=3,\"Keskiviikko\",IF(AVE1=4,\"Torstai\",IF(AVE1=5,\"Perjantai\",IF(AVE1=6,\"Lauantai\",IF(AVE1=7,\"Sunnuntai\",\"\")))))))","v":"Lauantai"},null,null,null,null,null,"jako",null,"yht",{"$f":"WEEKDAY(AVP2,2)","v":7},{"$f":"IF(AVO1=1,\"Maanantai\",IF(AVO1=2,\"Tiistai\",IF(AVO1=3,\"Keskiviikko\",IF(AVO1=4,\"Torstai\",IF(AVO1=5,\"Perjantai\",IF(AVO1=6,\"Lauantai\",IF(AVO1=7,\"Sunnuntai\",\"\")))))))","v":"Sunnuntai"},null,null,null,null,null,"jako",null,"yht",{"$f":"WEEKDAY(AVZ2,2)","v":1},{"$f":"IF(AVY1=1,\"Maanantai\",IF(AVY1=2,\"Tiistai\",IF(AVY1=3,\"Keskiviikko\",IF(AVY1=4,\"Torstai\",IF(AVY1=5,\"Perjantai\",IF(AVY1=6,\"Lauantai\",IF(AVY1=7,\"Sunnuntai\",\"\")))))))","v":"Maanantai"},null,null,null,null,null,"jako",null,"yht",{"$f":"WEEKDAY(AWJ2,2)","v":2},{"$f":"IF(AWI1=1,\"Maanantai\",IF(AWI1=2,\"Tiistai\",IF(AWI1=3,\"Keskiviikko\",IF(AWI1=4,\"Torstai\",IF(AWI1=5,\"Perjantai\",IF(AWI1=6,\"Lauantai\",IF(AWI1=7,\"Sunnuntai\",\"\")))))))","v":"Tiistai"},null,null,null,null,null,"jako",null,"yht",{"$f":"WEEKDAY(AWT2,2)","v":3},{"$f":"IF(AWS1=1,\"Maanantai\",IF(AWS1=2,\"Tiistai\",IF(AWS1=3,\"Keskiviikko\",IF(AWS1=4,\"Torstai\",IF(AWS1=5,\"Perjantai\",IF(AWS1=6,\"Lauantai\",IF(AWS1=7,\"Sunnuntai\",\"\")))))))","v":"Keskiviikko"},null,null,null,null,null,"jako",null,"yht",{"$f":"WEEKDAY(AXD2,2)","v":4},{"$f":"IF(AXC1=1,\"Maanantai\",IF(AXC1=2,\"Tiistai\",IF(AXC1=3,\"Keskiviikko\",IF(AXC1=4,\"Torstai\",IF(AXC1=5,\"Perjantai\",IF(AXC1=6,\"Lauantai\",IF(AXC1=7,\"Sunnuntai\",\"\")))))))","v":"Torstai"},null,null,null,null,null,"jako",null,"yht",{"$f":"WEEKDAY(AXN2,2)","v":5},{"$f":"IF(AXM1=1,\"Maanantai\",IF(AXM1=2,\"Tiistai\",IF(AXM1=3,\"Keskiviikko\",IF(AXM1=4,\"Torstai\",IF(AXM1=5,\"Perjantai\",IF(AXM1=6,\"Lauantai\",IF(AXM1=7,\"Sunnuntai\",\"\")))))))","v":"Perjantai"},null,null,null,null,null,"jako",null,"yht",{"$f":"WEEKDAY(AXX2,2)","v":6},{"$f":"IF(AXW1=1,\"Maanantai\",IF(AXW1=2,\"Tiistai\",IF(AXW1=3,\"Keskiviikko\",IF(AXW1=4,\"Torstai\",IF(AXW1=5,\"Perjantai\",IF(AXW1=6,\"Lauantai\",IF(AXW1=7,\"Sunnuntai\",\"\")))))))","v":"Lauantai"},null,null,null,null,null,"jako",null,"yht",{"$f":"WEEKDAY(AYH2,2)","v":7},{"$f":"IF(AYG1=1,\"Maanantai\",IF(AYG1=2,\"Tiistai\",IF(AYG1=3,\"Keskiviikko\",IF(AYG1=4,\"Torstai\",IF(AYG1=5,\"Perjantai\",IF(AYG1=6,\"Lauantai\",IF(AYG1=7,\"Sunnuntai\",\"\")))))))","v":"Sunnuntai"},null,null,null,null,null,"jako",null,"yht",{"$f":"WEEKDAY(AYR2,2)","v":1},{"$f":"IF(AYQ1=1,\"Maanantai\",IF(AYQ1=2,\"Tiistai\",IF(AYQ1=3,\"Keskiviikko\",IF(AYQ1=4,\"Torstai\",IF(AYQ1=5,\"Perjantai\",IF(AYQ1=6,\"Lauantai\",IF(AYQ1=7,\"Sunnuntai\",\"\")))))))","v":"Maanantai"},null,null,null,null,null,"jako",null,"yht",{"$f":"WEEKDAY(AZB2,2)","v":2},{"$f":"IF(AZA1=1,\"Maanantai\",IF(AZA1=2,\"Tiistai\",IF(AZA1=3,\"Keskiviikko\",IF(AZA1=4,\"Torstai\",IF(AZA1=5,\"Perjantai\",IF(AZA1=6,\"Lauantai\",IF(AZA1=7,\"Sunnuntai\",\"\")))))))","v":"Tiistai"},null,null,null,null,null,"jako",null,"yht",{"$f":"WEEKDAY(AZL2,2)","v":3},{"$f":"IF(AZK1=1,\"Maanantai\",IF(AZK1=2,\"Tiistai\",IF(AZK1=3,\"Keskiviikko\",IF(AZK1=4,\"Torstai\",IF(AZK1=5,\"Perjantai\",IF(AZK1=6,\"Lauantai\",IF(AZK1=7,\"Sunnuntai\",\"\")))))))","v":"Keskiviikko"},null,null,null,null,null,"jako",null,"yht",{"$f":"WEEKDAY(AZV2,2)","v":4},{"$f":"IF(AZU1=1,\"Maanantai\",IF(AZU1=2,\"Tiistai\",IF(AZU1=3,\"Keskiviikko\",IF(AZU1=4,\"Torstai\",IF(AZU1=5,\"Perjantai\",IF(AZU1=6,\"Lauantai\",IF(AZU1=7,\"Sunnuntai\",\"\")))))))","v":"Torstai"},null,null,null,null,null,"jako",null,"yht",{"$f":"WEEKDAY(BAF2,2)","v":5},{"$f":"IF(BAE1=1,\"Maanantai\",IF(BAE1=2,\"Tiistai\",IF(BAE1=3,\"Keskiviikko\",IF(BAE1=4,\"Torstai\",IF(BAE1=5,\"Perjantai\",IF(BAE1=6,\"Lauantai\",IF(BAE1=7,\"Sunnuntai\",\"\")))))))","v":"Perjantai"},null,null,null,null,null,"jako",null,"yht",{"$f":"WEEKDAY(BAP2,2)","v":6},{"$f":"IF(BAO1=1,\"Maanantai\",IF(BAO1=2,\"Tiistai\",IF(BAO1=3,\"Keskiviikko\",IF(BAO1=4,\"Torstai\",IF(BAO1=5,\"Perjantai\",IF(BAO1=6,\"Lauantai\",IF(BAO1=7,\"Sunnuntai\",\"\")))))))","v":"Lauantai"},null,null,null,null,null,"jako",null,"yht",{"$f":"WEEKDAY(BAZ2,2)","v":7},{"$f":"IF(BAY1=1,\"Maanantai\",IF(BAY1=2,\"Tiistai\",IF(BAY1=3,\"Keskiviikko\",IF(BAY1=4,\"Torstai\",IF(BAY1=5,\"Perjantai\",IF(BAY1=6,\"Lauantai\",IF(BAY1=7,\"Sunnuntai\",\"\")))))))","v":"Sunnuntai"},null,null,null,null,null,"jako",null,"yht",{"$f":"WEEKDAY(BBJ2,2)","v":1},{"$f":"IF(BBI1=1,\"Maanantai\",IF(BBI1=2,\"Tiistai\",IF(BBI1=3,\"Keskiviikko\",IF(BBI1=4,\"Torstai\",IF(BBI1=5,\"Perjantai\",IF(BBI1=6,\"Lauantai\",IF(BBI1=7,\"Sunnuntai\",\"\")))))))","v":"Maanantai"},null,null,null,null,null,"jako",null,"yht",{"$f":"WEEKDAY(BBT2,2)","v":2},{"$f":"IF(BBS1=1,\"Maanantai\",IF(BBS1=2,\"Tiistai\",IF(BBS1=3,\"Keskiviikko\",IF(BBS1=4,\"Torstai\",IF(BBS1=5,\"Perjantai\",IF(BBS1=6,\"Lauantai\",IF(BBS1=7,\"Sunnuntai\",\"\")))))))","v":"Tiistai"},null,null,null,null,null,"jako",null,"yht",{"$f":"WEEKDAY(BCD2,2)","v":3},{"$f":"IF(BCC1=1,\"Maanantai\",IF(BCC1=2,\"Tiistai\",IF(BCC1=3,\"Keskiviikko\",IF(BCC1=4,\"Torstai\",IF(BCC1=5,\"Perjantai\",IF(BCC1=6,\"Lauantai\",IF(BCC1=7,\"Sunnuntai\",\"\")))))))","v":"Keskiviikko"},null,null,null,null,null,"jako",null,"yht",{"$f":"WEEKDAY(BCN2,2)","v":4},{"$f":"IF(BCM1=1,\"Maanantai\",IF(BCM1=2,\"Tiistai\",IF(BCM1=3,\"Keskiviikko\",IF(BCM1=4,\"Torstai\",IF(BCM1=5,\"Perjantai\",IF(BCM1=6,\"Lauantai\",IF(BCM1=7,\"Sunnuntai\",\"\")))))))","v":"Torstai"},null,null,null,null,null,"jako",null,"yht",{"$f":"WEEKDAY(BCX2,2)","v":5},{"$f":"IF(BCW1=1,\"Maanantai\",IF(BCW1=2,\"Tiistai\",IF(BCW1=3,\"Keskiviikko\",IF(BCW1=4,\"Torstai\",IF(BCW1=5,\"Perjantai\",IF(BCW1=6,\"Lauantai\",IF(BCW1=7,\"Sunnuntai\",\"\")))))))","v":"Perjantai"},null,null,null,null,null,"jako",null,"yht",{"$f":"WEEKDAY(BDH2,2)","v":6},{"$f":"IF(BDG1=1,\"Maanantai\",IF(BDG1=2,\"Tiistai\",IF(BDG1=3,\"Keskiviikko\",IF(BDG1=4,\"Torstai\",IF(BDG1=5,\"Perjantai\",IF(BDG1=6,\"Lauantai\",IF(BDG1=7,\"Sunnuntai\",\"\")))))))","v":"Lauantai"},null,null,null,null,null,"jako",null,"yht",{"$f":"WEEKDAY(BDR2,2)","v":7},{"$f":"IF(BDQ1=1,\"Maanantai\",IF(BDQ1=2,\"Tiistai\",IF(BDQ1=3,\"Keskiviikko\",IF(BDQ1=4,\"Torstai\",IF(BDQ1=5,\"Perjantai\",IF(BDQ1=6,\"Lauantai\",IF(BDQ1=7,\"Sunnuntai\",\"\")))))))","v":"Sunnuntai"},null,null,null,null,null,"jako",null,"yht",{"$f":"WEEKDAY(BEB2,2)","v":1},{"$f":"IF(BEA1=1,\"Maanantai\",IF(BEA1=2,\"Tiistai\",IF(BEA1=3,\"Keskiviikko\",IF(BEA1=4,\"Torstai\",IF(BEA1=5,\"Perjantai\",IF(BEA1=6,\"Lauantai\",IF(BEA1=7,\"Sunnuntai\",\"\")))))))","v":"Maanantai"},null,null,null,null,null,"jako",null,"yht",{"$f":"WEEKDAY(BEL2,2)","v":2},{"$f":"IF(BEK1=1,\"Maanantai\",IF(BEK1=2,\"Tiistai\",IF(BEK1=3,\"Keskiviikko\",IF(BEK1=4,\"Torstai\",IF(BEK1=5,\"Perjantai\",IF(BEK1=6,\"Lauantai\",IF(BEK1=7,\"Sunnuntai\",\"\")))))))","v":"Tiistai"},null,null,null,null,null,"jako",null,"yht",{"$f":"WEEKDAY(BEV2,2)","v":3},{"$f":"IF(BEU1=1,\"Maanantai\",IF(BEU1=2,\"Tiistai\",IF(BEU1=3,\"Keskiviikko\",IF(BEU1=4,\"Torstai\",IF(BEU1=5,\"Perjantai\",IF(BEU1=6,\"Lauantai\",IF(BEU1=7,\"Sunnuntai\",\"\")))))))","v":"Keskiviikko"},null,null,null,null,null,"jako",null,"yht",{"$f":"WEEKDAY(BFF2,2)","v":4},{"$f":"IF(BFE1=1,\"Maanantai\",IF(BFE1=2,\"Tiistai\",IF(BFE1=3,\"Keskiviikko\",IF(BFE1=4,\"Torstai\",IF(BFE1=5,\"Perjantai\",IF(BFE1=6,\"Lauantai\",IF(BFE1=7,\"Sunnuntai\",\"\")))))))","v":"Torstai"},null,null,null,null,null,"jako",null,"yht",{"$f":"WEEKDAY(BFP2,2)","v":5},{"$f":"IF(BFO1=1,\"Maanantai\",IF(BFO1=2,\"Tiistai\",IF(BFO1=3,\"Keskiviikko\",IF(BFO1=4,\"Torstai\",IF(BFO1=5,\"Perjantai\",IF(BFO1=6,\"Lauantai\",IF(BFO1=7,\"Sunnuntai\",\"\")))))))","v":"Perjantai"},null,null,null,null,null,"jako",null,"yht",{"$f":"WEEKDAY(BFZ2,2)","v":6},{"$f":"IF(BFY1=1,\"Maanantai\",IF(BFY1=2,\"Tiistai\",IF(BFY1=3,\"Keskiviikko\",IF(BFY1=4,\"Torstai\",IF(BFY1=5,\"Perjantai\",IF(BFY1=6,\"Lauantai\",IF(BFY1=7,\"Sunnuntai\",\"\")))))))","v":"Lauantai"},null,null,null,null,null,"jako",null,"yht",{"$f":"WEEKDAY(BGJ2,2)","v":7},{"$f":"IF(BGI1=1,\"Maanantai\",IF(BGI1=2,\"Tiistai\",IF(BGI1=3,\"Keskiviikko\",IF(BGI1=4,\"Torstai\",IF(BGI1=5,\"Perjantai\",IF(BGI1=6,\"Lauantai\",IF(BGI1=7,\"Sunnuntai\",\"\")))))))","v":"Sunnuntai"},null,null,null,null,null,"jako",null,"yht",{"$f":"WEEKDAY(BGT2,2)","v":1},{"$f":"IF(BGS1=1,\"Maanantai\",IF(BGS1=2,\"Tiistai\",IF(BGS1=3,\"Keskiviikko\",IF(BGS1=4,\"Torstai\",IF(BGS1=5,\"Perjantai\",IF(BGS1=6,\"Lauantai\",IF(BGS1=7,\"Sunnuntai\",\"\")))))))","v":"Maanantai"},null,null,null,null,null,"jako",null,"yht",{"$f":"WEEKDAY(BHD2,2)","v":2},{"$f":"IF(BHC1=1,\"Maanantai\",IF(BHC1=2,\"Tiistai\",IF(BHC1=3,\"Keskiviikko\",IF(BHC1=4,\"Torstai\",IF(BHC1=5,\"Perjantai\",IF(BHC1=6,\"Lauantai\",IF(BHC1=7,\"Sunnuntai\",\"\")))))))","v":"Tiistai"},null,null,null,null,null,"jako",null,"yht",{"$f":"WEEKDAY(BHN2,2)","v":3},{"$f":"IF(BHM1=1,\"Maanantai\",IF(BHM1=2,\"Tiistai\",IF(BHM1=3,\"Keskiviikko\",IF(BHM1=4,\"Torstai\",IF(BHM1=5,\"Perjantai\",IF(BHM1=6,\"Lauantai\",IF(BHM1=7,\"Sunnuntai\",\"\")))))))","v":"Keskiviikko"},null,null,null,null,null,"jako",null,"yht",{"$f":"WEEKDAY(BHX2,2)","v":4},{"$f":"IF(BHW1=1,\"Maanantai\",IF(BHW1=2,\"Tiistai\",IF(BHW1=3,\"Keskiviikko\",IF(BHW1=4,\"Torstai\",IF(BHW1=5,\"Perjantai\",IF(BHW1=6,\"Lauantai\",IF(BHW1=7,\"Sunnuntai\",\"\")))))))","v":"Torstai"},null,null,null,null,null,"jako",null,"yht",{"$f":"WEEKDAY(BIH2,2)","v":5},{"$f":"IF(BIG1=1,\"Maanantai\",IF(BIG1=2,\"Tiistai\",IF(BIG1=3,\"Keskiviikko\",IF(BIG1=4,\"Torstai\",IF(BIG1=5,\"Perjantai\",IF(BIG1=6,\"Lauantai\",IF(BIG1=7,\"Sunnuntai\",\"\")))))))","v":"Perjantai"},null,null,null,null,null,"jako",null,"yht",{"$f":"WEEKDAY(BIR2,2)","v":6},{"$f":"IF(BIQ1=1,\"Maanantai\",IF(BIQ1=2,\"Tiistai\",IF(BIQ1=3,\"Keskiviikko\",IF(BIQ1=4,\"Torstai\",IF(BIQ1=5,\"Perjantai\",IF(BIQ1=6,\"Lauantai\",IF(BIQ1=7,\"Sunnuntai\",\"\")))))))","v":"Lauantai"},null,null,null,null,null,"jako",null,"yht",{"$f":"WEEKDAY(BJB2,2)","v":7},{"$f":"IF(BJA1=1,\"Maanantai\",IF(BJA1=2,\"Tiistai\",IF(BJA1=3,\"Keskiviikko\",IF(BJA1=4,\"Torstai\",IF(BJA1=5,\"Perjantai\",IF(BJA1=6,\"Lauantai\",IF(BJA1=7,\"Sunnuntai\",\"\")))))))","v":"Sunnuntai"},null,null,null,null,null,"jako",null,"yht",{"$f":"WEEKDAY(BJL2,2)","v":1},{"$f":"IF(BJK1=1,\"Maanantai\",IF(BJK1=2,\"Tiistai\",IF(BJK1=3,\"Keskiviikko\",IF(BJK1=4,\"Torstai\",IF(BJK1=5,\"Perjantai\",IF(BJK1=6,\"Lauantai\",IF(BJK1=7,\"Sunnuntai\",\"\")))))))","v":"Maanantai"},null,null,null,null,null,"jako",null,"yht",{"$f":"WEEKDAY(BJV2,2)","v":2},{"$f":"IF(BJU1=1,\"Maanantai\",IF(BJU1=2,\"Tiistai\",IF(BJU1=3,\"Keskiviikko\",IF(BJU1=4,\"Torstai\",IF(BJU1=5,\"Perjantai\",IF(BJU1=6,\"Lauantai\",IF(BJU1=7,\"Sunnuntai\",\"\")))))))","v":"Tiistai"},null,null,null,null,null,"jako",null,"yht",{"$f":"WEEKDAY(BKF2,2)","v":3},{"$f":"IF(BKE1=1,\"Maanantai\",IF(BKE1=2,\"Tiistai\",IF(BKE1=3,\"Keskiviikko\",IF(BKE1=4,\"Torstai\",IF(BKE1=5,\"Perjantai\",IF(BKE1=6,\"Lauantai\",IF(BKE1=7,\"Sunnuntai\",\"\")))))))","v":"Keskiviikko"},null,null,null,null,null,"jako",null,"yht",{"$f":"WEEKDAY(BKP2,2)","v":4},{"$f":"IF(BKO1=1,\"Maanantai\",IF(BKO1=2,\"Tiistai\",IF(BKO1=3,\"Keskiviikko\",IF(BKO1=4,\"Torstai\",IF(BKO1=5,\"Perjantai\",IF(BKO1=6,\"Lauantai\",IF(BKO1=7,\"Sunnuntai\",\"\")))))))","v":"Torstai"},null,null,null,null,null,"jako",null,"yht",{"$f":"WEEKDAY(BKZ2,2)","v":5},{"$f":"IF(BKY1=1,\"Maanantai\",IF(BKY1=2,\"Tiistai\",IF(BKY1=3,\"Keskiviikko\",IF(BKY1=4,\"Torstai\",IF(BKY1=5,\"Perjantai\",IF(BKY1=6,\"Lauantai\",IF(BKY1=7,\"Sunnuntai\",\"\")))))))","v":"Perjantai"},null,null,null,null,null,"jako",null,"yht",{"$f":"WEEKDAY(BLJ2,2)","v":6},{"$f":"IF(BLI1=1,\"Maanantai\",IF(BLI1=2,\"Tiistai\",IF(BLI1=3,\"Keskiviikko\",IF(BLI1=4,\"Torstai\",IF(BLI1=5,\"Perjantai\",IF(BLI1=6,\"Lauantai\",IF(BLI1=7,\"Sunnuntai\",\"\")))))))","v":"Lauantai"},null,null,null,null,null,"jako",null,"yht",{"$f":"WEEKDAY(BLT2,2)","v":7},{"$f":"IF(BLS1=1,\"Maanantai\",IF(BLS1=2,\"Tiistai\",IF(BLS1=3,\"Keskiviikko\",IF(BLS1=4,\"Torstai\",IF(BLS1=5,\"Perjantai\",IF(BLS1=6,\"Lauantai\",IF(BLS1=7,\"Sunnuntai\",\"\")))))))","v":"Sunnuntai"},null,null,null,null,null,"jako",null,"yht",{"$f":"WEEKDAY(BMD2,2)","v":1},{"$f":"IF(BMC1=1,\"Maanantai\",IF(BMC1=2,\"Tiistai\",IF(BMC1=3,\"Keskiviikko\",IF(BMC1=4,\"Torstai\",IF(BMC1=5,\"Perjantai\",IF(BMC1=6,\"Lauantai\",IF(BMC1=7,\"Sunnuntai\",\"\")))))))","v":"Maanantai"},null,null,null,null,null,"jako",null,"yht",{"$f":"WEEKDAY(BMN2,2)","v":2},{"$f":"IF(BMM1=1,\"Maanantai\",IF(BMM1=2,\"Tiistai\",IF(BMM1=3,\"Keskiviikko\",IF(BMM1=4,\"Torstai\",IF(BMM1=5,\"Perjantai\",IF(BMM1=6,\"Lauantai\",IF(BMM1=7,\"Sunnuntai\",\"\")))))))","v":"Tiistai"},null,null,null,null,null,"jako",null,"yht",{"$f":"WEEKDAY(BMX2,2)","v":3},{"$f":"IF(BMW1=1,\"Maanantai\",IF(BMW1=2,\"Tiistai\",IF(BMW1=3,\"Keskiviikko\",IF(BMW1=4,\"Torstai\",IF(BMW1=5,\"Perjantai\",IF(BMW1=6,\"Lauantai\",IF(BMW1=7,\"Sunnuntai\",\"\")))))))","v":"Keskiviikko"},null,null,null,null,null,"jako",null,"yht",{"$f":"WEEKDAY(BNH2,2)","v":4},{"$f":"IF(BNG1=1,\"Maanantai\",IF(BNG1=2,\"Tiistai\",IF(BNG1=3,\"Keskiviikko\",IF(BNG1=4,\"Torstai\",IF(BNG1=5,\"Perjantai\",IF(BNG1=6,\"Lauantai\",IF(BNG1=7,\"Sunnuntai\",\"\")))))))","v":"Torstai"},null,null,null,null,null,"jako",null,"yht",{"$f":"WEEKDAY(BNR2,2)","v":5},{"$f":"IF(BNQ1=1,\"Maanantai\",IF(BNQ1=2,\"Tiistai\",IF(BNQ1=3,\"Keskiviikko\",IF(BNQ1=4,\"Torstai\",IF(BNQ1=5,\"Perjantai\",IF(BNQ1=6,\"Lauantai\",IF(BNQ1=7,\"Sunnuntai\",\"\")))))))","v":"Perjantai"},null,null,null,null,null,"jako",null,"yht",{"$f":"WEEKDAY(BOB2,2)","v":6},{"$f":"IF(BOA1=1,\"Maanantai\",IF(BOA1=2,\"Tiistai\",IF(BOA1=3,\"Keskiviikko\",IF(BOA1=4,\"Torstai\",IF(BOA1=5,\"Perjantai\",IF(BOA1=6,\"Lauantai\",IF(BOA1=7,\"Sunnuntai\",\"\")))))))","v":"Lauantai"},null,null,null,null,null,"jako",null,"yht",{"$f":"WEEKDAY(BOL2,2)","v":7},{"$f":"IF(BOK1=1,\"Maanantai\",IF(BOK1=2,\"Tiistai\",IF(BOK1=3,\"Keskiviikko\",IF(BOK1=4,\"Torstai\",IF(BOK1=5,\"Perjantai\",IF(BOK1=6,\"Lauantai\",IF(BOK1=7,\"Sunnuntai\",\"\")))))))","v":"Sunnuntai"},null,null,null,null,null,"jako",null,"yht",{"$f":"WEEKDAY(BOV2,2)","v":1},{"$f":"IF(BOU1=1,\"Maanantai\",IF(BOU1=2,\"Tiistai\",IF(BOU1=3,\"Keskiviikko\",IF(BOU1=4,\"Torstai\",IF(BOU1=5,\"Perjantai\",IF(BOU1=6,\"Lauantai\",IF(BOU1=7,\"Sunnuntai\",\"\")))))))","v":"Maanantai"},null,null,null,null,null,"jako",null,"yht",{"$f":"WEEKDAY(BPF2,2)","v":2},{"$f":"IF(BPE1=1,\"Maanantai\",IF(BPE1=2,\"Tiistai\",IF(BPE1=3,\"Keskiviikko\",IF(BPE1=4,\"Torstai\",IF(BPE1=5,\"Perjantai\",IF(BPE1=6,\"Lauantai\",IF(BPE1=7,\"Sunnuntai\",\"\")))))))","v":"Tiistai"},null,null,null,null,null,"jako",null,"yht",{"$f":"WEEKDAY(BPP2,2)","v":3},{"$f":"IF(BPO1=1,\"Maanantai\",IF(BPO1=2,\"Tiistai\",IF(BPO1=3,\"Keskiviikko\",IF(BPO1=4,\"Torstai\",IF(BPO1=5,\"Perjantai\",IF(BPO1=6,\"Lauantai\",IF(BPO1=7,\"Sunnuntai\",\"\")))))))","v":"Keskiviikko"},null,null,null,null,null,"jako",null,"yht",{"$f":"WEEKDAY(BPZ2,2)","v":4},{"$f":"IF(BPY1=1,\"Maanantai\",IF(BPY1=2,\"Tiistai\",IF(BPY1=3,\"Keskiviikko\",IF(BPY1=4,\"Torstai\",IF(BPY1=5,\"Perjantai\",IF(BPY1=6,\"Lauantai\",IF(BPY1=7,\"Sunnuntai\",\"\")))))))","v":"Torstai"},null,null,null,null,null,"jako",null,"yht",{"$f":"WEEKDAY(BQJ2,2)","v":5},{"$f":"IF(BQI1=1,\"Maanantai\",IF(BQI1=2,\"Tiistai\",IF(BQI1=3,\"Keskiviikko\",IF(BQI1=4,\"Torstai\",IF(BQI1=5,\"Perjantai\",IF(BQI1=6,\"Lauantai\",IF(BQI1=7,\"Sunnuntai\",\"\")))))))","v":"Perjantai"},null,null,null,null,null,"jako",null,"yht",{"$f":"WEEKDAY(BQT2,2)","v":6},{"$f":"IF(BQS1=1,\"Maanantai\",IF(BQS1=2,\"Tiistai\",IF(BQS1=3,\"Keskiviikko\",IF(BQS1=4,\"Torstai\",IF(BQS1=5,\"Perjantai\",IF(BQS1=6,\"Lauantai\",IF(BQS1=7,\"Sunnuntai\",\"\")))))))","v":"Lauantai"},null,null,null,null,null,"jako",null,"yht",{"$f":"WEEKDAY(BRD2,2)","v":7},{"$f":"IF(BRC1=1,\"Maanantai\",IF(BRC1=2,\"Tiistai\",IF(BRC1=3,\"Keskiviikko\",IF(BRC1=4,\"Torstai\",IF(BRC1=5,\"Perjantai\",IF(BRC1=6,\"Lauantai\",IF(BRC1=7,\"Sunnuntai\",\"\")))))))","v":"Sunnuntai"},null,null,null,null,null,"jako",null,"yht",{"$f":"WEEKDAY(BRN2,2)","v":1},{"$f":"IF(BRM1=1,\"Maanantai\",IF(BRM1=2,\"Tiistai\",IF(BRM1=3,\"Keskiviikko\",IF(BRM1=4,\"Torstai\",IF(BRM1=5,\"Perjantai\",IF(BRM1=6,\"Lauantai\",IF(BRM1=7,\"Sunnuntai\",\"\")))))))","v":"Maanantai"},null,null,null,null,null,"jako",null,"yht",{"$f":"WEEKDAY(BRX2,2)","v":2},{"$f":"IF(BRW1=1,\"Maanantai\",IF(BRW1=2,\"Tiistai\",IF(BRW1=3,\"Keskiviikko\",IF(BRW1=4,\"Torstai\",IF(BRW1=5,\"Perjantai\",IF(BRW1=6,\"Lauantai\",IF(BRW1=7,\"Sunnuntai\",\"\")))))))","v":"Tiistai"},null,null,null,null,null,"jako",null,"yht",{"$f":"WEEKDAY(BSH2,2)","v":3},{"$f":"IF(BSG1=1,\"Maanantai\",IF(BSG1=2,\"Tiistai\",IF(BSG1=3,\"Keskiviikko\",IF(BSG1=4,\"Torstai\",IF(BSG1=5,\"Perjantai\",IF(BSG1=6,\"Lauantai\",IF(BSG1=7,\"Sunnuntai\",\"\")))))))","v":"Keskiviikko"},null,null,null,null,null,"jako",null,"yht",{"$f":"WEEKDAY(BSR2,2)","v":4},{"$f":"IF(BSQ1=1,\"Maanantai\",IF(BSQ1=2,\"Tiistai\",IF(BSQ1=3,\"Keskiviikko\",IF(BSQ1=4,\"Torstai\",IF(BSQ1=5,\"Perjantai\",IF(BSQ1=6,\"Lauantai\",IF(BSQ1=7,\"Sunnuntai\",\"\")))))))","v":"Torstai"},null,null,null,null,null,"jako",null,"yht",{"$f":"WEEKDAY(BTB2,2)","v":5},{"$f":"IF(BTA1=1,\"Maanantai\",IF(BTA1=2,\"Tiistai\",IF(BTA1=3,\"Keskiviikko\",IF(BTA1=4,\"Torstai\",IF(BTA1=5,\"Perjantai\",IF(BTA1=6,\"Lauantai\",IF(BTA1=7,\"Sunnuntai\",\"\")))))))","v":"Perjantai"},null,null,null,null,null,"jako",null,"yht",{"$f":"WEEKDAY(BTL2,2)","v":6},{"$f":"IF(BTK1=1,\"Maanantai\",IF(BTK1=2,\"Tiistai\",IF(BTK1=3,\"Keskiviikko\",IF(BTK1=4,\"Torstai\",IF(BTK1=5,\"Perjantai\",IF(BTK1=6,\"Lauantai\",IF(BTK1=7,\"Sunnuntai\",\"\")))))))","v":"Lauantai"},null,null,null,null,null,"jako",null,"yht",{"$f":"WEEKDAY(BTV2,2)","v":7},{"$f":"IF(BTU1=1,\"Maanantai\",IF(BTU1=2,\"Tiistai\",IF(BTU1=3,\"Keskiviikko\",IF(BTU1=4,\"Torstai\",IF(BTU1=5,\"Perjantai\",IF(BTU1=6,\"Lauantai\",IF(BTU1=7,\"Sunnuntai\",\"\")))))))","v":"Sunnuntai"},null,null,null,null,null,"jako",null,"yht",{"$f":"WEEKDAY(BUF2,2)","v":1},{"$f":"IF(BUE1=1,\"Maanantai\",IF(BUE1=2,\"Tiistai\",IF(BUE1=3,\"Keskiviikko\",IF(BUE1=4,\"Torstai\",IF(BUE1=5,\"Perjantai\",IF(BUE1=6,\"Lauantai\",IF(BUE1=7,\"Sunnuntai\",\"\")))))))","v":"Maanantai"},null,null,null,null,null,"jako",null,"yht",{"$f":"WEEKDAY(BUP2,2)","v":2},{"$f":"IF(BUO1=1,\"Maanantai\",IF(BUO1=2,\"Tiistai\",IF(BUO1=3,\"Keskiviikko\",IF(BUO1=4,\"Torstai\",IF(BUO1=5,\"Perjantai\",IF(BUO1=6,\"Lauantai\",IF(BUO1=7,\"Sunnuntai\",\"\")))))))","v":"Tiistai"},null,null,null,null,null,"jako",null,"yht",{"$f":"WEEKDAY(BUZ2,2)","v":3},{"$f":"IF(BUY1=1,\"Maanantai\",IF(BUY1=2,\"Tiistai\",IF(BUY1=3,\"Keskiviikko\",IF(BUY1=4,\"Torstai\",IF(BUY1=5,\"Perjantai\",IF(BUY1=6,\"Lauantai\",IF(BUY1=7,\"Sunnuntai\",\"\")))))))","v":"Keskiviikko"},null,null,null,null,null,"jako",null,"yht",{"$f":"WEEKDAY(BVJ2,2)","v":4},{"$f":"IF(BVI1=1,\"Maanantai\",IF(BVI1=2,\"Tiistai\",IF(BVI1=3,\"Keskiviikko\",IF(BVI1=4,\"Torstai\",IF(BVI1=5,\"Perjantai\",IF(BVI1=6,\"Lauantai\",IF(BVI1=7,\"Sunnuntai\",\"\")))))))","v":"Torstai"},null,null,null,null,null,"jako",null,"yht",{"$f":"WEEKDAY(BVT2,2)","v":5},{"$f":"IF(BVS1=1,\"Maanantai\",IF(BVS1=2,\"Tiistai\",IF(BVS1=3,\"Keskiviikko\",IF(BVS1=4,\"Torstai\",IF(BVS1=5,\"Perjantai\",IF(BVS1=6,\"Lauantai\",IF(BVS1=7,\"Sunnuntai\",\"\")))))))","v":"Perjantai"},null,null,null,null,null,"jako",null,"yht",{"$f":"WEEKDAY(BWD2,2)","v":6},{"$f":"IF(BWC1=1,\"Maanantai\",IF(BWC1=2,\"Tiistai\",IF(BWC1=3,\"Keskiviikko\",IF(BWC1=4,\"Torstai\",IF(BWC1=5,\"Perjantai\",IF(BWC1=6,\"Lauantai\",IF(BWC1=7,\"Sunnuntai\",\"\")))))))","v":"Lauantai"},null,null,null,null,null,"jako",null,"yht",{"$f":"WEEKDAY(BWN2,2)","v":7},{"$f":"IF(BWM1=1,\"Maanantai\",IF(BWM1=2,\"Tiistai\",IF(BWM1=3,\"Keskiviikko\",IF(BWM1=4,\"Torstai\",IF(BWM1=5,\"Perjantai\",IF(BWM1=6,\"Lauantai\",IF(BWM1=7,\"Sunnuntai\",\"\")))))))","v":"Sunnuntai"},null,null,null,null,null,"jako",null,"yht",{"$f":"WEEKDAY(BWX2,2)","v":1},{"$f":"IF(BWW1=1,\"Maanantai\",IF(BWW1=2,\"Tiistai\",IF(BWW1=3,\"Keskiviikko\",IF(BWW1=4,\"Torstai\",IF(BWW1=5,\"Perjantai\",IF(BWW1=6,\"Lauantai\",IF(BWW1=7,\"Sunnuntai\",\"\")))))))","v":"Maanantai"},null,null,null,null,null,"jako",null,"yht",{"$f":"WEEKDAY(BXH2,2)","v":2},{"$f":"IF(BXG1=1,\"Maanantai\",IF(BXG1=2,\"Tiistai\",IF(BXG1=3,\"Keskiviikko\",IF(BXG1=4,\"Torstai\",IF(BXG1=5,\"Perjantai\",IF(BXG1=6,\"Lauantai\",IF(BXG1=7,\"Sunnuntai\",\"\")))))))","v":"Tiistai"},null,null,null,null,null,"jako",null,"yht",{"$f":"WEEKDAY(BXR2,2)","v":3},{"$f":"IF(BXQ1=1,\"Maanantai\",IF(BXQ1=2,\"Tiistai\",IF(BXQ1=3,\"Keskiviikko\",IF(BXQ1=4,\"Torstai\",IF(BXQ1=5,\"Perjantai\",IF(BXQ1=6,\"Lauantai\",IF(BXQ1=7,\"Sunnuntai\",\"\")))))))","v":"Keskiviikko"},null,null,null,null,null,"jako",null,"yht",{"$f":"WEEKDAY(BYB2,2)","v":4},{"$f":"IF(BYA1=1,\"Maanantai\",IF(BYA1=2,\"Tiistai\",IF(BYA1=3,\"Keskiviikko\",IF(BYA1=4,\"Torstai\",IF(BYA1=5,\"Perjantai\",IF(BYA1=6,\"Lauantai\",IF(BYA1=7,\"Sunnuntai\",\"\")))))))","v":"Torstai"},null,null,null,null,null,"jako",null,"yht",{"$f":"WEEKDAY(BYL2,2)","v":5},{"$f":"IF(BYK1=1,\"Maanantai\",IF(BYK1=2,\"Tiistai\",IF(BYK1=3,\"Keskiviikko\",IF(BYK1=4,\"Torstai\",IF(BYK1=5,\"Perjantai\",IF(BYK1=6,\"Lauantai\",IF(BYK1=7,\"Sunnuntai\",\"\")))))))","v":"Perjantai"},null,null,null,null,null,"jako",null,"yht",{"$f":"WEEKDAY(BYV2,2)","v":6},{"$f":"IF(BYU1=1,\"Maanantai\",IF(BYU1=2,\"Tiistai\",IF(BYU1=3,\"Keskiviikko\",IF(BYU1=4,\"Torstai\",IF(BYU1=5,\"Perjantai\",IF(BYU1=6,\"Lauantai\",IF(BYU1=7,\"Sunnuntai\",\"\")))))))","v":"Lauantai"},null,null,null,null,null,"jako",null,"yht",{"$f":"WEEKDAY(BZF2,2)","v":7},{"$f":"IF(BZE1=1,\"Maanantai\",IF(BZE1=2,\"Tiistai\",IF(BZE1=3,\"Keskiviikko\",IF(BZE1=4,\"Torstai\",IF(BZE1=5,\"Perjantai\",IF(BZE1=6,\"Lauantai\",IF(BZE1=7,\"Sunnuntai\",\"\")))))))","v":"Sunnuntai"},null,null,null,null,null,"jako",null,"yht",{"$f":"WEEKDAY(BZP2,2)","v":1},{"$f":"IF(BZO1=1,\"Maanantai\",IF(BZO1=2,\"Tiistai\",IF(BZO1=3,\"Keskiviikko\",IF(BZO1=4,\"Torstai\",IF(BZO1=5,\"Perjantai\",IF(BZO1=6,\"Lauantai\",IF(BZO1=7,\"Sunnuntai\",\"\")))))))","v":"Maanantai"},null,null,null,null,null,"jako",null,"yht",{"$f":"WEEKDAY(BZZ2,2)","v":2},{"$f":"IF(BZY1=1,\"Maanantai\",IF(BZY1=2,\"Tiistai\",IF(BZY1=3,\"Keskiviikko\",IF(BZY1=4,\"Torstai\",IF(BZY1=5,\"Perjantai\",IF(BZY1=6,\"Lauantai\",IF(BZY1=7,\"Sunnuntai\",\"\")))))))","v":"Tiistai"},null,null,null,null,null,"jako",null,"yht",{"$f":"WEEKDAY(CAJ2,2)","v":3},{"$f":"IF(CAI1=1,\"Maanantai\",IF(CAI1=2,\"Tiistai\",IF(CAI1=3,\"Keskiviikko\",IF(CAI1=4,\"Torstai\",IF(CAI1=5,\"Perjantai\",IF(CAI1=6,\"Lauantai\",IF(CAI1=7,\"Sunnuntai\",\"\")))))))","v":"Keskiviikko"},null,null,null,null,null,"jako",null,"yht",{"$f":"WEEKDAY(CAT2,2)","v":4},{"$f":"IF(CAS1=1,\"Maanantai\",IF(CAS1=2,\"Tiistai\",IF(CAS1=3,\"Keskiviikko\",IF(CAS1=4,\"Torstai\",IF(CAS1=5,\"Perjantai\",IF(CAS1=6,\"Lauantai\",IF(CAS1=7,\"Sunnuntai\",\"\")))))))","v":"Torstai"},null,null,null,null,null,"jako",null,"yht",{"$f":"WEEKDAY(CBD2,2)","v":5},{"$f":"IF(CBC1=1,\"Maanantai\",IF(CBC1=2,\"Tiistai\",IF(CBC1=3,\"Keskiviikko\",IF(CBC1=4,\"Torstai\",IF(CBC1=5,\"Perjantai\",IF(CBC1=6,\"Lauantai\",IF(CBC1=7,\"Sunnuntai\",\"\")))))))","v":"Perjantai"},null,null,null,null,null,"jako",null,"yht",{"$f":"WEEKDAY(CBN2,2)","v":6},{"$f":"IF(CBM1=1,\"Maanantai\",IF(CBM1=2,\"Tiistai\",IF(CBM1=3,\"Keskiviikko\",IF(CBM1=4,\"Torstai\",IF(CBM1=5,\"Perjantai\",IF(CBM1=6,\"Lauantai\",IF(CBM1=7,\"Sunnuntai\",\"\")))))))","v":"Lauantai"},null,null,null,null,null,"jako",null,"yht",{"$f":"WEEKDAY(CBX2,2)","v":7},{"$f":"IF(CBW1=1,\"Maanantai\",IF(CBW1=2,\"Tiistai\",IF(CBW1=3,\"Keskiviikko\",IF(CBW1=4,\"Torstai\",IF(CBW1=5,\"Perjantai\",IF(CBW1=6,\"Lauantai\",IF(CBW1=7,\"Sunnuntai\",\"\")))))))","v":"Sunnuntai"},null,null,null,null,null,"jako",null,"yht",{"$f":"WEEKDAY(CCH2,2)","v":1},{"$f":"IF(CCG1=1,\"Maanantai\",IF(CCG1=2,\"Tiistai\",IF(CCG1=3,\"Keskiviikko\",IF(CCG1=4,\"Torstai\",IF(CCG1=5,\"Perjantai\",IF(CCG1=6,\"Lauantai\",IF(CCG1=7,\"Sunnuntai\",\"\")))))))","v":"Maanantai"},null,null,null,null,null,"jako",null,"yht",{"$f":"WEEKDAY(CCR2,2)","v":2},{"$f":"IF(CCQ1=1,\"Maanantai\",IF(CCQ1=2,\"Tiistai\",IF(CCQ1=3,\"Keskiviikko\",IF(CCQ1=4,\"Torstai\",IF(CCQ1=5,\"Perjantai\",IF(CCQ1=6,\"Lauantai\",IF(CCQ1=7,\"Sunnuntai\",\"\")))))))","v":"Tiistai"},null,null,null,null,null,"jako",null,"yht",{"$f":"WEEKDAY(CDB2,2)","v":3},{"$f":"IF(CDA1=1,\"Maanantai\",IF(CDA1=2,\"Tiistai\",IF(CDA1=3,\"Keskiviikko\",IF(CDA1=4,\"Torstai\",IF(CDA1=5,\"Perjantai\",IF(CDA1=6,\"Lauantai\",IF(CDA1=7,\"Sunnuntai\",\"\")))))))","v":"Keskiviikko"},null,null,null,null,null,"jako",null,"yht",{"$f":"WEEKDAY(CDL2,2)","v":4},{"$f":"IF(CDK1=1,\"Maanantai\",IF(CDK1=2,\"Tiistai\",IF(CDK1=3,\"Keskiviikko\",IF(CDK1=4,\"Torstai\",IF(CDK1=5,\"Perjantai\",IF(CDK1=6,\"Lauantai\",IF(CDK1=7,\"Sunnuntai\",\"\")))))))","v":"Torstai"},null,null,null,null,null,"jako",null,"yht",{"$f":"WEEKDAY(CDV2,2)","v":5},{"$f":"IF(CDU1=1,\"Maanantai\",IF(CDU1=2,\"Tiistai\",IF(CDU1=3,\"Keskiviikko\",IF(CDU1=4,\"Torstai\",IF(CDU1=5,\"Perjantai\",IF(CDU1=6,\"Lauantai\",IF(CDU1=7,\"Sunnuntai\",\"\")))))))","v":"Perjantai"},null,null,null,null,null,"jako",null,"yht",{"$f":"WEEKDAY(CEF2,2)","v":6},{"$f":"IF(CEE1=1,\"Maanantai\",IF(CEE1=2,\"Tiistai\",IF(CEE1=3,\"Keskiviikko\",IF(CEE1=4,\"Torstai\",IF(CEE1=5,\"Perjantai\",IF(CEE1=6,\"Lauantai\",IF(CEE1=7,\"Sunnuntai\",\"\")))))))","v":"Lauantai"},null,null,null,null,null,"jako",null,"yht",{"$f":"WEEKDAY(CEP2,2)","v":7},{"$f":"IF(CEO1=1,\"Maanantai\",IF(CEO1=2,\"Tiistai\",IF(CEO1=3,\"Keskiviikko\",IF(CEO1=4,\"Torstai\",IF(CEO1=5,\"Perjantai\",IF(CEO1=6,\"Lauantai\",IF(CEO1=7,\"Sunnuntai\",\"\")))))))","v":"Sunnuntai"},null,null,null,null,null,"jako",null,"yht",{"$f":"WEEKDAY(CEZ2,2)","v":1},{"$f":"IF(CEY1=1,\"Maanantai\",IF(CEY1=2,\"Tiistai\",IF(CEY1=3,\"Keskiviikko\",IF(CEY1=4,\"Torstai\",IF(CEY1=5,\"Perjantai\",IF(CEY1=6,\"Lauantai\",IF(CEY1=7,\"Sunnuntai\",\"\")))))))","v":"Maanantai"},null,null,null,null,null,"jako",null,"yht",{"$f":"WEEKDAY(CFJ2,2)","v":2},{"$f":"IF(CFI1=1,\"Maanantai\",IF(CFI1=2,\"Tiistai\",IF(CFI1=3,\"Keskiviikko\",IF(CFI1=4,\"Torstai\",IF(CFI1=5,\"Perjantai\",IF(CFI1=6,\"Lauantai\",IF(CFI1=7,\"Sunnuntai\",\"\")))))))","v":"Tiistai"},null,null,null,null,null,"jako",null,"yht",{"$f":"WEEKDAY(CFT2,2)","v":3},{"$f":"IF(CFS1=1,\"Maanantai\",IF(CFS1=2,\"Tiistai\",IF(CFS1=3,\"Keskiviikko\",IF(CFS1=4,\"Torstai\",IF(CFS1=5,\"Perjantai\",IF(CFS1=6,\"Lauantai\",IF(CFS1=7,\"Sunnuntai\",\"\")))))))","v":"Keskiviikko"},null,null,null,null,null,"jako",null,"yht",{"$f":"WEEKDAY(CGD2,2)","v":4},{"$f":"IF(CGC1=1,\"Maanantai\",IF(CGC1=2,\"Tiistai\",IF(CGC1=3,\"Keskiviikko\",IF(CGC1=4,\"Torstai\",IF(CGC1=5,\"Perjantai\",IF(CGC1=6,\"Lauantai\",IF(CGC1=7,\"Sunnuntai\",\"\")))))))","v":"Torstai"},null,null,null,null,null,"jako",null,"yht",{"$f":"WEEKDAY(CGN2,2)","v":5},{"$f":"IF(CGM1=1,\"Maanantai\",IF(CGM1=2,\"Tiistai\",IF(CGM1=3,\"Keskiviikko\",IF(CGM1=4,\"Torstai\",IF(CGM1=5,\"Perjantai\",IF(CGM1=6,\"Lauantai\",IF(CGM1=7,\"Sunnuntai\",\"\")))))))","v":"Perjantai"},null,null,null,null,null,"jako",null,"yht",{"$f":"WEEKDAY(CGX2,2)","v":6},{"$f":"IF(CGW1=1,\"Maanantai\",IF(CGW1=2,\"Tiistai\",IF(CGW1=3,\"Keskiviikko\",IF(CGW1=4,\"Torstai\",IF(CGW1=5,\"Perjantai\",IF(CGW1=6,\"Lauantai\",IF(CGW1=7,\"Sunnuntai\",\"\")))))))","v":"Lauantai"},null,null,null,null,null,"jako",null,"yht",{"$f":"WEEKDAY(CHH2,2)","v":7},{"$f":"IF(CHG1=1,\"Maanantai\",IF(CHG1=2,\"Tiistai\",IF(CHG1=3,\"Keskiviikko\",IF(CHG1=4,\"Torstai\",IF(CHG1=5,\"Perjantai\",IF(CHG1=6,\"Lauantai\",IF(CHG1=7,\"Sunnuntai\",\"\")))))))","v":"Sunnuntai"},null,null,null,null,null,"jako",null,"yht",{"$f":"WEEKDAY(CHR2,2)","v":1},{"$f":"IF(CHQ1=1,\"Maanantai\",IF(CHQ1=2,\"Tiistai\",IF(CHQ1=3,\"Keskiviikko\",IF(CHQ1=4,\"Torstai\",IF(CHQ1=5,\"Perjantai\",IF(CHQ1=6,\"Lauantai\",IF(CHQ1=7,\"Sunnuntai\",\"\")))))))","v":"Maanantai"},null,null,null,null,null,"jako",null,"yht",{"$f":"WEEKDAY(CIB2,2)","v":2},{"$f":"IF(CIA1=1,\"Maanantai\",IF(CIA1=2,\"Tiistai\",IF(CIA1=3,\"Keskiviikko\",IF(CIA1=4,\"Torstai\",IF(CIA1=5,\"Perjantai\",IF(CIA1=6,\"Lauantai\",IF(CIA1=7,\"Sunnuntai\",\"\")))))))","v":"Tiistai"},null,null,null,null,null,"jako",null,"yht",{"$f":"WEEKDAY(CIL2,2)","v":3},{"$f":"IF(CIK1=1,\"Maanantai\",IF(CIK1=2,\"Tiistai\",IF(CIK1=3,\"Keskiviikko\",IF(CIK1=4,\"Torstai\",IF(CIK1=5,\"Perjantai\",IF(CIK1=6,\"Lauantai\",IF(CIK1=7,\"Sunnuntai\",\"\")))))))","v":"Keskiviikko"},null,null,null,null,null,"jako",null,"yht",{"$f":"WEEKDAY(CIV2,2)","v":4},{"$f":"IF(CIU1=1,\"Maanantai\",IF(CIU1=2,\"Tiistai\",IF(CIU1=3,\"Keskiviikko\",IF(CIU1=4,\"Torstai\",IF(CIU1=5,\"Perjantai\",IF(CIU1=6,\"Lauantai\",IF(CIU1=7,\"Sunnuntai\",\"\")))))))","v":"Torstai"},null,null,null,null,null,"jako",null,"yht",{"$f":"WEEKDAY(CJF2,2)","v":5},{"$f":"IF(CJE1=1,\"Maanantai\",IF(CJE1=2,\"Tiistai\",IF(CJE1=3,\"Keskiviikko\",IF(CJE1=4,\"Torstai\",IF(CJE1=5,\"Perjantai\",IF(CJE1=6,\"Lauantai\",IF(CJE1=7,\"Sunnuntai\",\"\")))))))","v":"Perjantai"},null,null,null,null,null,"jako",null,"yht",{"$f":"WEEKDAY(CJP2,2)","v":6},{"$f":"IF(CJO1=1,\"Maanantai\",IF(CJO1=2,\"Tiistai\",IF(CJO1=3,\"Keskiviikko\",IF(CJO1=4,\"Torstai\",IF(CJO1=5,\"Perjantai\",IF(CJO1=6,\"Lauantai\",IF(CJO1=7,\"Sunnuntai\",\"\")))))))","v":"Lauantai"},null,null,null,null,null,"jako",null,"yht",{"$f":"WEEKDAY(CJZ2,2)","v":7},{"$f":"IF(CJY1=1,\"Maanantai\",IF(CJY1=2,\"Tiistai\",IF(CJY1=3,\"Keskiviikko\",IF(CJY1=4,\"Torstai\",IF(CJY1=5,\"Perjantai\",IF(CJY1=6,\"Lauantai\",IF(CJY1=7,\"Sunnuntai\",\"\")))))))","v":"Sunnuntai"},null,null,null,null,null,"jako",null,"yht",{"$f":"WEEKDAY(CKJ2,2)","v":1},{"$f":"IF(CKI1=1,\"Maanantai\",IF(CKI1=2,\"Tiistai\",IF(CKI1=3,\"Keskiviikko\",IF(CKI1=4,\"Torstai\",IF(CKI1=5,\"Perjantai\",IF(CKI1=6,\"Lauantai\",IF(CKI1=7,\"Sunnuntai\",\"\")))))))","v":"Maanantai"},null,null,null,null,null,"jako",null,"yht",{"$f":"WEEKDAY(CKT2,2)","v":2},{"$f":"IF(CKS1=1,\"Maanantai\",IF(CKS1=2,\"Tiistai\",IF(CKS1=3,\"Keskiviikko\",IF(CKS1=4,\"Torstai\",IF(CKS1=5,\"Perjantai\",IF(CKS1=6,\"Lauantai\",IF(CKS1=7,\"Sunnuntai\",\"\")))))))","v":"Tiistai"},null,null,null,null,null,"jako",null,"yht",{"$f":"WEEKDAY(CLD2,2)","v":3},{"$f":"IF(CLC1=1,\"Maanantai\",IF(CLC1=2,\"Tiistai\",IF(CLC1=3,\"Keskiviikko\",IF(CLC1=4,\"Torstai\",IF(CLC1=5,\"Perjantai\",IF(CLC1=6,\"Lauantai\",IF(CLC1=7,\"Sunnuntai\",\"\")))))))","v":"Keskiviikko"},null,null,null,null,null,"jako",null,"yht",{"$f":"WEEKDAY(CLN2,2)","v":4},{"$f":"IF(CLM1=1,\"Maanantai\",IF(CLM1=2,\"Tiistai\",IF(CLM1=3,\"Keskiviikko\",IF(CLM1=4,\"Torstai\",IF(CLM1=5,\"Perjantai\",IF(CLM1=6,\"Lauantai\",IF(CLM1=7,\"Sunnuntai\",\"\")))))))","v":"Torstai"},null,null,null,null,null,"jako",null,"yht",{"$f":"WEEKDAY(CLX2,2)","v":5},{"$f":"IF(CLW1=1,\"Maanantai\",IF(CLW1=2,\"Tiistai\",IF(CLW1=3,\"Keskiviikko\",IF(CLW1=4,\"Torstai\",IF(CLW1=5,\"Perjantai\",IF(CLW1=6,\"Lauantai\",IF(CLW1=7,\"Sunnuntai\",\"\")))))))","v":"Perjantai"},null,null,null,null,null,"jako",null,"yht",{"$f":"WEEKDAY(CMH2,2)","v":6},{"$f":"IF(CMG1=1,\"Maanantai\",IF(CMG1=2,\"Tiistai\",IF(CMG1=3,\"Keskiviikko\",IF(CMG1=4,\"Torstai\",IF(CMG1=5,\"Perjantai\",IF(CMG1=6,\"Lauantai\",IF(CMG1=7,\"Sunnuntai\",\"\")))))))","v":"Lauantai"},null,null,null,null,null,"jako",null,"yht",{"$f":"WEEKDAY(CMR2,2)","v":7},{"$f":"IF(CMQ1=1,\"Maanantai\",IF(CMQ1=2,\"Tiistai\",IF(CMQ1=3,\"Keskiviikko\",IF(CMQ1=4,\"Torstai\",IF(CMQ1=5,\"Perjantai\",IF(CMQ1=6,\"Lauantai\",IF(CMQ1=7,\"Sunnuntai\",\"\")))))))","v":"Sunnuntai"},null,null,null,null,null,"jako",null,"yht",{"$f":"WEEKDAY(CNB2,2)","v":1},{"$f":"IF(CNA1=1,\"Maanantai\",IF(CNA1=2,\"Tiistai\",IF(CNA1=3,\"Keskiviikko\",IF(CNA1=4,\"Torstai\",IF(CNA1=5,\"Perjantai\",IF(CNA1=6,\"Lauantai\",IF(CNA1=7,\"Sunnuntai\",\"\")))))))","v":"Maanantai"},null,null,null,null,null,"jako",null,"yht",{"$f":"WEEKDAY(CNL2,2)","v":2},{"$f":"IF(CNK1=1,\"Maanantai\",IF(CNK1=2,\"Tiistai\",IF(CNK1=3,\"Keskiviikko\",IF(CNK1=4,\"Torstai\",IF(CNK1=5,\"Perjantai\",IF(CNK1=6,\"Lauantai\",IF(CNK1=7,\"Sunnuntai\",\"\")))))))","v":"Tiistai"},null,null,null,null,null,"jako",null,"yht",{"$f":"WEEKDAY(CNV2,2)","v":3},{"$f":"IF(CNU1=1,\"Maanantai\",IF(CNU1=2,\"Tiistai\",IF(CNU1=3,\"Keskiviikko\",IF(CNU1=4,\"Torstai\",IF(CNU1=5,\"Perjantai\",IF(CNU1=6,\"Lauantai\",IF(CNU1=7,\"Sunnuntai\",\"\")))))))","v":"Keskiviikko"},null,null,null,null,null,"jako",null,"yht",{"$f":"WEEKDAY(COF2,2)","v":4},{"$f":"IF(COE1=1,\"Maanantai\",IF(COE1=2,\"Tiistai\",IF(COE1=3,\"Keskiviikko\",IF(COE1=4,\"Torstai\",IF(COE1=5,\"Perjantai\",IF(COE1=6,\"Lauantai\",IF(COE1=7,\"Sunnuntai\",\"\")))))))","v":"Torstai"},null,null,null,null,null,"jako",null,"yht",{"$f":"WEEKDAY(COP2,2)","v":5},{"$f":"IF(COO1=1,\"Maanantai\",IF(COO1=2,\"Tiistai\",IF(COO1=3,\"Keskiviikko\",IF(COO1=4,\"Torstai\",IF(COO1=5,\"Perjantai\",IF(COO1=6,\"Lauantai\",IF(COO1=7,\"Sunnuntai\",\"\")))))))","v":"Perjantai"},null,null,null,null,null,"jako",null,"yht",{"$f":"WEEKDAY(COZ2,2)","v":6},{"$f":"IF(COY1=1,\"Maanantai\",IF(COY1=2,\"Tiistai\",IF(COY1=3,\"Keskiviikko\",IF(COY1=4,\"Torstai\",IF(COY1=5,\"Perjantai\",IF(COY1=6,\"Lauantai\",IF(COY1=7,\"Sunnuntai\",\"\")))))))","v":"Lauantai"},null,null,null,null,null,"jako",null,"yht",{"$f":"WEEKDAY(CPJ2,2)","v":7},{"$f":"IF(CPI1=1,\"Maanantai\",IF(CPI1=2,\"Tiistai\",IF(CPI1=3,\"Keskiviikko\",IF(CPI1=4,\"Torstai\",IF(CPI1=5,\"Perjantai\",IF(CPI1=6,\"Lauantai\",IF(CPI1=7,\"Sunnuntai\",\"\")))))))","v":"Sunnuntai"},null,null,null,null,null,"jako",null,"yht",{"$f":"WEEKDAY(CPT2,2)","v":1},{"$f":"IF(CPS1=1,\"Maanantai\",IF(CPS1=2,\"Tiistai\",IF(CPS1=3,\"Keskiviikko\",IF(CPS1=4,\"Torstai\",IF(CPS1=5,\"Perjantai\",IF(CPS1=6,\"Lauantai\",IF(CPS1=7,\"Sunnuntai\",\"\")))))))","v":"Maanantai"},null,null,null,null,null,"jako",null,"yht",{"$f":"WEEKDAY(CQD2,2)","v":2},{"$f":"IF(CQC1=1,\"Maanantai\",IF(CQC1=2,\"Tiistai\",IF(CQC1=3,\"Keskiviikko\",IF(CQC1=4,\"Torstai\",IF(CQC1=5,\"Perjantai\",IF(CQC1=6,\"Lauantai\",IF(CQC1=7,\"Sunnuntai\",\"\")))))))","v":"Tiistai"},null,null,null,null,null,"jako",null,"yht",{"$f":"WEEKDAY(CQN2,2)","v":3},{"$f":"IF(CQM1=1,\"Maanantai\",IF(CQM1=2,\"Tiistai\",IF(CQM1=3,\"Keskiviikko\",IF(CQM1=4,\"Torstai\",IF(CQM1=5,\"Perjantai\",IF(CQM1=6,\"Lauantai\",IF(CQM1=7,\"Sunnuntai\",\"\")))))))","v":"Keskiviikko"},null,null,null,null,null,"jako",null,"yht",{"$f":"WEEKDAY(CQX2,2)","v":4},{"$f":"IF(CQW1=1,\"Maanantai\",IF(CQW1=2,\"Tiistai\",IF(CQW1=3,\"Keskiviikko\",IF(CQW1=4,\"Torstai\",IF(CQW1=5,\"Perjantai\",IF(CQW1=6,\"Lauantai\",IF(CQW1=7,\"Sunnuntai\",\"\")))))))","v":"Torstai"},null,null,null,null,null,"jako",null,"yht",{"$f":"WEEKDAY(CRH2,2)","v":5},{"$f":"IF(CRG1=1,\"Maanantai\",IF(CRG1=2,\"Tiistai\",IF(CRG1=3,\"Keskiviikko\",IF(CRG1=4,\"Torstai\",IF(CRG1=5,\"Perjantai\",IF(CRG1=6,\"Lauantai\",IF(CRG1=7,\"Sunnuntai\",\"\")))))))","v":"Perjantai"},null,null,null,null,null,"jako",null,"yht",{"$f":"WEEKDAY(CRR2,2)","v":6},{"$f":"IF(CRQ1=1,\"Maanantai\",IF(CRQ1=2,\"Tiistai\",IF(CRQ1=3,\"Keskiviikko\",IF(CRQ1=4,\"Torstai\",IF(CRQ1=5,\"Perjantai\",IF(CRQ1=6,\"Lauantai\",IF(CRQ1=7,\"Sunnuntai\",\"\")))))))","v":"Lauantai"},null,null,null,null,null,"jako",null,"yht",{"$f":"WEEKDAY(CSB2,2)","v":7},{"$f":"IF(CSA1=1,\"Maanantai\",IF(CSA1=2,\"Tiistai\",IF(CSA1=3,\"Keskiviikko\",IF(CSA1=4,\"Torstai\",IF(CSA1=5,\"Perjantai\",IF(CSA1=6,\"Lauantai\",IF(CSA1=7,\"Sunnuntai\",\"\")))))))","v":"Sunnuntai"},null,null,null,null,null,"jako",null,"yht",{"$f":"WEEKDAY(CSL2,2)","v":1},{"$f":"IF(CSK1=1,\"Maanantai\",IF(CSK1=2,\"Tiistai\",IF(CSK1=3,\"Keskiviikko\",IF(CSK1=4,\"Torstai\",IF(CSK1=5,\"Perjantai\",IF(CSK1=6,\"Lauantai\",IF(CSK1=7,\"Sunnuntai\",\"\")))))))","v":"Maanantai"},null,null,null,null,null,"jako",null,"yht",{"$f":"WEEKDAY(CSV2,2)","v":2},{"$f":"IF(CSU1=1,\"Maanantai\",IF(CSU1=2,\"Tiistai\",IF(CSU1=3,\"Keskiviikko\",IF(CSU1=4,\"Torstai\",IF(CSU1=5,\"Perjantai\",IF(CSU1=6,\"Lauantai\",IF(CSU1=7,\"Sunnuntai\",\"\")))))))","v":"Tiistai"},null,null,null,null,null,"jako",null,"yht",{"$f":"WEEKDAY(CTF2,2)","v":3},{"$f":"IF(CTE1=1,\"Maanantai\",IF(CTE1=2,\"Tiistai\",IF(CTE1=3,\"Keskiviikko\",IF(CTE1=4,\"Torstai\",IF(CTE1=5,\"Perjantai\",IF(CTE1=6,\"Lauantai\",IF(CTE1=7,\"Sunnuntai\",\"\")))))))","v":"Keskiviikko"},null,null,null,null,null,"jako",null,"yht",{"$f":"WEEKDAY(CTP2,2)","v":4},{"$f":"IF(CTO1=1,\"Maanantai\",IF(CTO1=2,\"Tiistai\",IF(CTO1=3,\"Keskiviikko\",IF(CTO1=4,\"Torstai\",IF(CTO1=5,\"Perjantai\",IF(CTO1=6,\"Lauantai\",IF(CTO1=7,\"Sunnuntai\",\"\")))))))","v":"Torstai"},null,null,null,null,null,"jako",null,"yht",{"$f":"WEEKDAY(CTZ2,2)","v":5},{"$f":"IF(CTY1=1,\"Maanantai\",IF(CTY1=2,\"Tiistai\",IF(CTY1=3,\"Keskiviikko\",IF(CTY1=4,\"Torstai\",IF(CTY1=5,\"Perjantai\",IF(CTY1=6,\"Lauantai\",IF(CTY1=7,\"Sunnuntai\",\"\")))))))","v":"Perjantai"},null,null,null,null,null,"jako",null,"yht",{"$f":"WEEKDAY(CUJ2,2)","v":6},{"$f":"IF(CUI1=1,\"Maanantai\",IF(CUI1=2,\"Tiistai\",IF(CUI1=3,\"Keskiviikko\",IF(CUI1=4,\"Torstai\",IF(CUI1=5,\"Perjantai\",IF(CUI1=6,\"Lauantai\",IF(CUI1=7,\"Sunnuntai\",\"\")))))))","v":"Lauantai"},null,null,null,null,null,"jako",null,"yht",{"$f":"WEEKDAY(CUT2,2)","v":7},{"$f":"IF(CUS1=1,\"Maanantai\",IF(CUS1=2,\"Tiistai\",IF(CUS1=3,\"Keskiviikko\",IF(CUS1=4,\"Torstai\",IF(CUS1=5,\"Perjantai\",IF(CUS1=6,\"Lauantai\",IF(CUS1=7,\"Sunnuntai\",\"\")))))))","v":"Sunnuntai"},null,null,null,null,null,"jako",null,"yht",{"$f":"WEEKDAY(CVD2,2)","v":1},{"$f":"IF(CVC1=1,\"Maanantai\",IF(CVC1=2,\"Tiistai\",IF(CVC1=3,\"Keskiviikko\",IF(CVC1=4,\"Torstai\",IF(CVC1=5,\"Perjantai\",IF(CVC1=6,\"Lauantai\",IF(CVC1=7,\"Sunnuntai\",\"\")))))))","v":"Maanantai"},null,null,null,null,null,"jako",null,"yht",{"$f":"WEEKDAY(CVN2,2)","v":2},{"$f":"IF(CVM1=1,\"Maanantai\",IF(CVM1=2,\"Tiistai\",IF(CVM1=3,\"Keskiviikko\",IF(CVM1=4,\"Torstai\",IF(CVM1=5,\"Perjantai\",IF(CVM1=6,\"Lauantai\",IF(CVM1=7,\"Sunnuntai\",\"\")))))))","v":"Tiistai"},null,null,null,null,null,"jako",null,"yht",{"$f":"WEEKDAY(CVX2,2)","v":3},{"$f":"IF(CVW1=1,\"Maanantai\",IF(CVW1=2,\"Tiistai\",IF(CVW1=3,\"Keskiviikko\",IF(CVW1=4,\"Torstai\",IF(CVW1=5,\"Perjantai\",IF(CVW1=6,\"Lauantai\",IF(CVW1=7,\"Sunnuntai\",\"\")))))))","v":"Keskiviikko"},null,null,null,null,null,"jako",null,"yht",{"$f":"WEEKDAY(CWH2,2)","v":4},{"$f":"IF(CWG1=1,\"Maanantai\",IF(CWG1=2,\"Tiistai\",IF(CWG1=3,\"Keskiviikko\",IF(CWG1=4,\"Torstai\",IF(CWG1=5,\"Perjantai\",IF(CWG1=6,\"Lauantai\",IF(CWG1=7,\"Sunnuntai\",\"\")))))))","v":"Torstai"},null,null,null,null,null,"jako",null,"yht",{"$f":"WEEKDAY(CWR2,2)","v":5},{"$f":"IF(CWQ1=1,\"Maanantai\",IF(CWQ1=2,\"Tiistai\",IF(CWQ1=3,\"Keskiviikko\",IF(CWQ1=4,\"Torstai\",IF(CWQ1=5,\"Perjantai\",IF(CWQ1=6,\"Lauantai\",IF(CWQ1=7,\"Sunnuntai\",\"\")))))))","v":"Perjantai"},null,null,null,null,null,"jako",null,"yht",{"$f":"WEEKDAY(CXB2,2)","v":6},{"$f":"IF(CXA1=1,\"Maanantai\",IF(CXA1=2,\"Tiistai\",IF(CXA1=3,\"Keskiviikko\",IF(CXA1=4,\"Torstai\",IF(CXA1=5,\"Perjantai\",IF(CXA1=6,\"Lauantai\",IF(CXA1=7,\"Sunnuntai\",\"\")))))))","v":"Lauantai"},null,null,null,null,null,"jako",null,"yht",{"$f":"WEEKDAY(CXL2,2)","v":7},{"$f":"IF(CXK1=1,\"Maanantai\",IF(CXK1=2,\"Tiistai\",IF(CXK1=3,\"Keskiviikko\",IF(CXK1=4,\"Torstai\",IF(CXK1=5,\"Perjantai\",IF(CXK1=6,\"Lauantai\",IF(CXK1=7,\"Sunnuntai\",\"\")))))))","v":"Sunnuntai"},null,null,null,null,null,"jako",null,"yht",{"$f":"WEEKDAY(CXV2,2)","v":1},{"$f":"IF(CXU1=1,\"Maanantai\",IF(CXU1=2,\"Tiistai\",IF(CXU1=3,\"Keskiviikko\",IF(CXU1=4,\"Torstai\",IF(CXU1=5,\"Perjantai\",IF(CXU1=6,\"Lauantai\",IF(CXU1=7,\"Sunnuntai\",\"\")))))))","v":"Maanantai"},null,null,null,null,null,"jako",null,"yht",{"$f":"WEEKDAY(CYF2,2)","v":2},{"$f":"IF(CYE1=1,\"Maanantai\",IF(CYE1=2,\"Tiistai\",IF(CYE1=3,\"Keskiviikko\",IF(CYE1=4,\"Torstai\",IF(CYE1=5,\"Perjantai\",IF(CYE1=6,\"Lauantai\",IF(CYE1=7,\"Sunnuntai\",\"\")))))))","v":"Tiistai"},null,null,null,null,null,"jako",null,"yht",{"$f":"WEEKDAY(CYP2,2)","v":3},{"$f":"IF(CYO1=1,\"Maanantai\",IF(CYO1=2,\"Tiistai\",IF(CYO1=3,\"Keskiviikko\",IF(CYO1=4,\"Torstai\",IF(CYO1=5,\"Perjantai\",IF(CYO1=6,\"Lauantai\",IF(CYO1=7,\"Sunnuntai\",\"\")))))))","v":"Keskiviikko"},null,null,null,null,null,"jako",null,"yht",{"$f":"WEEKDAY(CYZ2,2)","v":4},{"$f":"IF(CYY1=1,\"Maanantai\",IF(CYY1=2,\"Tiistai\",IF(CYY1=3,\"Keskiviikko\",IF(CYY1=4,\"Torstai\",IF(CYY1=5,\"Perjantai\",IF(CYY1=6,\"Lauantai\",IF(CYY1=7,\"Sunnuntai\",\"\")))))))","v":"Torstai"},null,null,null,null,null,"jako",null,"yht",{"$f":"WEEKDAY(CZJ2,2)","v":5},{"$f":"IF(CZI1=1,\"Maanantai\",IF(CZI1=2,\"Tiistai\",IF(CZI1=3,\"Keskiviikko\",IF(CZI1=4,\"Torstai\",IF(CZI1=5,\"Perjantai\",IF(CZI1=6,\"Lauantai\",IF(CZI1=7,\"Sunnuntai\",\"\")))))))","v":"Perjantai"},null,null,null,null,null,"jako",null,"yht",{"$f":"WEEKDAY(CZT2,2)","v":6},{"$f":"IF(CZS1=1,\"Maanantai\",IF(CZS1=2,\"Tiistai\",IF(CZS1=3,\"Keskiviikko\",IF(CZS1=4,\"Torstai\",IF(CZS1=5,\"Perjantai\",IF(CZS1=6,\"Lauantai\",IF(CZS1=7,\"Sunnuntai\",\"\")))))))","v":"Lauantai"},null,null,null,null,null,"jako",null,"yht",{"$f":"WEEKDAY(DAD2,2)","v":7},{"$f":"IF(DAC1=1,\"Maanantai\",IF(DAC1=2,\"Tiistai\",IF(DAC1=3,\"Keskiviikko\",IF(DAC1=4,\"Torstai\",IF(DAC1=5,\"Perjantai\",IF(DAC1=6,\"Lauantai\",IF(DAC1=7,\"Sunnuntai\",\"\")))))))","v":"Sunnuntai"},null,null,null,null,null,"jako",null,"yht",{"$f":"WEEKDAY(DAN2,2)","v":1},{"$f":"IF(DAM1=1,\"Maanantai\",IF(DAM1=2,\"Tiistai\",IF(DAM1=3,\"Keskiviikko\",IF(DAM1=4,\"Torstai\",IF(DAM1=5,\"Perjantai\",IF(DAM1=6,\"Lauantai\",IF(DAM1=7,\"Sunnuntai\",\"\")))))))","v":"Maanantai"},null,null,null,null,null,"jako",null,"yht",{"$f":"WEEKDAY(DAX2,2)","v":2},{"$f":"IF(DAW1=1,\"Maanantai\",IF(DAW1=2,\"Tiistai\",IF(DAW1=3,\"Keskiviikko\",IF(DAW1=4,\"Torstai\",IF(DAW1=5,\"Perjantai\",IF(DAW1=6,\"Lauantai\",IF(DAW1=7,\"Sunnuntai\",\"\")))))))","v":"Tiistai"},null,null,null,null,null,"jako",null,"yht",{"$f":"WEEKDAY(DBH2,2)","v":3},{"$f":"IF(DBG1=1,\"Maanantai\",IF(DBG1=2,\"Tiistai\",IF(DBG1=3,\"Keskiviikko\",IF(DBG1=4,\"Torstai\",IF(DBG1=5,\"Perjantai\",IF(DBG1=6,\"Lauantai\",IF(DBG1=7,\"Sunnuntai\",\"\")))))))","v":"Keskiviikko"},null,null,null,null,null,"jako",null,"yht",{"$f":"WEEKDAY(DBR2,2)","v":4},{"$f":"IF(DBQ1=1,\"Maanantai\",IF(DBQ1=2,\"Tiistai\",IF(DBQ1=3,\"Keskiviikko\",IF(DBQ1=4,\"Torstai\",IF(DBQ1=5,\"Perjantai\",IF(DBQ1=6,\"Lauantai\",IF(DBQ1=7,\"Sunnuntai\",\"\")))))))","v":"Torstai"},null,null,null,null,null,"jako",null,"yht",{"$f":"WEEKDAY(DCB2,2)","v":5},{"$f":"IF(DCA1=1,\"Maanantai\",IF(DCA1=2,\"Tiistai\",IF(DCA1=3,\"Keskiviikko\",IF(DCA1=4,\"Torstai\",IF(DCA1=5,\"Perjantai\",IF(DCA1=6,\"Lauantai\",IF(DCA1=7,\"Sunnuntai\",\"\")))))))","v":"Perjantai"},null,null,null,null,null,"jako",null,"yht",{"$f":"WEEKDAY(DCL2,2)","v":6},{"$f":"IF(DCK1=1,\"Maanantai\",IF(DCK1=2,\"Tiistai\",IF(DCK1=3,\"Keskiviikko\",IF(DCK1=4,\"Torstai\",IF(DCK1=5,\"Perjantai\",IF(DCK1=6,\"Lauantai\",IF(DCK1=7,\"Sunnuntai\",\"\")))))))","v":"Lauantai"},null,null,null,null,null,"jako",null,"yht",{"$f":"WEEKDAY(DCV2,2)","v":7},{"$f":"IF(DCU1=1,\"Maanantai\",IF(DCU1=2,\"Tiistai\",IF(DCU1=3,\"Keskiviikko\",IF(DCU1=4,\"Torstai\",IF(DCU1=5,\"Perjantai\",IF(DCU1=6,\"Lauantai\",IF(DCU1=7,\"Sunnuntai\",\"\")))))))","v":"Sunnuntai"},null,null,null,null,null,"jako",null,"yht",{"$f":"WEEKDAY(DDF2,2)","v":1},{"$f":"IF(DDE1=1,\"Maanantai\",IF(DDE1=2,\"Tiistai\",IF(DDE1=3,\"Keskiviikko\",IF(DDE1=4,\"Torstai\",IF(DDE1=5,\"Perjantai\",IF(DDE1=6,\"Lauantai\",IF(DDE1=7,\"Sunnuntai\",\"\")))))))","v":"Maanantai"},null,null,null,null,null,"jako",null,"yht",{"$f":"WEEKDAY(DDP2,2)","v":2},{"$f":"IF(DDO1=1,\"Maanantai\",IF(DDO1=2,\"Tiistai\",IF(DDO1=3,\"Keskiviikko\",IF(DDO1=4,\"Torstai\",IF(DDO1=5,\"Perjantai\",IF(DDO1=6,\"Lauantai\",IF(DDO1=7,\"Sunnuntai\",\"\")))))))","v":"Tiistai"},null,null,null,null,null,"jako",null,"yht",{"$f":"WEEKDAY(DDZ2,2)","v":3},{"$f":"IF(DDY1=1,\"Maanantai\",IF(DDY1=2,\"Tiistai\",IF(DDY1=3,\"Keskiviikko\",IF(DDY1=4,\"Torstai\",IF(DDY1=5,\"Perjantai\",IF(DDY1=6,\"Lauantai\",IF(DDY1=7,\"Sunnuntai\",\"\")))))))","v":"Keskiviikko"},null,null,null,null,null,"jako",null,"yht",{"$f":"WEEKDAY(DEJ2,2)","v":4},{"$f":"IF(DEI1=1,\"Maanantai\",IF(DEI1=2,\"Tiistai\",IF(DEI1=3,\"Keskiviikko\",IF(DEI1=4,\"Torstai\",IF(DEI1=5,\"Perjantai\",IF(DEI1=6,\"Lauantai\",IF(DEI1=7,\"Sunnuntai\",\"\")))))))","v":"Torstai"},null,null,null,null,null,"jako",null,"yht",{"$f":"WEEKDAY(DET2,2)","v":5},{"$f":"IF(DES1=1,\"Maanantai\",IF(DES1=2,\"Tiistai\",IF(DES1=3,\"Keskiviikko\",IF(DES1=4,\"Torstai\",IF(DES1=5,\"Perjantai\",IF(DES1=6,\"Lauantai\",IF(DES1=7,\"Sunnuntai\",\"\")))))))","v":"Perjantai"},null,null,null,null,null,"jako",null,"yht",{"$f":"WEEKDAY(DFD2,2)","v":6},{"$f":"IF(DFC1=1,\"Maanantai\",IF(DFC1=2,\"Tiistai\",IF(DFC1=3,\"Keskiviikko\",IF(DFC1=4,\"Torstai\",IF(DFC1=5,\"Perjantai\",IF(DFC1=6,\"Lauantai\",IF(DFC1=7,\"Sunnuntai\",\"\")))))))","v":"Lauantai"},null,null,null,null,null,"jako",null,"yht",{"$f":"WEEKDAY(DFN2,2)","v":7},{"$f":"IF(DFM1=1,\"Maanantai\",IF(DFM1=2,\"Tiistai\",IF(DFM1=3,\"Keskiviikko\",IF(DFM1=4,\"Torstai\",IF(DFM1=5,\"Perjantai\",IF(DFM1=6,\"Lauantai\",IF(DFM1=7,\"Sunnuntai\",\"\")))))))","v":"Sunnuntai"},null,null,null,null,null,"jako",null,"yht",{"$f":"WEEKDAY(DFX2,2)","v":1},{"$f":"IF(DFW1=1,\"Maanantai\",IF(DFW1=2,\"Tiistai\",IF(DFW1=3,\"Keskiviikko\",IF(DFW1=4,\"Torstai\",IF(DFW1=5,\"Perjantai\",IF(DFW1=6,\"Lauantai\",IF(DFW1=7,\"Sunnuntai\",\"\")))))))","v":"Maanantai"},null,null,null,null,null,"jako",null,"yht",{"$f":"WEEKDAY(DGH2,2)","v":2},{"$f":"IF(DGG1=1,\"Maanantai\",IF(DGG1=2,\"Tiistai\",IF(DGG1=3,\"Keskiviikko\",IF(DGG1=4,\"Torstai\",IF(DGG1=5,\"Perjantai\",IF(DGG1=6,\"Lauantai\",IF(DGG1=7,\"Sunnuntai\",\"\")))))))","v":"Tiistai"},null,null,null,null,null,"jako",null,"yht",{"$f":"WEEKDAY(DGR2,2)","v":3},{"$f":"IF(DGQ1=1,\"Maanantai\",IF(DGQ1=2,\"Tiistai\",IF(DGQ1=3,\"Keskiviikko\",IF(DGQ1=4,\"Torstai\",IF(DGQ1=5,\"Perjantai\",IF(DGQ1=6,\"Lauantai\",IF(DGQ1=7,\"Sunnuntai\",\"\")))))))","v":"Keskiviikko"},null,null,null,null,null,"jako",null,"yht",{"$f":"WEEKDAY(DHB2,2)","v":4},{"$f":"IF(DHA1=1,\"Maanantai\",IF(DHA1=2,\"Tiistai\",IF(DHA1=3,\"Keskiviikko\",IF(DHA1=4,\"Torstai\",IF(DHA1=5,\"Perjantai\",IF(DHA1=6,\"Lauantai\",IF(DHA1=7,\"Sunnuntai\",\"\")))))))","v":"Torstai"},null,null,null,null,null,"jako",null,"yht",{"$f":"WEEKDAY(DHL2,2)","v":5},{"$f":"IF(DHK1=1,\"Maanantai\",IF(DHK1=2,\"Tiistai\",IF(DHK1=3,\"Keskiviikko\",IF(DHK1=4,\"Torstai\",IF(DHK1=5,\"Perjantai\",IF(DHK1=6,\"Lauantai\",IF(DHK1=7,\"Sunnuntai\",\"\")))))))","v":"Perjantai"},null,null,null,null,null,"jako",null,"yht",{"$f":"WEEKDAY(DHV2,2)","v":6},{"$f":"IF(DHU1=1,\"Maanantai\",IF(DHU1=2,\"Tiistai\",IF(DHU1=3,\"Keskiviikko\",IF(DHU1=4,\"Torstai\",IF(DHU1=5,\"Perjantai\",IF(DHU1=6,\"Lauantai\",IF(DHU1=7,\"Sunnuntai\",\"\")))))))","v":"Lauantai"},null,null,null,null,null,"jako",null,"yht",{"$f":"WEEKDAY(DIF2,2)","v":7},{"$f":"IF(DIE1=1,\"Maanantai\",IF(DIE1=2,\"Tiistai\",IF(DIE1=3,\"Keskiviikko\",IF(DIE1=4,\"Torstai\",IF(DIE1=5,\"Perjantai\",IF(DIE1=6,\"Lauantai\",IF(DIE1=7,\"Sunnuntai\",\"\")))))))","v":"Sunnuntai"},null,null,null,null,null,"jako",null,"yht",{"$f":"WEEKDAY(DIP2,2)","v":1},{"$f":"IF(DIO1=1,\"Maanantai\",IF(DIO1=2,\"Tiistai\",IF(DIO1=3,\"Keskiviikko\",IF(DIO1=4,\"Torstai\",IF(DIO1=5,\"Perjantai\",IF(DIO1=6,\"Lauantai\",IF(DIO1=7,\"Sunnuntai\",\"\")))))))","v":"Maanantai"},null,null,null,null,null,"jako",null,"yht",{"$f":"WEEKDAY(DIZ2,2)","v":2},{"$f":"IF(DIY1=1,\"Maanantai\",IF(DIY1=2,\"Tiistai\",IF(DIY1=3,\"Keskiviikko\",IF(DIY1=4,\"Torstai\",IF(DIY1=5,\"Perjantai\",IF(DIY1=6,\"Lauantai\",IF(DIY1=7,\"Sunnuntai\",\"\")))))))","v":"Tiistai"},null,null,null,null,null,"jako",null,"yht",{"$f":"WEEKDAY(DJJ2,2)","v":3},{"$f":"IF(DJI1=1,\"Maanantai\",IF(DJI1=2,\"Tiistai\",IF(DJI1=3,\"Keskiviikko\",IF(DJI1=4,\"Torstai\",IF(DJI1=5,\"Perjantai\",IF(DJI1=6,\"Lauantai\",IF(DJI1=7,\"Sunnuntai\",\"\")))))))","v":"Keskiviikko"},null,null,null,null,null,"jako",null,"yht",{"$f":"WEEKDAY(DJT2,2)","v":4},{"$f":"IF(DJS1=1,\"Maanantai\",IF(DJS1=2,\"Tiistai\",IF(DJS1=3,\"Keskiviikko\",IF(DJS1=4,\"Torstai\",IF(DJS1=5,\"Perjantai\",IF(DJS1=6,\"Lauantai\",IF(DJS1=7,\"Sunnuntai\",\"\")))))))","v":"Torstai"},null,null,null,null,null,"jako",null,"yht",{"$f":"WEEKDAY(DKD2,2)","v":5},{"$f":"IF(DKC1=1,\"Maanantai\",IF(DKC1=2,\"Tiistai\",IF(DKC1=3,\"Keskiviikko\",IF(DKC1=4,\"Torstai\",IF(DKC1=5,\"Perjantai\",IF(DKC1=6,\"Lauantai\",IF(DKC1=7,\"Sunnuntai\",\"\")))))))","v":"Perjantai"},null,null,null,null,null,"jako",null,"yht",{"$f":"WEEKDAY(DKN2,2)","v":6},{"$f":"IF(DKM1=1,\"Maanantai\",IF(DKM1=2,\"Tiistai\",IF(DKM1=3,\"Keskiviikko\",IF(DKM1=4,\"Torstai\",IF(DKM1=5,\"Perjantai\",IF(DKM1=6,\"Lauantai\",IF(DKM1=7,\"Sunnuntai\",\"\")))))))","v":"Lauantai"},null,null,null,null,null,"jako",null,"yht",{"$f":"WEEKDAY(DKX2,2)","v":7},{"$f":"IF(DKW1=1,\"Maanantai\",IF(DKW1=2,\"Tiistai\",IF(DKW1=3,\"Keskiviikko\",IF(DKW1=4,\"Torstai\",IF(DKW1=5,\"Perjantai\",IF(DKW1=6,\"Lauantai\",IF(DKW1=7,\"Sunnuntai\",\"\")))))))","v":"Sunnuntai"},null,null,null,null,null,"jako",null,"yht",{"$f":"WEEKDAY(DLH2,2)","v":1},{"$f":"IF(DLG1=1,\"Maanantai\",IF(DLG1=2,\"Tiistai\",IF(DLG1=3,\"Keskiviikko\",IF(DLG1=4,\"Torstai\",IF(DLG1=5,\"Perjantai\",IF(DLG1=6,\"Lauantai\",IF(DLG1=7,\"Sunnuntai\",\"\")))))))","v":"Maanantai"},null,null,null,null,null,"jako",null,"yht",{"$f":"WEEKDAY(DLR2,2)","v":2},{"$f":"IF(DLQ1=1,\"Maanantai\",IF(DLQ1=2,\"Tiistai\",IF(DLQ1=3,\"Keskiviikko\",IF(DLQ1=4,\"Torstai\",IF(DLQ1=5,\"Perjantai\",IF(DLQ1=6,\"Lauantai\",IF(DLQ1=7,\"Sunnuntai\",\"\")))))))","v":"Tiistai"},null,null,null,null,null,"jako",null,"yht",{"$f":"WEEKDAY(DMB2,2)","v":3},{"$f":"IF(DMA1=1,\"Maanantai\",IF(DMA1=2,\"Tiistai\",IF(DMA1=3,\"Keskiviikko\",IF(DMA1=4,\"Torstai\",IF(DMA1=5,\"Perjantai\",IF(DMA1=6,\"Lauantai\",IF(DMA1=7,\"Sunnuntai\",\"\")))))))","v":"Keskiviikko"},null,null,null,null,null,"jako",null,"yht",{"$f":"WEEKDAY(DML2,2)","v":4},{"$f":"IF(DMK1=1,\"Maanantai\",IF(DMK1=2,\"Tiistai\",IF(DMK1=3,\"Keskiviikko\",IF(DMK1=4,\"Torstai\",IF(DMK1=5,\"Perjantai\",IF(DMK1=6,\"Lauantai\",IF(DMK1=7,\"Sunnuntai\",\"\")))))))","v":"Torstai"},null,null,null,null,null,"jako",null,"yht",{"$f":"WEEKDAY(DMV2,2)","v":5},{"$f":"IF(DMU1=1,\"Maanantai\",IF(DMU1=2,\"Tiistai\",IF(DMU1=3,\"Keskiviikko\",IF(DMU1=4,\"Torstai\",IF(DMU1=5,\"Perjantai\",IF(DMU1=6,\"Lauantai\",IF(DMU1=7,\"Sunnuntai\",\"\")))))))","v":"Perjantai"},null,null,null,null,null,"jako",null,"yht",{"$f":"WEEKDAY(DNF2,2)","v":6},{"$f":"IF(DNE1=1,\"Maanantai\",IF(DNE1=2,\"Tiistai\",IF(DNE1=3,\"Keskiviikko\",IF(DNE1=4,\"Torstai\",IF(DNE1=5,\"Perjantai\",IF(DNE1=6,\"Lauantai\",IF(DNE1=7,\"Sunnuntai\",\"\")))))))","v":"Lauantai"},null,null,null,null,null,"jako",null,"yht",{"$f":"WEEKDAY(DNP2,2)","v":7},{"$f":"IF(DNO1=1,\"Maanantai\",IF(DNO1=2,\"Tiistai\",IF(DNO1=3,\"Keskiviikko\",IF(DNO1=4,\"Torstai\",IF(DNO1=5,\"Perjantai\",IF(DNO1=6,\"Lauantai\",IF(DNO1=7,\"Sunnuntai\",\"\")))))))","v":"Sunnuntai"},null,null,null,null,null,"jako",null,"yht",{"$f":"WEEKDAY(DNZ2,2)","v":1},{"$f":"IF(DNY1=1,\"Maanantai\",IF(DNY1=2,\"Tiistai\",IF(DNY1=3,\"Keskiviikko\",IF(DNY1=4,\"Torstai\",IF(DNY1=5,\"Perjantai\",IF(DNY1=6,\"Lauantai\",IF(DNY1=7,\"Sunnuntai\",\"\")))))))","v":"Maanantai"},null,null,null,null,null,"jako",null,"yht",{"$f":"WEEKDAY(DOJ2,2)","v":2},{"$f":"IF(DOI1=1,\"Maanantai\",IF(DOI1=2,\"Tiistai\",IF(DOI1=3,\"Keskiviikko\",IF(DOI1=4,\"Torstai\",IF(DOI1=5,\"Perjantai\",IF(DOI1=6,\"Lauantai\",IF(DOI1=7,\"Sunnuntai\",\"\")))))))","v":"Tiistai"},null,null,null,null,null,"jako",null,"yht",{"$f":"WEEKDAY(DOT2,2)","v":3},{"$f":"IF(DOS1=1,\"Maanantai\",IF(DOS1=2,\"Tiistai\",IF(DOS1=3,\"Keskiviikko\",IF(DOS1=4,\"Torstai\",IF(DOS1=5,\"Perjantai\",IF(DOS1=6,\"Lauantai\",IF(DOS1=7,\"Sunnuntai\",\"\")))))))","v":"Keskiviikko"},null,null,null,null,null,"jako",null,"yht",{"$f":"WEEKDAY(DPD2,2)","v":4},{"$f":"IF(DPC1=1,\"Maanantai\",IF(DPC1=2,\"Tiistai\",IF(DPC1=3,\"Keskiviikko\",IF(DPC1=4,\"Torstai\",IF(DPC1=5,\"Perjantai\",IF(DPC1=6,\"Lauantai\",IF(DPC1=7,\"Sunnuntai\",\"\")))))))","v":"Torstai"},null,null,null,null,null,"jako",null,"yht",{"$f":"WEEKDAY(DPN2,2)","v":5},{"$f":"IF(DPM1=1,\"Maanantai\",IF(DPM1=2,\"Tiistai\",IF(DPM1=3,\"Keskiviikko\",IF(DPM1=4,\"Torstai\",IF(DPM1=5,\"Perjantai\",IF(DPM1=6,\"Lauantai\",IF(DPM1=7,\"Sunnuntai\",\"\")))))))","v":"Perjantai"},null,null,null,null,null,"jako",null,"yht",{"$f":"WEEKDAY(DPX2,2)","v":6},{"$f":"IF(DPW1=1,\"Maanantai\",IF(DPW1=2,\"Tiistai\",IF(DPW1=3,\"Keskiviikko\",IF(DPW1=4,\"Torstai\",IF(DPW1=5,\"Perjantai\",IF(DPW1=6,\"Lauantai\",IF(DPW1=7,\"Sunnuntai\",\"\")))))))","v":"Lauantai"},null,null,null,null,null,"jako",null,"yht",{"$f":"WEEKDAY(DQH2,2)","v":7},{"$f":"IF(DQG1=1,\"Maanantai\",IF(DQG1=2,\"Tiistai\",IF(DQG1=3,\"Keskiviikko\",IF(DQG1=4,\"Torstai\",IF(DQG1=5,\"Perjantai\",IF(DQG1=6,\"Lauantai\",IF(DQG1=7,\"Sunnuntai\",\"\")))))))","v":"Sunnuntai"},null,null,null,null,null,"jako",null,"yht",{"$f":"WEEKDAY(DQR2,2)","v":1},{"$f":"IF(DQQ1=1,\"Maanantai\",IF(DQQ1=2,\"Tiistai\",IF(DQQ1=3,\"Keskiviikko\",IF(DQQ1=4,\"Torstai\",IF(DQQ1=5,\"Perjantai\",IF(DQQ1=6,\"Lauantai\",IF(DQQ1=7,\"Sunnuntai\",\"\")))))))","v":"Maanantai"},null,null,null,null,null,"jako",null,"yht",{"$f":"WEEKDAY(DRB2,2)","v":2},{"$f":"IF(DRA1=1,\"Maanantai\",IF(DRA1=2,\"Tiistai\",IF(DRA1=3,\"Keskiviikko\",IF(DRA1=4,\"Torstai\",IF(DRA1=5,\"Perjantai\",IF(DRA1=6,\"Lauantai\",IF(DRA1=7,\"Sunnuntai\",\"\")))))))","v":"Tiistai"},null,null,null,null,null,"jako",null,"yht",{"$f":"WEEKDAY(DRL2,2)","v":3},{"$f":"IF(DRK1=1,\"Maanantai\",IF(DRK1=2,\"Tiistai\",IF(DRK1=3,\"Keskiviikko\",IF(DRK1=4,\"Torstai\",IF(DRK1=5,\"Perjantai\",IF(DRK1=6,\"Lauantai\",IF(DRK1=7,\"Sunnuntai\",\"\")))))))","v":"Keskiviikko"},null,null,null,null,null,"jako",null,"yht",{"$f":"WEEKDAY(DRV2,2)","v":4},{"$f":"IF(DRU1=1,\"Maanantai\",IF(DRU1=2,\"Tiistai\",IF(DRU1=3,\"Keskiviikko\",IF(DRU1=4,\"Torstai\",IF(DRU1=5,\"Perjantai\",IF(DRU1=6,\"Lauantai\",IF(DRU1=7,\"Sunnuntai\",\"\")))))))","v":"Torstai"},null,null,null,null,null,"jako",null,"yht",{"$f":"WEEKDAY(DSF2,2)","v":5},{"$f":"IF(DSE1=1,\"Maanantai\",IF(DSE1=2,\"Tiistai\",IF(DSE1=3,\"Keskiviikko\",IF(DSE1=4,\"Torstai\",IF(DSE1=5,\"Perjantai\",IF(DSE1=6,\"Lauantai\",IF(DSE1=7,\"Sunnuntai\",\"\")))))))","v":"Perjantai"},null,null,null,null,null,"jako",null,"yht",{"$f":"WEEKDAY(DSP2,2)","v":6},{"$f":"IF(DSO1=1,\"Maanantai\",IF(DSO1=2,\"Tiistai\",IF(DSO1=3,\"Keskiviikko\",IF(DSO1=4,\"Torstai\",IF(DSO1=5,\"Perjantai\",IF(DSO1=6,\"Lauantai\",IF(DSO1=7,\"Sunnuntai\",\"\")))))))","v":"Lauantai"},null,null,null,null,null,"jako",null,"yht",{"$f":"WEEKDAY(DSZ2,2)","v":7},{"$f":"IF(DSY1=1,\"Maanantai\",IF(DSY1=2,\"Tiistai\",IF(DSY1=3,\"Keskiviikko\",IF(DSY1=4,\"Torstai\",IF(DSY1=5,\"Perjantai\",IF(DSY1=6,\"Lauantai\",IF(DSY1=7,\"Sunnuntai\",\"\")))))))","v":"Sunnuntai"},null,null,null,null,null,"jako",null,"yht",{"$f":"WEEKDAY(DTJ2,2)","v":1},{"$f":"IF(DTI1=1,\"Maanantai\",IF(DTI1=2,\"Tiistai\",IF(DTI1=3,\"Keskiviikko\",IF(DTI1=4,\"Torstai\",IF(DTI1=5,\"Perjantai\",IF(DTI1=6,\"Lauantai\",IF(DTI1=7,\"Sunnuntai\",\"\")))))))","v":"Maanantai"},null,null,null,null,null,"jako",null,"yht",{"$f":"WEEKDAY(DTT2,2)","v":2},{"$f":"IF(DTS1=1,\"Maanantai\",IF(DTS1=2,\"Tiistai\",IF(DTS1=3,\"Keskiviikko\",IF(DTS1=4,\"Torstai\",IF(DTS1=5,\"Perjantai\",IF(DTS1=6,\"Lauantai\",IF(DTS1=7,\"Sunnuntai\",\"\")))))))","v":"Tiistai"},null,null,null,null,null,"jako",null,"yht",{"$f":"WEEKDAY(DUD2,2)","v":3},{"$f":"IF(DUC1=1,\"Maanantai\",IF(DUC1=2,\"Tiistai\",IF(DUC1=3,\"Keskiviikko\",IF(DUC1=4,\"Torstai\",IF(DUC1=5,\"Perjantai\",IF(DUC1=6,\"Lauantai\",IF(DUC1=7,\"Sunnuntai\",\"\")))))))","v":"Keskiviikko"},null,null,null,null,null,"jako",null,"yht",{"$f":"WEEKDAY(DUN2,2)","v":4},{"$f":"IF(DUM1=1,\"Maanantai\",IF(DUM1=2,\"Tiistai\",IF(DUM1=3,\"Keskiviikko\",IF(DUM1=4,\"Torstai\",IF(DUM1=5,\"Perjantai\",IF(DUM1=6,\"Lauantai\",IF(DUM1=7,\"Sunnuntai\",\"\")))))))","v":"Torstai"},null,null,null,null,null,"jako",null,"yht",{"$f":"WEEKDAY(DUX2,2)","v":5},{"$f":"IF(DUW1=1,\"Maanantai\",IF(DUW1=2,\"Tiistai\",IF(DUW1=3,\"Keskiviikko\",IF(DUW1=4,\"Torstai\",IF(DUW1=5,\"Perjantai\",IF(DUW1=6,\"Lauantai\",IF(DUW1=7,\"Sunnuntai\",\"\")))))))","v":"Perjantai"},null,null,null,null,null,"jako",null,"yht",{"$f":"WEEKDAY(DVH2,2)","v":6},{"$f":"IF(DVG1=1,\"Maanantai\",IF(DVG1=2,\"Tiistai\",IF(DVG1=3,\"Keskiviikko\",IF(DVG1=4,\"Torstai\",IF(DVG1=5,\"Perjantai\",IF(DVG1=6,\"Lauantai\",IF(DVG1=7,\"Sunnuntai\",\"\")))))))","v":"Lauantai"},null,null,null,null,null,"jako",null,"yht",{"$f":"WEEKDAY(DVR2,2)","v":7},{"$f":"IF(DVQ1=1,\"Maanantai\",IF(DVQ1=2,\"Tiistai\",IF(DVQ1=3,\"Keskiviikko\",IF(DVQ1=4,\"Torstai\",IF(DVQ1=5,\"Perjantai\",IF(DVQ1=6,\"Lauantai\",IF(DVQ1=7,\"Sunnuntai\",\"\")))))))","v":"Sunnuntai"},null,null,null,null,null,"jako",null,"yht",{"$f":"WEEKDAY(DWB2,2)","v":1},{"$f":"IF(DWA1=1,\"Maanantai\",IF(DWA1=2,\"Tiistai\",IF(DWA1=3,\"Keskiviikko\",IF(DWA1=4,\"Torstai\",IF(DWA1=5,\"Perjantai\",IF(DWA1=6,\"Lauantai\",IF(DWA1=7,\"Sunnuntai\",\"\")))))))","v":"Maanantai"},null,null,null,null,null,"jako",null,"yht",{"$f":"WEEKDAY(DWL2,2)","v":2},{"$f":"IF(DWK1=1,\"Maanantai\",IF(DWK1=2,\"Tiistai\",IF(DWK1=3,\"Keskiviikko\",IF(DWK1=4,\"Torstai\",IF(DWK1=5,\"Perjantai\",IF(DWK1=6,\"Lauantai\",IF(DWK1=7,\"Sunnuntai\",\"\")))))))","v":"Tiistai"},null,null,null,null,null,"jako",null,"yht",{"$f":"WEEKDAY(DWV2,2)","v":3},{"$f":"IF(DWU1=1,\"Maanantai\",IF(DWU1=2,\"Tiistai\",IF(DWU1=3,\"Keskiviikko\",IF(DWU1=4,\"Torstai\",IF(DWU1=5,\"Perjantai\",IF(DWU1=6,\"Lauantai\",IF(DWU1=7,\"Sunnuntai\",\"\")))))))","v":"Keskiviikko"},null,null,null,null,null,"jako",null,"yht",{"$f":"WEEKDAY(DXF2,2)","v":4},{"$f":"IF(DXE1=1,\"Maanantai\",IF(DXE1=2,\"Tiistai\",IF(DXE1=3,\"Keskiviikko\",IF(DXE1=4,\"Torstai\",IF(DXE1=5,\"Perjantai\",IF(DXE1=6,\"Lauantai\",IF(DXE1=7,\"Sunnuntai\",\"\")))))))","v":"Torstai"},null,null,null,null,null,"jako",null,"yht",{"$f":"WEEKDAY(DXP2,2)","v":5},{"$f":"IF(DXO1=1,\"Maanantai\",IF(DXO1=2,\"Tiistai\",IF(DXO1=3,\"Keskiviikko\",IF(DXO1=4,\"Torstai\",IF(DXO1=5,\"Perjantai\",IF(DXO1=6,\"Lauantai\",IF(DXO1=7,\"Sunnuntai\",\"\")))))))","v":"Perjantai"},null,null,null,null,null,"jako",null,"yht",{"$f":"WEEKDAY(DXZ2,2)","v":6},{"$f":"IF(DXY1=1,\"Maanantai\",IF(DXY1=2,\"Tiistai\",IF(DXY1=3,\"Keskiviikko\",IF(DXY1=4,\"Torstai\",IF(DXY1=5,\"Perjantai\",IF(DXY1=6,\"Lauantai\",IF(DXY1=7,\"Sunnuntai\",\"\")))))))","v":"Lauantai"},null,null,null,null,null,"jako",null,"yht",{"$f":"WEEKDAY(DYJ2,2)","v":7},{"$f":"IF(DYI1=1,\"Maanantai\",IF(DYI1=2,\"Tiistai\",IF(DYI1=3,\"Keskiviikko\",IF(DYI1=4,\"Torstai\",IF(DYI1=5,\"Perjantai\",IF(DYI1=6,\"Lauantai\",IF(DYI1=7,\"Sunnuntai\",\"\")))))))","v":"Sunnuntai"},null,null,null,null,null,"jako",null,"yht",{"$f":"WEEKDAY(DYT2,2)","v":1},{"$f":"IF(DYS1=1,\"Maanantai\",IF(DYS1=2,\"Tiistai\",IF(DYS1=3,\"Keskiviikko\",IF(DYS1=4,\"Torstai\",IF(DYS1=5,\"Perjantai\",IF(DYS1=6,\"Lauantai\",IF(DYS1=7,\"Sunnuntai\",\"\")))))))","v":"Maanantai"},null,null,null,null,null,"jako",null,"yht",{"$f":"WEEKDAY(DZD2,2)","v":2},{"$f":"IF(DZC1=1,\"Maanantai\",IF(DZC1=2,\"Tiistai\",IF(DZC1=3,\"Keskiviikko\",IF(DZC1=4,\"Torstai\",IF(DZC1=5,\"Perjantai\",IF(DZC1=6,\"Lauantai\",IF(DZC1=7,\"Sunnuntai\",\"\")))))))","v":"Tiistai"},null,null,null,null,null,"jako",null,"yht",{"$f":"WEEKDAY(DZN2,2)","v":3},{"$f":"IF(DZM1=1,\"Maanantai\",IF(DZM1=2,\"Tiistai\",IF(DZM1=3,\"Keskiviikko\",IF(DZM1=4,\"Torstai\",IF(DZM1=5,\"Perjantai\",IF(DZM1=6,\"Lauantai\",IF(DZM1=7,\"Sunnuntai\",\"\")))))))","v":"Keskiviikko"},null,null,null,null,null,"jako",null,"yht",{"$f":"WEEKDAY(DZX2,2)","v":4},{"$f":"IF(DZW1=1,\"Maanantai\",IF(DZW1=2,\"Tiistai\",IF(DZW1=3,\"Keskiviikko\",IF(DZW1=4,\"Torstai\",IF(DZW1=5,\"Perjantai\",IF(DZW1=6,\"Lauantai\",IF(DZW1=7,\"Sunnuntai\",\"\")))))))","v":"Torstai"},null,null,null,null,null,"jako",null,"yht",{"$f":"WEEKDAY(EAH2,2)","v":5},{"$f":"IF(EAG1=1,\"Maanantai\",IF(EAG1=2,\"Tiistai\",IF(EAG1=3,\"Keskiviikko\",IF(EAG1=4,\"Torstai\",IF(EAG1=5,\"Perjantai\",IF(EAG1=6,\"Lauantai\",IF(EAG1=7,\"Sunnuntai\",\"\")))))))","v":"Perjantai"},null,null,null,null,null,"jako",null,"yht",{"$f":"WEEKDAY(EAR2,2)","v":6},{"$f":"IF(EAQ1=1,\"Maanantai\",IF(EAQ1=2,\"Tiistai\",IF(EAQ1=3,\"Keskiviikko\",IF(EAQ1=4,\"Torstai\",IF(EAQ1=5,\"Perjantai\",IF(EAQ1=6,\"Lauantai\",IF(EAQ1=7,\"Sunnuntai\",\"\")))))))","v":"Lauantai"},null,null,null,null,null,"jako",null,"yht",{"$f":"WEEKDAY(EBB2,2)","v":7},{"$f":"IF(EBA1=1,\"Maanantai\",IF(EBA1=2,\"Tiistai\",IF(EBA1=3,\"Keskiviikko\",IF(EBA1=4,\"Torstai\",IF(EBA1=5,\"Perjantai\",IF(EBA1=6,\"Lauantai\",IF(EBA1=7,\"Sunnuntai\",\"\")))))))","v":"Sunnuntai"},null,null,null,null,null,"jako",null,"yht",{"$f":"WEEKDAY(EBL2,2)","v":1},{"$f":"IF(EBK1=1,\"Maanantai\",IF(EBK1=2,\"Tiistai\",IF(EBK1=3,\"Keskiviikko\",IF(EBK1=4,\"Torstai\",IF(EBK1=5,\"Perjantai\",IF(EBK1=6,\"Lauantai\",IF(EBK1=7,\"Sunnuntai\",\"\")))))))","v":"Maanantai"},null,null,null,null,null,"jako",null,"yht",{"$f":"WEEKDAY(EBV2,2)","v":2},{"$f":"IF(EBU1=1,\"Maanantai\",IF(EBU1=2,\"Tiistai\",IF(EBU1=3,\"Keskiviikko\",IF(EBU1=4,\"Torstai\",IF(EBU1=5,\"Perjantai\",IF(EBU1=6,\"Lauantai\",IF(EBU1=7,\"Sunnuntai\",\"\")))))))","v":"Tiistai"},null,null,null,null,null,"jako",null,"yht",{"$f":"WEEKDAY(ECF2,2)","v":3},{"$f":"IF(ECE1=1,\"Maanantai\",IF(ECE1=2,\"Tiistai\",IF(ECE1=3,\"Keskiviikko\",IF(ECE1=4,\"Torstai\",IF(ECE1=5,\"Perjantai\",IF(ECE1=6,\"Lauantai\",IF(ECE1=7,\"Sunnuntai\",\"\")))))))","v":"Keskiviikko"},null,null,null,null,null,"jako",null,"yht",{"$f":"WEEKDAY(ECP2,2)","v":4},{"$f":"IF(ECO1=1,\"Maanantai\",IF(ECO1=2,\"Tiistai\",IF(ECO1=3,\"Keskiviikko\",IF(ECO1=4,\"Torstai\",IF(ECO1=5,\"Perjantai\",IF(ECO1=6,\"Lauantai\",IF(ECO1=7,\"Sunnuntai\",\"\")))))))","v":"Torstai"},null,null,null,null,null,"jako",null,"yht",{"$f":"WEEKDAY(ECZ2,2)","v":5},{"$f":"IF(ECY1=1,\"Maanantai\",IF(ECY1=2,\"Tiistai\",IF(ECY1=3,\"Keskiviikko\",IF(ECY1=4,\"Torstai\",IF(ECY1=5,\"Perjantai\",IF(ECY1=6,\"Lauantai\",IF(ECY1=7,\"Sunnuntai\",\"\")))))))","v":"Perjantai"},null,null,null,null,null,"jako",null,"yht",{"$f":"WEEKDAY(EDJ2,2)","v":6},{"$f":"IF(EDI1=1,\"Maanantai\",IF(EDI1=2,\"Tiistai\",IF(EDI1=3,\"Keskiviikko\",IF(EDI1=4,\"Torstai\",IF(EDI1=5,\"Perjantai\",IF(EDI1=6,\"Lauantai\",IF(EDI1=7,\"Sunnuntai\",\"\")))))))","v":"Lauantai"},null,null,null,null,null,"jako",null,"yht",{"$f":"WEEKDAY(EDT2,2)","v":7},{"$f":"IF(EDS1=1,\"Maanantai\",IF(EDS1=2,\"Tiistai\",IF(EDS1=3,\"Keskiviikko\",IF(EDS1=4,\"Torstai\",IF(EDS1=5,\"Perjantai\",IF(EDS1=6,\"Lauantai\",IF(EDS1=7,\"Sunnuntai\",\"\")))))))","v":"Sunnuntai"},null,null,null,null,null,"jako",null,"yht",{"$f":"WEEKDAY(EED2,2)","v":1},{"$f":"IF(EEC1=1,\"Maanantai\",IF(EEC1=2,\"Tiistai\",IF(EEC1=3,\"Keskiviikko\",IF(EEC1=4,\"Torstai\",IF(EEC1=5,\"Perjantai\",IF(EEC1=6,\"Lauantai\",IF(EEC1=7,\"Sunnuntai\",\"\")))))))","v":"Maanantai"},null,null,null,null,null,"jako",null,"yht",{"$f":"WEEKDAY(EEN2,2)","v":2},{"$f":"IF(EEM1=1,\"Maanantai\",IF(EEM1=2,\"Tiistai\",IF(EEM1=3,\"Keskiviikko\",IF(EEM1=4,\"Torstai\",IF(EEM1=5,\"Perjantai\",IF(EEM1=6,\"Lauantai\",IF(EEM1=7,\"Sunnuntai\",\"\")))))))","v":"Tiistai"},null,null,null,null,null,"jako",null,"yht",{"$f":"WEEKDAY(EEX2,2)","v":3},{"$f":"IF(EEW1=1,\"Maanantai\",IF(EEW1=2,\"Tiistai\",IF(EEW1=3,\"Keskiviikko\",IF(EEW1=4,\"Torstai\",IF(EEW1=5,\"Perjantai\",IF(EEW1=6,\"Lauantai\",IF(EEW1=7,\"Sunnuntai\",\"\")))))))","v":"Keskiviikko"},null,null,null,null,null,"jako",null,"yht",{"$f":"WEEKDAY(EFH2,2)","v":4},{"$f":"IF(EFG1=1,\"Maanantai\",IF(EFG1=2,\"Tiistai\",IF(EFG1=3,\"Keskiviikko\",IF(EFG1=4,\"Torstai\",IF(EFG1=5,\"Perjantai\",IF(EFG1=6,\"Lauantai\",IF(EFG1=7,\"Sunnuntai\",\"\")))))))","v":"Torstai"},null,null,null,null,null,"jako",null,"yht",{"$f":"WEEKDAY(EFR2,2)","v":5},{"$f":"IF(EFQ1=1,\"Maanantai\",IF(EFQ1=2,\"Tiistai\",IF(EFQ1=3,\"Keskiviikko\",IF(EFQ1=4,\"Torstai\",IF(EFQ1=5,\"Perjantai\",IF(EFQ1=6,\"Lauantai\",IF(EFQ1=7,\"Sunnuntai\",\"\")))))))","v":"Perjantai"},null,null,null,null,null,"jako",null,"yht",{"$f":"WEEKDAY(EGB2,2)","v":6},{"$f":"IF(EGA1=1,\"Maanantai\",IF(EGA1=2,\"Tiistai\",IF(EGA1=3,\"Keskiviikko\",IF(EGA1=4,\"Torstai\",IF(EGA1=5,\"Perjantai\",IF(EGA1=6,\"Lauantai\",IF(EGA1=7,\"Sunnuntai\",\"\")))))))","v":"Lauantai"},null,null,null,null,null,"jako",null,"yht",{"$f":"WEEKDAY(EGL2,2)","v":7},{"$f":"IF(EGK1=1,\"Maanantai\",IF(EGK1=2,\"Tiistai\",IF(EGK1=3,\"Keskiviikko\",IF(EGK1=4,\"Torstai\",IF(EGK1=5,\"Perjantai\",IF(EGK1=6,\"Lauantai\",IF(EGK1=7,\"Sunnuntai\",\"\")))))))","v":"Sunnuntai"},null,null,null,null,null,"jako",null,"yht",{"$f":"WEEKDAY(EGV2,2)","v":1},{"$f":"IF(EGU1=1,\"Maanantai\",IF(EGU1=2,\"Tiistai\",IF(EGU1=3,\"Keskiviikko\",IF(EGU1=4,\"Torstai\",IF(EGU1=5,\"Perjantai\",IF(EGU1=6,\"Lauantai\",IF(EGU1=7,\"Sunnuntai\",\"\")))))))","v":"Maanantai"},null,null,null,null,null,"jako",null,"yht",{"$f":"WEEKDAY(EHF2,2)","v":2},{"$f":"IF(EHE1=1,\"Maanantai\",IF(EHE1=2,\"Tiistai\",IF(EHE1=3,\"Keskiviikko\",IF(EHE1=4,\"Torstai\",IF(EHE1=5,\"Perjantai\",IF(EHE1=6,\"Lauantai\",IF(EHE1=7,\"Sunnuntai\",\"\")))))))","v":"Tiistai"},null,null,null,null,null,"jako",null,"yht",{"$f":"WEEKDAY(EHP2,2)","v":3},{"$f":"IF(EHO1=1,\"Maanantai\",IF(EHO1=2,\"Tiistai\",IF(EHO1=3,\"Keskiviikko\",IF(EHO1=4,\"Torstai\",IF(EHO1=5,\"Perjantai\",IF(EHO1=6,\"Lauantai\",IF(EHO1=7,\"Sunnuntai\",\"\")))))))","v":"Keskiviikko"},null,null,null,null,null,"jako",null,"yht",{"$f":"WEEKDAY(EHZ2,2)","v":4},{"$f":"IF(EHY1=1,\"Maanantai\",IF(EHY1=2,\"Tiistai\",IF(EHY1=3,\"Keskiviikko\",IF(EHY1=4,\"Torstai\",IF(EHY1=5,\"Perjantai\",IF(EHY1=6,\"Lauantai\",IF(EHY1=7,\"Sunnuntai\",\"\")))))))","v":"Torstai"},null,null,null,null,null,"jako",null,"yht",{"$f":"WEEKDAY(EIJ2,2)","v":5},{"$f":"IF(EII1=1,\"Maanantai\",IF(EII1=2,\"Tiistai\",IF(EII1=3,\"Keskiviikko\",IF(EII1=4,\"Torstai\",IF(EII1=5,\"Perjantai\",IF(EII1=6,\"Lauantai\",IF(EII1=7,\"Sunnuntai\",\"\")))))))","v":"Perjantai"},null,null,null,null,null,"jako",null,"yht",{"$f":"WEEKDAY(EIT2,2)","v":6},{"$f":"IF(EIS1=1,\"Maanantai\",IF(EIS1=2,\"Tiistai\",IF(EIS1=3,\"Keskiviikko\",IF(EIS1=4,\"Torstai\",IF(EIS1=5,\"Perjantai\",IF(EIS1=6,\"Lauantai\",IF(EIS1=7,\"Sunnuntai\",\"\")))))))","v":"Lauantai"},null,null,null,null,null,"jako",null,"yht",{"$f":"WEEKDAY(EJD2,2)","v":7},{"$f":"IF(EJC1=1,\"Maanantai\",IF(EJC1=2,\"Tiistai\",IF(EJC1=3,\"Keskiviikko\",IF(EJC1=4,\"Torstai\",IF(EJC1=5,\"Perjantai\",IF(EJC1=6,\"Lauantai\",IF(EJC1=7,\"Sunnuntai\",\"\")))))))","v":"Sunnuntai"},null,null,null,null,null,"jako",null,"yht",{"$f":"WEEKDAY(EJN2,2)","v":1},{"$f":"IF(EJM1=1,\"Maanantai\",IF(EJM1=2,\"Tiistai\",IF(EJM1=3,\"Keskiviikko\",IF(EJM1=4,\"Torstai\",IF(EJM1=5,\"Perjantai\",IF(EJM1=6,\"Lauantai\",IF(EJM1=7,\"Sunnuntai\",\"\")))))))","v":"Maanantai"},null,null,null,null,null,"jako",null,"yht",{"$f":"WEEKDAY(EJX2,2)","v":2},{"$f":"IF(EJW1=1,\"Maanantai\",IF(EJW1=2,\"Tiistai\",IF(EJW1=3,\"Keskiviikko\",IF(EJW1=4,\"Torstai\",IF(EJW1=5,\"Perjantai\",IF(EJW1=6,\"Lauantai\",IF(EJW1=7,\"Sunnuntai\",\"\")))))))","v":"Tiistai"},null,null,null,null,null,null,null,null,{"$f":"WEEKDAY(EKH2,2)","v":3},{"$f":"IF(EKG1=1,\"Maanantai\",IF(EKG1=2,\"Tiistai\",IF(EKG1=3,\"Keskiviikko\",IF(EKG1=4,\"Torstai\",IF(EKG1=5,\"Perjantai\",IF(EKG1=6,\"Lauantai\",IF(EKG1=7,\"Sunnuntai\",\"\")))))))","v":"Keskiviikko"},null,null,null,null,null,null,null,null,{"$f":"WEEKDAY(EKR2,2)","v":4},{"$f":"IF(EKQ1=1,\"Maanantai\",IF(EKQ1=2,\"Tiistai\",IF(EKQ1=3,\"Keskiviikko\",IF(EKQ1=4,\"Torstai\",IF(EKQ1=5,\"Perjantai\",IF(EKQ1=6,\"Lauantai\",IF(EKQ1=7,\"Sunnuntai\",\"\")))))))","v":"Torstai"}]
[null,null,null,null,null,null,null,null,null,null,null,null,null,{"$f":"N1-1","v":"2018-12-31"},"ed.v.viim",null,null,null,null,{"$f":"SUM(R14:R30)+SUM(T14:T30)+SUM(V14:V30)","v":"00:00:00"},null,{"$f":"IF(SUM(V4:V6)-V7<0,0,SUM(V4:V6)-V7)","v":"00:00:00"},"h",{"$f":"N2+1","v":"2019-01-01"},null,null,null,null,null,{"$f":"SUM(AB14:AB30)+SUM(AD14:AD30)+SUM(AF14:AF30)","v":"00:00:00"},null,{"$f":"IF(SUM(AF4:AF6)-AF7<0,0,SUM(AF4:AF6)-AF7)","v":"00:00:00"},null,{"$f":"X2+1","v":"2019-01-02"},null,null,null,null,null,{"$f":"SUM(AL14:AL30)+SUM(AN14:AN30)+SUM(AP14:AP30)","v":"00:00:00"},null,{"$f":"IF(SUM(AP4:AP6)-AP7<0,0,SUM(AP4:AP6)-AP7)","v":"00:00:00"},null,{"$f":"AH2+1","v":"2019-01-03"},null,null,null,null,null,{"$f":"SUM(AV14:AV30)+SUM(AX14:AX30)+SUM(AZ14:AZ30)","v":"00:00:00"},null,{"$f":"IF(SUM(AZ4:AZ6)-AZ7<0,0,SUM(AZ4:AZ6)-AZ7)","v":"00:00:00"},null,{"$f":"AR2+1","v":"2019-01-04"},null,null,null,null,null,{"$f":"SUM(BF14:BF30)+SUM(BH14:BH30)+SUM(BJ14:BJ30)","v":"00:00:00"},null,{"$f":"IF(SUM(BJ4:BJ6)-BJ7<0,0,SUM(BJ4:BJ6)-BJ7)","v":"00:00:00"},null,{"$f":"BB2+1","v":"2019-01-05"},null,null,null,null,null,{"$f":"SUM(BP14:BP30)+SUM(BR14:BR30)+SUM(BT14:BT30)","v":"00:00:00"},null,{"$f":"IF(SUM(BT4:BT6)-BT7<0,0,SUM(BT4:BT6)-BT7)","v":"00:00:00"},"h",{"$f":"BL2+1","v":"2019-01-06"},null,null,null,null,null,{"$f":"SUM(BZ14:BZ30)+SUM(CB14:CB30)+SUM(CD14:CD30)","v":"00:00:00"},null,{"$f":"IF(SUM(CD4:CD6)-CD7<0,0,SUM(CD4:CD6)-CD7)","v":"00:00:00"},null,{"$f":"BV2+1","v":"2019-01-07"},null,null,null,null,null,{"$f":"SUM(CJ14:CJ30)+SUM(CL14:CL30)+SUM(CN14:CN30)","v":"00:00:00"},null,{"$f":"IF(SUM(CN4:CN6)-CN7<0,0,SUM(CN4:CN6)-CN7)","v":"00:00:00"},null,{"$f":"CF2+1","v":"2019-01-08"},null,null,null,null,null,{"$f":"SUM(CT14:CT30)+SUM(CV14:CV30)+SUM(CX14:CX30)","v":"00:00:00"},null,{"$f":"IF(SUM(CX4:CX6)-CX7<0,0,SUM(CX4:CX6)-CX7)","v":"00:00:00"},null,{"$f":"CP2+1","v":"2019-01-09"},null,null,null,null,null,{"$f":"SUM(DD14:DD30)+SUM(DF14:DF30)+SUM(DH14:DH30)","v":"00:00:00"},null,{"$f":"IF(SUM(DH4:DH6)-DH7<0,0,SUM(DH4:DH6)-DH7)","v":"00:00:00"},null,{"$f":"CZ2+1","v":"2019-01-10"},null,null,null,null,null,{"$f":"SUM(DN14:DN30)+SUM(DP14:DP30)+SUM(DR14:DR30)","v":"00:00:00"},null,{"$f":"IF(SUM(DR4:DR6)-DR7<0,0,SUM(DR4:DR6)-DR7)","v":"00:00:00"},null,{"$f":"DJ2+1","v":"2019-01-11"},null,null,null,null,null,{"$f":"SUM(DX14:DX30)+SUM(DZ14:DZ30)+SUM(EB14:EB30)","v":"00:00:00"},null,{"$f":"IF(SUM(EB4:EB6)-EB7<0,0,SUM(EB4:EB6)-EB7)","v":"00:00:00"},null,{"$f":"DT2+1","v":"2019-01-12"},null,null,null,null,null,{"$f":"SUM(EH14:EH30)+SUM(EJ14:EJ30)+SUM(EL14:EL30)","v":"00:00:00"},null,{"$f":"IF(SUM(EL4:EL6)-EL7<0,0,SUM(EL4:EL6)-EL7)","v":"00:00:00"},null,{"$f":"ED2+1","v":"2019-01-13"},null,null,null,null,null,{"$f":"SUM(ER14:ER30)+SUM(ET14:ET30)+SUM(EV14:EV30)","v":"00:00:00"},null,{"$f":"IF(SUM(EV4:EV6)-EV7<0,0,SUM(EV4:EV6)-EV7)","v":"00:00:00"},null,{"$f":"EN2+1","v":"2019-01-14"},null,null,null,null,null,{"$f":"SUM(FB14:FB30)+SUM(FD14:FD30)+SUM(FF14:FF30)","v":"00:00:00"},null,{"$f":"IF(SUM(FF4:FF6)-FF7<0,0,SUM(FF4:FF6)-FF7)","v":"00:00:00"},null,{"$f":"EX2+1","v":"2019-01-15"},null,null,null,null,null,{"$f":"SUM(FL14:FL30)+SUM(FN14:FN30)+SUM(FP14:FP30)","v":"00:00:00"},null,{"$f":"IF(SUM(FP4:FP6)-FP7<0,0,SUM(FP4:FP6)-FP7)","v":"00:00:00"},null,{"$f":"FH2+1","v":"2019-01-16"},null,null,null,null,null,{"$f":"SUM(FV14:FV30)+SUM(FX14:FX30)+SUM(FZ14:FZ30)","v":"00:00:00"},null,{"$f":"IF(SUM(FZ4:FZ6)-FZ7<0,0,SUM(FZ4:FZ6)-FZ7)","v":"00:00:00"},null,{"$f":"FR2+1","v":"2019-01-17"},null,null,null,null,null,{"$f":"SUM(GF14:GF30)+SUM(GH14:GH30)+SUM(GJ14:GJ30)","v":"00:00:00"},null,{"$f":"IF(SUM(GJ4:GJ6)-GJ7<0,0,SUM(GJ4:GJ6)-GJ7)","v":"00:00:00"},null,{"$f":"GB2+1","v":"2019-01-18"},null,null,null,null,null,{"$f":"SUM(GP14:GP30)+SUM(GR14:GR30)+SUM(GT14:GT30)","v":"00:00:00"},null,{"$f":"IF(SUM(GT4:GT6)-GT7<0,0,SUM(GT4:GT6)-GT7)","v":"00:00:00"},null,{"$f":"GL2+1","v":"2019-01-19"},null,null,null,null,null,{"$f":"SUM(GZ14:GZ30)+SUM(HB14:HB30)+SUM(HD14:HD30)","v":"00:00:00"},null,{"$f":"IF(SUM(HD4:HD6)-HD7<0,0,SUM(HD4:HD6)-HD7)","v":"00:00:00"},null,{"$f":"GV2+1","v":"2019-01-20"},null,null,null,null,null,{"$f":"SUM(HJ14:HJ30)+SUM(HL14:HL30)+SUM(HN14:HN30)","v":"00:00:00"},null,{"$f":"IF(SUM(HN4:HN6)-HN7<0,0,SUM(HN4:HN6)-HN7)","v":"00:00:00"},null,{"$f":"HF2+1","v":"2019-01-21"},null,null,null,null,null,{"$f":"SUM(HT14:HT30)+SUM(HV14:HV30)+SUM(HX14:HX30)","v":"00:00:00"},null,{"$f":"IF(SUM(HX4:HX6)-HX7<0,0,SUM(HX4:HX6)-HX7)","v":"00:00:00"},null,{"$f":"HP2+1","v":"2019-01-22"},null,null,null,null,null,{"$f":"SUM(ID14:ID30)+SUM(IF14:IF30)+SUM(IH14:IH30)","v":"00:00:00"},null,{"$f":"IF(SUM(IH4:IH6)-IH7<0,0,SUM(IH4:IH6)-IH7)","v":"00:00:00"},null,{"$f":"HZ2+1","v":"2019-01-23"},null,null,null,null,null,{"$f":"SUM(IN14:IN30)+SUM(IP14:IP30)+SUM(IR14:IR30)","v":"00:00:00"},null,{"$f":"IF(SUM(IR4:IR6)-IR7<0,0,SUM(IR4:IR6)-IR7)","v":"00:00:00"},null,{"$f":"IJ2+1","v":"2019-01-24"},null,null,null,null,null,{"$f":"SUM(IX14:IX30)+SUM(IZ14:IZ30)+SUM(JB14:JB30)","v":"00:00:00"},null,{"$f":"IF(SUM(JB4:JB6)-JB7<0,0,SUM(JB4:JB6)-JB7)","v":"00:00:00"},null,{"$f":"IT2+1","v":"2019-01-25"},null,null,null,null,null,{"$f":"SUM(JH14:JH30)+SUM(JJ14:JJ30)+SUM(JL14:JL30)","v":"00:00:00"},null,{"$f":"IF(SUM(JL4:JL6)-JL7<0,0,SUM(JL4:JL6)-JL7)","v":"00:00:00"},null,{"$f":"JD2+1","v":"2019-01-26"},null,null,null,null,null,{"$f":"SUM(JR14:JR30)+SUM(JT14:JT30)+SUM(JV14:JV30)","v":"00:00:00"},null,{"$f":"IF(SUM(JV4:JV6)-JV7<0,0,SUM(JV4:JV6)-JV7)","v":"00:00:00"},null,{"$f":"JN2+1","v":"2019-01-27"},null,null,null,null,null,{"$f":"SUM(KB14:KB30)+SUM(KD14:KD30)+SUM(KF14:KF30)","v":"00:00:00"},null,{"$f":"IF(SUM(KF4:KF6)-KF7<0,0,SUM(KF4:KF6)-KF7)","v":"00:00:00"},null,{"$f":"JX2+1","v":"2019-01-28"},null,null,null,null,null,{"$f":"SUM(KL14:KL30)+SUM(KN14:KN30)+SUM(KP14:KP30)","v":"00:00:00"},null,{"$f":"IF(SUM(KP4:KP6)-KP7<0,0,SUM(KP4:KP6)-KP7)","v":"00:00:00"},null,{"$f":"KH2+1","v":"2019-01-29"},null,null,null,null,null,{"$f":"SUM(KV14:KV30)+SUM(KX14:KX30)+SUM(KZ14:KZ30)","v":"00:00:00"},null,{"$f":"IF(SUM(KZ4:KZ6)-KZ7<0,0,SUM(KZ4:KZ6)-KZ7)","v":"00:00:00"},null,{"$f":"KR2+1","v":"2019-01-30"},null,null,null,null,null,{"$f":"SUM(LF14:LF30)+SUM(LH14:LH30)+SUM(LJ14:LJ30)","v":"00:00:00"},null,{"$f":"IF(SUM(LJ4:LJ6)-LJ7<0,0,SUM(LJ4:LJ6)-LJ7)","v":"00:00:00"},null,{"$f":"LB2+1","v":"2019-01-31"},null,null,null,null,null,{"$f":"SUM(LP14:LP30)+SUM(LR14:LR30)+SUM(LT14:LT30)","v":"00:00:00"},null,{"$f":"IF(SUM(LT4:LT6)-LT7<0,0,SUM(LT4:LT6)-LT7)","v":"00:00:00"},null,{"$f":"LL2+1","v":"2019-02-01"},null,null,null,null,null,{"$f":"SUM(LZ14:LZ30)+SUM(MB14:MB30)+SUM(MD14:MD30)","v":"00:00:00"},null,{"$f":"IF(SUM(MD4:MD6)-MD7<0,0,SUM(MD4:MD6)-MD7)","v":"00:00:00"},null,{"$f":"LV2+1","v":"2019-02-02"},null,null,null,null,null,{"$f":"SUM(MJ14:MJ30)+SUM(ML14:ML30)+SUM(MN14:MN30)","v":"00:00:00"},null,{"$f":"IF(SUM(MN4:MN6)-MN7<0,0,SUM(MN4:MN6)-MN7)","v":"00:00:00"},null,{"$f":"MF2+1","v":"2019-02-03"},null,null,null,null,null,{"$f":"SUM(MT14:MT30)+SUM(MV14:MV30)+SUM(MX14:MX30)","v":"00:00:00"},null,{"$f":"IF(SUM(MX4:MX6)-MX7<0,0,SUM(MX4:MX6)-MX7)","v":"00:00:00"},null,{"$f":"MP2+1","v":"2019-02-04"},null,null,null,null,null,{"$f":"SUM(ND14:ND30)+SUM(NF14:NF30)+SUM(NH14:NH30)","v":"00:00:00"},null,{"$f":"IF(SUM(NH4:NH6)-NH7<0,0,SUM(NH4:NH6)-NH7)","v":"00:00:00"},null,{"$f":"MZ2+1","v":"2019-02-05"},null,null,null,null,null,{"$f":"SUM(NN14:NN30)+SUM(NP14:NP30)+SUM(NR14:NR30)","v":"00:00:00"},null,{"$f":"IF(SUM(NR4:NR6)-NR7<0,0,SUM(NR4:NR6)-NR7)","v":"00:00:00"},null,{"$f":"NJ2+1","v":"2019-02-06"},null,null,null,null,null,{"$f":"SUM(NX14:NX30)+SUM(NZ14:NZ30)+SUM(OB14:OB30)","v":"00:00:00"},null,{"$f":"IF(SUM(OB4:OB6)-OB7<0,0,SUM(OB4:OB6)-OB7)","v":"00:00:00"},null,{"$f":"NT2+1","v":"2019-02-07"},null,null,null,null,null,{"$f":"SUM(OH14:OH30)+SUM(OJ14:OJ30)+SUM(OL14:OL30)","v":"00:00:00"},null,{"$f":"IF(SUM(OL4:OL6)-OL7<0,0,SUM(OL4:OL6)-OL7)","v":"00:00:00"},null,{"$f":"OD2+1","v":"2019-02-08"},null,null,null,null,null,{"$f":"SUM(OR14:OR30)+SUM(OT14:OT30)+SUM(OV14:OV30)","v":"00:00:00"},null,{"$f":"IF(SUM(OV4:OV6)-OV7<0,0,SUM(OV4:OV6)-OV7)","v":"00:00:00"},null,{"$f":"ON2+1","v":"2019-02-09"},null,null,null,null,null,{"$f":"SUM(PB14:PB30)+SUM(PD14:PD30)+SUM(PF14:PF30)","v":"00:00:00"},null,{"$f":"IF(SUM(PF4:PF6)-PF7<0,0,SUM(PF4:PF6)-PF7)","v":"00:00:00"},null,{"$f":"OX2+1","v":"2019-02-10"},null,null,null,null,null,{"$f":"SUM(PL14:PL30)+SUM(PN14:PN30)+SUM(PP14:PP30)","v":"00:00:00"},null,{"$f":"IF(SUM(PP4:PP6)-PP7<0,0,SUM(PP4:PP6)-PP7)","v":"00:00:00"},null,{"$f":"PH2+1","v":"2019-02-11"},null,null,null,null,null,{"$f":"SUM(PV14:PV30)+SUM(PX14:PX30)+SUM(PZ14:PZ30)","v":"00:00:00"},null,{"$f":"IF(SUM(PZ4:PZ6)-PZ7<0,0,SUM(PZ4:PZ6)-PZ7)","v":"00:00:00"},null,{"$f":"PR2+1","v":"2019-02-12"},null,null,null,null,null,{"$f":"SUM(QF14:QF30)+SUM(QH14:QH30)+SUM(QJ14:QJ30)","v":"00:00:00"},null,{"$f":"IF(SUM(QJ4:QJ6)-QJ7<0,0,SUM(QJ4:QJ6)-QJ7)","v":"00:00:00"},null,{"$f":"QB2+1","v":"2019-02-13"},null,null,null,null,null,{"$f":"SUM(QP14:QP30)+SUM(QR14:QR30)+SUM(QT14:QT30)","v":"00:00:00"},null,{"$f":"IF(SUM(QT4:QT6)-QT7<0,0,SUM(QT4:QT6)-QT7)","v":"00:00:00"},null,{"$f":"QL2+1","v":"2019-02-14"},null,null,null,null,null,{"$f":"SUM(QZ14:QZ30)+SUM(RB14:RB30)+SUM(RD14:RD30)","v":"00:00:00"},null,{"$f":"IF(SUM(RD4:RD6)-RD7<0,0,SUM(RD4:RD6)-RD7)","v":"00:00:00"},null,{"$f":"QV2+1","v":"2019-02-15"},null,null,null,null,null,{"$f":"SUM(RJ14:RJ30)+SUM(RL14:RL30)+SUM(RN14:RN30)","v":"00:00:00"},null,{"$f":"IF(SUM(RN4:RN6)-RN7<0,0,SUM(RN4:RN6)-RN7)","v":"00:00:00"},null,{"$f":"RF2+1","v":"2019-02-16"},null,null,null,null,null,{"$f":"SUM(RT14:RT30)+SUM(RV14:RV30)+SUM(RX14:RX30)","v":"00:00:00"},null,{"$f":"IF(SUM(RX4:RX6)-RX7<0,0,SUM(RX4:RX6)-RX7)","v":"00:00:00"},null,{"$f":"RP2+1","v":"2019-02-17"},null,null,null,null,null,{"$f":"SUM(SD14:SD30)+SUM(SF14:SF30)+SUM(SH14:SH30)","v":"00:00:00"},null,{"$f":"IF(SUM(SH4:SH6)-SH7<0,0,SUM(SH4:SH6)-SH7)","v":"00:00:00"},null,{"$f":"RZ2+1","v":"2019-02-18"},null,null,null,null,null,{"$f":"SUM(SN14:SN30)+SUM(SP14:SP30)+SUM(SR14:SR30)","v":"00:00:00"},null,{"$f":"IF(SUM(SR4:SR6)-SR7<0,0,SUM(SR4:SR6)-SR7)","v":"00:00:00"},null,{"$f":"SJ2+1","v":"2019-02-19"},null,null,null,null,null,{"$f":"SUM(SX14:SX30)+SUM(SZ14:SZ30)+SUM(TB14:TB30)","v":"00:00:00"},null,{"$f":"IF(SUM(TB4:TB6)-TB7<0,0,SUM(TB4:TB6)-TB7)","v":"00:00:00"},null,{"$f":"ST2+1","v":"2019-02-20"},null,null,null,null,null,{"$f":"SUM(TH14:TH30)+SUM(TJ14:TJ30)+SUM(TL14:TL30)","v":"00:00:00"},null,{"$f":"IF(SUM(TL4:TL6)-TL7<0,0,SUM(TL4:TL6)-TL7)","v":"00:00:00"},null,{"$f":"TD2+1","v":"2019-02-21"},null,null,null,null,null,{"$f":"SUM(TR14:TR30)+SUM(TT14:TT30)+SUM(TV14:TV30)","v":"00:00:00"},null,{"$f":"IF(SUM(TV4:TV6)-TV7<0,0,SUM(TV4:TV6)-TV7)","v":"00:00:00"},null,{"$f":"TN2+1","v":"2019-02-22"},null,null,null,null,null,{"$f":"SUM(UB14:UB30)+SUM(UD14:UD30)+SUM(UF14:UF30)","v":"00:00:00"},null,{"$f":"IF(SUM(UF4:UF6)-UF7<0,0,SUM(UF4:UF6)-UF7)","v":"00:00:00"},null,{"$f":"TX2+1","v":"2019-02-23"},null,null,null,null,null,{"$f":"SUM(UL14:UL30)+SUM(UN14:UN30)+SUM(UP14:UP30)","v":"00:00:00"},null,{"$f":"IF(SUM(UP4:UP6)-UP7<0,0,SUM(UP4:UP6)-UP7)","v":"00:00:00"},null,{"$f":"UH2+1","v":"2019-02-24"},null,null,null,null,null,{"$f":"SUM(UV14:UV30)+SUM(UX14:UX30)+SUM(UZ14:UZ30)","v":"00:00:00"},null,{"$f":"IF(SUM(UZ4:UZ6)-UZ7<0,0,SUM(UZ4:UZ6)-UZ7)","v":"00:00:00"},null,{"$f":"UR2+1","v":"2019-02-25"},null,null,null,null,null,{"$f":"SUM(VF14:VF30)+SUM(VH14:VH30)+SUM(VJ14:VJ30)","v":"00:00:00"},null,{"$f":"IF(SUM(VJ4:VJ6)-VJ7<0,0,SUM(VJ4:VJ6)-VJ7)","v":"00:00:00"},null,{"$f":"VB2+1","v":"2019-02-26"},null,null,null,null,null,{"$f":"SUM(VP14:VP30)+SUM(VR14:VR30)+SUM(VT14:VT30)","v":"00:00:00"},null,{"$f":"IF(SUM(VT4:VT6)-VT7<0,0,SUM(VT4:VT6)-VT7)","v":"00:00:00"},null,{"$f":"VL2+1","v":"2019-02-27"},null,null,null,null,null,{"$f":"SUM(VZ14:VZ30)+SUM(WB14:WB30)+SUM(WD14:WD30)","v":"00:00:00"},null,{"$f":"IF(SUM(WD4:WD6)-WD7<0,0,SUM(WD4:WD6)-WD7)","v":"00:00:00"},null,{"$f":"VV2+1","v":"2019-02-28"},null,null,null,null,null,{"$f":"SUM(WJ14:WJ30)+SUM(WL14:WL30)+SUM(WN14:WN30)","v":"00:00:00"},null,{"$f":"IF(SUM(WN4:WN6)-WN7<0,0,SUM(WN4:WN6)-WN7)","v":"00:00:00"},null,{"$f":"WF2+1","v":"2019-03-01"},null,null,null,null,null,{"$f":"SUM(WT14:WT30)+SUM(WV14:WV30)+SUM(WX14:WX30)","v":"00:00:00"},null,{"$f":"IF(SUM(WX4:WX6)-WX7<0,0,SUM(WX4:WX6)-WX7)","v":"00:00:00"},null,{"$f":"WP2+1","v":"2019-03-02"},null,null,null,null,null,{"$f":"SUM(XD14:XD30)+SUM(XF14:XF30)+SUM(XH14:XH30)","v":"00:00:00"},null,{"$f":"IF(SUM(XH4:XH6)-XH7<0,0,SUM(XH4:XH6)-XH7)","v":"00:00:00"},null,{"$f":"WZ2+1","v":"2019-03-03"},null,null,null,null,null,{"$f":"SUM(XN14:XN30)+SUM(XP14:XP30)+SUM(XR14:XR30)","v":"00:00:00"},null,{"$f":"IF(SUM(XR4:XR6)-XR7<0,0,SUM(XR4:XR6)-XR7)","v":"00:00:00"},null,{"$f":"XJ2+1","v":"2019-03-04"},null,null,null,null,null,{"$f":"SUM(XX14:XX30)+SUM(XZ14:XZ30)+SUM(YB14:YB30)","v":"00:00:00"},null,{"$f":"IF(SUM(YB4:YB6)-YB7<0,0,SUM(YB4:YB6)-YB7)","v":"00:00:00"},null,{"$f":"XT2+1","v":"2019-03-05"},null,null,null,null,null,{"$f":"SUM(YH14:YH30)+SUM(YJ14:YJ30)+SUM(YL14:YL30)","v":"00:00:00"},null,{"$f":"IF(SUM(YL4:YL6)-YL7<0,0,SUM(YL4:YL6)-YL7)","v":"00:00:00"},null,{"$f":"YD2+1","v":"2019-03-06"},null,null,null,null,null,{"$f":"SUM(YR14:YR30)+SUM(YT14:YT30)+SUM(YV14:YV30)","v":"00:00:00"},null,{"$f":"IF(SUM(YV4:YV6)-YV7<0,0,SUM(YV4:YV6)-YV7)","v":"00:00:00"},null,{"$f":"YN2+1","v":"2019-03-07"},null,null,null,null,null,{"$f":"SUM(ZB14:ZB30)+SUM(ZD14:ZD30)+SUM(ZF14:ZF30)","v":"00:00:00"},null,{"$f":"IF(SUM(ZF4:ZF6)-ZF7<0,0,SUM(ZF4:ZF6)-ZF7)","v":"00:00:00"},null,{"$f":"YX2+1","v":"2019-03-08"},null,null,null,null,null,{"$f":"SUM(ZL14:ZL30)+SUM(ZN14:ZN30)+SUM(ZP14:ZP30)","v":"00:00:00"},null,{"$f":"IF(SUM(ZP4:ZP6)-ZP7<0,0,SUM(ZP4:ZP6)-ZP7)","v":"00:00:00"},null,{"$f":"ZH2+1","v":"2019-03-09"},null,null,null,null,null,{"$f":"SUM(ZV14:ZV30)+SUM(ZX14:ZX30)+SUM(ZZ14:ZZ30)","v":"00:00:00"},null,{"$f":"IF(SUM(ZZ4:ZZ6)-ZZ7<0,0,SUM(ZZ4:ZZ6)-ZZ7)","v":"00:00:00"},null,{"$f":"ZR2+1","v":"2019-03-10"},null,null,null,null,null,{"$f":"SUM(AAF14:AAF30)+SUM(AAH14:AAH30)+SUM(AAJ14:AAJ30)","v":"00:00:00"},null,{"$f":"IF(SUM(AAJ4:AAJ6)-AAJ7<0,0,SUM(AAJ4:AAJ6)-AAJ7)","v":"00:00:00"},null,{"$f":"AAB2+1","v":"2019-03-11"},null,null,null,null,null,{"$f":"SUM(AAP14:AAP30)+SUM(AAR14:AAR30)+SUM(AAT14:AAT30)","v":"00:00:00"},null,{"$f":"IF(SUM(AAT4:AAT6)-AAT7<0,0,SUM(AAT4:AAT6)-AAT7)","v":"00:00:00"},null,{"$f":"AAL2+1","v":"2019-03-12"},null,null,null,null,null,{"$f":"SUM(AAZ14:AAZ30)+SUM(ABB14:ABB30)+SUM(ABD14:ABD30)","v":"00:00:00"},null,{"$f":"IF(SUM(ABD4:ABD6)-ABD7<0,0,SUM(ABD4:ABD6)-ABD7)","v":"00:00:00"},null,{"$f":"AAV2+1","v":"2019-03-13"},null,null,null,null,null,{"$f":"SUM(ABJ14:ABJ30)+SUM(ABL14:ABL30)+SUM(ABN14:ABN30)","v":"00:00:00"},null,{"$f":"IF(SUM(ABN4:ABN6)-ABN7<0,0,SUM(ABN4:ABN6)-ABN7)","v":"00:00:00"},null,{"$f":"ABF2+1","v":"2019-03-14"},null,null,null,null,null,{"$f":"SUM(ABT14:ABT30)+SUM(ABV14:ABV30)+SUM(ABX14:ABX30)","v":"00:00:00"},null,{"$f":"IF(SUM(ABX4:ABX6)-ABX7<0,0,SUM(ABX4:ABX6)-ABX7)","v":"00:00:00"},null,{"$f":"ABP2+1","v":"2019-03-15"},null,null,null,null,null,{"$f":"SUM(ACD14:ACD30)+SUM(ACF14:ACF30)+SUM(ACH14:ACH30)","v":"00:00:00"},null,{"$f":"IF(SUM(ACH4:ACH6)-ACH7<0,0,SUM(ACH4:ACH6)-ACH7)","v":"00:00:00"},null,{"$f":"ABZ2+1","v":"2019-03-16"},null,null,null,null,null,{"$f":"SUM(ACN14:ACN30)+SUM(ACP14:ACP30)+SUM(ACR14:ACR30)","v":"00:00:00"},null,{"$f":"IF(SUM(ACR4:ACR6)-ACR7<0,0,SUM(ACR4:ACR6)-ACR7)","v":"00:00:00"},null,{"$f":"ACJ2+1","v":"2019-03-17"},null,null,null,null,null,{"$f":"SUM(ACX14:ACX30)+SUM(ACZ14:ACZ30)+SUM(ADB14:ADB30)","v":"00:00:00"},null,{"$f":"IF(SUM(ADB4:ADB6)-ADB7<0,0,SUM(ADB4:ADB6)-ADB7)","v":"00:00:00"},null,{"$f":"ACT2+1","v":"2019-03-18"},null,null,null,null,null,{"$f":"SUM(ADH14:ADH30)+SUM(ADJ14:ADJ30)+SUM(ADL14:ADL30)","v":"00:00:00"},null,{"$f":"IF(SUM(ADL4:ADL6)-ADL7<0,0,SUM(ADL4:ADL6)-ADL7)","v":"00:00:00"},null,{"$f":"ADD2+1","v":"2019-03-19"},null,null,null,null,null,{"$f":"SUM(ADR14:ADR30)+SUM(ADT14:ADT30)+SUM(ADV14:ADV30)","v":"00:00:00"},null,{"$f":"IF(SUM(ADV4:ADV6)-ADV7<0,0,SUM(ADV4:ADV6)-ADV7)","v":"00:00:00"},null,{"$f":"ADN2+1","v":"2019-03-20"},null,null,null,null,null,{"$f":"SUM(AEB14:AEB30)+SUM(AED14:AED30)+SUM(AEF14:AEF30)","v":"00:00:00"},null,{"$f":"IF(SUM(AEF4:AEF6)-AEF7<0,0,SUM(AEF4:AEF6)-AEF7)","v":"00:00:00"},null,{"$f":"ADX2+1","v":"2019-03-21"},null,null,null,null,null,{"$f":"SUM(AEL14:AEL30)+SUM(AEN14:AEN30)+SUM(AEP14:AEP30)","v":"00:00:00"},null,{"$f":"IF(SUM(AEP4:AEP6)-AEP7<0,0,SUM(AEP4:AEP6)-AEP7)","v":"00:00:00"},null,{"$f":"AEH2+1","v":"2019-03-22"},null,null,null,null,null,{"$f":"SUM(AEV14:AEV30)+SUM(AEX14:AEX30)+SUM(AEZ14:AEZ30)","v":"00:00:00"},null,{"$f":"IF(SUM(AEZ4:AEZ6)-AEZ7<0,0,SUM(AEZ4:AEZ6)-AEZ7)","v":"00:00:00"},null,{"$f":"AER2+1","v":"2019-03-23"},null,null,null,null,null,{"$f":"SUM(AFF14:AFF30)+SUM(AFH14:AFH30)+SUM(AFJ14:AFJ30)","v":"00:00:00"},null,{"$f":"IF(SUM(AFJ4:AFJ6)-AFJ7<0,0,SUM(AFJ4:AFJ6)-AFJ7)","v":"00:00:00"},null,{"$f":"AFB2+1","v":"2019-03-24"},null,null,null,null,null,{"$f":"SUM(AFP14:AFP30)+SUM(AFR14:AFR30)+SUM(AFT14:AFT30)","v":"00:00:00"},null,{"$f":"IF(SUM(AFT4:AFT6)-AFT7<0,0,SUM(AFT4:AFT6)-AFT7)","v":"00:00:00"},null,{"$f":"AFL2+1","v":"2019-03-25"},null,null,null,null,null,{"$f":"SUM(AFZ14:AFZ30)+SUM(AGB14:AGB30)+SUM(AGD14:AGD30)","v":"00:00:00"},null,{"$f":"IF(SUM(AGD4:AGD6)-AGD7<0,0,SUM(AGD4:AGD6)-AGD7)","v":"00:00:00"},null,{"$f":"AFV2+1","v":"2019-03-26"},null,null,null,null,null,{"$f":"SUM(AGJ14:AGJ30)+SUM(AGL14:AGL30)+SUM(AGN14:AGN30)","v":"00:00:00"},null,{"$f":"IF(SUM(AGN4:AGN6)-AGN7<0,0,SUM(AGN4:AGN6)-AGN7)","v":"00:00:00"},null,{"$f":"AGF2+1","v":"2019-03-27"},null,null,null,null,null,{"$f":"SUM(AGT14:AGT30)+SUM(AGV14:AGV30)+SUM(AGX14:AGX30)","v":"00:00:00"},null,{"$f":"IF(SUM(AGX4:AGX6)-AGX7<0,0,SUM(AGX4:AGX6)-AGX7)","v":"00:00:00"},null,{"$f":"AGP2+1","v":"2019-03-28"},null,null,null,null,null,{"$f":"SUM(AHD14:AHD30)+SUM(AHF14:AHF30)+SUM(AHH14:AHH30)","v":"00:00:00"},null,{"$f":"IF(SUM(AHH4:AHH6)-AHH7<0,0,SUM(AHH4:AHH6)-AHH7)","v":"00:00:00"},null,{"$f":"AGZ2+1","v":"2019-03-29"},null,null,null,null,null,{"$f":"SUM(AHN14:AHN30)+SUM(AHP14:AHP30)+SUM(AHR14:AHR30)","v":"00:00:00"},null,{"$f":"IF(SUM(AHR4:AHR6)-AHR7<0,0,SUM(AHR4:AHR6)-AHR7)","v":"00:00:00"},null,{"$f":"AHJ2+1","v":"2019-03-30"},null,null,null,null,null,{"$f":"SUM(AHX14:AHX30)+SUM(AHZ14:AHZ30)+SUM(AIB14:AIB30)","v":"00:00:00"},null,{"$f":"IF(SUM(AIB4:AIB6)-AIB7<0,0,SUM(AIB4:AIB6)-AIB7)","v":"00:00:00"},null,{"$f":"AHT2+1","v":"2019-03-31"},null,null,null,null,null,{"$f":"SUM(AIH14:AIH30)+SUM(AIJ14:AIJ30)+SUM(AIL14:AIL30)","v":"00:00:00"},null,{"$f":"IF(SUM(AIL4:AIL6)-AIL7<0,0,SUM(AIL4:AIL6)-AIL7)","v":"00:00:00"},null,{"$f":"AID2+1","v":"2019-04-01"},null,null,null,null,null,{"$f":"SUM(AIR14:AIR30)+SUM(AIT14:AIT30)+SUM(AIV14:AIV30)","v":"00:00:00"},null,{"$f":"IF(SUM(AIV4:AIV6)-AIV7<0,0,SUM(AIV4:AIV6)-AIV7)","v":"00:00:00"},null,{"$f":"AIN2+1","v":"2019-04-02"},null,null,null,null,null,{"$f":"SUM(AJB14:AJB30)+SUM(AJD14:AJD30)+SUM(AJF14:AJF30)","v":"00:00:00"},null,{"$f":"IF(SUM(AJF4:AJF6)-AJF7<0,0,SUM(AJF4:AJF6)-AJF7)","v":"00:00:00"},null,{"$f":"AIX2+1","v":"2019-04-03"},null,null,null,null,null,{"$f":"SUM(AJL14:AJL30)+SUM(AJN14:AJN30)+SUM(AJP14:AJP30)","v":"00:00:00"},null,{"$f":"IF(SUM(AJP4:AJP6)-AJP7<0,0,SUM(AJP4:AJP6)-AJP7)","v":"00:00:00"},null,{"$f":"AJH2+1","v":"2019-04-04"},null,null,null,null,null,{"$f":"SUM(AJV14:AJV30)+SUM(AJX14:AJX30)+SUM(AJZ14:AJZ30)","v":"00:00:00"},null,{"$f":"IF(SUM(AJZ4:AJZ6)-AJZ7<0,0,SUM(AJZ4:AJZ6)-AJZ7)","v":"00:00:00"},null,{"$f":"AJR2+1","v":"2019-04-05"},null,null,null,null,null,{"$f":"SUM(AKF14:AKF30)+SUM(AKH14:AKH30)+SUM(AKJ14:AKJ30)","v":"00:00:00"},null,{"$f":"IF(SUM(AKJ4:AKJ6)-AKJ7<0,0,SUM(AKJ4:AKJ6)-AKJ7)","v":"00:00:00"},null,{"$f":"AKB2+1","v":"2019-04-06"},null,null,null,null,null,{"$f":"SUM(AKP14:AKP30)+SUM(AKR14:AKR30)+SUM(AKT14:AKT30)","v":"00:00:00"},null,{"$f":"IF(SUM(AKT4:AKT6)-AKT7<0,0,SUM(AKT4:AKT6)-AKT7)","v":"00:00:00"},null,{"$f":"AKL2+1","v":"2019-04-07"},null,null,null,null,null,{"$f":"SUM(AKZ14:AKZ30)+SUM(ALB14:ALB30)+SUM(ALD14:ALD30)","v":"00:00:00"},null,{"$f":"IF(SUM(ALD4:ALD6)-ALD7<0,0,SUM(ALD4:ALD6)-ALD7)","v":"00:00:00"},null,{"$f":"AKV2+1","v":"2019-04-08"},null,null,null,null,null,{"$f":"SUM(ALJ14:ALJ30)+SUM(ALL14:ALL30)+SUM(ALN14:ALN30)","v":"00:00:00"},null,{"$f":"IF(SUM(ALN4:ALN6)-ALN7<0,0,SUM(ALN4:ALN6)-ALN7)","v":"00:00:00"},null,{"$f":"ALF2+1","v":"2019-04-09"},null,null,null,null,null,{"$f":"SUM(ALT14:ALT30)+SUM(ALV14:ALV30)+SUM(ALX14:ALX30)","v":"00:00:00"},null,{"$f":"IF(SUM(ALX4:ALX6)-ALX7<0,0,SUM(ALX4:ALX6)-ALX7)","v":"00:00:00"},null,{"$f":"ALP2+1","v":"2019-04-10"},null,null,null,null,null,{"$f":"SUM(AMD14:AMD30)+SUM(AMF14:AMF30)+SUM(AMH14:AMH30)","v":"00:00:00"},null,{"$f":"IF(SUM(AMH4:AMH6)-AMH7<0,0,SUM(AMH4:AMH6)-AMH7)","v":"00:00:00"},null,{"$f":"ALZ2+1","v":"2019-04-11"},null,null,null,null,null,{"$f":"SUM(AMN14:AMN30)+SUM(AMP14:AMP30)+SUM(AMR14:AMR30)","v":"00:00:00"},null,{"$f":"IF(SUM(AMR4:AMR6)-AMR7<0,0,SUM(AMR4:AMR6)-AMR7)","v":"00:00:00"},null,{"$f":"AMJ2+1","v":"2019-04-12"},null,null,null,null,null,{"$f":"SUM(AMX14:AMX30)+SUM(AMZ14:AMZ30)+SUM(ANB14:ANB30)","v":"00:00:00"},null,{"$f":"IF(SUM(ANB4:ANB6)-ANB7<0,0,SUM(ANB4:ANB6)-ANB7)","v":"00:00:00"},null,{"$f":"AMT2+1","v":"2019-04-13"},null,null,null,null,null,{"$f":"SUM(ANH14:ANH30)+SUM(ANJ14:ANJ30)+SUM(ANL14:ANL30)","v":"00:00:00"},null,{"$f":"IF(SUM(ANL4:ANL6)-ANL7<0,0,SUM(ANL4:ANL6)-ANL7)","v":"00:00:00"},null,{"$f":"AND2+1","v":"2019-04-14"},null,null,null,null,null,{"$f":"SUM(ANR14:ANR30)+SUM(ANT14:ANT30)+SUM(ANV14:ANV30)","v":"00:00:00"},null,{"$f":"IF(SUM(ANV4:ANV6)-ANV7<0,0,SUM(ANV4:ANV6)-ANV7)","v":"00:00:00"},null,{"$f":"ANN2+1","v":"2019-04-15"},null,null,null,null,null,{"$f":"SUM(AOB14:AOB30)+SUM(AOD14:AOD30)+SUM(AOF14:AOF30)","v":"00:00:00"},null,{"$f":"IF(SUM(AOF4:AOF6)-AOF7<0,0,SUM(AOF4:AOF6)-AOF7)","v":"00:00:00"},null,{"$f":"ANX2+1","v":"2019-04-16"},null,null,null,null,null,{"$f":"SUM(AOL14:AOL30)+SUM(AON14:AON30)+SUM(AOP14:AOP30)","v":"00:00:00"},null,{"$f":"IF(SUM(AOP4:AOP6)-AOP7<0,0,SUM(AOP4:AOP6)-AOP7)","v":"00:00:00"},null,{"$f":"AOH2+1","v":"2019-04-17"},null,null,null,null,null,{"$f":"SUM(AOV14:AOV30)+SUM(AOX14:AOX30)+SUM(AOZ14:AOZ30)","v":"00:00:00"},null,{"$f":"IF(SUM(AOZ4:AOZ6)-AOZ7<0,0,SUM(AOZ4:AOZ6)-AOZ7)","v":"00:00:00"},null,{"$f":"AOR2+1","v":"2019-04-18"},null,null,null,null,null,{"$f":"SUM(APF14:APF30)+SUM(APH14:APH30)+SUM(APJ14:APJ30)","v":"00:00:00"},null,{"$f":"IF(SUM(APJ4:APJ6)-APJ7<0,0,SUM(APJ4:APJ6)-APJ7)","v":"00:00:00"},"h",{"$f":"APB2+1","v":"2019-04-19"},null,null,null,null,null,{"$f":"SUM(APP14:APP30)+SUM(APR14:APR30)+SUM(APT14:APT30)","v":"00:00:00"},null,{"$f":"IF(SUM(APT4:APT6)-APT7<0,0,SUM(APT4:APT6)-APT7)","v":"00:00:00"},null,{"$f":"APL2+1","v":"2019-04-20"},null,null,null,null,null,{"$f":"SUM(APZ14:APZ30)+SUM(AQB14:AQB30)+SUM(AQD14:AQD30)","v":"00:00:00"},null,{"$f":"IF(SUM(AQD4:AQD6)-AQD7<0,0,SUM(AQD4:AQD6)-AQD7)","v":"00:00:00"},"h",{"$f":"APV2+1","v":"2019-04-21"},null,null,null,null,null,{"$f":"SUM(AQJ14:AQJ30)+SUM(AQL14:AQL30)+SUM(AQN14:AQN30)","v":"00:00:00"},null,{"$f":"IF(SUM(AQN4:AQN6)-AQN7<0,0,SUM(AQN4:AQN6)-AQN7)","v":"00:00:00"},"h",{"$f":"AQF2+1","v":"2019-04-22"},null,null,null,null,null,{"$f":"SUM(AQT14:AQT30)+SUM(AQV14:AQV30)+SUM(AQX14:AQX30)","v":"00:00:00"},null,{"$f":"IF(SUM(AQX4:AQX6)-AQX7<0,0,SUM(AQX4:AQX6)-AQX7)","v":"00:00:00"},null,{"$f":"AQP2+1","v":"2019-04-23"},null,null,null,null,null,{"$f":"SUM(ARD14:ARD30)+SUM(ARF14:ARF30)+SUM(ARH14:ARH30)","v":"00:00:00"},null,{"$f":"IF(SUM(ARH4:ARH6)-ARH7<0,0,SUM(ARH4:ARH6)-ARH7)","v":"00:00:00"},null,{"$f":"AQZ2+1","v":"2019-04-24"},null,null,null,null,null,{"$f":"SUM(ARN14:ARN30)+SUM(ARP14:ARP30)+SUM(ARR14:ARR30)","v":"00:00:00"},null,{"$f":"IF(SUM(ARR4:ARR6)-ARR7<0,0,SUM(ARR4:ARR6)-ARR7)","v":"00:00:00"},null,{"$f":"ARJ2+1","v":"2019-04-25"},null,null,null,null,null,{"$f":"SUM(ARX14:ARX30)+SUM(ARZ14:ARZ30)+SUM(ASB14:ASB30)","v":"00:00:00"},null,{"$f":"IF(SUM(ASB4:ASB6)-ASB7<0,0,SUM(ASB4:ASB6)-ASB7)","v":"00:00:00"},null,{"$f":"ART2+1","v":"2019-04-26"},null,null,null,null,null,{"$f":"SUM(ASH14:ASH30)+SUM(ASJ14:ASJ30)+SUM(ASL14:ASL30)","v":"00:00:00"},null,{"$f":"IF(SUM(ASL4:ASL6)-ASL7<0,0,SUM(ASL4:ASL6)-ASL7)","v":"00:00:00"},null,{"$f":"ASD2+1","v":"2019-04-27"},null,null,null,null,null,{"$f":"SUM(ASR14:ASR30)+SUM(AST14:AST30)+SUM(ASV14:ASV30)","v":"00:00:00"},null,{"$f":"IF(SUM(ASV4:ASV6)-ASV7<0,0,SUM(ASV4:ASV6)-ASV7)","v":"00:00:00"},null,{"$f":"ASN2+1","v":"2019-04-28"},null,null,null,null,null,{"$f":"SUM(ATB14:ATB30)+SUM(ATD14:ATD30)+SUM(ATF14:ATF30)","v":"00:00:00"},null,{"$f":"IF(SUM(ATF4:ATF6)-ATF7<0,0,SUM(ATF4:ATF6)-ATF7)","v":"00:00:00"},null,{"$f":"ASX2+1","v":"2019-04-29"},null,null,null,null,null,{"$f":"SUM(ATL14:ATL30)+SUM(ATN14:ATN30)+SUM(ATP14:ATP30)","v":"00:00:00"},null,{"$f":"IF(SUM(ATP4:ATP6)-ATP7<0,0,SUM(ATP4:ATP6)-ATP7)","v":"00:00:00"},null,{"$f":"ATH2+1","v":"2019-04-30"},null,null,null,null,null,{"$f":"SUM(ATV14:ATV30)+SUM(ATX14:ATX30)+SUM(ATZ14:ATZ30)","v":"00:00:00"},null,{"$f":"IF(SUM(ATZ4:ATZ6)-ATZ7<0,0,SUM(ATZ4:ATZ6)-ATZ7)","v":"00:00:00"},"h",{"$f":"ATR2+1","v":"2019-05-01"},null,null,null,null,null,{"$f":"SUM(AUF14:AUF30)+SUM(AUH14:AUH30)+SUM(AUJ14:AUJ30)","v":"00:00:00"},null,{"$f":"IF(SUM(AUJ4:AUJ6)-AUJ7<0,0,SUM(AUJ4:AUJ6)-AUJ7)","v":"00:00:00"},null,{"$f":"AUB2+1","v":"2019-05-02"},null,null,null,null,null,{"$f":"SUM(AUP14:AUP30)+SUM(AUR14:AUR30)+SUM(AUT14:AUT30)","v":"00:00:00"},null,{"$f":"IF(SUM(AUT4:AUT6)-AUT7<0,0,SUM(AUT4:AUT6)-AUT7)","v":"00:00:00"},null,{"$f":"AUL2+1","v":"2019-05-03"},null,null,null,null,null,{"$f":"SUM(AUZ14:AUZ30)+SUM(AVB14:AVB30)+SUM(AVD14:AVD30)","v":"00:00:00"},null,{"$f":"IF(SUM(AVD4:AVD6)-AVD7<0,0,SUM(AVD4:AVD6)-AVD7)","v":"00:00:00"},null,{"$f":"AUV2+1","v":"2019-05-04"},null,null,null,null,null,{"$f":"SUM(AVJ14:AVJ30)+SUM(AVL14:AVL30)+SUM(AVN14:AVN30)","v":"00:00:00"},null,{"$f":"IF(SUM(AVN4:AVN6)-AVN7<0,0,SUM(AVN4:AVN6)-AVN7)","v":"00:00:00"},null,{"$f":"AVF2+1","v":"2019-05-05"},null,null,null,null,null,{"$f":"SUM(AVT14:AVT30)+SUM(AVV14:AVV30)+SUM(AVX14:AVX30)","v":"00:00:00"},null,{"$f":"IF(SUM(AVX4:AVX6)-AVX7<0,0,SUM(AVX4:AVX6)-AVX7)","v":"00:00:00"},null,{"$f":"AVP2+1","v":"2019-05-06"},null,null,null,null,null,{"$f":"SUM(AWD14:AWD30)+SUM(AWF14:AWF30)+SUM(AWH14:AWH30)","v":"00:00:00"},null,{"$f":"IF(SUM(AWH4:AWH6)-AWH7<0,0,SUM(AWH4:AWH6)-AWH7)","v":"00:00:00"},null,{"$f":"AVZ2+1","v":"2019-05-07"},null,null,null,null,null,{"$f":"SUM(AWN14:AWN30)+SUM(AWP14:AWP30)+SUM(AWR14:AWR30)","v":"00:00:00"},null,{"$f":"IF(SUM(AWR4:AWR6)-AWR7<0,0,SUM(AWR4:AWR6)-AWR7)","v":"00:00:00"},null,{"$f":"AWJ2+1","v":"2019-05-08"},null,null,null,null,null,{"$f":"SUM(AWX14:AWX30)+SUM(AWZ14:AWZ30)+SUM(AXB14:AXB30)","v":"00:00:00"},null,{"$f":"IF(SUM(AXB4:AXB6)-AXB7<0,0,SUM(AXB4:AXB6)-AXB7)","v":"00:00:00"},null,{"$f":"AWT2+1","v":"2019-05-09"},null,null,null,null,null,{"$f":"SUM(AXH14:AXH30)+SUM(AXJ14:AXJ30)+SUM(AXL14:AXL30)","v":"00:00:00"},null,{"$f":"IF(SUM(AXL4:AXL6)-AXL7<0,0,SUM(AXL4:AXL6)-AXL7)","v":"00:00:00"},null,{"$f":"AXD2+1","v":"2019-05-10"},null,null,null,null,null,{"$f":"SUM(AXR14:AXR30)+SUM(AXT14:AXT30)+SUM(AXV14:AXV30)","v":"00:00:00"},null,{"$f":"IF(SUM(AXV4:AXV6)-AXV7<0,0,SUM(AXV4:AXV6)-AXV7)","v":"00:00:00"},null,{"$f":"AXN2+1","v":"2019-05-11"},null,null,null,null,null,{"$f":"SUM(AYB14:AYB30)+SUM(AYD14:AYD30)+SUM(AYF14:AYF30)","v":"00:00:00"},null,{"$f":"IF(SUM(AYF4:AYF6)-AYF7<0,0,SUM(AYF4:AYF6)-AYF7)","v":"00:00:00"},null,{"$f":"AXX2+1","v":"2019-05-12"},null,null,null,null,null,{"$f":"SUM(AYL14:AYL30)+SUM(AYN14:AYN30)+SUM(AYP14:AYP30)","v":"00:00:00"},null,{"$f":"IF(SUM(AYP4:AYP6)-AYP7<0,0,SUM(AYP4:AYP6)-AYP7)","v":"00:00:00"},null,{"$f":"AYH2+1","v":"2019-05-13"},null,null,null,null,null,{"$f":"SUM(AYV14:AYV30)+SUM(AYX14:AYX30)+SUM(AYZ14:AYZ30)","v":"00:00:00"},null,{"$f":"IF(SUM(AYZ4:AYZ6)-AYZ7<0,0,SUM(AYZ4:AYZ6)-AYZ7)","v":"00:00:00"},null,{"$f":"AYR2+1","v":"2019-05-14"},null,null,null,null,null,{"$f":"SUM(AZF14:AZF30)+SUM(AZH14:AZH30)+SUM(AZJ14:AZJ30)","v":"00:00:00"},null,{"$f":"IF(SUM(AZJ4:AZJ6)-AZJ7<0,0,SUM(AZJ4:AZJ6)-AZJ7)","v":"00:00:00"},null,{"$f":"AZB2+1","v":"2019-05-15"},null,null,null,null,null,{"$f":"SUM(AZP14:AZP30)+SUM(AZR14:AZR30)+SUM(AZT14:AZT30)","v":"00:00:00"},null,{"$f":"IF(SUM(AZT4:AZT6)-AZT7<0,0,SUM(AZT4:AZT6)-AZT7)","v":"00:00:00"},null,{"$f":"AZL2+1","v":"2019-05-16"},null,null,null,null,null,{"$f":"SUM(AZZ14:AZZ30)+SUM(BAB14:BAB30)+SUM(BAD14:BAD30)","v":"00:00:00"},null,{"$f":"IF(SUM(BAD4:BAD6)-BAD7<0,0,SUM(BAD4:BAD6)-BAD7)","v":"00:00:00"},null,{"$f":"AZV2+1","v":"2019-05-17"},null,null,null,null,null,{"$f":"SUM(BAJ14:BAJ30)+SUM(BAL14:BAL30)+SUM(BAN14:BAN30)","v":"00:00:00"},null,{"$f":"IF(SUM(BAN4:BAN6)-BAN7<0,0,SUM(BAN4:BAN6)-BAN7)","v":"00:00:00"},null,{"$f":"BAF2+1","v":"2019-05-18"},null,null,null,null,null,{"$f":"SUM(BAT14:BAT30)+SUM(BAV14:BAV30)+SUM(BAX14:BAX30)","v":"00:00:00"},null,{"$f":"IF(SUM(BAX4:BAX6)-BAX7<0,0,SUM(BAX4:BAX6)-BAX7)","v":"00:00:00"},null,{"$f":"BAP2+1","v":"2019-05-19"},null,null,null,null,null,{"$f":"SUM(BBD14:BBD30)+SUM(BBF14:BBF30)+SUM(BBH14:BBH30)","v":"00:00:00"},null,{"$f":"IF(SUM(BBH4:BBH6)-BBH7<0,0,SUM(BBH4:BBH6)-BBH7)","v":"00:00:00"},null,{"$f":"BAZ2+1","v":"2019-05-20"},null,null,null,null,null,{"$f":"SUM(BBN14:BBN30)+SUM(BBP14:BBP30)+SUM(BBR14:BBR30)","v":"00:00:00"},null,{"$f":"IF(SUM(BBR4:BBR6)-BBR7<0,0,SUM(BBR4:BBR6)-BBR7)","v":"00:00:00"},null,{"$f":"BBJ2+1","v":"2019-05-21"},null,null,null,null,null,{"$f":"SUM(BBX14:BBX30)+SUM(BBZ14:BBZ30)+SUM(BCB14:BCB30)","v":"00:00:00"},null,{"$f":"IF(SUM(BCB4:BCB6)-BCB7<0,0,SUM(BCB4:BCB6)-BCB7)","v":"00:00:00"},null,{"$f":"BBT2+1","v":"2019-05-22"},null,null,null,null,null,{"$f":"SUM(BCH14:BCH30)+SUM(BCJ14:BCJ30)+SUM(BCL14:BCL30)","v":"00:00:00"},null,{"$f":"IF(SUM(BCL4:BCL6)-BCL7<0,0,SUM(BCL4:BCL6)-BCL7)","v":"00:00:00"},null,{"$f":"BCD2+1","v":"2019-05-23"},null,null,null,null,null,{"$f":"SUM(BCR14:BCR30)+SUM(BCT14:BCT30)+SUM(BCV14:BCV30)","v":"00:00:00"},null,{"$f":"IF(SUM(BCV4:BCV6)-BCV7<0,0,SUM(BCV4:BCV6)-BCV7)","v":"00:00:00"},null,{"$f":"BCN2+1","v":"2019-05-24"},null,null,null,null,null,{"$f":"SUM(BDB14:BDB30)+SUM(BDD14:BDD30)+SUM(BDF14:BDF30)","v":"00:00:00"},null,{"$f":"IF(SUM(BDF4:BDF6)-BDF7<0,0,SUM(BDF4:BDF6)-BDF7)","v":"00:00:00"},null,{"$f":"BCX2+1","v":"2019-05-25"},null,null,null,null,null,{"$f":"SUM(BDL14:BDL30)+SUM(BDN14:BDN30)+SUM(BDP14:BDP30)","v":"00:00:00"},null,{"$f":"IF(SUM(BDP4:BDP6)-BDP7<0,0,SUM(BDP4:BDP6)-BDP7)","v":"00:00:00"},null,{"$f":"BDH2+1","v":"2019-05-26"},null,null,null,null,null,{"$f":"SUM(BDV14:BDV30)+SUM(BDX14:BDX30)+SUM(BDZ14:BDZ30)","v":"00:00:00"},null,{"$f":"IF(SUM(BDZ4:BDZ6)-BDZ7<0,0,SUM(BDZ4:BDZ6)-BDZ7)","v":"00:00:00"},null,{"$f":"BDR2+1","v":"2019-05-27"},null,null,null,null,null,{"$f":"SUM(BEF14:BEF30)+SUM(BEH14:BEH30)+SUM(BEJ14:BEJ30)","v":"00:00:00"},null,{"$f":"IF(SUM(BEJ4:BEJ6)-BEJ7<0,0,SUM(BEJ4:BEJ6)-BEJ7)","v":"00:00:00"},null,{"$f":"BEB2+1","v":"2019-05-28"},null,null,null,null,null,{"$f":"SUM(BEP14:BEP30)+SUM(BER14:BER30)+SUM(BET14:BET30)","v":"00:00:00"},null,{"$f":"IF(SUM(BET4:BET6)-BET7<0,0,SUM(BET4:BET6)-BET7)","v":"00:00:00"},null,{"$f":"BEL2+1","v":"2019-05-29"},null,null,null,null,null,{"$f":"SUM(BEZ14:BEZ30)+SUM(BFB14:BFB30)+SUM(BFD14:BFD30)","v":"00:00:00"},null,{"$f":"IF(SUM(BFD4:BFD6)-BFD7<0,0,SUM(BFD4:BFD6)-BFD7)","v":"00:00:00"},"h",{"$f":"BEV2+1","v":"2019-05-30"},null,null,null,null,null,{"$f":"SUM(BFJ14:BFJ30)+SUM(BFL14:BFL30)+SUM(BFN14:BFN30)","v":"00:00:00"},null,{"$f":"IF(SUM(BFN4:BFN6)-BFN7<0,0,SUM(BFN4:BFN6)-BFN7)","v":"00:00:00"},null,{"$f":"BFF2+1","v":"2019-05-31"},null,null,null,null,null,{"$f":"SUM(BFT14:BFT30)+SUM(BFV14:BFV30)+SUM(BFX14:BFX30)","v":"00:00:00"},null,{"$f":"IF(SUM(BFX4:BFX6)-BFX7<0,0,SUM(BFX4:BFX6)-BFX7)","v":"00:00:00"},null,{"$f":"BFP2+1","v":"2019-06-01"},null,null,null,null,null,{"$f":"SUM(BGD14:BGD30)+SUM(BGF14:BGF30)+SUM(BGH14:BGH30)","v":"00:00:00"},null,{"$f":"IF(SUM(BGH4:BGH6)-BGH7<0,0,SUM(BGH4:BGH6)-BGH7)","v":"00:00:00"},null,{"$f":"BFZ2+1","v":"2019-06-02"},null,null,null,null,null,{"$f":"SUM(BGN14:BGN30)+SUM(BGP14:BGP30)+SUM(BGR14:BGR30)","v":"00:00:00"},null,{"$f":"IF(SUM(BGR4:BGR6)-BGR7<0,0,SUM(BGR4:BGR6)-BGR7)","v":"00:00:00"},null,{"$f":"BGJ2+1","v":"2019-06-03"},null,null,null,null,null,{"$f":"SUM(BGX14:BGX30)+SUM(BGZ14:BGZ30)+SUM(BHB14:BHB30)","v":"00:00:00"},null,{"$f":"IF(SUM(BHB4:BHB6)-BHB7<0,0,SUM(BHB4:BHB6)-BHB7)","v":"00:00:00"},null,{"$f":"BGT2+1","v":"2019-06-04"},null,null,null,null,null,{"$f":"SUM(BHH14:BHH30)+SUM(BHJ14:BHJ30)+SUM(BHL14:BHL30)","v":"00:00:00"},null,{"$f":"IF(SUM(BHL4:BHL6)-BHL7<0,0,SUM(BHL4:BHL6)-BHL7)","v":"00:00:00"},null,{"$f":"BHD2+1","v":"2019-06-05"},null,null,null,null,null,{"$f":"SUM(BHR14:BHR30)+SUM(BHT14:BHT30)+SUM(BHV14:BHV30)","v":"00:00:00"},null,{"$f":"IF(SUM(BHV4:BHV6)-BHV7<0,0,SUM(BHV4:BHV6)-BHV7)","v":"00:00:00"},null,{"$f":"BHN2+1","v":"2019-06-06"},null,null,null,null,null,{"$f":"SUM(BIB14:BIB30)+SUM(BID14:BID30)+SUM(BIF14:BIF30)","v":"00:00:00"},null,{"$f":"IF(SUM(BIF4:BIF6)-BIF7<0,0,SUM(BIF4:BIF6)-BIF7)","v":"00:00:00"},null,{"$f":"BHX2+1","v":"2019-06-07"},null,null,null,null,null,{"$f":"SUM(BIL14:BIL30)+SUM(BIN14:BIN30)+SUM(BIP14:BIP30)","v":"00:00:00"},null,{"$f":"IF(SUM(BIP4:BIP6)-BIP7<0,0,SUM(BIP4:BIP6)-BIP7)","v":"00:00:00"},null,{"$f":"BIH2+1","v":"2019-06-08"},null,null,null,null,null,{"$f":"SUM(BIV14:BIV30)+SUM(BIX14:BIX30)+SUM(BIZ14:BIZ30)","v":"00:00:00"},null,{"$f":"IF(SUM(BIZ4:BIZ6)-BIZ7<0,0,SUM(BIZ4:BIZ6)-BIZ7)","v":"00:00:00"},null,{"$f":"BIR2+1","v":"2019-06-09"},null,null,null,null,null,{"$f":"SUM(BJF14:BJF30)+SUM(BJH14:BJH30)+SUM(BJJ14:BJJ30)","v":"00:00:00"},null,{"$f":"IF(SUM(BJJ4:BJJ6)-BJJ7<0,0,SUM(BJJ4:BJJ6)-BJJ7)","v":"00:00:00"},null,{"$f":"BJB2+1","v":"2019-06-10"},null,null,null,null,null,{"$f":"SUM(BJP14:BJP30)+SUM(BJR14:BJR30)+SUM(BJT14:BJT30)","v":"00:00:00"},null,{"$f":"IF(SUM(BJT4:BJT6)-BJT7<0,0,SUM(BJT4:BJT6)-BJT7)","v":"00:00:00"},null,{"$f":"BJL2+1","v":"2019-06-11"},null,null,null,null,null,{"$f":"SUM(BJZ14:BJZ30)+SUM(BKB14:BKB30)+SUM(BKD14:BKD30)","v":"00:00:00"},null,{"$f":"IF(SUM(BKD4:BKD6)-BKD7<0,0,SUM(BKD4:BKD6)-BKD7)","v":"00:00:00"},null,{"$f":"BJV2+1","v":"2019-06-12"},null,null,null,null,null,{"$f":"SUM(BKJ14:BKJ30)+SUM(BKL14:BKL30)+SUM(BKN14:BKN30)","v":"00:00:00"},null,{"$f":"IF(SUM(BKN4:BKN6)-BKN7<0,0,SUM(BKN4:BKN6)-BKN7)","v":"00:00:00"},null,{"$f":"BKF2+1","v":"2019-06-13"},null,null,null,null,null,{"$f":"SUM(BKT14:BKT30)+SUM(BKV14:BKV30)+SUM(BKX14:BKX30)","v":"00:00:00"},null,{"$f":"IF(SUM(BKX4:BKX6)-BKX7<0,0,SUM(BKX4:BKX6)-BKX7)","v":"00:00:00"},null,{"$f":"BKP2+1","v":"2019-06-14"},null,null,null,null,null,{"$f":"SUM(BLD14:BLD30)+SUM(BLF14:BLF30)+SUM(BLH14:BLH30)","v":"00:00:00"},null,{"$f":"IF(SUM(BLH4:BLH6)-BLH7<0,0,SUM(BLH4:BLH6)-BLH7)","v":"00:00:00"},null,{"$f":"BKZ2+1","v":"2019-06-15"},null,null,null,null,null,{"$f":"SUM(BLN14:BLN30)+SUM(BLP14:BLP30)+SUM(BLR14:BLR30)","v":"00:00:00"},null,{"$f":"IF(SUM(BLR4:BLR6)-BLR7<0,0,SUM(BLR4:BLR6)-BLR7)","v":"00:00:00"},null,{"$f":"BLJ2+1","v":"2019-06-16"},null,null,null,null,null,{"$f":"SUM(BLX14:BLX30)+SUM(BLZ14:BLZ30)+SUM(BMB14:BMB30)","v":"00:00:00"},null,{"$f":"IF(SUM(BMB4:BMB6)-BMB7<0,0,SUM(BMB4:BMB6)-BMB7)","v":"00:00:00"},null,{"$f":"BLT2+1","v":"2019-06-17"},null,null,null,null,null,{"$f":"SUM(BMH14:BMH30)+SUM(BMJ14:BMJ30)+SUM(BML14:BML30)","v":"00:00:00"},null,{"$f":"IF(SUM(BML4:BML6)-BML7<0,0,SUM(BML4:BML6)-BML7)","v":"00:00:00"},null,{"$f":"BMD2+1","v":"2019-06-18"},null,null,null,null,null,{"$f":"SUM(BMR14:BMR30)+SUM(BMT14:BMT30)+SUM(BMV14:BMV30)","v":"00:00:00"},null,{"$f":"IF(SUM(BMV4:BMV6)-BMV7<0,0,SUM(BMV4:BMV6)-BMV7)","v":"00:00:00"},null,{"$f":"BMN2+1","v":"2019-06-19"},null,null,null,null,null,{"$f":"SUM(BNB14:BNB30)+SUM(BND14:BND30)+SUM(BNF14:BNF30)","v":"00:00:00"},null,{"$f":"IF(SUM(BNF4:BNF6)-BNF7<0,0,SUM(BNF4:BNF6)-BNF7)","v":"00:00:00"},null,{"$f":"BMX2+1","v":"2019-06-20"},null,null,null,null,null,{"$f":"SUM(BNL14:BNL30)+SUM(BNN14:BNN30)+SUM(BNP14:BNP30)","v":"00:00:00"},null,{"$f":"IF(SUM(BNP4:BNP6)-BNP7<0,0,SUM(BNP4:BNP6)-BNP7)","v":"00:00:00"},"h",{"$f":"BNH2+1","v":"2019-06-21"},null,null,null,null,null,{"$f":"SUM(BNV14:BNV30)+SUM(BNX14:BNX30)+SUM(BNZ14:BNZ30)","v":"00:00:00"},null,{"$f":"IF(SUM(BNZ4:BNZ6)-BNZ7<0,0,SUM(BNZ4:BNZ6)-BNZ7)","v":"00:00:00"},null,{"$f":"BNR2+1","v":"2019-06-22"},null,null,null,null,null,{"$f":"SUM(BOF14:BOF30)+SUM(BOH14:BOH30)+SUM(BOJ14:BOJ30)","v":"00:00:00"},null,{"$f":"IF(SUM(BOJ4:BOJ6)-BOJ7<0,0,SUM(BOJ4:BOJ6)-BOJ7)","v":"00:00:00"},null,{"$f":"BOB2+1","v":"2019-06-23"},null,null,null,null,null,{"$f":"SUM(BOP14:BOP30)+SUM(BOR14:BOR30)+SUM(BOT14:BOT30)","v":"00:00:00"},null,{"$f":"IF(SUM(BOT4:BOT6)-BOT7<0,0,SUM(BOT4:BOT6)-BOT7)","v":"00:00:00"},null,{"$f":"BOL2+1","v":"2019-06-24"},null,null,null,null,null,{"$f":"SUM(BOZ14:BOZ30)+SUM(BPB14:BPB30)+SUM(BPD14:BPD30)","v":"00:00:00"},null,{"$f":"IF(SUM(BPD4:BPD6)-BPD7<0,0,SUM(BPD4:BPD6)-BPD7)","v":"00:00:00"},null,{"$f":"BOV2+1","v":"2019-06-25"},null,null,null,null,null,{"$f":"SUM(BPJ14:BPJ30)+SUM(BPL14:BPL30)+SUM(BPN14:BPN30)","v":"00:00:00"},null,{"$f":"IF(SUM(BPN4:BPN6)-BPN7<0,0,SUM(BPN4:BPN6)-BPN7)","v":"00:00:00"},null,{"$f":"BPF2+1","v":"2019-06-26"},null,null,null,null,null,{"$f":"SUM(BPT14:BPT30)+SUM(BPV14:BPV30)+SUM(BPX14:BPX30)","v":"00:00:00"},null,{"$f":"IF(SUM(BPX4:BPX6)-BPX7<0,0,SUM(BPX4:BPX6)-BPX7)","v":"00:00:00"},null,{"$f":"BPP2+1","v":"2019-06-27"},null,null,null,null,null,{"$f":"SUM(BQD14:BQD30)+SUM(BQF14:BQF30)+SUM(BQH14:BQH30)","v":"00:00:00"},null,{"$f":"IF(SUM(BQH4:BQH6)-BQH7<0,0,SUM(BQH4:BQH6)-BQH7)","v":"00:00:00"},null,{"$f":"BPZ2+1","v":"2019-06-28"},null,null,null,null,null,{"$f":"SUM(BQN14:BQN30)+SUM(BQP14:BQP30)+SUM(BQR14:BQR30)","v":"00:00:00"},null,{"$f":"IF(SUM(BQR4:BQR6)-BQR7<0,0,SUM(BQR4:BQR6)-BQR7)","v":"00:00:00"},null,{"$f":"BQJ2+1","v":"2019-06-29"},null,null,null,null,null,{"$f":"SUM(BQX14:BQX30)+SUM(BQZ14:BQZ30)+SUM(BRB14:BRB30)","v":"00:00:00"},null,{"$f":"IF(SUM(BRB4:BRB6)-BRB7<0,0,SUM(BRB4:BRB6)-BRB7)","v":"00:00:00"},null,{"$f":"BQT2+1","v":"2019-06-30"},null,null,null,null,null,{"$f":"SUM(BRH14:BRH30)+SUM(BRJ14:BRJ30)+SUM(BRL14:BRL30)","v":"00:00:00"},null,{"$f":"IF(SUM(BRL4:BRL6)-BRL7<0,0,SUM(BRL4:BRL6)-BRL7)","v":"00:00:00"},null,{"$f":"BRD2+1","v":"2019-07-01"},null,null,null,null,null,{"$f":"SUM(BRR14:BRR30)+SUM(BRT14:BRT30)+SUM(BRV14:BRV30)","v":"00:00:00"},null,{"$f":"IF(SUM(BRV4:BRV6)-BRV7<0,0,SUM(BRV4:BRV6)-BRV7)","v":"00:00:00"},null,{"$f":"BRN2+1","v":"2019-07-02"},null,null,null,null,null,{"$f":"SUM(BSB14:BSB30)+SUM(BSD14:BSD30)+SUM(BSF14:BSF30)","v":"00:00:00"},null,{"$f":"IF(SUM(BSF4:BSF6)-BSF7<0,0,SUM(BSF4:BSF6)-BSF7)","v":"00:00:00"},null,{"$f":"BRX2+1","v":"2019-07-03"},null,null,null,null,null,{"$f":"SUM(BSL14:BSL30)+SUM(BSN14:BSN30)+SUM(BSP14:BSP30)","v":"00:00:00"},null,{"$f":"IF(SUM(BSP4:BSP6)-BSP7<0,0,SUM(BSP4:BSP6)-BSP7)","v":"00:00:00"},null,{"$f":"BSH2+1","v":"2019-07-04"},null,null,null,null,null,{"$f":"SUM(BSV14:BSV30)+SUM(BSX14:BSX30)+SUM(BSZ14:BSZ30)","v":"00:00:00"},null,{"$f":"IF(SUM(BSZ4:BSZ6)-BSZ7<0,0,SUM(BSZ4:BSZ6)-BSZ7)","v":"00:00:00"},null,{"$f":"BSR2+1","v":"2019-07-05"},null,null,null,null,null,{"$f":"SUM(BTF14:BTF30)+SUM(BTH14:BTH30)+SUM(BTJ14:BTJ30)","v":"00:00:00"},null,{"$f":"IF(SUM(BTJ4:BTJ6)-BTJ7<0,0,SUM(BTJ4:BTJ6)-BTJ7)","v":"00:00:00"},null,{"$f":"BTB2+1","v":"2019-07-06"},null,null,null,null,null,{"$f":"SUM(BTP14:BTP30)+SUM(BTR14:BTR30)+SUM(BTT14:BTT30)","v":"00:00:00"},null,{"$f":"IF(SUM(BTT4:BTT6)-BTT7<0,0,SUM(BTT4:BTT6)-BTT7)","v":"00:00:00"},null,{"$f":"BTL2+1","v":"2019-07-07"},null,null,null,null,null,{"$f":"SUM(BTZ14:BTZ30)+SUM(BUB14:BUB30)+SUM(BUD14:BUD30)","v":"00:00:00"},null,{"$f":"IF(SUM(BUD4:BUD6)-BUD7<0,0,SUM(BUD4:BUD6)-BUD7)","v":"00:00:00"},null,{"$f":"BTV2+1","v":"2019-07-08"},null,null,null,null,null,{"$f":"SUM(BUJ14:BUJ30)+SUM(BUL14:BUL30)+SUM(BUN14:BUN30)","v":"00:00:00"},null,{"$f":"IF(SUM(BUN4:BUN6)-BUN7<0,0,SUM(BUN4:BUN6)-BUN7)","v":"00:00:00"},null,{"$f":"BUF2+1","v":"2019-07-09"},null,null,null,null,null,{"$f":"SUM(BUT14:BUT30)+SUM(BUV14:BUV30)+SUM(BUX14:BUX30)","v":"00:00:00"},null,{"$f":"IF(SUM(BUX4:BUX6)-BUX7<0,0,SUM(BUX4:BUX6)-BUX7)","v":"00:00:00"},null,{"$f":"BUP2+1","v":"2019-07-10"},null,null,null,null,null,{"$f":"SUM(BVD14:BVD30)+SUM(BVF14:BVF30)+SUM(BVH14:BVH30)","v":"00:00:00"},null,{"$f":"IF(SUM(BVH4:BVH6)-BVH7<0,0,SUM(BVH4:BVH6)-BVH7)","v":"00:00:00"},null,{"$f":"BUZ2+1","v":"2019-07-11"},null,null,null,null,null,{"$f":"SUM(BVN14:BVN30)+SUM(BVP14:BVP30)+SUM(BVR14:BVR30)","v":"00:00:00"},null,{"$f":"IF(SUM(BVR4:BVR6)-BVR7<0,0,SUM(BVR4:BVR6)-BVR7)","v":"00:00:00"},null,{"$f":"BVJ2+1","v":"2019-07-12"},null,null,null,null,null,{"$f":"SUM(BVX14:BVX30)+SUM(BVZ14:BVZ30)+SUM(BWB14:BWB30)","v":"00:00:00"},null,{"$f":"IF(SUM(BWB4:BWB6)-BWB7<0,0,SUM(BWB4:BWB6)-BWB7)","v":"00:00:00"},null,{"$f":"BVT2+1","v":"2019-07-13"},null,null,null,null,null,{"$f":"SUM(BWH14:BWH30)+SUM(BWJ14:BWJ30)+SUM(BWL14:BWL30)","v":"00:00:00"},null,{"$f":"IF(SUM(BWL4:BWL6)-BWL7<0,0,SUM(BWL4:BWL6)-BWL7)","v":"00:00:00"},null,{"$f":"BWD2+1","v":"2019-07-14"},null,null,null,null,null,{"$f":"SUM(BWR14:BWR30)+SUM(BWT14:BWT30)+SUM(BWV14:BWV30)","v":"00:00:00"},null,{"$f":"IF(SUM(BWV4:BWV6)-BWV7<0,0,SUM(BWV4:BWV6)-BWV7)","v":"00:00:00"},null,{"$f":"BWN2+1","v":"2019-07-15"},null,null,null,null,null,{"$f":"SUM(BXB14:BXB30)+SUM(BXD14:BXD30)+SUM(BXF14:BXF30)","v":"00:00:00"},null,{"$f":"IF(SUM(BXF4:BXF6)-BXF7<0,0,SUM(BXF4:BXF6)-BXF7)","v":"00:00:00"},null,{"$f":"BWX2+1","v":"2019-07-16"},null,null,null,null,null,{"$f":"SUM(BXL14:BXL30)+SUM(BXN14:BXN30)+SUM(BXP14:BXP30)","v":"00:00:00"},null,{"$f":"IF(SUM(BXP4:BXP6)-BXP7<0,0,SUM(BXP4:BXP6)-BXP7)","v":"00:00:00"},null,{"$f":"BXH2+1","v":"2019-07-17"},null,null,null,null,null,{"$f":"SUM(BXV14:BXV30)+SUM(BXX14:BXX30)+SUM(BXZ14:BXZ30)","v":"00:00:00"},null,{"$f":"IF(SUM(BXZ4:BXZ6)-BXZ7<0,0,SUM(BXZ4:BXZ6)-BXZ7)","v":"00:00:00"},null,{"$f":"BXR2+1","v":"2019-07-18"},null,null,null,null,null,{"$f":"SUM(BYF14:BYF30)+SUM(BYH14:BYH30)+SUM(BYJ14:BYJ30)","v":"00:00:00"},null,{"$f":"IF(SUM(BYJ4:BYJ6)-BYJ7<0,0,SUM(BYJ4:BYJ6)-BYJ7)","v":"00:00:00"},null,{"$f":"BYB2+1","v":"2019-07-19"},null,null,null,null,null,{"$f":"SUM(BYP14:BYP30)+SUM(BYR14:BYR30)+SUM(BYT14:BYT30)","v":"00:00:00"},null,{"$f":"IF(SUM(BYT4:BYT6)-BYT7<0,0,SUM(BYT4:BYT6)-BYT7)","v":"00:00:00"},null,{"$f":"BYL2+1","v":"2019-07-20"},null,null,null,null,null,{"$f":"SUM(BYZ14:BYZ30)+SUM(BZB14:BZB30)+SUM(BZD14:BZD30)","v":"00:00:00"},null,{"$f":"IF(SUM(BZD4:BZD6)-BZD7<0,0,SUM(BZD4:BZD6)-BZD7)","v":"00:00:00"},null,{"$f":"BYV2+1","v":"2019-07-21"},null,null,null,null,null,{"$f":"SUM(BZJ14:BZJ30)+SUM(BZL14:BZL30)+SUM(BZN14:BZN30)","v":"00:00:00"},null,{"$f":"IF(SUM(BZN4:BZN6)-BZN7<0,0,SUM(BZN4:BZN6)-BZN7)","v":"00:00:00"},null,{"$f":"BZF2+1","v":"2019-07-22"},null,null,null,null,null,{"$f":"SUM(BZT14:BZT30)+SUM(BZV14:BZV30)+SUM(BZX14:BZX30)","v":"00:00:00"},null,{"$f":"IF(SUM(BZX4:BZX6)-BZX7<0,0,SUM(BZX4:BZX6)-BZX7)","v":"00:00:00"},null,{"$f":"BZP2+1","v":"2019-07-23"},null,null,null,null,null,{"$f":"SUM(CAD14:CAD30)+SUM(CAF14:CAF30)+SUM(CAH14:CAH30)","v":"00:00:00"},null,{"$f":"IF(SUM(CAH4:CAH6)-CAH7<0,0,SUM(CAH4:CAH6)-CAH7)","v":"00:00:00"},null,{"$f":"BZZ2+1","v":"2019-07-24"},null,null,null,null,null,{"$f":"SUM(CAN14:CAN30)+SUM(CAP14:CAP30)+SUM(CAR14:CAR30)","v":"00:00:00"},null,{"$f":"IF(SUM(CAR4:CAR6)-CAR7<0,0,SUM(CAR4:CAR6)-CAR7)","v":"00:00:00"},null,{"$f":"CAJ2+1","v":"2019-07-25"},null,null,null,null,null,{"$f":"SUM(CAX14:CAX30)+SUM(CAZ14:CAZ30)+SUM(CBB14:CBB30)","v":"00:00:00"},null,{"$f":"IF(SUM(CBB4:CBB6)-CBB7<0,0,SUM(CBB4:CBB6)-CBB7)","v":"00:00:00"},null,{"$f":"CAT2+1","v":"2019-07-26"},null,null,null,null,null,{"$f":"SUM(CBH14:CBH30)+SUM(CBJ14:CBJ30)+SUM(CBL14:CBL30)","v":"00:00:00"},null,{"$f":"IF(SUM(CBL4:CBL6)-CBL7<0,0,SUM(CBL4:CBL6)-CBL7)","v":"00:00:00"},null,{"$f":"CBD2+1","v":"2019-07-27"},null,null,null,null,null,{"$f":"SUM(CBR14:CBR30)+SUM(CBT14:CBT30)+SUM(CBV14:CBV30)","v":"00:00:00"},null,{"$f":"IF(SUM(CBV4:CBV6)-CBV7<0,0,SUM(CBV4:CBV6)-CBV7)","v":"00:00:00"},null,{"$f":"CBN2+1","v":"2019-07-28"},null,null,null,null,null,{"$f":"SUM(CCB14:CCB30)+SUM(CCD14:CCD30)+SUM(CCF14:CCF30)","v":"00:00:00"},null,{"$f":"IF(SUM(CCF4:CCF6)-CCF7<0,0,SUM(CCF4:CCF6)-CCF7)","v":"00:00:00"},null,{"$f":"CBX2+1","v":"2019-07-29"},null,null,null,null,null,{"$f":"SUM(CCL14:CCL30)+SUM(CCN14:CCN30)+SUM(CCP14:CCP30)","v":"00:00:00"},null,{"$f":"IF(SUM(CCP4:CCP6)-CCP7<0,0,SUM(CCP4:CCP6)-CCP7)","v":"00:00:00"},null,{"$f":"CCH2+1","v":"2019-07-30"},null,null,null,null,null,{"$f":"SUM(CCV14:CCV30)+SUM(CCX14:CCX30)+SUM(CCZ14:CCZ30)","v":"00:00:00"},null,{"$f":"IF(SUM(CCZ4:CCZ6)-CCZ7<0,0,SUM(CCZ4:CCZ6)-CCZ7)","v":"00:00:00"},null,{"$f":"CCR2+1","v":"2019-07-31"},null,null,null,null,null,{"$f":"SUM(CDF14:CDF30)+SUM(CDH14:CDH30)+SUM(CDJ14:CDJ30)","v":"00:00:00"},null,{"$f":"IF(SUM(CDJ4:CDJ6)-CDJ7<0,0,SUM(CDJ4:CDJ6)-CDJ7)","v":"00:00:00"},null,{"$f":"CDB2+1","v":"2019-08-01"},null,null,null,null,null,{"$f":"SUM(CDP14:CDP30)+SUM(CDR14:CDR30)+SUM(CDT14:CDT30)","v":"00:00:00"},null,{"$f":"IF(SUM(CDT4:CDT6)-CDT7<0,0,SUM(CDT4:CDT6)-CDT7)","v":"00:00:00"},null,{"$f":"CDL2+1","v":"2019-08-02"},null,null,null,null,null,{"$f":"SUM(CDZ14:CDZ30)+SUM(CEB14:CEB30)+SUM(CED14:CED30)","v":"00:00:00"},null,{"$f":"IF(SUM(CED4:CED6)-CED7<0,0,SUM(CED4:CED6)-CED7)","v":"00:00:00"},null,{"$f":"CDV2+1","v":"2019-08-03"},null,null,null,null,null,{"$f":"SUM(CEJ14:CEJ30)+SUM(CEL14:CEL30)+SUM(CEN14:CEN30)","v":"00:00:00"},null,{"$f":"IF(SUM(CEN4:CEN6)-CEN7<0,0,SUM(CEN4:CEN6)-CEN7)","v":"00:00:00"},null,{"$f":"CEF2+1","v":"2019-08-04"},null,null,null,null,null,{"$f":"SUM(CET14:CET30)+SUM(CEV14:CEV30)+SUM(CEX14:CEX30)","v":"00:00:00"},null,{"$f":"IF(SUM(CEX4:CEX6)-CEX7<0,0,SUM(CEX4:CEX6)-CEX7)","v":"00:00:00"},null,{"$f":"CEP2+1","v":"2019-08-05"},null,null,null,null,null,{"$f":"SUM(CFD14:CFD30)+SUM(CFF14:CFF30)+SUM(CFH14:CFH30)","v":"00:00:00"},null,{"$f":"IF(SUM(CFH4:CFH6)-CFH7<0,0,SUM(CFH4:CFH6)-CFH7)","v":"00:00:00"},null,{"$f":"CEZ2+1","v":"2019-08-06"},null,null,null,null,null,{"$f":"SUM(CFN14:CFN30)+SUM(CFP14:CFP30)+SUM(CFR14:CFR30)","v":"00:00:00"},null,{"$f":"IF(SUM(CFR4:CFR6)-CFR7<0,0,SUM(CFR4:CFR6)-CFR7)","v":"00:00:00"},null,{"$f":"CFJ2+1","v":"2019-08-07"},null,null,null,null,null,{"$f":"SUM(CFX14:CFX30)+SUM(CFZ14:CFZ30)+SUM(CGB14:CGB30)","v":"00:00:00"},null,{"$f":"IF(SUM(CGB4:CGB6)-CGB7<0,0,SUM(CGB4:CGB6)-CGB7)","v":"00:00:00"},null,{"$f":"CFT2+1","v":"2019-08-08"},null,null,null,null,null,{"$f":"SUM(CGH14:CGH30)+SUM(CGJ14:CGJ30)+SUM(CGL14:CGL30)","v":"00:00:00"},null,{"$f":"IF(SUM(CGL4:CGL6)-CGL7<0,0,SUM(CGL4:CGL6)-CGL7)","v":"00:00:00"},null,{"$f":"CGD2+1","v":"2019-08-09"},null,null,null,null,null,{"$f":"SUM(CGR14:CGR30)+SUM(CGT14:CGT30)+SUM(CGV14:CGV30)","v":"00:00:00"},null,{"$f":"IF(SUM(CGV4:CGV6)-CGV7<0,0,SUM(CGV4:CGV6)-CGV7)","v":"00:00:00"},null,{"$f":"CGN2+1","v":"2019-08-10"},null,null,null,null,null,{"$f":"SUM(CHB14:CHB30)+SUM(CHD14:CHD30)+SUM(CHF14:CHF30)","v":"00:00:00"},null,{"$f":"IF(SUM(CHF4:CHF6)-CHF7<0,0,SUM(CHF4:CHF6)-CHF7)","v":"00:00:00"},null,{"$f":"CGX2+1","v":"2019-08-11"},null,null,null,null,null,{"$f":"SUM(CHL14:CHL30)+SUM(CHN14:CHN30)+SUM(CHP14:CHP30)","v":"00:00:00"},null,{"$f":"IF(SUM(CHP4:CHP6)-CHP7<0,0,SUM(CHP4:CHP6)-CHP7)","v":"00:00:00"},null,{"$f":"CHH2+1","v":"2019-08-12"},null,null,null,null,null,{"$f":"SUM(CHV14:CHV30)+SUM(CHX14:CHX30)+SUM(CHZ14:CHZ30)","v":"00:00:00"},null,{"$f":"IF(SUM(CHZ4:CHZ6)-CHZ7<0,0,SUM(CHZ4:CHZ6)-CHZ7)","v":"00:00:00"},null,{"$f":"CHR2+1","v":"2019-08-13"},null,null,null,null,null,{"$f":"SUM(CIF14:CIF30)+SUM(CIH14:CIH30)+SUM(CIJ14:CIJ30)","v":"00:00:00"},null,{"$f":"IF(SUM(CIJ4:CIJ6)-CIJ7<0,0,SUM(CIJ4:CIJ6)-CIJ7)","v":"00:00:00"},null,{"$f":"CIB2+1","v":"2019-08-14"},null,null,null,null,null,{"$f":"SUM(CIP14:CIP30)+SUM(CIR14:CIR30)+SUM(CIT14:CIT30)","v":"00:00:00"},null,{"$f":"IF(SUM(CIT4:CIT6)-CIT7<0,0,SUM(CIT4:CIT6)-CIT7)","v":"00:00:00"},null,{"$f":"CIL2+1","v":"2019-08-15"},null,null,null,null,null,{"$f":"SUM(CIZ14:CIZ30)+SUM(CJB14:CJB30)+SUM(CJD14:CJD30)","v":"00:00:00"},null,{"$f":"IF(SUM(CJD4:CJD6)-CJD7<0,0,SUM(CJD4:CJD6)-CJD7)","v":"00:00:00"},null,{"$f":"CIV2+1","v":"2019-08-16"},null,null,null,null,null,{"$f":"SUM(CJJ14:CJJ30)+SUM(CJL14:CJL30)+SUM(CJN14:CJN30)","v":"00:00:00"},null,{"$f":"IF(SUM(CJN4:CJN6)-CJN7<0,0,SUM(CJN4:CJN6)-CJN7)","v":"00:00:00"},null,{"$f":"CJF2+1","v":"2019-08-17"},null,null,null,null,null,{"$f":"SUM(CJT14:CJT30)+SUM(CJV14:CJV30)+SUM(CJX14:CJX30)","v":"00:00:00"},null,{"$f":"IF(SUM(CJX4:CJX6)-CJX7<0,0,SUM(CJX4:CJX6)-CJX7)","v":"00:00:00"},null,{"$f":"CJP2+1","v":"2019-08-18"},null,null,null,null,null,{"$f":"SUM(CKD14:CKD30)+SUM(CKF14:CKF30)+SUM(CKH14:CKH30)","v":"00:00:00"},null,{"$f":"IF(SUM(CKH4:CKH6)-CKH7<0,0,SUM(CKH4:CKH6)-CKH7)","v":"00:00:00"},null,{"$f":"CJZ2+1","v":"2019-08-19"},null,null,null,null,null,{"$f":"SUM(CKN14:CKN30)+SUM(CKP14:CKP30)+SUM(CKR14:CKR30)","v":"00:00:00"},null,{"$f":"IF(SUM(CKR4:CKR6)-CKR7<0,0,SUM(CKR4:CKR6)-CKR7)","v":"00:00:00"},null,{"$f":"CKJ2+1","v":"2019-08-20"},null,null,null,null,null,{"$f":"SUM(CKX14:CKX30)+SUM(CKZ14:CKZ30)+SUM(CLB14:CLB30)","v":"00:00:00"},null,{"$f":"IF(SUM(CLB4:CLB6)-CLB7<0,0,SUM(CLB4:CLB6)-CLB7)","v":"00:00:00"},null,{"$f":"CKT2+1","v":"2019-08-21"},null,null,null,null,null,{"$f":"SUM(CLH14:CLH30)+SUM(CLJ14:CLJ30)+SUM(CLL14:CLL30)","v":"00:00:00"},null,{"$f":"IF(SUM(CLL4:CLL6)-CLL7<0,0,SUM(CLL4:CLL6)-CLL7)","v":"00:00:00"},null,{"$f":"CLD2+1","v":"2019-08-22"},null,null,null,null,null,{"$f":"SUM(CLR14:CLR30)+SUM(CLT14:CLT30)+SUM(CLV14:CLV30)","v":"00:00:00"},null,{"$f":"IF(SUM(CLV4:CLV6)-CLV7<0,0,SUM(CLV4:CLV6)-CLV7)","v":"00:00:00"},null,{"$f":"CLN2+1","v":"2019-08-23"},null,null,null,null,null,{"$f":"SUM(CMB14:CMB30)+SUM(CMD14:CMD30)+SUM(CMF14:CMF30)","v":"00:00:00"},null,{"$f":"IF(SUM(CMF4:CMF6)-CMF7<0,0,SUM(CMF4:CMF6)-CMF7)","v":"00:00:00"},null,{"$f":"CLX2+1","v":"2019-08-24"},null,null,null,null,null,{"$f":"SUM(CML14:CML30)+SUM(CMN14:CMN30)+SUM(CMP14:CMP30)","v":"00:00:00"},null,{"$f":"IF(SUM(CMP4:CMP6)-CMP7<0,0,SUM(CMP4:CMP6)-CMP7)","v":"00:00:00"},null,{"$f":"CMH2+1","v":"2019-08-25"},null,null,null,null,null,{"$f":"SUM(CMV14:CMV30)+SUM(CMX14:CMX30)+SUM(CMZ14:CMZ30)","v":"00:00:00"},null,{"$f":"IF(SUM(CMZ4:CMZ6)-CMZ7<0,0,SUM(CMZ4:CMZ6)-CMZ7)","v":"00:00:00"},null,{"$f":"CMR2+1","v":"2019-08-26"},null,null,null,null,null,{"$f":"SUM(CNF14:CNF30)+SUM(CNH14:CNH30)+SUM(CNJ14:CNJ30)","v":"00:00:00"},null,{"$f":"IF(SUM(CNJ4:CNJ6)-CNJ7<0,0,SUM(CNJ4:CNJ6)-CNJ7)","v":"00:00:00"},null,{"$f":"CNB2+1","v":"2019-08-27"},null,null,null,null,null,{"$f":"SUM(CNP14:CNP30)+SUM(CNR14:CNR30)+SUM(CNT14:CNT30)","v":"00:00:00"},null,{"$f":"IF(SUM(CNT4:CNT6)-CNT7<0,0,SUM(CNT4:CNT6)-CNT7)","v":"00:00:00"},null,{"$f":"CNL2+1","v":"2019-08-28"},null,null,null,null,null,{"$f":"SUM(CNZ14:CNZ30)+SUM(COB14:COB30)+SUM(COD14:COD30)","v":"00:00:00"},null,{"$f":"IF(SUM(COD4:COD6)-COD7<0,0,SUM(COD4:COD6)-COD7)","v":"00:00:00"},null,{"$f":"CNV2+1","v":"2019-08-29"},null,null,null,null,null,{"$f":"SUM(COJ14:COJ30)+SUM(COL14:COL30)+SUM(CON14:CON30)","v":"00:00:00"},null,{"$f":"IF(SUM(CON4:CON6)-CON7<0,0,SUM(CON4:CON6)-CON7)","v":"00:00:00"},null,{"$f":"COF2+1","v":"2019-08-30"},null,null,null,null,null,{"$f":"SUM(COT14:COT30)+SUM(COV14:COV30)+SUM(COX14:COX30)","v":"00:00:00"},null,{"$f":"IF(SUM(COX4:COX6)-COX7<0,0,SUM(COX4:COX6)-COX7)","v":"00:00:00"},null,{"$f":"COP2+1","v":"2019-08-31"},null,null,null,null,null,{"$f":"SUM(CPD14:CPD30)+SUM(CPF14:CPF30)+SUM(CPH14:CPH30)","v":"00:00:00"},null,{"$f":"IF(SUM(CPH4:CPH6)-CPH7<0,0,SUM(CPH4:CPH6)-CPH7)","v":"00:00:00"},null,{"$f":"COZ2+1","v":"2019-09-01"},null,null,null,null,null,{"$f":"SUM(CPN14:CPN30)+SUM(CPP14:CPP30)+SUM(CPR14:CPR30)","v":"00:00:00"},null,{"$f":"IF(SUM(CPR4:CPR6)-CPR7<0,0,SUM(CPR4:CPR6)-CPR7)","v":"00:00:00"},null,{"$f":"CPJ2+1","v":"2019-09-02"},null,null,null,null,null,{"$f":"SUM(CPX14:CPX30)+SUM(CPZ14:CPZ30)+SUM(CQB14:CQB30)","v":"00:00:00"},null,{"$f":"IF(SUM(CQB4:CQB6)-CQB7<0,0,SUM(CQB4:CQB6)-CQB7)","v":"00:00:00"},null,{"$f":"CPT2+1","v":"2019-09-03"},null,null,null,null,null,{"$f":"SUM(CQH14:CQH30)+SUM(CQJ14:CQJ30)+SUM(CQL14:CQL30)","v":"00:00:00"},null,{"$f":"IF(SUM(CQL4:CQL6)-CQL7<0,0,SUM(CQL4:CQL6)-CQL7)","v":"00:00:00"},null,{"$f":"CQD2+1","v":"2019-09-04"},null,null,null,null,null,{"$f":"SUM(CQR14:CQR30)+SUM(CQT14:CQT30)+SUM(CQV14:CQV30)","v":"00:00:00"},null,{"$f":"IF(SUM(CQV4:CQV6)-CQV7<0,0,SUM(CQV4:CQV6)-CQV7)","v":"00:00:00"},null,{"$f":"CQN2+1","v":"2019-09-05"},null,null,null,null,null,{"$f":"SUM(CRB14:CRB30)+SUM(CRD14:CRD30)+SUM(CRF14:CRF30)","v":"00:00:00"},null,{"$f":"IF(SUM(CRF4:CRF6)-CRF7<0,0,SUM(CRF4:CRF6)-CRF7)","v":"00:00:00"},null,{"$f":"CQX2+1","v":"2019-09-06"},null,null,null,null,null,{"$f":"SUM(CRL14:CRL30)+SUM(CRN14:CRN30)+SUM(CRP14:CRP30)","v":"00:00:00"},null,{"$f":"IF(SUM(CRP4:CRP6)-CRP7<0,0,SUM(CRP4:CRP6)-CRP7)","v":"00:00:00"},null,{"$f":"CRH2+1","v":"2019-09-07"},null,null,null,null,null,{"$f":"SUM(CRV14:CRV30)+SUM(CRX14:CRX30)+SUM(CRZ14:CRZ30)","v":"00:00:00"},null,{"$f":"IF(SUM(CRZ4:CRZ6)-CRZ7<0,0,SUM(CRZ4:CRZ6)-CRZ7)","v":"00:00:00"},null,{"$f":"CRR2+1","v":"2019-09-08"},null,null,null,null,null,{"$f":"SUM(CSF14:CSF30)+SUM(CSH14:CSH30)+SUM(CSJ14:CSJ30)","v":"00:00:00"},null,{"$f":"IF(SUM(CSJ4:CSJ6)-CSJ7<0,0,SUM(CSJ4:CSJ6)-CSJ7)","v":"00:00:00"},null,{"$f":"CSB2+1","v":"2019-09-09"},null,null,null,null,null,{"$f":"SUM(CSP14:CSP30)+SUM(CSR14:CSR30)+SUM(CST14:CST30)","v":"00:00:00"},null,{"$f":"IF(SUM(CST4:CST6)-CST7<0,0,SUM(CST4:CST6)-CST7)","v":"00:00:00"},null,{"$f":"CSL2+1","v":"2019-09-10"},null,null,null,null,null,{"$f":"SUM(CSZ14:CSZ30)+SUM(CTB14:CTB30)+SUM(CTD14:CTD30)","v":"00:00:00"},null,{"$f":"IF(SUM(CTD4:CTD6)-CTD7<0,0,SUM(CTD4:CTD6)-CTD7)","v":"00:00:00"},null,{"$f":"CSV2+1","v":"2019-09-11"},null,null,null,null,null,{"$f":"SUM(CTJ14:CTJ30)+SUM(CTL14:CTL30)+SUM(CTN14:CTN30)","v":"00:00:00"},null,{"$f":"IF(SUM(CTN4:CTN6)-CTN7<0,0,SUM(CTN4:CTN6)-CTN7)","v":"00:00:00"},null,{"$f":"CTF2+1","v":"2019-09-12"},null,null,null,null,null,{"$f":"SUM(CTT14:CTT30)+SUM(CTV14:CTV30)+SUM(CTX14:CTX30)","v":"00:00:00"},null,{"$f":"IF(SUM(CTX4:CTX6)-CTX7<0,0,SUM(CTX4:CTX6)-CTX7)","v":"00:00:00"},null,{"$f":"CTP2+1","v":"2019-09-13"},null,null,null,null,null,{"$f":"SUM(CUD14:CUD30)+SUM(CUF14:CUF30)+SUM(CUH14:CUH30)","v":"00:00:00"},null,{"$f":"IF(SUM(CUH4:CUH6)-CUH7<0,0,SUM(CUH4:CUH6)-CUH7)","v":"00:00:00"},null,{"$f":"CTZ2+1","v":"2019-09-14"},null,null,null,null,null,{"$f":"SUM(CUN14:CUN30)+SUM(CUP14:CUP30)+SUM(CUR14:CUR30)","v":"00:00:00"},null,{"$f":"IF(SUM(CUR4:CUR6)-CUR7<0,0,SUM(CUR4:CUR6)-CUR7)","v":"00:00:00"},null,{"$f":"CUJ2+1","v":"2019-09-15"},null,null,null,null,null,{"$f":"SUM(CUX14:CUX30)+SUM(CUZ14:CUZ30)+SUM(CVB14:CVB30)","v":"00:00:00"},null,{"$f":"IF(SUM(CVB4:CVB6)-CVB7<0,0,SUM(CVB4:CVB6)-CVB7)","v":"00:00:00"},null,{"$f":"CUT2+1","v":"2019-09-16"},null,null,null,null,null,{"$f":"SUM(CVH14:CVH30)+SUM(CVJ14:CVJ30)+SUM(CVL14:CVL30)","v":"00:00:00"},null,{"$f":"IF(SUM(CVL4:CVL6)-CVL7<0,0,SUM(CVL4:CVL6)-CVL7)","v":"00:00:00"},null,{"$f":"CVD2+1","v":"2019-09-17"},null,null,null,null,null,{"$f":"SUM(CVR14:CVR30)+SUM(CVT14:CVT30)+SUM(CVV14:CVV30)","v":"00:00:00"},null,{"$f":"IF(SUM(CVV4:CVV6)-CVV7<0,0,SUM(CVV4:CVV6)-CVV7)","v":"00:00:00"},null,{"$f":"CVN2+1","v":"2019-09-18"},null,null,null,null,null,{"$f":"SUM(CWB14:CWB30)+SUM(CWD14:CWD30)+SUM(CWF14:CWF30)","v":"00:00:00"},null,{"$f":"IF(SUM(CWF4:CWF6)-CWF7<0,0,SUM(CWF4:CWF6)-CWF7)","v":"00:00:00"},null,{"$f":"CVX2+1","v":"2019-09-19"},null,null,null,null,null,{"$f":"SUM(CWL14:CWL30)+SUM(CWN14:CWN30)+SUM(CWP14:CWP30)","v":"00:00:00"},null,{"$f":"IF(SUM(CWP4:CWP6)-CWP7<0,0,SUM(CWP4:CWP6)-CWP7)","v":"00:00:00"},null,{"$f":"CWH2+1","v":"2019-09-20"},null,null,null,null,null,{"$f":"SUM(CWV14:CWV30)+SUM(CWX14:CWX30)+SUM(CWZ14:CWZ30)","v":"00:00:00"},null,{"$f":"IF(SUM(CWZ4:CWZ6)-CWZ7<0,0,SUM(CWZ4:CWZ6)-CWZ7)","v":"00:00:00"},null,{"$f":"CWR2+1","v":"2019-09-21"},null,null,null,null,null,{"$f":"SUM(CXF14:CXF30)+SUM(CXH14:CXH30)+SUM(CXJ14:CXJ30)","v":"00:00:00"},null,{"$f":"IF(SUM(CXJ4:CXJ6)-CXJ7<0,0,SUM(CXJ4:CXJ6)-CXJ7)","v":"00:00:00"},null,{"$f":"CXB2+1","v":"2019-09-22"},null,null,null,null,null,{"$f":"SUM(CXP14:CXP30)+SUM(CXR14:CXR30)+SUM(CXT14:CXT30)","v":"00:00:00"},null,{"$f":"IF(SUM(CXT4:CXT6)-CXT7<0,0,SUM(CXT4:CXT6)-CXT7)","v":"00:00:00"},null,{"$f":"CXL2+1","v":"2019-09-23"},null,null,null,null,null,{"$f":"SUM(CXZ14:CXZ30)+SUM(CYB14:CYB30)+SUM(CYD14:CYD30)","v":"00:00:00"},null,{"$f":"IF(SUM(CYD4:CYD6)-CYD7<0,0,SUM(CYD4:CYD6)-CYD7)","v":"00:00:00"},null,{"$f":"CXV2+1","v":"2019-09-24"},null,null,null,null,null,{"$f":"SUM(CYJ14:CYJ30)+SUM(CYL14:CYL30)+SUM(CYN14:CYN30)","v":"00:00:00"},null,{"$f":"IF(SUM(CYN4:CYN6)-CYN7<0,0,SUM(CYN4:CYN6)-CYN7)","v":"00:00:00"},null,{"$f":"CYF2+1","v":"2019-09-25"},null,null,null,null,null,{"$f":"SUM(CYT14:CYT30)+SUM(CYV14:CYV30)+SUM(CYX14:CYX30)","v":"00:00:00"},null,{"$f":"IF(SUM(CYX4:CYX6)-CYX7<0,0,SUM(CYX4:CYX6)-CYX7)","v":"00:00:00"},null,{"$f":"CYP2+1","v":"2019-09-26"},null,null,null,null,null,{"$f":"SUM(CZD14:CZD30)+SUM(CZF14:CZF30)+SUM(CZH14:CZH30)","v":"00:00:00"},null,{"$f":"IF(SUM(CZH4:CZH6)-CZH7<0,0,SUM(CZH4:CZH6)-CZH7)","v":"00:00:00"},null,{"$f":"CYZ2+1","v":"2019-09-27"},null,null,null,null,null,{"$f":"SUM(CZN14:CZN30)+SUM(CZP14:CZP30)+SUM(CZR14:CZR30)","v":"00:00:00"},null,{"$f":"IF(SUM(CZR4:CZR6)-CZR7<0,0,SUM(CZR4:CZR6)-CZR7)","v":"00:00:00"},null,{"$f":"CZJ2+1","v":"2019-09-28"},null,null,null,null,null,{"$f":"SUM(CZX14:CZX30)+SUM(CZZ14:CZZ30)+SUM(DAB14:DAB30)","v":"00:00:00"},null,{"$f":"IF(SUM(DAB4:DAB6)-DAB7<0,0,SUM(DAB4:DAB6)-DAB7)","v":"00:00:00"},null,{"$f":"CZT2+1","v":"2019-09-29"},null,null,null,null,null,{"$f":"SUM(DAH14:DAH30)+SUM(DAJ14:DAJ30)+SUM(DAL14:DAL30)","v":"00:00:00"},null,{"$f":"IF(SUM(DAL4:DAL6)-DAL7<0,0,SUM(DAL4:DAL6)-DAL7)","v":"00:00:00"},null,{"$f":"DAD2+1","v":"2019-09-30"},null,null,null,null,null,{"$f":"SUM(DAR14:DAR30)+SUM(DAT14:DAT30)+SUM(DAV14:DAV30)","v":"00:00:00"},null,{"$f":"IF(SUM(DAV4:DAV6)-DAV7<0,0,SUM(DAV4:DAV6)-DAV7)","v":"00:00:00"},null,{"$f":"DAN2+1","v":"2019-10-01"},null,null,null,null,null,{"$f":"SUM(DBB14:DBB30)+SUM(DBD14:DBD30)+SUM(DBF14:DBF30)","v":"00:00:00"},null,{"$f":"IF(SUM(DBF4:DBF6)-DBF7<0,0,SUM(DBF4:DBF6)-DBF7)","v":"00:00:00"},null,{"$f":"DAX2+1","v":"2019-10-02"},null,null,null,null,null,{"$f":"SUM(DBL14:DBL30)+SUM(DBN14:DBN30)+SUM(DBP14:DBP30)","v":"00:00:00"},null,{"$f":"IF(SUM(DBP4:DBP6)-DBP7<0,0,SUM(DBP4:DBP6)-DBP7)","v":"00:00:00"},null,{"$f":"DBH2+1","v":"2019-10-03"},null,null,null,null,null,{"$f":"SUM(DBV14:DBV30)+SUM(DBX14:DBX30)+SUM(DBZ14:DBZ30)","v":"00:00:00"},null,{"$f":"IF(SUM(DBZ4:DBZ6)-DBZ7<0,0,SUM(DBZ4:DBZ6)-DBZ7)","v":"00:00:00"},null,{"$f":"DBR2+1","v":"2019-10-04"},null,null,null,null,null,{"$f":"SUM(DCF14:DCF30)+SUM(DCH14:DCH30)+SUM(DCJ14:DCJ30)","v":"00:00:00"},null,{"$f":"IF(SUM(DCJ4:DCJ6)-DCJ7<0,0,SUM(DCJ4:DCJ6)-DCJ7)","v":"00:00:00"},null,{"$f":"DCB2+1","v":"2019-10-05"},null,null,null,null,null,{"$f":"SUM(DCP14:DCP30)+SUM(DCR14:DCR30)+SUM(DCT14:DCT30)","v":"00:00:00"},null,{"$f":"IF(SUM(DCT4:DCT6)-DCT7<0,0,SUM(DCT4:DCT6)-DCT7)","v":"00:00:00"},null,{"$f":"DCL2+1","v":"2019-10-06"},null,null,null,null,null,{"$f":"SUM(DCZ14:DCZ30)+SUM(DDB14:DDB30)+SUM(DDD14:DDD30)","v":"00:00:00"},null,{"$f":"IF(SUM(DDD4:DDD6)-DDD7<0,0,SUM(DDD4:DDD6)-DDD7)","v":"00:00:00"},null,{"$f":"DCV2+1","v":"2019-10-07"},null,null,null,null,null,{"$f":"SUM(DDJ14:DDJ30)+SUM(DDL14:DDL30)+SUM(DDN14:DDN30)","v":"00:00:00"},null,{"$f":"IF(SUM(DDN4:DDN6)-DDN7<0,0,SUM(DDN4:DDN6)-DDN7)","v":"00:00:00"},null,{"$f":"DDF2+1","v":"2019-10-08"},null,null,null,null,null,{"$f":"SUM(DDT14:DDT30)+SUM(DDV14:DDV30)+SUM(DDX14:DDX30)","v":"00:00:00"},null,{"$f":"IF(SUM(DDX4:DDX6)-DDX7<0,0,SUM(DDX4:DDX6)-DDX7)","v":"00:00:00"},null,{"$f":"DDP2+1","v":"2019-10-09"},null,null,null,null,null,{"$f":"SUM(DED14:DED30)+SUM(DEF14:DEF30)+SUM(DEH14:DEH30)","v":"00:00:00"},null,{"$f":"IF(SUM(DEH4:DEH6)-DEH7<0,0,SUM(DEH4:DEH6)-DEH7)","v":"00:00:00"},null,{"$f":"DDZ2+1","v":"2019-10-10"},null,null,null,null,null,{"$f":"SUM(DEN14:DEN30)+SUM(DEP14:DEP30)+SUM(DER14:DER30)","v":"00:00:00"},null,{"$f":"IF(SUM(DER4:DER6)-DER7<0,0,SUM(DER4:DER6)-DER7)","v":"00:00:00"},null,{"$f":"DEJ2+1","v":"2019-10-11"},null,null,null,null,null,{"$f":"SUM(DEX14:DEX30)+SUM(DEZ14:DEZ30)+SUM(DFB14:DFB30)","v":"00:00:00"},null,{"$f":"IF(SUM(DFB4:DFB6)-DFB7<0,0,SUM(DFB4:DFB6)-DFB7)","v":"00:00:00"},null,{"$f":"DET2+1","v":"2019-10-12"},null,null,null,null,null,{"$f":"SUM(DFH14:DFH30)+SUM(DFJ14:DFJ30)+SUM(DFL14:DFL30)","v":"00:00:00"},null,{"$f":"IF(SUM(DFL4:DFL6)-DFL7<0,0,SUM(DFL4:DFL6)-DFL7)","v":"00:00:00"},null,{"$f":"DFD2+1","v":"2019-10-13"},null,null,null,null,null,{"$f":"SUM(DFR14:DFR30)+SUM(DFT14:DFT30)+SUM(DFV14:DFV30)","v":"00:00:00"},null,{"$f":"IF(SUM(DFV4:DFV6)-DFV7<0,0,SUM(DFV4:DFV6)-DFV7)","v":"00:00:00"},null,{"$f":"DFN2+1","v":"2019-10-14"},null,null,null,null,null,{"$f":"SUM(DGB14:DGB30)+SUM(DGD14:DGD30)+SUM(DGF14:DGF30)","v":"00:00:00"},null,{"$f":"IF(SUM(DGF4:DGF6)-DGF7<0,0,SUM(DGF4:DGF6)-DGF7)","v":"00:00:00"},null,{"$f":"DFX2+1","v":"2019-10-15"},null,null,null,null,null,{"$f":"SUM(DGL14:DGL30)+SUM(DGN14:DGN30)+SUM(DGP14:DGP30)","v":"00:00:00"},null,{"$f":"IF(SUM(DGP4:DGP6)-DGP7<0,0,SUM(DGP4:DGP6)-DGP7)","v":"00:00:00"},null,{"$f":"DGH2+1","v":"2019-10-16"},null,null,null,null,null,{"$f":"SUM(DGV14:DGV30)+SUM(DGX14:DGX30)+SUM(DGZ14:DGZ30)","v":"00:00:00"},null,{"$f":"IF(SUM(DGZ4:DGZ6)-DGZ7<0,0,SUM(DGZ4:DGZ6)-DGZ7)","v":"00:00:00"},null,{"$f":"DGR2+1","v":"2019-10-17"},null,null,null,null,null,{"$f":"SUM(DHF14:DHF30)+SUM(DHH14:DHH30)+SUM(DHJ14:DHJ30)","v":"00:00:00"},null,{"$f":"IF(SUM(DHJ4:DHJ6)-DHJ7<0,0,SUM(DHJ4:DHJ6)-DHJ7)","v":"00:00:00"},null,{"$f":"DHB2+1","v":"2019-10-18"},null,null,null,null,null,{"$f":"SUM(DHP14:DHP30)+SUM(DHR14:DHR30)+SUM(DHT14:DHT30)","v":"00:00:00"},null,{"$f":"IF(SUM(DHT4:DHT6)-DHT7<0,0,SUM(DHT4:DHT6)-DHT7)","v":"00:00:00"},null,{"$f":"DHL2+1","v":"2019-10-19"},null,null,null,null,null,{"$f":"SUM(DHZ14:DHZ30)+SUM(DIB14:DIB30)+SUM(DID14:DID30)","v":"00:00:00"},null,{"$f":"IF(SUM(DID4:DID6)-DID7<0,0,SUM(DID4:DID6)-DID7)","v":"00:00:00"},null,{"$f":"DHV2+1","v":"2019-10-20"},null,null,null,null,null,{"$f":"SUM(DIJ14:DIJ30)+SUM(DIL14:DIL30)+SUM(DIN14:DIN30)","v":"00:00:00"},null,{"$f":"IF(SUM(DIN4:DIN6)-DIN7<0,0,SUM(DIN4:DIN6)-DIN7)","v":"00:00:00"},null,{"$f":"DIF2+1","v":"2019-10-21"},null,null,null,null,null,{"$f":"SUM(DIT14:DIT30)+SUM(DIV14:DIV30)+SUM(DIX14:DIX30)","v":"00:00:00"},null,{"$f":"IF(SUM(DIX4:DIX6)-DIX7<0,0,SUM(DIX4:DIX6)-DIX7)","v":"00:00:00"},null,{"$f":"DIP2+1","v":"2019-10-22"},null,null,null,null,null,{"$f":"SUM(DJD14:DJD30)+SUM(DJF14:DJF30)+SUM(DJH14:DJH30)","v":"00:00:00"},null,{"$f":"IF(SUM(DJH4:DJH6)-DJH7<0,0,SUM(DJH4:DJH6)-DJH7)","v":"00:00:00"},null,{"$f":"DIZ2+1","v":"2019-10-23"},null,null,null,null,null,{"$f":"SUM(DJN14:DJN30)+SUM(DJP14:DJP30)+SUM(DJR14:DJR30)","v":"00:00:00"},null,{"$f":"IF(SUM(DJR4:DJR6)-DJR7<0,0,SUM(DJR4:DJR6)-DJR7)","v":"00:00:00"},null,{"$f":"DJJ2+1","v":"2019-10-24"},null,null,null,null,null,{"$f":"SUM(DJX14:DJX30)+SUM(DJZ14:DJZ30)+SUM(DKB14:DKB30)","v":"00:00:00"},null,{"$f":"IF(SUM(DKB4:DKB6)-DKB7<0,0,SUM(DKB4:DKB6)-DKB7)","v":"00:00:00"},null,{"$f":"DJT2+1","v":"2019-10-25"},null,null,null,null,null,{"$f":"SUM(DKH14:DKH30)+SUM(DKJ14:DKJ30)+SUM(DKL14:DKL30)","v":"00:00:00"},null,{"$f":"IF(SUM(DKL4:DKL6)-DKL7<0,0,SUM(DKL4:DKL6)-DKL7)","v":"00:00:00"},null,{"$f":"DKD2+1","v":"2019-10-26"},null,null,null,null,null,{"$f":"SUM(DKR14:DKR30)+SUM(DKT14:DKT30)+SUM(DKV14:DKV30)","v":"00:00:00"},null,{"$f":"IF(SUM(DKV4:DKV6)-DKV7<0,0,SUM(DKV4:DKV6)-DKV7)","v":"00:00:00"},null,{"$f":"DKN2+1","v":"2019-10-27"},null,null,null,null,null,{"$f":"SUM(DLB14:DLB30)+SUM(DLD14:DLD30)+SUM(DLF14:DLF30)","v":"00:00:00"},null,{"$f":"IF(SUM(DLF4:DLF6)-DLF7<0,0,SUM(DLF4:DLF6)-DLF7)","v":"00:00:00"},null,{"$f":"DKX2+1","v":"2019-10-28"},null,null,null,null,null,{"$f":"SUM(DLL14:DLL30)+SUM(DLN14:DLN30)+SUM(DLP14:DLP30)","v":"00:00:00"},null,{"$f":"IF(SUM(DLP4:DLP6)-DLP7<0,0,SUM(DLP4:DLP6)-DLP7)","v":"00:00:00"},null,{"$f":"DLH2+1","v":"2019-10-29"},null,null,null,null,null,{"$f":"SUM(DLV14:DLV30)+SUM(DLX14:DLX30)+SUM(DLZ14:DLZ30)","v":"00:00:00"},null,{"$f":"IF(SUM(DLZ4:DLZ6)-DLZ7<0,0,SUM(DLZ4:DLZ6)-DLZ7)","v":"00:00:00"},null,{"$f":"DLR2+1","v":"2019-10-30"},null,null,null,null,null,{"$f":"SUM(DMF14:DMF30)+SUM(DMH14:DMH30)+SUM(DMJ14:DMJ30)","v":"00:00:00"},null,{"$f":"IF(SUM(DMJ4:DMJ6)-DMJ7<0,0,SUM(DMJ4:DMJ6)-DMJ7)","v":"00:00:00"},null,{"$f":"DMB2+1","v":"2019-10-31"},null,null,null,null,null,{"$f":"SUM(DMP14:DMP30)+SUM(DMR14:DMR30)+SUM(DMT14:DMT30)","v":"00:00:00"},null,{"$f":"IF(SUM(DMT4:DMT6)-DMT7<0,0,SUM(DMT4:DMT6)-DMT7)","v":"00:00:00"},null,{"$f":"DML2+1","v":"2019-11-01"},null,null,null,null,null,{"$f":"SUM(DMZ14:DMZ30)+SUM(DNB14:DNB30)+SUM(DND14:DND30)","v":"00:00:00"},null,{"$f":"IF(SUM(DND4:DND6)-DND7<0,0,SUM(DND4:DND6)-DND7)","v":"00:00:00"},null,{"$f":"DMV2+1","v":"2019-11-02"},null,null,null,null,null,{"$f":"SUM(DNJ14:DNJ30)+SUM(DNL14:DNL30)+SUM(DNN14:DNN30)","v":"00:00:00"},null,{"$f":"IF(SUM(DNN4:DNN6)-DNN7<0,0,SUM(DNN4:DNN6)-DNN7)","v":"00:00:00"},null,{"$f":"DNF2+1","v":"2019-11-03"},null,null,null,null,null,{"$f":"SUM(DNT14:DNT30)+SUM(DNV14:DNV30)+SUM(DNX14:DNX30)","v":"00:00:00"},null,{"$f":"IF(SUM(DNX4:DNX6)-DNX7<0,0,SUM(DNX4:DNX6)-DNX7)","v":"00:00:00"},null,{"$f":"DNP2+1","v":"2019-11-04"},null,null,null,null,null,{"$f":"SUM(DOD14:DOD30)+SUM(DOF14:DOF30)+SUM(DOH14:DOH30)","v":"00:00:00"},null,{"$f":"IF(SUM(DOH4:DOH6)-DOH7<0,0,SUM(DOH4:DOH6)-DOH7)","v":"00:00:00"},null,{"$f":"DNZ2+1","v":"2019-11-05"},null,null,null,null,null,{"$f":"SUM(DON14:DON30)+SUM(DOP14:DOP30)+SUM(DOR14:DOR30)","v":"00:00:00"},null,{"$f":"IF(SUM(DOR4:DOR6)-DOR7<0,0,SUM(DOR4:DOR6)-DOR7)","v":"00:00:00"},null,{"$f":"DOJ2+1","v":"2019-11-06"},null,null,null,null,null,{"$f":"SUM(DOX14:DOX30)+SUM(DOZ14:DOZ30)+SUM(DPB14:DPB30)","v":"00:00:00"},null,{"$f":"IF(SUM(DPB4:DPB6)-DPB7<0,0,SUM(DPB4:DPB6)-DPB7)","v":"00:00:00"},null,{"$f":"DOT2+1","v":"2019-11-07"},null,null,null,null,null,{"$f":"SUM(DPH14:DPH30)+SUM(DPJ14:DPJ30)+SUM(DPL14:DPL30)","v":"00:00:00"},null,{"$f":"IF(SUM(DPL4:DPL6)-DPL7<0,0,SUM(DPL4:DPL6)-DPL7)","v":"00:00:00"},null,{"$f":"DPD2+1","v":"2019-11-08"},null,null,null,null,null,{"$f":"SUM(DPR14:DPR30)+SUM(DPT14:DPT30)+SUM(DPV14:DPV30)","v":"00:00:00"},null,{"$f":"IF(SUM(DPV4:DPV6)-DPV7<0,0,SUM(DPV4:DPV6)-DPV7)","v":"00:00:00"},null,{"$f":"DPN2+1","v":"2019-11-09"},null,null,null,null,null,{"$f":"SUM(DQB14:DQB30)+SUM(DQD14:DQD30)+SUM(DQF14:DQF30)","v":"00:00:00"},null,{"$f":"IF(SUM(DQF4:DQF6)-DQF7<0,0,SUM(DQF4:DQF6)-DQF7)","v":"00:00:00"},null,{"$f":"DPX2+1","v":"2019-11-10"},null,null,null,null,null,{"$f":"SUM(DQL14:DQL30)+SUM(DQN14:DQN30)+SUM(DQP14:DQP30)","v":"00:00:00"},null,{"$f":"IF(SUM(DQP4:DQP6)-DQP7<0,0,SUM(DQP4:DQP6)-DQP7)","v":"00:00:00"},null,{"$f":"DQH2+1","v":"2019-11-11"},null,null,null,null,null,{"$f":"SUM(DQV14:DQV30)+SUM(DQX14:DQX30)+SUM(DQZ14:DQZ30)","v":"00:00:00"},null,{"$f":"IF(SUM(DQZ4:DQZ6)-DQZ7<0,0,SUM(DQZ4:DQZ6)-DQZ7)","v":"00:00:00"},null,{"$f":"DQR2+1","v":"2019-11-12"},null,null,null,null,null,{"$f":"SUM(DRF14:DRF30)+SUM(DRH14:DRH30)+SUM(DRJ14:DRJ30)","v":"00:00:00"},null,{"$f":"IF(SUM(DRJ4:DRJ6)-DRJ7<0,0,SUM(DRJ4:DRJ6)-DRJ7)","v":"00:00:00"},null,{"$f":"DRB2+1","v":"2019-11-13"},null,null,null,null,null,{"$f":"SUM(DRP14:DRP30)+SUM(DRR14:DRR30)+SUM(DRT14:DRT30)","v":"00:00:00"},null,{"$f":"IF(SUM(DRT4:DRT6)-DRT7<0,0,SUM(DRT4:DRT6)-DRT7)","v":"00:00:00"},null,{"$f":"DRL2+1","v":"2019-11-14"},null,null,null,null,null,{"$f":"SUM(DRZ14:DRZ30)+SUM(DSB14:DSB30)+SUM(DSD14:DSD30)","v":"00:00:00"},null,{"$f":"IF(SUM(DSD4:DSD6)-DSD7<0,0,SUM(DSD4:DSD6)-DSD7)","v":"00:00:00"},null,{"$f":"DRV2+1","v":"2019-11-15"},null,null,null,null,null,{"$f":"SUM(DSJ14:DSJ30)+SUM(DSL14:DSL30)+SUM(DSN14:DSN30)","v":"00:00:00"},null,{"$f":"IF(SUM(DSN4:DSN6)-DSN7<0,0,SUM(DSN4:DSN6)-DSN7)","v":"00:00:00"},null,{"$f":"DSF2+1","v":"2019-11-16"},null,null,null,null,null,{"$f":"SUM(DST14:DST30)+SUM(DSV14:DSV30)+SUM(DSX14:DSX30)","v":"00:00:00"},null,{"$f":"IF(SUM(DSX4:DSX6)-DSX7<0,0,SUM(DSX4:DSX6)-DSX7)","v":"00:00:00"},null,{"$f":"DSP2+1","v":"2019-11-17"},null,null,null,null,null,{"$f":"SUM(DTD14:DTD30)+SUM(DTF14:DTF30)+SUM(DTH14:DTH30)","v":"00:00:00"},null,{"$f":"IF(SUM(DTH4:DTH6)-DTH7<0,0,SUM(DTH4:DTH6)-DTH7)","v":"00:00:00"},null,{"$f":"DSZ2+1","v":"2019-11-18"},null,null,null,null,null,{"$f":"SUM(DTN14:DTN30)+SUM(DTP14:DTP30)+SUM(DTR14:DTR30)","v":"00:00:00"},null,{"$f":"IF(SUM(DTR4:DTR6)-DTR7<0,0,SUM(DTR4:DTR6)-DTR7)","v":"00:00:00"},null,{"$f":"DTJ2+1","v":"2019-11-19"},null,null,null,null,null,{"$f":"SUM(DTX14:DTX30)+SUM(DTZ14:DTZ30)+SUM(DUB14:DUB30)","v":"00:00:00"},null,{"$f":"IF(SUM(DUB4:DUB6)-DUB7<0,0,SUM(DUB4:DUB6)-DUB7)","v":"00:00:00"},null,{"$f":"DTT2+1","v":"2019-11-20"},null,null,null,null,null,{"$f":"SUM(DUH14:DUH30)+SUM(DUJ14:DUJ30)+SUM(DUL14:DUL30)","v":"00:00:00"},null,{"$f":"IF(SUM(DUL4:DUL6)-DUL7<0,0,SUM(DUL4:DUL6)-DUL7)","v":"00:00:00"},null,{"$f":"DUD2+1","v":"2019-11-21"},null,null,null,null,null,{"$f":"SUM(DUR14:DUR30)+SUM(DUT14:DUT30)+SUM(DUV14:DUV30)","v":"00:00:00"},null,{"$f":"IF(SUM(DUV4:DUV6)-DUV7<0,0,SUM(DUV4:DUV6)-DUV7)","v":"00:00:00"},null,{"$f":"DUN2+1","v":"2019-11-22"},null,null,null,null,null,{"$f":"SUM(DVB14:DVB30)+SUM(DVD14:DVD30)+SUM(DVF14:DVF30)","v":"00:00:00"},null,{"$f":"IF(SUM(DVF4:DVF6)-DVF7<0,0,SUM(DVF4:DVF6)-DVF7)","v":"00:00:00"},null,{"$f":"DUX2+1","v":"2019-11-23"},null,null,null,null,null,{"$f":"SUM(DVL14:DVL30)+SUM(DVN14:DVN30)+SUM(DVP14:DVP30)","v":"00:00:00"},null,{"$f":"IF(SUM(DVP4:DVP6)-DVP7<0,0,SUM(DVP4:DVP6)-DVP7)","v":"00:00:00"},null,{"$f":"DVH2+1","v":"2019-11-24"},null,null,null,null,null,{"$f":"SUM(DVV14:DVV30)+SUM(DVX14:DVX30)+SUM(DVZ14:DVZ30)","v":"00:00:00"},null,{"$f":"IF(SUM(DVZ4:DVZ6)-DVZ7<0,0,SUM(DVZ4:DVZ6)-DVZ7)","v":"00:00:00"},null,{"$f":"DVR2+1","v":"2019-11-25"},null,null,null,null,null,{"$f":"SUM(DWF14:DWF30)+SUM(DWH14:DWH30)+SUM(DWJ14:DWJ30)","v":"00:00:00"},null,{"$f":"IF(SUM(DWJ4:DWJ6)-DWJ7<0,0,SUM(DWJ4:DWJ6)-DWJ7)","v":"00:00:00"},null,{"$f":"DWB2+1","v":"2019-11-26"},null,null,null,null,null,{"$f":"SUM(DWP14:DWP30)+SUM(DWR14:DWR30)+SUM(DWT14:DWT30)","v":"00:00:00"},null,{"$f":"IF(SUM(DWT4:DWT6)-DWT7<0,0,SUM(DWT4:DWT6)-DWT7)","v":"00:00:00"},null,{"$f":"DWL2+1","v":"2019-11-27"},null,null,null,null,null,{"$f":"SUM(DWZ14:DWZ30)+SUM(DXB14:DXB30)+SUM(DXD14:DXD30)","v":"00:00:00"},null,{"$f":"IF(SUM(DXD4:DXD6)-DXD7<0,0,SUM(DXD4:DXD6)-DXD7)","v":"00:00:00"},null,{"$f":"DWV2+1","v":"2019-11-28"},null,null,null,null,null,{"$f":"SUM(DXJ14:DXJ30)+SUM(DXL14:DXL30)+SUM(DXN14:DXN30)","v":"00:00:00"},null,{"$f":"IF(SUM(DXN4:DXN6)-DXN7<0,0,SUM(DXN4:DXN6)-DXN7)","v":"00:00:00"},null,{"$f":"DXF2+1","v":"2019-11-29"},null,null,null,null,null,{"$f":"SUM(DXT14:DXT30)+SUM(DXV14:DXV30)+SUM(DXX14:DXX30)","v":"00:00:00"},null,{"$f":"IF(SUM(DXX4:DXX6)-DXX7<0,0,SUM(DXX4:DXX6)-DXX7)","v":"00:00:00"},null,{"$f":"DXP2+1","v":"2019-11-30"},null,null,null,null,null,{"$f":"SUM(DYD14:DYD30)+SUM(DYF14:DYF30)+SUM(DYH14:DYH30)","v":"00:00:00"},null,{"$f":"IF(SUM(DYH4:DYH6)-DYH7<0,0,SUM(DYH4:DYH6)-DYH7)","v":"00:00:00"},null,{"$f":"DXZ2+1","v":"2019-12-01"},null,null,null,null,null,{"$f":"SUM(DYN14:DYN30)+SUM(DYP14:DYP30)+SUM(DYR14:DYR30)","v":"00:00:00"},null,{"$f":"IF(SUM(DYR4:DYR6)-DYR7<0,0,SUM(DYR4:DYR6)-DYR7)","v":"00:00:00"},null,{"$f":"DYJ2+1","v":"2019-12-02"},null,null,null,null,null,{"$f":"SUM(DYX14:DYX30)+SUM(DYZ14:DYZ30)+SUM(DZB14:DZB30)","v":"00:00:00"},null,{"$f":"IF(SUM(DZB4:DZB6)-DZB7<0,0,SUM(DZB4:DZB6)-DZB7)","v":"00:00:00"},null,{"$f":"DYT2+1","v":"2019-12-03"},null,null,null,null,null,{"$f":"SUM(DZH14:DZH30)+SUM(DZJ14:DZJ30)+SUM(DZL14:DZL30)","v":"00:00:00"},null,{"$f":"IF(SUM(DZL4:DZL6)-DZL7<0,0,SUM(DZL4:DZL6)-DZL7)","v":"00:00:00"},null,{"$f":"DZD2+1","v":"2019-12-04"},null,null,null,null,null,{"$f":"SUM(DZR14:DZR30)+SUM(DZT14:DZT30)+SUM(DZV14:DZV30)","v":"00:00:00"},null,{"$f":"IF(SUM(DZV4:DZV6)-DZV7<0,0,SUM(DZV4:DZV6)-DZV7)","v":"00:00:00"},null,{"$f":"DZN2+1","v":"2019-12-05"},null,null,null,null,null,{"$f":"SUM(EAB14:EAB30)+SUM(EAD14:EAD30)+SUM(EAF14:EAF30)","v":"00:00:00"},null,{"$f":"IF(SUM(EAF4:EAF6)-EAF7<0,0,SUM(EAF4:EAF6)-EAF7)","v":"00:00:00"},"h",{"$f":"DZX2+1","v":"2019-12-06"},null,null,null,null,null,{"$f":"SUM(EAL14:EAL30)+SUM(EAN14:EAN30)+SUM(EAP14:EAP30)","v":"00:00:00"},null,{"$f":"IF(SUM(EAP4:EAP6)-EAP7<0,0,SUM(EAP4:EAP6)-EAP7)","v":"00:00:00"},null,{"$f":"EAH2+1","v":"2019-12-07"},null,null,null,null,null,{"$f":"SUM(EAV14:EAV30)+SUM(EAX14:EAX30)+SUM(EAZ14:EAZ30)","v":"00:00:00"},null,{"$f":"IF(SUM(EAZ4:EAZ6)-EAZ7<0,0,SUM(EAZ4:EAZ6)-EAZ7)","v":"00:00:00"},null,{"$f":"EAR2+1","v":"2019-12-08"},null,null,null,null,null,{"$f":"SUM(EBF14:EBF30)+SUM(EBH14:EBH30)+SUM(EBJ14:EBJ30)","v":"00:00:00"},null,{"$f":"IF(SUM(EBJ4:EBJ6)-EBJ7<0,0,SUM(EBJ4:EBJ6)-EBJ7)","v":"00:00:00"},null,{"$f":"EBB2+1","v":"2019-12-09"},null,null,null,null,null,{"$f":"SUM(EBP14:EBP30)+SUM(EBR14:EBR30)+SUM(EBT14:EBT30)","v":"00:00:00"},null,{"$f":"IF(SUM(EBT4:EBT6)-EBT7<0,0,SUM(EBT4:EBT6)-EBT7)","v":"00:00:00"},null,{"$f":"EBL2+1","v":"2019-12-10"},null,null,null,null,null,{"$f":"SUM(EBZ14:EBZ30)+SUM(ECB14:ECB30)+SUM(ECD14:ECD30)","v":"00:00:00"},null,{"$f":"IF(SUM(ECD4:ECD6)-ECD7<0,0,SUM(ECD4:ECD6)-ECD7)","v":"00:00:00"},null,{"$f":"EBV2+1","v":"2019-12-11"},null,null,null,null,null,{"$f":"SUM(ECJ14:ECJ30)+SUM(ECL14:ECL30)+SUM(ECN14:ECN30)","v":"00:00:00"},null,{"$f":"IF(SUM(ECN4:ECN6)-ECN7<0,0,SUM(ECN4:ECN6)-ECN7)","v":"00:00:00"},null,{"$f":"ECF2+1","v":"2019-12-12"},null,null,null,null,null,{"$f":"SUM(ECT14:ECT30)+SUM(ECV14:ECV30)+SUM(ECX14:ECX30)","v":"00:00:00"},null,{"$f":"IF(SUM(ECX4:ECX6)-ECX7<0,0,SUM(ECX4:ECX6)-ECX7)","v":"00:00:00"},null,{"$f":"ECP2+1","v":"2019-12-13"},null,null,null,null,null,{"$f":"SUM(EDD14:EDD30)+SUM(EDF14:EDF30)+SUM(EDH14:EDH30)","v":"00:00:00"},null,{"$f":"IF(SUM(EDH4:EDH6)-EDH7<0,0,SUM(EDH4:EDH6)-EDH7)","v":"00:00:00"},null,{"$f":"ECZ2+1","v":"2019-12-14"},null,null,null,null,null,{"$f":"SUM(EDN14:EDN30)+SUM(EDP14:EDP30)+SUM(EDR14:EDR30)","v":"00:00:00"},null,{"$f":"IF(SUM(EDR4:EDR6)-EDR7<0,0,SUM(EDR4:EDR6)-EDR7)","v":"00:00:00"},null,{"$f":"EDJ2+1","v":"2019-12-15"},null,null,null,null,null,{"$f":"SUM(EDX14:EDX30)+SUM(EDZ14:EDZ30)+SUM(EEB14:EEB30)","v":"00:00:00"},null,{"$f":"IF(SUM(EEB4:EEB6)-EEB7<0,0,SUM(EEB4:EEB6)-EEB7)","v":"00:00:00"},null,{"$f":"EDT2+1","v":"2019-12-16"},null,null,null,null,null,{"$f":"SUM(EEH14:EEH30)+SUM(EEJ14:EEJ30)+SUM(EEL14:EEL30)","v":"00:00:00"},null,{"$f":"IF(SUM(EEL4:EEL6)-EEL7<0,0,SUM(EEL4:EEL6)-EEL7)","v":"00:00:00"},null,{"$f":"EED2+1","v":"2019-12-17"},null,null,null,null,null,{"$f":"SUM(EER14:EER30)+SUM(EET14:EET30)+SUM(EEV14:EEV30)","v":"00:00:00"},null,{"$f":"IF(SUM(EEV4:EEV6)-EEV7<0,0,SUM(EEV4:EEV6)-EEV7)","v":"00:00:00"},null,{"$f":"EEN2+1","v":"2019-12-18"},null,null,null,null,null,{"$f":"SUM(EFB14:EFB30)+SUM(EFD14:EFD30)+SUM(EFF14:EFF30)","v":"00:00:00"},null,{"$f":"IF(SUM(EFF4:EFF6)-EFF7<0,0,SUM(EFF4:EFF6)-EFF7)","v":"00:00:00"},null,{"$f":"EEX2+1","v":"2019-12-19"},null,null,null,null,null,{"$f":"SUM(EFL14:EFL30)+SUM(EFN14:EFN30)+SUM(EFP14:EFP30)","v":"00:00:00"},null,{"$f":"IF(SUM(EFP4:EFP6)-EFP7<0,0,SUM(EFP4:EFP6)-EFP7)","v":"00:00:00"},null,{"$f":"EFH2+1","v":"2019-12-20"},null,null,null,null,null,{"$f":"SUM(EFV14:EFV30)+SUM(EFX14:EFX30)+SUM(EFZ14:EFZ30)","v":"00:00:00"},null,{"$f":"IF(SUM(EFZ4:EFZ6)-EFZ7<0,0,SUM(EFZ4:EFZ6)-EFZ7)","v":"00:00:00"},null,{"$f":"EFR2+1","v":"2019-12-21"},null,null,null,null,null,{"$f":"SUM(EGF14:EGF30)+SUM(EGH14:EGH30)+SUM(EGJ14:EGJ30)","v":"00:00:00"},null,{"$f":"IF(SUM(EGJ4:EGJ6)-EGJ7<0,0,SUM(EGJ4:EGJ6)-EGJ7)","v":"00:00:00"},null,{"$f":"EGB2+1","v":"2019-12-22"},null,null,null,null,null,{"$f":"SUM(EGP14:EGP30)+SUM(EGR14:EGR30)+SUM(EGT14:EGT30)","v":"00:00:00"},null,{"$f":"IF(SUM(EGT4:EGT6)-EGT7<0,0,SUM(EGT4:EGT6)-EGT7)","v":"00:00:00"},null,{"$f":"EGL2+1","v":"2019-12-23"},null,null,null,null,null,{"$f":"SUM(EGZ14:EGZ30)+SUM(EHB14:EHB30)+SUM(EHD14:EHD30)","v":"00:00:00"},null,{"$f":"IF(SUM(EHD4:EHD6)-EHD7<0,0,SUM(EHD4:EHD6)-EHD7)","v":"00:00:00"},"h",{"$f":"EGV2+1","v":"2019-12-24"},null,null,null,null,null,{"$f":"SUM(EHJ14:EHJ30)+SUM(EHL14:EHL30)+SUM(EHN14:EHN30)","v":"00:00:00"},null,{"$f":"IF(SUM(EHN4:EHN6)-EHN7<0,0,SUM(EHN4:EHN6)-EHN7)","v":"00:00:00"},"h",{"$f":"EHF2+1","v":"2019-12-25"},null,null,null,null,null,{"$f":"SUM(EHT14:EHT30)+SUM(EHV14:EHV30)+SUM(EHX14:EHX30)","v":"00:00:00"},null,{"$f":"IF(SUM(EHX4:EHX6)-EHX7<0,0,SUM(EHX4:EHX6)-EHX7)","v":"00:00:00"},"h",{"$f":"EHP2+1","v":"2019-12-26"},null,null,null,null,null,{"$f":"SUM(EID14:EID30)+SUM(EIF14:EIF30)+SUM(EIH14:EIH30)","v":"00:00:00"},null,{"$f":"IF(SUM(EIH4:EIH6)-EIH7<0,0,SUM(EIH4:EIH6)-EIH7)","v":"00:00:00"},null,{"$f":"EHZ2+1","v":"2019-12-27"},null,null,null,null,null,{"$f":"SUM(EIN14:EIN30)+SUM(EIP14:EIP30)+SUM(EIR14:EIR30)","v":"00:00:00"},null,{"$f":"IF(SUM(EIR4:EIR6)-EIR7<0,0,SUM(EIR4:EIR6)-EIR7)","v":"00:00:00"},null,{"$f":"EIJ2+1","v":"2019-12-28"},null,null,null,null,null,{"$f":"SUM(EIX14:EIX30)+SUM(EIZ14:EIZ30)+SUM(EJB14:EJB30)","v":"00:00:00"},null,{"$f":"IF(SUM(EJB4:EJB6)-EJB7<0,0,SUM(EJB4:EJB6)-EJB7)","v":"00:00:00"},null,{"$f":"EIT2+1","v":"2019-12-29"},null,null,null,null,null,{"$f":"SUM(EJH14:EJH30)+SUM(EJJ14:EJJ30)+SUM(EJL14:EJL30)","v":"00:00:00"},null,{"$f":"IF(SUM(EJL4:EJL6)-EJL7<0,0,SUM(EJL4:EJL6)-EJL7)","v":"00:00:00"},null,{"$f":"EJD2+1","v":"2019-12-30"},null,null,null,null,null,{"$f":"SUM(EJR14:EJR30)+SUM(EJT14:EJT30)+SUM(EJV14:EJV30)","v":"00:00:00"},null,{"$f":"IF(SUM(EJV4:EJV6)-EJV7<0,0,SUM(EJV4:EJV6)-EJV7)","v":"00:00:00"},null,{"$f":"EJN2+1","v":"2019-12-31"},null,null,null,null,"Yhteensä ",{"$f":"SUM(EKB14:EKB30)+SUM(EKD14:EKD30)+SUM(EKF14:EKF30)","v":"00:00:00"},null,{"$f":"IF(SUM(EKF4:EKF6)-EKF7<0,\"\",SUM(EKF4:EKF6)-EKF7)","v":"00:00:00"},"h",{"$f":"EJX2+1","v":"2020-01-01"},null,null,null,null,"Yhteensä ",{"$f":"SUM(EKL14:EKL30)+SUM(EKN14:EKN30)+SUM(EKP14:EKP30)","v":"00:00:00"},null,{"$f":"IF(SUM(EKP4:EKP6)-EKP7<0,\"\",SUM(EKP4:EKP6)-EKP7)","v":"00:00:00"},"h",{"$f":"EKH2+1","v":"2020-01-02"}]
[null,"Työpäiviä on kulunut",null,{"$f":"Kalenteri!$I$28","v":4.7393364928909956E-3},null,"Tekemättömät tunnit",null,null,null,null,null,null,null,"2019-01-07","nyt",null,{"$f":"$D$1","v":"Olli Opettaja"},"Klo",null,"Klo",null,"Aika",null,"Huomautus",null,null,null,"Klo",null,"Klo",null,"Aika",null,"Huomautus",null,null,null,"Klo",null,"Klo",null,"Aika",null,"Huomautus",null,null,null,"Klo",null,"Klo",null,"Aika",null,"Huomautus",null,null,null,"Klo",null,"Klo",null,"Aika",null,"Huomautus",null,null,null,"Klo",null,"Klo",null,"Aika",null,"Huomautus",null,null,null,"Klo",null,"Klo",null,"Aika",null,"Huomautus",null,null,null,"Klo",null,"Klo",null,"Aika",null,"Huomautus",null,null,null,"Klo",null,"Klo",null,"Aika",null,"Huomautus",null,null,null,"Klo",null,"Klo",null,"Aika",null,"Huomautus",null,null,null,"Klo",null,"Klo",null,"Aika",null,"Huomautus",null,null,null,"Klo",null,"Klo",null,"Aika",null,"Huomautus",null,null,null,"Klo",null,"Klo",null,"Aika",null,"Huomautus",null,null,null,"Klo",null,"Klo",null,"Aika",null,"Huomautus",null,null,null,"Klo",null,"Klo",null,"Aika",null,"Huomautus",null,null,null,"Klo",null,"Klo",null,"Aika",null,"Huomautus",null,null,null,"Klo",null,"Klo",null,"Aika",null,"Huomautus",null,null,null,"Klo",null,"Klo",null,"Aika",null,"Huomautus",null,null,null,"Klo",null,"Klo",null,"Aika",null,"Huomautus",null,null,null,"Klo",null,"Klo",null,"Aika",null,"Huomautus",null,null,null,"Klo",null,"Klo",null,"Aika",null,"Huomautus",null,null,null,"Klo",null,"Klo",null,"Aika",null,"Huomautus",null,null,null,"Klo",null,"Klo",null,"Aika",null,"Huomautus",null,null,null,"Klo",null,"Klo",null,"Aika",null,"Huomautus",null,null,null,"Klo",null,"Klo",null,"Aika",null,"Huomautus",null,null,null,"Klo",null,"Klo",null,"Aika",null,"Huomautus",null,null,null,"Klo",null,"Klo",null,"Aika",null,"Huomautus",null,null,null,"Klo",null,"Klo",null,"Aika",null,"Huomautus",null,null,null,"Klo",null,"Klo",null,"Aika",null,"Huomautus",null,null,null,"Klo",null,"Klo",null,"Aika",null,"Huomautus",null,null,null,"Klo",null,"Klo",null,"Aika",null,"Huomautus",null,null,null,"Klo",null,"Klo",null,"Aika",null,"Huomautus",null,null,null,"Klo",null,"Klo",null,"Aika",null,"Huomautus",null,null,null,"Klo",null,"Klo",null,"Aika",null,"Huomautus",null,null,null,"Klo",null,"Klo",null,"Aika",null,"Huomautus",null,null,null,"Klo",null,"Klo",null,"Aika",null,"Huomautus",null,null,null,"Klo",null,"Klo",null,"Aika",null,"Huomautus",null,null,null,"Klo",null,"Klo",null,"Aika",null,"Huomautus",null,null,null,"Klo",null,"Klo",null,"Aika",null,"Huomautus",null,null,null,"Klo",null,"Klo",null,"Aika",null,"Huomautus",null,null,null,"Klo",null,"Klo",null,"Aika",null,"Huomautus",null,null,null,"Klo",null,"Klo",null,"Aika",null,"Huomautus",null,null,null,"Klo",null,"Klo",null,"Aika",null,"Huomautus",null,null,null,"Klo",null,"Klo",null,"Aika",null,"Huomautus",null,null,null,"Klo",null,"Klo",null,"Aika",null,"Huomautus",null,null,null,"Klo",null,"Klo",null,"Aika",null,"Huomautus",null,null,null,"Klo",null,"Klo",null,"Aika",null,"Huomautus",null,null,null,"Klo",null,"Klo",null,"Aika",null,"Huomautus",null,null,null,"Klo",null,"Klo",null,"Aika",null,"Huomautus",null,null,null,"Klo",null,"Klo",null,"Aika",null,"Huomautus",null,null,null,"Klo",null,"Klo",null,"Aika",null,"Huomautus",null,null,null,"Klo",null,"Klo",null,"Aika",null,"Huomautus",null,null,null,"Klo",null,"Klo",null,"Aika",null,"Huomautus",null,null,null,"Klo",null,"Klo",null,"Aika",null,"Huomautus",null,null,null,"Klo",null,"Klo",null,"Aika",null,"Huomautus",null,null,null,"Klo",null,"Klo",null,"Aika",null,"Huomautus",null,null,null,"Klo",null,"Klo",null,"Aika",null,"Huomautus",null,null,null,"Klo",null,"Klo",null,"Aika",null,"Huomautus",null,null,null,"Klo",null,"Klo",null,"Aika",null,"Huomautus",null,null,null,"Klo",null,"Klo",null,"Aika",null,"Huomautus",null,null,null,"Klo",null,"Klo",null,"Aika",null,"Huomautus",null,null,null,"Klo",null,"Klo",null,"Aika",null,"Huomautus",null,null,null,"Klo",null,"Klo",null,"Aika",null,"Huomautus",null,null,null,"Klo",null,"Klo",null,"Aika",null,"Huomautus",null,null,null,"Klo",null,"Klo",null,"Aika",null,"Huomautus",null,null,null,"Klo",null,"Klo",null,"Aika",null,"Huomautus",null,null,null,"Klo",null,"Klo",null,"Aika",null,"Huomautus",null,null,null,"Klo",null,"Klo",null,"Aika",null,"Huomautus",null,null,null,"Klo",null,"Klo",null,"Aika",null,"Huomautus",null,null,null,"Klo",null,"Klo",null,"Aika",null,"Huomautus",null,null,null,"Klo",null,"Klo",null,"Aika",null,"Huomautus",null,null,null,"Klo",null,"Klo",null,"Aika",null,"Huomautus",null,null,null,"Klo",null,"Klo",null,"Aika",null,"Huomautus",null,null,null,"Klo",null,"Klo",null,"Aika",null,"Huomautus",null,null,null,"Klo",null,"Klo",null,"Aika",null,"Huomautus",null,null,null,"Klo",null,"Klo",null,"Aika",null,"Huomautus",null,null,null,"Klo",null,"Klo",null,"Aika",null,"Huomautus",null,null,null,"Klo",null,"Klo",null,"Aika",null,"Huomautus",null,null,null,"Klo",null,"Klo",null,"Aika",null,"Huomautus",null,null,null,"Klo",null,"Klo",null,"Aika",null,"Huomautus",null,null,null,"Klo",null,"Klo",null,"Aika",null,"Huomautus",null,null,null,"Klo",null,"Klo",null,"Aika",null,"Huomautus",null,null,null,"Klo",null,"Klo",null,"Aika",null,"Huomautus",null,null,null,"Klo",null,"Klo",null,"Aika",null,"Huomautus",null,null,null,"Klo",null,"Klo",null,"Aika",null,"Huomautus",null,null,null,"Klo",null,"Klo",null,"Aika",null,"Huomautus",null,null,null,"Klo",null,"Klo",null,"Aika",null,"Huomautus",null,null,null,"Klo",null,"Klo",null,"Aika",null,"Huomautus",null,null,null,"Klo",null,"Klo",null,"Aika",null,"Huomautus",null,null,null,"Klo",null,"Klo",null,"Aika",null,"Huomautus",null,null,null,"Klo",null,"Klo",null,"Aika",null,"Huomautus",null,null,null,"Klo",null,"Klo",null,"Aika",null,"Huomautus",null,null,null,"Klo",null,"Klo",null,"Aika",null,"Huomautus",null,null,null,"Klo",null,"Klo",null,"Aika",null,"Huomautus",null,null,null,"Klo",null,"Klo",null,"Aika",null,"Huomautus",null,null,null,"Klo",null,"Klo",null,"Aika",null,"Huomautus",null,null,null,"Klo",null,"Klo",null,"Aika",null,"Huomautus",null,null,null,"Klo",null,"Klo",null,"Aika",null,"Huomautus",null,null,null,"Klo",null,"Klo",null,"Aika",null,"Huomautus",null,null,null,"Klo",null,"Klo",null,"Aika",null,"Huomautus",null,null,null,"Klo",null,"Klo",null,"Aika",null,"Huomautus",null,null,null,"Klo",null,"Klo",null,"Aika",null,"Huomautus",null,null,null,"Klo",null,"Klo",null,"Aika",null,"Huomautus",null,null,null,"Klo",null,"Klo",null,"Aika",null,"Huomautus",null,null,null,"Klo",null,"Klo",null,"Aika",null,"Huomautus",null,null,null,"Klo",null,"Klo",null,"Aika",null,"Huomautus",null,null,null,"Klo",null,"Klo",null,"Aika",null,"Huomautus",null,null,null,"Klo",null,"Klo",null,"Aika",null,"Huomautus",null,null,null,"Klo",null,"Klo",null,"Aika",null,"Huomautus",null,null,null,"Klo",null,"Klo",null,"Aika",null,"Huomautus",null,null,null,"Klo",null,"Klo",null,"Aika",null,"Huomautus",null,null,null,"Klo",null,"Klo",null,"Aika",null,"Huomautus",null,null,null,"Klo",null,"Klo",null,"Aika",null,"Huomautus",null,null,null,"Klo",null,"Klo",null,"Aika",null,"Huomautus",null,null,null,"Klo",null,"Klo",null,"Aika",null,"Huomautus",null,null,null,"Klo",null,"Klo",null,"Aika",null,"Huomautus",null,null,null,"Klo",null,"Klo",null,"Aika",null,"Huomautus",null,null,null,"Klo",null,"Klo",null,"Aika",null,"Huomautus",null,null,null,"Klo",null,"Klo",null,"Aika",null,"Huomautus",null,null,null,"Klo",null,"Klo",null,"Aika",null,"Huomautus",null,null,null,"Klo",null,"Klo",null,"Aika",null,"Huomautus",null,null,null,"Klo",null,"Klo",null,"Aika",null,"Huomautus",null,null,null,"Klo",null,"Klo",null,"Aika",null,"Huomautus",null,null,null,"Klo",null,"Klo",null,"Aika",null,"Huomautus",null,null,null,"Klo",null,"Klo",null,"Aika",null,"Huomautus",null,null,null,"Klo",null,"Klo",null,"Aika",null,"Huomautus",null,null,null,"Klo",null,"Klo",null,"Aika",null,"Huomautus",null,null,null,"Klo",null,"Klo",null,"Aika",null,"Huomautus",null,null,null,"Klo",null,"Klo",null,"Aika",null,"Huomautus",null,null,null,"Klo",null,"Klo",null,"Aika",null,"Huomautus",null,null,null,"Klo",null,"Klo",null,"Aika",null,"Huomautus",null,null,null,"Klo",null,"Klo",null,"Aika",null,"Huomautus",null,null,null,"Klo",null,"Klo",null,"Aika",null,"Huomautus",null,null,null,"Klo",null,"Klo",null,"Aika",null,"Huomautus",null,null,null,"Klo",null,"Klo",null,"Aika",null,"Huomautus",null,null,null,"Klo",null,"Klo",null,"Aika",null,"Huomautus",null,null,null,"Klo",null,"Klo",null,"Aika",null,"Huomautus",null,null,null,"Klo",null,"Klo",null,"Aika",null,"Huomautus",null,null,null,"Klo",null,"Klo",null,"Aika",null,"Huomautus",null,null,null,"Klo",null,"Klo",null,"Aika",null,"Huomautus",null,null,null,"Klo",null,"Klo",null,"Aika",null,"Huomautus",null,null,null,"Klo",null,"Klo",null,"Aika",null,"Huomautus",null,null,null,"Klo",null,"Klo",null,"Aika",null,"Huomautus",null,null,null,"Klo",null,"Klo",null,"Aika",null,"Huomautus",null,null,null,"Klo",null,"Klo",null,"Aika",null,"Huomautus",null,null,null,"Klo",null,"Klo",null,"Aika",null,"Huomautus",null,null,null,"Klo",null,"Klo",null,"Aika",null,"Huomautus",null,null,null,"Klo",null,"Klo",null,"Aika",null,"Huomautus",null,null,null,"Klo",null,"Klo",null,"Aika",null,"Huomautus",null,null,null,"Klo",null,"Klo",null,"Aika",null,"Huomautus",null,null,null,"Klo",null,"Klo",null,"Aika",null,"Huomautus",null,null,null,"Klo",null,"Klo",null,"Aika",null,"Huomautus",null,null,null,"Klo",null,"Klo",null,"Aika",null,"Huomautus",null,null,null,"Klo",null,"Klo",null,"Aika",null,"Huomautus",null,null,null,"Klo",null,"Klo",null,"Aika",null,"Huomautus",null,null,null,"Klo",null,"Klo",null,"Aika",null,"Huomautus",null,null,null,"Klo",null,"Klo",null,"Aika",null,"Huomautus",null,null,null,"Klo",null,"Klo",null,"Aika",null,"Huomautus",null,null,null,"Klo",null,"Klo",null,"Aika",null,"Huomautus",null,null,null,"Klo",null,"Klo",null,"Aika",null,"Huomautus",null,null,null,"Klo",null,"Klo",null,"Aika",null,"Huomautus",null,null,null,"Klo",null,"Klo",null,"Aika",null,"Huomautus",null,null,null,"Klo",null,"Klo",null,"Aika",null,"Huomautus",null,null,null,"Klo",null,"Klo",null,"Aika",null,"Huomautus",null,null,null,"Klo",null,"Klo",null,"Aika",null,"Huomautus",null,null,null,"Klo",null,"Klo",null,"Aika",null,"Huomautus",null,null,null,"Klo",null,"Klo",null,"Aika",null,"Huomautus",null,null,null,"Klo",null,"Klo",null,"Aika",null,"Huomautus",null,null,null,"Klo",null,"Klo",null,"Aika",null,"Huomautus",null,null,null,"Klo",null,"Klo",null,"Aika",null,"Huomautus",null,null,null,"Klo",null,"Klo",null,"Aika",null,"Huomautus",null,null,null,"Klo",null,"Klo",null,"Aika",null,"Huomautus",null,null,null,"Klo",null,"Klo",null,"Aika",null,"Huomautus",null,null,null,"Klo",null,"Klo",null,"Aika",null,"Huomautus",null,null,null,"Klo",null,"Klo",null,"Aika",null,"Huomautus",null,null,null,"Klo",null,"Klo",null,"Aika",null,"Huomautus",null,null,null,"Klo",null,"Klo",null,"Aika",null,"Huomautus",null,null,null,"Klo",null,"Klo",null,"Aika",null,"Huomautus",null,null,null,"Klo",null,"Klo",null,"Aika",null,"Huomautus",null,null,null,"Klo",null,"Klo",null,"Aika",null,"Huomautus",null,null,null,"Klo",null,"Klo",null,"Aika",null,"Huomautus",null,null,null,"Klo",null,"Klo",null,"Aika",null,"Huomautus",null,null,null,"Klo",null,"Klo",null,"Aika",null,"Huomautus",null,null,null,"Klo",null,"Klo",null,"Aika",null,"Huomautus",null,null,null,"Klo",null,"Klo",null,"Aika",null,"Huomautus",null,null,null,"Klo",null,"Klo",null,"Aika",null,"Huomautus",null,null,null,"Klo",null,"Klo",null,"Aika",null,"Huomautus",null,null,null,"Klo",null,"Klo",null,"Aika",null,"Huomautus",null,null,null,"Klo",null,"Klo",null,"Aika",null,"Huomautus",null,null,null,"Klo",null,"Klo",null,"Aika",null,"Huomautus",null,null,null,"Klo",null,"Klo",null,"Aika",null,"Huomautus",null,null,null,"Klo",null,"Klo",null,"Aika",null,"Huomautus",null,null,null,"Klo",null,"Klo",null,"Aika",null,"Huomautus",null,null,null,"Klo",null,"Klo",null,"Aika",null,"Huomautus",null,null,null,"Klo",null,"Klo",null,"Aika",null,"Huomautus",null,null,null,"Klo",null,"Klo",null,"Aika",null,"Huomautus",null,null,null,"Klo",null,"Klo",null,"Aika",null,"Huomautus",null,null,null,"Klo",null,"Klo",null,"Aika",null,"Huomautus",null,null,null,"Klo",null,"Klo",null,"Aika",null,"Huomautus",null,null,null,"Klo",null,"Klo",null,"Aika",null,"Huomautus",null,null,null,"Klo",null,"Klo",null,"Aika",null,"Huomautus",null,null,null,"Klo",null,"Klo",null,"Aika",null,"Huomautus",null,null,null,"Klo",null,"Klo",null,"Aika",null,"Huomautus",null,null,null,"Klo",null,"Klo",null,"Aika",null,"Huomautus",null,null,null,"Klo",null,"Klo",null,"Aika",null,"Huomautus",null,null,null,"Klo",null,"Klo",null,"Aika",null,"Huomautus",null,null,null,"Klo",null,"Klo",null,"Aika",null,"Huomautus",null,null,null,"Klo",null,"Klo",null,"Aika",null,"Huomautus",null,null,null,"Klo",null,"Klo",null,"Aika",null,"Huomautus",null,null,null,"Klo",null,"Klo",null,"Aika",null,"Huomautus",null,null,null,"Klo",null,"Klo",null,"Aika",null,"Huomautus",null,null,null,"Klo",null,"Klo",null,"Aika",null,"Huomautus",null,null,null,"Klo",null,"Klo",null,"Aika",null,"Huomautus",null,null,null,"Klo",null,"Klo",null,"Aika",null,"Huomautus",null,null,null,"Klo",null,"Klo",null,"Aika",null,"Huomautus",null,null,null,"Klo",null,"Klo",null,"Aika",null,"Huomautus",null,null,null,"Klo",null,"Klo",null,"Aika",null,"Huomautus",null,null,null,"Klo",null,"Klo",null,"Aika",null,"Huomautus",null,null,null,"Klo",null,"Klo",null,"Aika",null,"Huomautus",null,null,null,"Klo",null,"Klo",null,"Aika",null,"Huomautus",null,null,null,"Klo",null,"Klo",null,"Aika",null,"Huomautus",null,null,null,"Klo",null,"Klo",null,"Aika",null,"Huomautus",null,null,null,"Klo",null,"Klo",null,"Aika",null,"Huomautus",null,null,null,"Klo",null,"Klo",null,"Aika",null,"Huomautus",null,null,null,"Klo",null,"Klo",null,"Aika",null,"Huomautus",null,null,null,"Klo",null,"Klo",null,"Aika",null,"Huomautus",null,null,null,"Klo",null,"Klo",null,"Aika",null,"Huomautus",null,null,null,"Klo",null,"Klo",null,"Aika",null,"Huomautus",null,null,null,"Klo",null,"Klo",null,"Aika",null,"Huomautus",null,null,null,"Klo",null,"Klo",null,"Aika",null,"Huomautus",null,null,null,"Klo",null,"Klo",null,"Aika",null,"Huomautus",null,null,null,"Klo",null,"Klo",null,"Aika",null,"Huomautus",null,null,null,"Klo",null,"Klo",null,"Aika",null,"Huomautus",null,null,null,"Klo",null,"Klo",null,"Aika",null,"Huomautus",null,null,null,"Klo",null,"Klo",null,"Aika",null,"Huomautus",null,null,null,"Klo",null,"Klo",null,"Aika",null,"Huomautus",null,null,null,"Klo",null,"Klo",null,"Aika",null,"Huomautus",null,null,null,"Klo",null,"Klo",null,"Aika",null,"Huomautus",null,null,null,"Klo",null,"Klo",null,"Aika",null,"Huomautus",null,null,null,"Klo",null,"Klo",null,"Aika",null,"Huomautus",null,null,null,"Klo",null,"Klo",null,"Aika",null,"Huomautus",null,null,null,"Klo",null,"Klo",null,"Aika",null,"Huomautus",null,null,null,"Klo",null,"Klo",null,"Aika",null,"Huomautus",null,null,null,"Klo",null,"Klo",null,"Aika",null,"Huomautus",null,null,null,"Klo",null,"Klo",null,"Aika",null,"Huomautus",null,null,null,"Klo",null,"Klo",null,"Aika",null,"Huomautus",null,null,null,"Klo",null,"Klo",null,"Aika",null,"Huomautus",null,null,null,"Klo",null,"Klo",null,"Aika",null,"Huomautus",null,null,null,"Klo",null,"Klo",null,"Aika",null,"Huomautus",null,null,null,"Klo",null,"Klo",null,"Aika",null,"Huomautus",null,null,null,"Klo",null,"Klo",null,"Aika",null,"Huomautus",null,null,null,"Klo",null,"Klo",null,"Aika",null,"Huomautus",null,null,null,"Klo",null,"Klo",null,"Aika",null,"Huomautus",null,null,null,"Klo",null,"Klo",null,"Aika",null,"Huomautus",null,null,null,"Klo",null,"Klo",null,"Aika",null,"Huomautus",null,null,null,"Klo",null,"Klo",null,"Aika",null,"Huomautus",null,null,null,"Klo",null,"Klo",null,"Aika",null,"Huomautus",null,null,null,"Klo",null,"Klo",null,"Aika",null,"Huomautus",null,null,null,"Klo",null,"Klo",null,"Aika",null,"Huomautus",null,null,null,"Klo",null,"Klo",null,"Aika",null,"Huomautus",null,null,null,"Klo",null,"Klo",null,"Aika",null,"Huomautus",null,null,null,"Klo",null,"Klo",null,"Aika",null,"Huomautus",null,null,null,"Klo",null,"Klo",null,"Aika",null,"Huomautus",null,null,null,"Klo",null,"Klo",null,"Aika",null,"Huomautus",null,null,null,"Klo",null,"Klo",null,"Aika",null,"Huomautus",null,null,null,"Klo",null,"Klo",null,"Aika",null,"Huomautus",null,null,null,"Klo",null,"Klo",null,"Aika",null,"Huomautus",null,null,null,"Klo",null,"Klo",null,"Aika",null,"Huomautus",null,null,null,"Klo",null,"Klo",null,"Aika",null,"Huomautus",null,null,null,"Klo",null,"Klo",null,"Aika",null,"Huomautus",null,null,null,"Klo",null,"Klo",null,"Aika",null,"Huomautus",null,null,null,"Klo",null,"Klo",null,"Aika",null,"Huomautus",null,null,null,"Klo",null,"Klo",null,"Aika",null,"Huomautus",null,null,null,"Klo",null,"Klo",null,"Aika",null,"Huomautus",null,null,null,"Klo",null,"Klo",null,"Aika",null,"Huomautus",null,null,null,"Klo",null,"Klo",null,"Aika",null,"Huomautus",null,null,null,"Klo",null,"Klo",null,"Aika",null,"Huomautus",null,null,null,"Klo",null,"Klo",null,"Aika",null,"Huomautus",null,null,null,"Klo",null,"Klo",null,"Aika",null,"Huomautus",null,null,null,"Klo",null,"Klo",null,"Aika",null,"Huomautus",null,null,null,"Klo",null,"Klo",null,"Aika",null,"Huomautus",null,null,null,"Klo",null,"Klo",null,"Aika",null,"Huomautus",null,null,null,"Klo",null,"Klo",null,"Aika",null,"Huomautus",null,null,null,"Klo",null,"Klo",null,"Aika",null,"Huomautus",null,null,null,"Klo",null,"Klo",null,"Aika",null,"Huomautus",null,null,null,"Klo",null,"Klo",null,"Aika",null,"Huomautus",null,null,null,"Klo",null,"Klo",null,"Aika",null,"Huomautus",null,null,null,"Klo",null,"Klo",null,"Aika",null,"Huomautus",null,null,null,"Klo",null,"Klo",null,"Aika",null,"Huomautus",null,null,null,"Klo",null,"Klo",null,"Aika",null,"Huomautus",null,null,null,"Klo",null,"Klo",null,"Aika",null,"Huomautus",null,null,null,"Klo",null,"Klo",null,"Aika",null,"Huomautus",null,null,null,"Klo",null,"Klo",null,"Aika",null,"Huomautus",null,null,null,"Klo",null,"Klo",null,"Aika",null,"Huomautus",null,null,null,"Klo",null,"Klo",null,"Aika",null,"Huomautus",null,null,null,"Klo",null,"Klo",null,"Aika",null,"Huomautus",null,null,null,"Klo",null,"Klo",null,"Aika",null,"Huomautus",null,null,null,"Klo",null,"Klo",null,"Aika",null,"Huomautus",null,null,null,"Klo",null,"Klo",null,"Aika",null,"Huomautus",null,null,null,"Klo",null,"Klo",null,"Aika",null,"Huomautus",null,null,null,"Klo",null,"Klo",null,"Aika",null,"Huomautus",null,null,null,"Klo",null,"Klo",null,"Aika",null,"Huomautus",null,null,null,"Klo",null,"Klo",null,"Aika",null,"Huomautus",null,null,null,"Klo",null,"Klo",null,"Aika",null,"Huomautus",null,null,null,"Klo",null,"Klo",null,"Aika",null,"Huomautus",null,null,null,"Klo",null,"Klo",null,"Aika",null,"Huomautus",null,null,null,"Klo",null,"Klo",null,"Aika",null,"Huomautus",null,null,null,"Klo",null,"Klo",null,"Aika",null,"Huomautus",null,null,null,"Klo",null,"Klo",null,"Aika",null,"Huomautus",null,null,null,"Klo",null,"Klo",null,"Aika",null,"Huomautus",null,null,null,"Klo",null,"Klo",null,"Aika",null,"Huomautus",null,null,null,"Klo",null,"Klo",null,"Aika",null,"Huomautus",null,null,null,"Klo",null,"Klo",null,"Aika",null,"Huomautus",null,null,null,"Klo",null,"Klo",null,"Aika",null,"Huomautus",null,null,null,"Klo",null,"Klo",null,"Aika",null,"Huomautus",null,null,null,"Klo",null,"Klo",null,"Aika",null,"Huomautus",null,null,null,"Klo",null,"Klo",null,"Aika",null,"Huomautus",null,null,null,"Klo",null,"Klo",null,"Aika",null,"Huomautus",null,null,null,"Klo",null,"Klo",null,"Aika",null,"Huomautus",null,null,null,"Klo",null,"Klo",null,"Aika",null,"Huomautus",null,null,null,"Klo",null,"Klo",null,"Aika",null,"Huomautus",null,null,null,"Klo",null,"Klo",null,"Aika",null,"Huomautus",null,null,null,"Klo",null,"Klo",null,"Aika",null,"Huomautus",null,null,null,"Klo",null,"Klo",null,"Aika",null,"Huomautus",null,null,null,"Klo",null,"Klo",null,"Aika",null,"Huomautus",null,null,null,"Klo",null,"Klo",null,"Aika",null,"Huomautus",null,null,null,"Klo",null,"Klo",null,"Aika",null,"Huomautus",null,null,null,"Klo",null,"Klo",null,"Aika",null,"Huomautus",null,null,null,"Klo",null,"Klo",null,"Aika",null,"Huomautus",null,null,null,"Klo",null,"Klo",null,"Aika",null,"Huomautus",null,null,null,"Klo",null,"Klo",null,"Aika",null,"Huomautus",null,null,null,"Klo",null,"Klo",null,"Aika",null,"Huomautus",null,null,null,"Klo",null,"Klo",null,"Aika",null,"Huomautus",null,null,null,"Klo",null,"Klo",null,"Aika",null,"Huomautus",null,null,null,"Klo",null,"Klo",null,"Aika",null,"Huomautus",null,null,null,"Klo",null,"Klo",null,"Aika",null,"Huomautus",null,null,null,"Klo",null,"Klo",null,"Aika",null,"Huomautus",null,null,null,"Klo",null,"Klo",null,"Aika",null,"Huomautus",null,null,null,"Klo",null,"Klo",null,"Aika",null,"Huomautus",null,null,null,"Klo",null,"Klo",null,"Aika",null,"Huomautus",null,null,null,"Klo",null,"Klo",null,"Aika",null,"Huomautus",null,null,null,"Klo",null,"Klo",null,"Aika",null,"Huomautus",null,null,null,"Klo",null,"Klo",null,"Aika",null,"Huomautus",null,null,null,"Klo",null,"Klo",null,"Aika",null,"Huomautus",null,null,null,"Klo",null,"Klo",null,"Aika",null,"Huomautus",null,null,null,"Klo",null,"Klo",null,"Aika",null,"Huomautus",null,null,null,"Klo",null,"Klo",null,"Aika",null,"Huomautus",null,null,null,"Klo",null,"Klo",null,"Aika",null,"Huomautus",null,null,null,"Klo",null,"Klo",null,"Aika",null,"Huomautus",null,null,null,"Klo",null,"Klo",null,"Aika",null,"Huomautus",null,null,null,"Klo",null,"Klo",null,"Aika",null,"Huomautus",null,null,null,"Klo",null,"Klo",null,"Aika",null,"Huomautus",null,null,null,"Klo",null,"Klo",null,"Aika",null,"Huomautus",null,null,null,"Klo",null,"Klo",null,"Aika",null,"Huomautus",null,null,null,"Klo",null,"Klo",null,"Aika",null,"Huomautus",null,null,null,"Klo",null,"Klo",null,"Aika",null,"Huomautus",null,null,null,"Klo",null,"Klo",null,"Aika",null,"Huomautus",null,null,null,"Klo",null,"Klo",null,"Aika",null,"Huomautus",null,null,null,"Klo",null,"Klo",null,"Aika",null,"Huomautus",null,null,null,"Klo",null,"Klo",null,"Aika",null,"Huomautus",null,null,null,"Klo",null,"Klo",null,"Aika",null,"Huomautus",null,null,null,"Klo",null,"Klo",null,"Aika",null,"Huomautus",null,null,null,"Klo",null,"Klo",null,"Aika",null,"Huomautus",null,null,null,"Klo",null,"Klo",null,"Aika",null,"Huomautus",null,null,null,"Klo",null,"Klo",null,"Aika",null,"Huomautus",null,null,null,"Klo",null,"Klo",null,"Aika",null,"Huomautus",null,null,null,"Klo",null,"Klo",null,"Aika",null,"Huomautus"]
[null,"Kalentrivuotta on kulunut ",null,{"$f":"Kalenteri!I30","v":1.9178082191780823E-2},null,null,null,null,null,null,null,null,"",null,null,null,"Työjakso1",null,null,null,null,{"$f":"IF(R8<>\"\",0,IF(T4<R4,\"\",IF(T4=\"\",\"\",T4-R4)))","v":""},"v",null,null,null,null,null,null,null,null,{"$f":"IF(AB8<>\"\",0,IF(AD4<AB4,\"\",IF(AD4=\"\",\"\",AD4-AB4)))","v":""},"v",null,null,null,null,null,null,null,null,{"$f":"IF(AL8<>\"\",0,IF(AN4<AL4,\"\",IF(AN4=\"\",\"\",AN4-AL4)))","v":""},"v",null,null,null,null,null,null,null,null,{"$f":"IF(AV8<>\"\",0,IF(AX4<AV4,\"\",IF(AX4=\"\",\"\",AX4-AV4)))","v":""},"v",null,null,null,null,null,null,null,null,{"$f":"IF(BF8<>\"\",0,IF(BH4<BF4,\"\",IF(BH4=\"\",\"\",BH4-BF4)))","v":""},"v",null,null,null,null,null,null,null,null,{"$f":"IF(BP8<>\"\",0,IF(BR4<BP4,\"\",IF(BR4=\"\",\"\",BR4-BP4)))","v":""},"v",null,null,null,null,null,null,null,null,{"$f":"IF(BZ8<>\"\",0,IF(CB4<BZ4,\"\",IF(CB4=\"\",\"\",CB4-BZ4)))","v":""},null,null,null,null,null,null,null,null,null,{"$f":"IF(CJ8<>\"\",0,IF(CL4<CJ4,\"\",IF(CL4=\"\",\"\",CL4-CJ4)))","v":""},null,null,null,null,null,null,null,null,null,{"$f":"IF(CT8<>\"\",0,IF(CV4<CT4,\"\",IF(CV4=\"\",\"\",CV4-CT4)))","v":""},null,null,null,null,null,null,null,null,null,{"$f":"IF(DD8<>\"\",0,IF(DF4<DD4,\"\",IF(DF4=\"\",\"\",DF4-DD4)))","v":""},null,null,null,null,null,null,null,null,null,{"$f":"IF(DN8<>\"\",0,IF(DP4<DN4,\"\",IF(DP4=\"\",\"\",DP4-DN4)))","v":""},null,null,null,null,null,null,null,null,null,{"$f":"IF(DX8<>\"\",0,IF(DZ4<DX4,\"\",IF(DZ4=\"\",\"\",DZ4-DX4)))","v":""},null,null,null,null,null,null,null,null,null,{"$f":"IF(EH8<>\"\",0,IF(EJ4<EH4,\"\",IF(EJ4=\"\",\"\",EJ4-EH4)))","v":""},null,null,null,null,null,null,null,null,null,{"$f":"IF(ER8<>\"\",0,IF(ET4<ER4,\"\",IF(ET4=\"\",\"\",ET4-ER4)))","v":""},null,null,null,null,null,null,null,null,null,{"$f":"IF(FB8<>\"\",0,IF(FD4<FB4,\"\",IF(FD4=\"\",\"\",FD4-FB4)))","v":""},null,null,null,null,null,null,null,null,null,{"$f":"IF(FL8<>\"\",0,IF(FN4<FL4,\"\",IF(FN4=\"\",\"\",FN4-FL4)))","v":""},null,null,null,null,null,null,null,null,null,{"$f":"IF(FV8<>\"\",0,IF(FX4<FV4,\"\",IF(FX4=\"\",\"\",FX4-FV4)))","v":""},null,null,null,null,null,null,null,null,null,{"$f":"IF(GF8<>\"\",0,IF(GH4<GF4,\"\",IF(GH4=\"\",\"\",GH4-GF4)))","v":""},null,null,null,null,null,null,null,null,null,{"$f":"IF(GP8<>\"\",0,IF(GR4<GP4,\"\",IF(GR4=\"\",\"\",GR4-GP4)))","v":""},null,null,null,null,null,null,null,null,null,{"$f":"IF(GZ8<>\"\",0,IF(HB4<GZ4,\"\",IF(HB4=\"\",\"\",HB4-GZ4)))","v":""},null,null,null,null,null,null,null,null,null,{"$f":"IF(HJ8<>\"\",0,IF(HL4<HJ4,\"\",IF(HL4=\"\",\"\",HL4-HJ4)))","v":""},null,null,null,null,null,null,null,null,null,{"$f":"IF(HT8<>\"\",0,IF(HV4<HT4,\"\",IF(HV4=\"\",\"\",HV4-HT4)))","v":""},null,null,null,null,null,null,null,null,null,{"$f":"IF(ID8<>\"\",0,IF(IF4<ID4,\"\",IF(IF4=\"\",\"\",IF4-ID4)))","v":""},null,null,null,null,null,null,null,null,null,{"$f":"IF(IN8<>\"\",0,IF(IP4<IN4,\"\",IF(IP4=\"\",\"\",IP4-IN4)))","v":""},null,null,null,null,null,null,null,null,null,{"$f":"IF(IX8<>\"\",0,IF(IZ4<IX4,\"\",IF(IZ4=\"\",\"\",IZ4-IX4)))","v":""},null,null,null,null,null,null,null,null,null,{"$f":"IF(JH8<>\"\",0,IF(JJ4<JH4,\"\",IF(JJ4=\"\",\"\",JJ4-JH4)))","v":""},null,null,null,null,null,null,null,null,null,{"$f":"IF(JR8<>\"\",0,IF(JT4<JR4,\"\",IF(JT4=\"\",\"\",JT4-JR4)))","v":""},null,null,null,null,null,null,null,null,null,{"$f":"IF(KB8<>\"\",0,IF(KD4<KB4,\"\",IF(KD4=\"\",\"\",KD4-KB4)))","v":""},null,null,null,null,null,null,null,null,null,{"$f":"IF(KL8<>\"\",0,IF(KN4<KL4,\"\",IF(KN4=\"\",\"\",KN4-KL4)))","v":""},null,null,null,null,null,null,null,null,null,{"$f":"IF(KV8<>\"\",0,IF(KX4<KV4,\"\",IF(KX4=\"\",\"\",KX4-KV4)))","v":""},null,null,null,null,null,null,null,null,null,{"$f":"IF(LF8<>\"\",0,IF(LH4<LF4,\"\",IF(LH4=\"\",\"\",LH4-LF4)))","v":""},null,null,null,null,null,null,null,null,null,{"$f":"IF(LP8<>\"\",0,IF(LR4<LP4,\"\",IF(LR4=\"\",\"\",LR4-LP4)))","v":""},null,null,null,null,null,null,null,null,null,{"$f":"IF(LZ8<>\"\",0,IF(MB4<LZ4,\"\",IF(MB4=\"\",\"\",MB4-LZ4)))","v":""},null,null,null,null,null,null,null,null,null,{"$f":"IF(MJ8<>\"\",0,IF(ML4<MJ4,\"\",IF(ML4=\"\",\"\",ML4-MJ4)))","v":""},null,null,null,null,null,null,null,null,null,{"$f":"IF(MT8<>\"\",0,IF(MV4<MT4,\"\",IF(MV4=\"\",\"\",MV4-MT4)))","v":""},null,null,null,null,null,null,null,null,null,{"$f":"IF(ND8<>\"\",0,IF(NF4<ND4,\"\",IF(NF4=\"\",\"\",NF4-ND4)))","v":""},null,null,null,null,null,null,null,null,null,{"$f":"IF(NN8<>\"\",0,IF(NP4<NN4,\"\",IF(NP4=\"\",\"\",NP4-NN4)))","v":""},null,null,null,null,null,null,null,null,null,{"$f":"IF(NX8<>\"\",0,IF(NZ4<NX4,\"\",IF(NZ4=\"\",\"\",NZ4-NX4)))","v":""},null,null,null,null,null,null,null,null,null,{"$f":"IF(OH8<>\"\",0,IF(OJ4<OH4,\"\",IF(OJ4=\"\",\"\",OJ4-OH4)))","v":""},null,null,null,null,null,null,null,null,null,{"$f":"IF(OR8<>\"\",0,IF(OT4<OR4,\"\",IF(OT4=\"\",\"\",OT4-OR4)))","v":""},null,null,null,null,null,null,null,null,null,{"$f":"IF(PB8<>\"\",0,IF(PD4<PB4,\"\",IF(PD4=\"\",\"\",PD4-PB4)))","v":""},null,null,null,null,null,null,null,null,null,{"$f":"IF(PL8<>\"\",0,IF(PN4<PL4,\"\",IF(PN4=\"\",\"\",PN4-PL4)))","v":""},null,null,null,null,null,null,null,null,null,{"$f":"IF(PV8<>\"\",0,IF(PX4<PV4,\"\",IF(PX4=\"\",\"\",PX4-PV4)))","v":""},null,null,null,null,null,null,null,null,null,{"$f":"IF(QF8<>\"\",0,IF(QH4<QF4,\"\",IF(QH4=\"\",\"\",QH4-QF4)))","v":""},null,null,null,null,null,null,null,null,null,{"$f":"IF(QP8<>\"\",0,IF(QR4<QP4,\"\",IF(QR4=\"\",\"\",QR4-QP4)))","v":""},null,null,null,null,null,null,null,null,null,{"$f":"IF(QZ8<>\"\",0,IF(RB4<QZ4,\"\",IF(RB4=\"\",\"\",RB4-QZ4)))","v":""},null,null,null,null,null,null,null,null,null,{"$f":"IF(RJ8<>\"\",0,IF(RL4<RJ4,\"\",IF(RL4=\"\",\"\",RL4-RJ4)))","v":""},null,null,null,null,null,null,null,null,null,{"$f":"IF(RT8<>\"\",0,IF(RV4<RT4,\"\",IF(RV4=\"\",\"\",RV4-RT4)))","v":""},null,null,null,null,null,null,null,null,null,{"$f":"IF(SD8<>\"\",0,IF(SF4<SD4,\"\",IF(SF4=\"\",\"\",SF4-SD4)))","v":""},"v",null,null,null,null,null,null,null,null,{"$f":"IF(SN8<>\"\",0,IF(SP4<SN4,\"\",IF(SP4=\"\",\"\",SP4-SN4)))","v":""},"v",null,null,null,null,null,null,null,null,{"$f":"IF(SX8<>\"\",0,IF(SZ4<SX4,\"\",IF(SZ4=\"\",\"\",SZ4-SX4)))","v":""},"v",null,null,null,null,null,null,null,null,{"$f":"IF(TH8<>\"\",0,IF(TJ4<TH4,\"\",IF(TJ4=\"\",\"\",TJ4-TH4)))","v":""},"v",null,null,null,null,null,null,null,null,{"$f":"IF(TR8<>\"\",0,IF(TT4<TR4,\"\",IF(TT4=\"\",\"\",TT4-TR4)))","v":""},"v",null,null,null,null,null,null,null,null,{"$f":"IF(UB8<>\"\",0,IF(UD4<UB4,\"\",IF(UD4=\"\",\"\",UD4-UB4)))","v":""},"v",null,null,null,null,null,null,null,null,{"$f":"IF(UL8<>\"\",0,IF(UN4<UL4,\"\",IF(UN4=\"\",\"\",UN4-UL4)))","v":""},"v",null,null,null,null,null,null,null,null,{"$f":"IF(UV8<>\"\",0,IF(UX4<UV4,\"\",IF(UX4=\"\",\"\",UX4-UV4)))","v":""},null,null,null,null,null,null,null,null,null,{"$f":"IF(VF8<>\"\",0,IF(VH4<VF4,\"\",IF(VH4=\"\",\"\",VH4-VF4)))","v":""},null,null,null,null,null,null,null,null,null,{"$f":"IF(VP8<>\"\",0,IF(VR4<VP4,\"\",IF(VR4=\"\",\"\",VR4-VP4)))","v":""},null,null,null,null,null,null,null,null,null,{"$f":"IF(VZ8<>\"\",0,IF(WB4<VZ4,\"\",IF(WB4=\"\",\"\",WB4-VZ4)))","v":""},null,null,null,null,null,null,null,null,null,{"$f":"IF(WJ8<>\"\",0,IF(WL4<WJ4,\"\",IF(WL4=\"\",\"\",WL4-WJ4)))","v":""},null,null,null,null,null,null,null,null,null,{"$f":"IF(WT8<>\"\",0,IF(WV4<WT4,\"\",IF(WV4=\"\",\"\",WV4-WT4)))","v":""},null,null,null,null,null,null,null,null,null,{"$f":"IF(XD8<>\"\",0,IF(XF4<XD4,\"\",IF(XF4=\"\",\"\",XF4-XD4)))","v":""},null,null,null,null,null,null,null,null,null,{"$f":"IF(XN8<>\"\",0,IF(XP4<XN4,\"\",IF(XP4=\"\",\"\",XP4-XN4)))","v":""},null,null,null,null,null,null,null,null,null,{"$f":"IF(XX8<>\"\",0,IF(XZ4<XX4,\"\",IF(XZ4=\"\",\"\",XZ4-XX4)))","v":""},null,null,null,null,null,null,null,null,null,{"$f":"IF(YH8<>\"\",0,IF(YJ4<YH4,\"\",IF(YJ4=\"\",\"\",YJ4-YH4)))","v":""},null,null,null,null,null,null,null,null,null,{"$f":"IF(YR8<>\"\",0,IF(YT4<YR4,\"\",IF(YT4=\"\",\"\",YT4-YR4)))","v":""},null,null,null,null,null,null,null,null,null,{"$f":"IF(ZB8<>\"\",0,IF(ZD4<ZB4,\"\",IF(ZD4=\"\",\"\",ZD4-ZB4)))","v":""},null,null,null,null,null,null,null,null,null,{"$f":"IF(ZL8<>\"\",0,IF(ZN4<ZL4,\"\",IF(ZN4=\"\",\"\",ZN4-ZL4)))","v":""},null,null,null,null,null,null,null,null,null,{"$f":"IF(ZV8<>\"\",0,IF(ZX4<ZV4,\"\",IF(ZX4=\"\",\"\",ZX4-ZV4)))","v":""},null,null,null,null,null,null,null,null,null,{"$f":"IF(AAF8<>\"\",0,IF(AAH4<AAF4,\"\",IF(AAH4=\"\",\"\",AAH4-AAF4)))","v":""},null,null,null,null,null,null,null,null,null,{"$f":"IF(AAP8<>\"\",0,IF(AAR4<AAP4,\"\",IF(AAR4=\"\",\"\",AAR4-AAP4)))","v":""},null,null,null,null,null,null,null,null,null,{"$f":"IF(AAZ8<>\"\",0,IF(ABB4<AAZ4,\"\",IF(ABB4=\"\",\"\",ABB4-AAZ4)))","v":""},null,null,null,null,null,null,null,null,null,{"$f":"IF(ABJ8<>\"\",0,IF(ABL4<ABJ4,\"\",IF(ABL4=\"\",\"\",ABL4-ABJ4)))","v":""},null,null,null,null,null,null,null,null,null,{"$f":"IF(ABT8<>\"\",0,IF(ABV4<ABT4,\"\",IF(ABV4=\"\",\"\",ABV4-ABT4)))","v":""},null,null,null,null,null,null,null,null,null,{"$f":"IF(ACD8<>\"\",0,IF(ACF4<ACD4,\"\",IF(ACF4=\"\",\"\",ACF4-ACD4)))","v":""},null,null,null,null,null,null,null,null,null,{"$f":"IF(ACN8<>\"\",0,IF(ACP4<ACN4,\"\",IF(ACP4=\"\",\"\",ACP4-ACN4)))","v":""},null,null,null,null,null,null,null,null,null,{"$f":"IF(ACX8<>\"\",0,IF(ACZ4<ACX4,\"\",IF(ACZ4=\"\",\"\",ACZ4-ACX4)))","v":""},null,null,null,null,null,null,null,null,null,{"$f":"IF(ADH8<>\"\",0,IF(ADJ4<ADH4,\"\",IF(ADJ4=\"\",\"\",ADJ4-ADH4)))","v":""},null,null,null,null,null,null,null,null,null,{"$f":"IF(ADR8<>\"\",0,IF(ADT4<ADR4,\"\",IF(ADT4=\"\",\"\",ADT4-ADR4)))","v":""},null,null,null,null,null,null,null,null,null,{"$f":"IF(AEB8<>\"\",0,IF(AED4<AEB4,\"\",IF(AED4=\"\",\"\",AED4-AEB4)))","v":""},null,null,null,null,null,null,null,null,null,{"$f":"IF(AEL8<>\"\",0,IF(AEN4<AEL4,\"\",IF(AEN4=\"\",\"\",AEN4-AEL4)))","v":""},null,null,null,null,null,null,null,null,null,{"$f":"IF(AEV8<>\"\",0,IF(AEX4<AEV4,\"\",IF(AEX4=\"\",\"\",AEX4-AEV4)))","v":""},null,null,null,null,null,null,null,null,null,{"$f":"IF(AFF8<>\"\",0,IF(AFH4<AFF4,\"\",IF(AFH4=\"\",\"\",AFH4-AFF4)))","v":""},null,null,null,null,null,null,null,null,null,{"$f":"IF(AFP8<>\"\",0,IF(AFR4<AFP4,\"\",IF(AFR4=\"\",\"\",AFR4-AFP4)))","v":""},null,null,null,null,null,null,null,null,null,{"$f":"IF(AFZ8<>\"\",0,IF(AGB4<AFZ4,\"\",IF(AGB4=\"\",\"\",AGB4-AFZ4)))","v":""},null,null,null,null,null,null,null,null,null,{"$f":"IF(AGJ8<>\"\",0,IF(AGL4<AGJ4,\"\",IF(AGL4=\"\",\"\",AGL4-AGJ4)))","v":""},null,null,null,null,null,null,null,null,null,{"$f":"IF(AGT8<>\"\",0,IF(AGV4<AGT4,\"\",IF(AGV4=\"\",\"\",AGV4-AGT4)))","v":""},null,null,null,null,null,null,null,null,null,{"$f":"IF(AHD8<>\"\",0,IF(AHF4<AHD4,\"\",IF(AHF4=\"\",\"\",AHF4-AHD4)))","v":""},null,null,null,null,null,null,null,null,null,{"$f":"IF(AHN8<>\"\",0,IF(AHP4<AHN4,\"\",IF(AHP4=\"\",\"\",AHP4-AHN4)))","v":""},null,null,null,null,null,null,null,null,null,{"$f":"IF(AHX8<>\"\",0,IF(AHZ4<AHX4,\"\",IF(AHZ4=\"\",\"\",AHZ4-AHX4)))","v":""},null,null,null,null,null,null,null,null,null,{"$f":"IF(AIH8<>\"\",0,IF(AIJ4<AIH4,\"\",IF(AIJ4=\"\",\"\",AIJ4-AIH4)))","v":""},null,null,null,null,null,null,null,null,null,{"$f":"IF(AIR8<>\"\",0,IF(AIT4<AIR4,\"\",IF(AIT4=\"\",\"\",AIT4-AIR4)))","v":""},null,null,null,null,null,null,null,null,null,{"$f":"IF(AJB8<>\"\",0,IF(AJD4<AJB4,\"\",IF(AJD4=\"\",\"\",AJD4-AJB4)))","v":""},null,null,null,null,null,null,null,null,null,{"$f":"IF(AJL8<>\"\",0,IF(AJN4<AJL4,\"\",IF(AJN4=\"\",\"\",AJN4-AJL4)))","v":""},null,null,null,null,null,null,null,null,null,{"$f":"IF(AJV8<>\"\",0,IF(AJX4<AJV4,\"\",IF(AJX4=\"\",\"\",AJX4-AJV4)))","v":""},null,null,null,null,null,null,null,null,null,{"$f":"IF(AKF8<>\"\",0,IF(AKH4<AKF4,\"\",IF(AKH4=\"\",\"\",AKH4-AKF4)))","v":""},null,null,null,null,null,null,null,null,null,{"$f":"IF(AKP8<>\"\",0,IF(AKR4<AKP4,\"\",IF(AKR4=\"\",\"\",AKR4-AKP4)))","v":""},null,null,null,null,null,null,null,null,null,{"$f":"IF(AKZ8<>\"\",0,IF(ALB4<AKZ4,\"\",IF(ALB4=\"\",\"\",ALB4-AKZ4)))","v":""},null,null,null,null,null,null,null,null,null,{"$f":"IF(ALJ8<>\"\",0,IF(ALL4<ALJ4,\"\",IF(ALL4=\"\",\"\",ALL4-ALJ4)))","v":""},null,null,null,null,null,null,null,null,null,{"$f":"IF(ALT8<>\"\",0,IF(ALV4<ALT4,\"\",IF(ALV4=\"\",\"\",ALV4-ALT4)))","v":""},null,null,null,null,null,null,null,null,null,{"$f":"IF(AMD8<>\"\",0,IF(AMF4<AMD4,\"\",IF(AMF4=\"\",\"\",AMF4-AMD4)))","v":""},null,null,null,null,null,null,null,null,null,{"$f":"IF(AMN8<>\"\",0,IF(AMP4<AMN4,\"\",IF(AMP4=\"\",\"\",AMP4-AMN4)))","v":""},null,null,null,null,null,null,null,null,null,{"$f":"IF(AMX8<>\"\",0,IF(AMZ4<AMX4,\"\",IF(AMZ4=\"\",\"\",AMZ4-AMX4)))","v":""},null,null,null,null,null,null,null,null,null,{"$f":"IF(ANH8<>\"\",0,IF(ANJ4<ANH4,\"\",IF(ANJ4=\"\",\"\",ANJ4-ANH4)))","v":""},null,null,null,null,null,null,null,null,null,{"$f":"IF(ANR8<>\"\",0,IF(ANT4<ANR4,\"\",IF(ANT4=\"\",\"\",ANT4-ANR4)))","v":""},null,null,null,null,null,null,null,null,null,{"$f":"IF(AOB8<>\"\",0,IF(AOD4<AOB4,\"\",IF(AOD4=\"\",\"\",AOD4-AOB4)))","v":""},null,null,null,null,null,null,null,null,null,{"$f":"IF(AOL8<>\"\",0,IF(AON4<AOL4,\"\",IF(AON4=\"\",\"\",AON4-AOL4)))","v":""},null,null,null,null,null,null,null,null,null,{"$f":"IF(AOV8<>\"\",0,IF(AOX4<AOV4,\"\",IF(AOX4=\"\",\"\",AOX4-AOV4)))","v":""},null,null,null,null,null,null,null,null,null,{"$f":"IF(APF8<>\"\",0,IF(APH4<APF4,\"\",IF(APH4=\"\",\"\",APH4-APF4)))","v":""},null,null,null,null,null,null,null,null,null,{"$f":"IF(APP8<>\"\",0,IF(APR4<APP4,\"\",IF(APR4=\"\",\"\",APR4-APP4)))","v":""},null,null,null,null,null,null,null,null,null,{"$f":"IF(APZ8<>\"\",0,IF(AQB4<APZ4,\"\",IF(AQB4=\"\",\"\",AQB4-APZ4)))","v":""},null,null,null,null,null,null,null,null,null,{"$f":"IF(AQJ8<>\"\",0,IF(AQL4<AQJ4,\"\",IF(AQL4=\"\",\"\",AQL4-AQJ4)))","v":""},null,null,null,null,null,null,null,null,null,{"$f":"IF(AQT8<>\"\",0,IF(AQV4<AQT4,\"\",IF(AQV4=\"\",\"\",AQV4-AQT4)))","v":""},null,null,null,null,null,null,null,null,null,{"$f":"IF(ARD8<>\"\",0,IF(ARF4<ARD4,\"\",IF(ARF4=\"\",\"\",ARF4-ARD4)))","v":""},null,null,null,null,null,null,null,null,null,{"$f":"IF(ARN8<>\"\",0,IF(ARP4<ARN4,\"\",IF(ARP4=\"\",\"\",ARP4-ARN4)))","v":""},null,null,null,null,null,null,null,null,null,{"$f":"IF(ARX8<>\"\",0,IF(ARZ4<ARX4,\"\",IF(ARZ4=\"\",\"\",ARZ4-ARX4)))","v":""},null,null,null,null,null,null,null,null,null,{"$f":"IF(ASH8<>\"\",0,IF(ASJ4<ASH4,\"\",IF(ASJ4=\"\",\"\",ASJ4-ASH4)))","v":""},null,null,null,null,null,null,null,null,null,{"$f":"IF(ASR8<>\"\",0,IF(AST4<ASR4,\"\",IF(AST4=\"\",\"\",AST4-ASR4)))","v":""},null,null,null,null,null,null,null,null,null,{"$f":"IF(ATB8<>\"\",0,IF(ATD4<ATB4,\"\",IF(ATD4=\"\",\"\",ATD4-ATB4)))","v":""},null,null,null,null,null,null,null,null,null,{"$f":"IF(ATL8<>\"\",0,IF(ATN4<ATL4,\"\",IF(ATN4=\"\",\"\",ATN4-ATL4)))","v":""},null,null,null,null,null,null,null,null,null,{"$f":"IF(ATV8<>\"\",0,IF(ATX4<ATV4,\"\",IF(ATX4=\"\",\"\",ATX4-ATV4)))","v":""},null,null,null,null,null,null,null,null,null,{"$f":"IF(AUF8<>\"\",0,IF(AUH4<AUF4,\"\",IF(AUH4=\"\",\"\",AUH4-AUF4)))","v":""},null,null,null,null,null,null,null,null,null,{"$f":"IF(AUP8<>\"\",0,IF(AUR4<AUP4,\"\",IF(AUR4=\"\",\"\",AUR4-AUP4)))","v":""},null,null,null,null,null,null,null,null,null,{"$f":"IF(AUZ8<>\"\",0,IF(AVB4<AUZ4,\"\",IF(AVB4=\"\",\"\",AVB4-AUZ4)))","v":""},null,null,null,null,null,null,null,null,null,{"$f":"IF(AVJ8<>\"\",0,IF(AVL4<AVJ4,\"\",IF(AVL4=\"\",\"\",AVL4-AVJ4)))","v":""},null,null,null,null,null,null,null,null,null,{"$f":"IF(AVT8<>\"\",0,IF(AVV4<AVT4,\"\",IF(AVV4=\"\",\"\",AVV4-AVT4)))","v":""},null,null,null,null,null,null,null,null,null,{"$f":"IF(AWD8<>\"\",0,IF(AWF4<AWD4,\"\",IF(AWF4=\"\",\"\",AWF4-AWD4)))","v":""},null,null,null,null,null,null,null,null,null,{"$f":"IF(AWN8<>\"\",0,IF(AWP4<AWN4,\"\",IF(AWP4=\"\",\"\",AWP4-AWN4)))","v":""},null,null,null,null,null,null,null,null,null,{"$f":"IF(AWX8<>\"\",0,IF(AWZ4<AWX4,\"\",IF(AWZ4=\"\",\"\",AWZ4-AWX4)))","v":""},null,null,null,null,null,null,null,null,null,{"$f":"IF(AXH8<>\"\",0,IF(AXJ4<AXH4,\"\",IF(AXJ4=\"\",\"\",AXJ4-AXH4)))","v":""},null,null,null,null,null,null,null,null,null,{"$f":"IF(AXR8<>\"\",0,IF(AXT4<AXR4,\"\",IF(AXT4=\"\",\"\",AXT4-AXR4)))","v":""},null,null,null,null,null,null,null,null,null,{"$f":"IF(AYB8<>\"\",0,IF(AYD4<AYB4,\"\",IF(AYD4=\"\",\"\",AYD4-AYB4)))","v":""},null,null,null,null,null,null,null,null,null,{"$f":"IF(AYL8<>\"\",0,IF(AYN4<AYL4,\"\",IF(AYN4=\"\",\"\",AYN4-AYL4)))","v":""},null,null,null,null,null,null,null,null,null,{"$f":"IF(AYV8<>\"\",0,IF(AYX4<AYV4,\"\",IF(AYX4=\"\",\"\",AYX4-AYV4)))","v":""},null,null,null,null,null,null,null,null,null,{"$f":"IF(AZF8<>\"\",0,IF(AZH4<AZF4,\"\",IF(AZH4=\"\",\"\",AZH4-AZF4)))","v":""},null,null,null,null,null,null,null,null,null,{"$f":"IF(AZP8<>\"\",0,IF(AZR4<AZP4,\"\",IF(AZR4=\"\",\"\",AZR4-AZP4)))","v":""},null,null,null,null,null,null,null,null,null,{"$f":"IF(AZZ8<>\"\",0,IF(BAB4<AZZ4,\"\",IF(BAB4=\"\",\"\",BAB4-AZZ4)))","v":""},null,null,null,null,null,null,null,null,null,{"$f":"IF(BAJ8<>\"\",0,IF(BAL4<BAJ4,\"\",IF(BAL4=\"\",\"\",BAL4-BAJ4)))","v":""},null,null,null,null,null,null,null,null,null,{"$f":"IF(BAT8<>\"\",0,IF(BAV4<BAT4,\"\",IF(BAV4=\"\",\"\",BAV4-BAT4)))","v":""},null,null,null,null,null,null,null,null,null,{"$f":"IF(BBD8<>\"\",0,IF(BBF4<BBD4,\"\",IF(BBF4=\"\",\"\",BBF4-BBD4)))","v":""},null,null,null,null,null,null,null,null,null,{"$f":"IF(BBN8<>\"\",0,IF(BBP4<BBN4,\"\",IF(BBP4=\"\",\"\",BBP4-BBN4)))","v":""},null,null,null,null,null,null,null,null,null,{"$f":"IF(BBX8<>\"\",0,IF(BBZ4<BBX4,\"\",IF(BBZ4=\"\",\"\",BBZ4-BBX4)))","v":""},null,null,null,null,null,null,null,null,null,{"$f":"IF(BCH8<>\"\",0,IF(BCJ4<BCH4,\"\",IF(BCJ4=\"\",\"\",BCJ4-BCH4)))","v":""},null,null,null,null,null,null,null,null,null,{"$f":"IF(BCR8<>\"\",0,IF(BCT4<BCR4,\"\",IF(BCT4=\"\",\"\",BCT4-BCR4)))","v":""},null,null,null,null,null,null,null,null,null,{"$f":"IF(BDB8<>\"\",0,IF(BDD4<BDB4,\"\",IF(BDD4=\"\",\"\",BDD4-BDB4)))","v":""},null,null,null,null,null,null,null,null,null,{"$f":"IF(BDL8<>\"\",0,IF(BDN4<BDL4,\"\",IF(BDN4=\"\",\"\",BDN4-BDL4)))","v":""},null,null,null,null,null,null,null,null,null,{"$f":"IF(BDV8<>\"\",0,IF(BDX4<BDV4,\"\",IF(BDX4=\"\",\"\",BDX4-BDV4)))","v":""},null,null,null,null,null,null,null,null,null,{"$f":"IF(BEF8<>\"\",0,IF(BEH4<BEF4,\"\",IF(BEH4=\"\",\"\",BEH4-BEF4)))","v":""},null,null,null,null,null,null,null,null,null,{"$f":"IF(BEP8<>\"\",0,IF(BER4<BEP4,\"\",IF(BER4=\"\",\"\",BER4-BEP4)))","v":""},null,null,null,null,null,null,null,null,null,{"$f":"IF(BEZ8<>\"\",0,IF(BFB4<BEZ4,\"\",IF(BFB4=\"\",\"\",BFB4-BEZ4)))","v":""},null,null,null,null,null,null,null,null,null,{"$f":"IF(BFJ8<>\"\",0,IF(BFL4<BFJ4,\"\",IF(BFL4=\"\",\"\",BFL4-BFJ4)))","v":""},null,null,null,null,null,null,null,null,null,{"$f":"IF(BFT8<>\"\",0,IF(BFV4<BFT4,\"\",IF(BFV4=\"\",\"\",BFV4-BFT4)))","v":""},null,null,null,null,null,null,null,null,null,{"$f":"IF(BGD8<>\"\",0,IF(BGF4<BGD4,\"\",IF(BGF4=\"\",\"\",BGF4-BGD4)))","v":""},null,null,null,null,null,null,null,null,null,{"$f":"IF(BGN8<>\"\",0,IF(BGP4<BGN4,\"\",IF(BGP4=\"\",\"\",BGP4-BGN4)))","v":""},null,null,null,null,null,null,null,null,null,{"$f":"IF(BGX8<>\"\",0,IF(BGZ4<BGX4,\"\",IF(BGZ4=\"\",\"\",BGZ4-BGX4)))","v":""},null,null,null,null,null,null,null,null,null,{"$f":"IF(BHH8<>\"\",0,IF(BHJ4<BHH4,\"\",IF(BHJ4=\"\",\"\",BHJ4-BHH4)))","v":""},null,null,null,null,null,null,null,null,null,{"$f":"IF(BHR8<>\"\",0,IF(BHT4<BHR4,\"\",IF(BHT4=\"\",\"\",BHT4-BHR4)))","v":""},null,null,null,null,null,null,null,null,null,{"$f":"IF(BIB8<>\"\",0,IF(BID4<BIB4,\"\",IF(BID4=\"\",\"\",BID4-BIB4)))","v":""},null,null,null,null,null,null,null,null,null,{"$f":"IF(BIL8<>\"\",0,IF(BIN4<BIL4,\"\",IF(BIN4=\"\",\"\",BIN4-BIL4)))","v":""},null,null,null,null,null,null,null,null,null,{"$f":"IF(BIV8<>\"\",0,IF(BIX4<BIV4,\"\",IF(BIX4=\"\",\"\",BIX4-BIV4)))","v":""},null,null,null,null,null,null,null,null,null,{"$f":"IF(BJF8<>\"\",0,IF(BJH4<BJF4,\"\",IF(BJH4=\"\",\"\",BJH4-BJF4)))","v":""},"v",null,null,null,null,null,null,null,null,{"$f":"IF(BJP8<>\"\",0,IF(BJR4<BJP4,\"\",IF(BJR4=\"\",\"\",BJR4-BJP4)))","v":""},"v",null,null,null,null,null,null,null,null,{"$f":"IF(BJZ8<>\"\",0,IF(BKB4<BJZ4,\"\",IF(BKB4=\"\",\"\",BKB4-BJZ4)))","v":""},"v",null,null,null,null,null,null,null,null,{"$f":"IF(BKJ8<>\"\",0,IF(BKL4<BKJ4,\"\",IF(BKL4=\"\",\"\",BKL4-BKJ4)))","v":""},"v",null,null,null,null,null,null,null,null,{"$f":"IF(BKT8<>\"\",0,IF(BKV4<BKT4,\"\",IF(BKV4=\"\",\"\",BKV4-BKT4)))","v":""},"v",null,null,null,null,null,null,null,null,{"$f":"IF(BLD8<>\"\",0,IF(BLF4<BLD4,\"\",IF(BLF4=\"\",\"\",BLF4-BLD4)))","v":""},"v",null,null,null,null,null,null,null,null,{"$f":"IF(BLN8<>\"\",0,IF(BLP4<BLN4,\"\",IF(BLP4=\"\",\"\",BLP4-BLN4)))","v":""},"v",null,null,null,null,null,null,null,null,{"$f":"IF(BLX8<>\"\",0,IF(BLZ4<BLX4,\"\",IF(BLZ4=\"\",\"\",BLZ4-BLX4)))","v":""},"v",null,null,null,null,null,null,null,null,{"$f":"IF(BMH8<>\"\",0,IF(BMJ4<BMH4,\"\",IF(BMJ4=\"\",\"\",BMJ4-BMH4)))","v":""},"v",null,null,null,null,null,null,null,null,{"$f":"IF(BMR8<>\"\",0,IF(BMT4<BMR4,\"\",IF(BMT4=\"\",\"\",BMT4-BMR4)))","v":""},"v",null,null,null,null,null,null,null,null,{"$f":"IF(BNB8<>\"\",0,IF(BND4<BNB4,\"\",IF(BND4=\"\",\"\",BND4-BNB4)))","v":""},"v",null,null,null,null,null,null,null,null,{"$f":"IF(BNL8<>\"\",0,IF(BNN4<BNL4,\"\",IF(BNN4=\"\",\"\",BNN4-BNL4)))","v":""},"v",null,null,null,null,null,null,null,null,{"$f":"IF(BNV8<>\"\",0,IF(BNX4<BNV4,\"\",IF(BNX4=\"\",\"\",BNX4-BNV4)))","v":""},"v",null,null,null,null,null,null,null,null,{"$f":"IF(BOF8<>\"\",0,IF(BOH4<BOF4,\"\",IF(BOH4=\"\",\"\",BOH4-BOF4)))","v":""},"v",null,null,null,null,null,null,null,null,{"$f":"IF(BOP8<>\"\",0,IF(BOR4<BOP4,\"\",IF(BOR4=\"\",\"\",BOR4-BOP4)))","v":""},"v",null,null,null,null,null,null,null,null,{"$f":"IF(BOZ8<>\"\",0,IF(BPB4<BOZ4,\"\",IF(BPB4=\"\",\"\",BPB4-BOZ4)))","v":""},"v",null,null,null,null,null,null,null,null,{"$f":"IF(BPJ8<>\"\",0,IF(BPL4<BPJ4,\"\",IF(BPL4=\"\",\"\",BPL4-BPJ4)))","v":""},"v",null,null,null,null,null,null,null,null,{"$f":"IF(BPT8<>\"\",0,IF(BPV4<BPT4,\"\",IF(BPV4=\"\",\"\",BPV4-BPT4)))","v":""},"v",null,null,null,null,null,null,null,null,{"$f":"IF(BQD8<>\"\",0,IF(BQF4<BQD4,\"\",IF(BQF4=\"\",\"\",BQF4-BQD4)))","v":""},"v",null,null,null,null,null,null,null,null,{"$f":"IF(BQN8<>\"\",0,IF(BQP4<BQN4,\"\",IF(BQP4=\"\",\"\",BQP4-BQN4)))","v":""},"v",null,null,null,null,null,null,null,null,{"$f":"IF(BQX8<>\"\",0,IF(BQZ4<BQX4,\"\",IF(BQZ4=\"\",\"\",BQZ4-BQX4)))","v":""},"v",null,null,null,null,null,null,null,null,{"$f":"IF(BRH8<>\"\",0,IF(BRJ4<BRH4,\"\",IF(BRJ4=\"\",\"\",BRJ4-BRH4)))","v":""},"v",null,null,null,null,null,null,null,null,{"$f":"IF(BRR8<>\"\",0,IF(BRT4<BRR4,\"\",IF(BRT4=\"\",\"\",BRT4-BRR4)))","v":""},"v",null,null,null,null,null,null,null,null,{"$f":"IF(BSB8<>\"\",0,IF(BSD4<BSB4,\"\",IF(BSD4=\"\",\"\",BSD4-BSB4)))","v":""},"v",null,null,null,null,null,null,null,null,{"$f":"IF(BSL8<>\"\",0,IF(BSN4<BSL4,\"\",IF(BSN4=\"\",\"\",BSN4-BSL4)))","v":""},"v",null,null,null,null,null,null,null,null,{"$f":"IF(BSV8<>\"\",0,IF(BSX4<BSV4,\"\",IF(BSX4=\"\",\"\",BSX4-BSV4)))","v":""},"v",null,null,null,null,null,null,null,null,{"$f":"IF(BTF8<>\"\",0,IF(BTH4<BTF4,\"\",IF(BTH4=\"\",\"\",BTH4-BTF4)))","v":""},"v",null,null,null,null,null,null,null,null,{"$f":"IF(BTP8<>\"\",0,IF(BTR4<BTP4,\"\",IF(BTR4=\"\",\"\",BTR4-BTP4)))","v":""},"v",null,null,null,null,null,null,null,null,{"$f":"IF(BTZ8<>\"\",0,IF(BUB4<BTZ4,\"\",IF(BUB4=\"\",\"\",BUB4-BTZ4)))","v":""},"v",null,null,null,null,null,null,null,null,{"$f":"IF(BUJ8<>\"\",0,IF(BUL4<BUJ4,\"\",IF(BUL4=\"\",\"\",BUL4-BUJ4)))","v":""},"v",null,null,null,null,null,null,null,null,{"$f":"IF(BUT8<>\"\",0,IF(BUV4<BUT4,\"\",IF(BUV4=\"\",\"\",BUV4-BUT4)))","v":""},"v",null,null,null,null,null,null,null,null,{"$f":"IF(BVD8<>\"\",0,IF(BVF4<BVD4,\"\",IF(BVF4=\"\",\"\",BVF4-BVD4)))","v":""},"v",null,null,null,null,null,null,null,null,{"$f":"IF(BVN8<>\"\",0,IF(BVP4<BVN4,\"\",IF(BVP4=\"\",\"\",BVP4-BVN4)))","v":""},"v",null,null,null,null,null,null,null,null,{"$f":"IF(BVX8<>\"\",0,IF(BVZ4<BVX4,\"\",IF(BVZ4=\"\",\"\",BVZ4-BVX4)))","v":""},"v",null,null,null,null,null,null,null,null,{"$f":"IF(BWH8<>\"\",0,IF(BWJ4<BWH4,\"\",IF(BWJ4=\"\",\"\",BWJ4-BWH4)))","v":""},"v",null,null,null,null,null,null,null,null,{"$f":"IF(BWR8<>\"\",0,IF(BWT4<BWR4,\"\",IF(BWT4=\"\",\"\",BWT4-BWR4)))","v":""},"v",null,null,null,null,null,null,null,null,{"$f":"IF(BXB8<>\"\",0,IF(BXD4<BXB4,\"\",IF(BXD4=\"\",\"\",BXD4-BXB4)))","v":""},"v",null,null,null,null,null,null,null,null,{"$f":"IF(BXL8<>\"\",0,IF(BXN4<BXL4,\"\",IF(BXN4=\"\",\"\",BXN4-BXL4)))","v":""},"v",null,null,null,null,null,null,null,null,{"$f":"IF(BXV8<>\"\",0,IF(BXX4<BXV4,\"\",IF(BXX4=\"\",\"\",BXX4-BXV4)))","v":""},"v",null,null,null,null,null,null,null,null,{"$f":"IF(BYF8<>\"\",0,IF(BYH4<BYF4,\"\",IF(BYH4=\"\",\"\",BYH4-BYF4)))","v":""},"v",null,null,null,null,null,null,null,null,{"$f":"IF(BYP8<>\"\",0,IF(BYR4<BYP4,\"\",IF(BYR4=\"\",\"\",BYR4-BYP4)))","v":""},"v",null,null,null,null,null,null,null,null,{"$f":"IF(BYZ8<>\"\",0,IF(BZB4<BYZ4,\"\",IF(BZB4=\"\",\"\",BZB4-BYZ4)))","v":""},"v",null,null,null,null,null,null,null,null,{"$f":"IF(BZJ8<>\"\",0,IF(BZL4<BZJ4,\"\",IF(BZL4=\"\",\"\",BZL4-BZJ4)))","v":""},"v",null,null,null,null,null,null,null,null,{"$f":"IF(BZT8<>\"\",0,IF(BZV4<BZT4,\"\",IF(BZV4=\"\",\"\",BZV4-BZT4)))","v":""},"v",null,null,null,null,null,null,null,null,{"$f":"IF(CAD8<>\"\",0,IF(CAF4<CAD4,\"\",IF(CAF4=\"\",\"\",CAF4-CAD4)))","v":""},"v",null,null,null,null,null,null,null,null,{"$f":"IF(CAN8<>\"\",0,IF(CAP4<CAN4,\"\",IF(CAP4=\"\",\"\",CAP4-CAN4)))","v":""},"v",null,null,null,null,null,null,null,null,{"$f":"IF(CAX8<>\"\",0,IF(CAZ4<CAX4,\"\",IF(CAZ4=\"\",\"\",CAZ4-CAX4)))","v":""},"v",null,null,null,null,null,null,null,null,{"$f":"IF(CBH8<>\"\",0,IF(CBJ4<CBH4,\"\",IF(CBJ4=\"\",\"\",CBJ4-CBH4)))","v":""},"v",null,null,null,null,null,null,null,null,{"$f":"IF(CBR8<>\"\",0,IF(CBT4<CBR4,\"\",IF(CBT4=\"\",\"\",CBT4-CBR4)))","v":""},"v",null,null,null,null,null,null,null,null,{"$f":"IF(CCB8<>\"\",0,IF(CCD4<CCB4,\"\",IF(CCD4=\"\",\"\",CCD4-CCB4)))","v":""},"v",null,null,null,null,null,null,null,null,{"$f":"IF(CCL8<>\"\",0,IF(CCN4<CCL4,\"\",IF(CCN4=\"\",\"\",CCN4-CCL4)))","v":""},"v",null,null,null,null,null,null,null,null,{"$f":"IF(CCV8<>\"\",0,IF(CCX4<CCV4,\"\",IF(CCX4=\"\",\"\",CCX4-CCV4)))","v":""},"v",null,null,null,null,null,null,null,null,{"$f":"IF(CDF8<>\"\",0,IF(CDH4<CDF4,\"\",IF(CDH4=\"\",\"\",CDH4-CDF4)))","v":""},"v",null,null,null,null,null,null,null,null,{"$f":"IF(CDP8<>\"\",0,IF(CDR4<CDP4,\"\",IF(CDR4=\"\",\"\",CDR4-CDP4)))","v":""},"v",null,null,null,null,null,null,null,null,{"$f":"IF(CDZ8<>\"\",0,IF(CEB4<CDZ4,\"\",IF(CEB4=\"\",\"\",CEB4-CDZ4)))","v":""},"v",null,null,null,null,null,null,null,null,{"$f":"IF(CEJ8<>\"\",0,IF(CEL4<CEJ4,\"\",IF(CEL4=\"\",\"\",CEL4-CEJ4)))","v":""},"v",null,null,null,null,null,null,null,null,{"$f":"IF(CET8<>\"\",0,IF(CEV4<CET4,\"\",IF(CEV4=\"\",\"\",CEV4-CET4)))","v":""},null,null,null,null,null,null,null,null,null,{"$f":"IF(CFD8<>\"\",0,IF(CFF4<CFD4,\"\",IF(CFF4=\"\",\"\",CFF4-CFD4)))","v":""},null,null,null,null,null,null,null,null,null,{"$f":"IF(CFN8<>\"\",0,IF(CFP4<CFN4,\"\",IF(CFP4=\"\",\"\",CFP4-CFN4)))","v":""},null,null,null,null,null,null,null,null,null,{"$f":"IF(CFX8<>\"\",0,IF(CFZ4<CFX4,\"\",IF(CFZ4=\"\",\"\",CFZ4-CFX4)))","v":""},null,null,null,null,null,null,null,null,null,{"$f":"IF(CGH8<>\"\",0,IF(CGJ4<CGH4,\"\",IF(CGJ4=\"\",\"\",CGJ4-CGH4)))","v":""},null,null,null,null,null,null,null,null,null,{"$f":"IF(CGR8<>\"\",0,IF(CGT4<CGR4,\"\",IF(CGT4=\"\",\"\",CGT4-CGR4)))","v":""},null,null,null,null,null,null,null,null,null,{"$f":"IF(CHB8<>\"\",0,IF(CHD4<CHB4,\"\",IF(CHD4=\"\",\"\",CHD4-CHB4)))","v":""},null,null,null,null,null,null,null,null,null,{"$f":"IF(CHL8<>\"\",0,IF(CHN4<CHL4,\"\",IF(CHN4=\"\",\"\",CHN4-CHL4)))","v":""},null,null,null,null,null,null,null,null,null,{"$f":"IF(CHV8<>\"\",0,IF(CHX4<CHV4,\"\",IF(CHX4=\"\",\"\",CHX4-CHV4)))","v":""},null,null,null,null,null,null,null,null,null,{"$f":"IF(CIF8<>\"\",0,IF(CIH4<CIF4,\"\",IF(CIH4=\"\",\"\",CIH4-CIF4)))","v":""},null,null,null,null,null,null,null,null,null,{"$f":"IF(CIP8<>\"\",0,IF(CIR4<CIP4,\"\",IF(CIR4=\"\",\"\",CIR4-CIP4)))","v":""},null,null,null,null,null,null,null,null,null,{"$f":"IF(CIZ8<>\"\",0,IF(CJB4<CIZ4,\"\",IF(CJB4=\"\",\"\",CJB4-CIZ4)))","v":""},null,null,null,null,null,null,null,null,null,{"$f":"IF(CJJ8<>\"\",0,IF(CJL4<CJJ4,\"\",IF(CJL4=\"\",\"\",CJL4-CJJ4)))","v":""},null,null,null,null,null,null,null,null,null,{"$f":"IF(CJT8<>\"\",0,IF(CJV4<CJT4,\"\",IF(CJV4=\"\",\"\",CJV4-CJT4)))","v":""},null,null,null,null,null,null,null,null,null,{"$f":"IF(CKD8<>\"\",0,IF(CKF4<CKD4,\"\",IF(CKF4=\"\",\"\",CKF4-CKD4)))","v":""},null,null,null,null,null,null,null,null,null,{"$f":"IF(CKN8<>\"\",0,IF(CKP4<CKN4,\"\",IF(CKP4=\"\",\"\",CKP4-CKN4)))","v":""},null,null,null,null,null,null,null,null,null,{"$f":"IF(CKX8<>\"\",0,IF(CKZ4<CKX4,\"\",IF(CKZ4=\"\",\"\",CKZ4-CKX4)))","v":""},null,null,null,null,null,null,null,null,null,{"$f":"IF(CLH8<>\"\",0,IF(CLJ4<CLH4,\"\",IF(CLJ4=\"\",\"\",CLJ4-CLH4)))","v":""},null,null,null,null,null,null,null,null,null,{"$f":"IF(CLR8<>\"\",0,IF(CLT4<CLR4,\"\",IF(CLT4=\"\",\"\",CLT4-CLR4)))","v":""},null,null,null,null,null,null,null,null,null,{"$f":"IF(CMB8<>\"\",0,IF(CMD4<CMB4,\"\",IF(CMD4=\"\",\"\",CMD4-CMB4)))","v":""},null,null,null,null,null,null,null,null,null,{"$f":"IF(CML8<>\"\",0,IF(CMN4<CML4,\"\",IF(CMN4=\"\",\"\",CMN4-CML4)))","v":""},null,null,null,null,null,null,null,null,null,{"$f":"IF(CMV8<>\"\",0,IF(CMX4<CMV4,\"\",IF(CMX4=\"\",\"\",CMX4-CMV4)))","v":""},null,null,null,null,null,null,null,null,null,{"$f":"IF(CNF8<>\"\",0,IF(CNH4<CNF4,\"\",IF(CNH4=\"\",\"\",CNH4-CNF4)))","v":""},null,null,null,null,null,null,null,null,null,{"$f":"IF(CNP8<>\"\",0,IF(CNR4<CNP4,\"\",IF(CNR4=\"\",\"\",CNR4-CNP4)))","v":""},null,null,null,null,null,null,null,null,null,{"$f":"IF(CNZ8<>\"\",0,IF(COB4<CNZ4,\"\",IF(COB4=\"\",\"\",COB4-CNZ4)))","v":""},null,null,null,null,null,null,null,null,null,{"$f":"IF(COJ8<>\"\",0,IF(COL4<COJ4,\"\",IF(COL4=\"\",\"\",COL4-COJ4)))","v":""},null,null,null,null,null,null,null,null,null,{"$f":"IF(COT8<>\"\",0,IF(COV4<COT4,\"\",IF(COV4=\"\",\"\",COV4-COT4)))","v":""},null,null,null,null,null,null,null,null,null,{"$f":"IF(CPD8<>\"\",0,IF(CPF4<CPD4,\"\",IF(CPF4=\"\",\"\",CPF4-CPD4)))","v":""},null,null,null,null,null,null,null,null,null,{"$f":"IF(CPN8<>\"\",0,IF(CPP4<CPN4,\"\",IF(CPP4=\"\",\"\",CPP4-CPN4)))","v":""},null,null,null,null,null,null,null,null,null,{"$f":"IF(CPX8<>\"\",0,IF(CPZ4<CPX4,\"\",IF(CPZ4=\"\",\"\",CPZ4-CPX4)))","v":""},null,null,null,null,null,null,null,null,null,{"$f":"IF(CQH8<>\"\",0,IF(CQJ4<CQH4,\"\",IF(CQJ4=\"\",\"\",CQJ4-CQH4)))","v":""},null,null,null,null,null,null,null,null,null,{"$f":"IF(CQR8<>\"\",0,IF(CQT4<CQR4,\"\",IF(CQT4=\"\",\"\",CQT4-CQR4)))","v":""},null,null,null,null,null,null,null,null,null,{"$f":"IF(CRB8<>\"\",0,IF(CRD4<CRB4,\"\",IF(CRD4=\"\",\"\",CRD4-CRB4)))","v":""},null,null,null,null,null,null,null,null,null,{"$f":"IF(CRL8<>\"\",0,IF(CRN4<CRL4,\"\",IF(CRN4=\"\",\"\",CRN4-CRL4)))","v":""},null,null,null,null,null,null,null,null,null,{"$f":"IF(CRV8<>\"\",0,IF(CRX4<CRV4,\"\",IF(CRX4=\"\",\"\",CRX4-CRV4)))","v":""},null,null,null,null,null,null,null,null,null,{"$f":"IF(CSF8<>\"\",0,IF(CSH4<CSF4,\"\",IF(CSH4=\"\",\"\",CSH4-CSF4)))","v":""},null,null,null,null,null,null,null,null,null,{"$f":"IF(CSP8<>\"\",0,IF(CSR4<CSP4,\"\",IF(CSR4=\"\",\"\",CSR4-CSP4)))","v":""},null,null,null,null,null,null,null,null,null,{"$f":"IF(CSZ8<>\"\",0,IF(CTB4<CSZ4,\"\",IF(CTB4=\"\",\"\",CTB4-CSZ4)))","v":""},null,null,null,null,null,null,null,null,null,{"$f":"IF(CTJ8<>\"\",0,IF(CTL4<CTJ4,\"\",IF(CTL4=\"\",\"\",CTL4-CTJ4)))","v":""},null,null,null,null,null,null,null,null,null,{"$f":"IF(CTT8<>\"\",0,IF(CTV4<CTT4,\"\",IF(CTV4=\"\",\"\",CTV4-CTT4)))","v":""},null,null,null,null,null,null,null,null,null,{"$f":"IF(CUD8<>\"\",0,IF(CUF4<CUD4,\"\",IF(CUF4=\"\",\"\",CUF4-CUD4)))","v":""},null,null,null,null,null,null,null,null,null,{"$f":"IF(CUN8<>\"\",0,IF(CUP4<CUN4,\"\",IF(CUP4=\"\",\"\",CUP4-CUN4)))","v":""},null,null,null,null,null,null,null,null,null,{"$f":"IF(CUX8<>\"\",0,IF(CUZ4<CUX4,\"\",IF(CUZ4=\"\",\"\",CUZ4-CUX4)))","v":""},null,null,null,null,null,null,null,null,null,{"$f":"IF(CVH8<>\"\",0,IF(CVJ4<CVH4,\"\",IF(CVJ4=\"\",\"\",CVJ4-CVH4)))","v":""},null,null,null,null,null,null,null,null,null,{"$f":"IF(CVR8<>\"\",0,IF(CVT4<CVR4,\"\",IF(CVT4=\"\",\"\",CVT4-CVR4)))","v":""},null,null,null,null,null,null,null,null,null,{"$f":"IF(CWB8<>\"\",0,IF(CWD4<CWB4,\"\",IF(CWD4=\"\",\"\",CWD4-CWB4)))","v":""},null,null,null,null,null,null,null,null,null,{"$f":"IF(CWL8<>\"\",0,IF(CWN4<CWL4,\"\",IF(CWN4=\"\",\"\",CWN4-CWL4)))","v":""},null,null,null,null,null,null,null,null,null,{"$f":"IF(CWV8<>\"\",0,IF(CWX4<CWV4,\"\",IF(CWX4=\"\",\"\",CWX4-CWV4)))","v":""},null,null,null,null,null,null,null,null,null,{"$f":"IF(CXF8<>\"\",0,IF(CXH4<CXF4,\"\",IF(CXH4=\"\",\"\",CXH4-CXF4)))","v":""},null,null,null,null,null,null,null,null,null,{"$f":"IF(CXP8<>\"\",0,IF(CXR4<CXP4,\"\",IF(CXR4=\"\",\"\",CXR4-CXP4)))","v":""},null,null,null,null,null,null,null,null,null,{"$f":"IF(CXZ8<>\"\",0,IF(CYB4<CXZ4,\"\",IF(CYB4=\"\",\"\",CYB4-CXZ4)))","v":""},null,null,null,null,null,null,null,null,null,{"$f":"IF(CYJ8<>\"\",0,IF(CYL4<CYJ4,\"\",IF(CYL4=\"\",\"\",CYL4-CYJ4)))","v":""},null,null,null,null,null,null,null,null,null,{"$f":"IF(CYT8<>\"\",0,IF(CYV4<CYT4,\"\",IF(CYV4=\"\",\"\",CYV4-CYT4)))","v":""},null,null,null,null,null,null,null,null,null,{"$f":"IF(CZD8<>\"\",0,IF(CZF4<CZD4,\"\",IF(CZF4=\"\",\"\",CZF4-CZD4)))","v":""},null,null,null,null,null,null,null,null,null,{"$f":"IF(CZN8<>\"\",0,IF(CZP4<CZN4,\"\",IF(CZP4=\"\",\"\",CZP4-CZN4)))","v":""},null,null,null,null,null,null,null,null,null,{"$f":"IF(CZX8<>\"\",0,IF(CZZ4<CZX4,\"\",IF(CZZ4=\"\",\"\",CZZ4-CZX4)))","v":""},null,null,null,null,null,null,null,null,null,{"$f":"IF(DAH8<>\"\",0,IF(DAJ4<DAH4,\"\",IF(DAJ4=\"\",\"\",DAJ4-DAH4)))","v":""},null,null,null,null,null,null,null,null,null,{"$f":"IF(DAR8<>\"\",0,IF(DAT4<DAR4,\"\",IF(DAT4=\"\",\"\",DAT4-DAR4)))","v":""},null,null,null,null,null,null,null,null,null,{"$f":"IF(DBB8<>\"\",0,IF(DBD4<DBB4,\"\",IF(DBD4=\"\",\"\",DBD4-DBB4)))","v":""},null,null,null,null,null,null,null,null,null,{"$f":"IF(DBL8<>\"\",0,IF(DBN4<DBL4,\"\",IF(DBN4=\"\",\"\",DBN4-DBL4)))","v":""},null,null,null,null,null,null,null,null,null,{"$f":"IF(DBV8<>\"\",0,IF(DBX4<DBV4,\"\",IF(DBX4=\"\",\"\",DBX4-DBV4)))","v":""},null,null,null,null,null,null,null,null,null,{"$f":"IF(DCF8<>\"\",0,IF(DCH4<DCF4,\"\",IF(DCH4=\"\",\"\",DCH4-DCF4)))","v":""},null,null,null,null,null,null,null,null,null,{"$f":"IF(DCP8<>\"\",0,IF(DCR4<DCP4,\"\",IF(DCR4=\"\",\"\",DCR4-DCP4)))","v":""},null,null,null,null,null,null,null,null,null,{"$f":"IF(DCZ8<>\"\",0,IF(DDB4<DCZ4,\"\",IF(DDB4=\"\",\"\",DDB4-DCZ4)))","v":""},null,null,null,null,null,null,null,null,null,{"$f":"IF(DDJ8<>\"\",0,IF(DDL4<DDJ4,\"\",IF(DDL4=\"\",\"\",DDL4-DDJ4)))","v":""},null,null,null,null,null,null,null,null,null,{"$f":"IF(DDT8<>\"\",0,IF(DDV4<DDT4,\"\",IF(DDV4=\"\",\"\",DDV4-DDT4)))","v":""},null,null,null,null,null,null,null,null,null,{"$f":"IF(DED8<>\"\",0,IF(DEF4<DED4,\"\",IF(DEF4=\"\",\"\",DEF4-DED4)))","v":""},null,null,null,null,null,null,null,null,null,{"$f":"IF(DEN8<>\"\",0,IF(DEP4<DEN4,\"\",IF(DEP4=\"\",\"\",DEP4-DEN4)))","v":""},null,null,null,null,null,null,null,null,null,{"$f":"IF(DEX8<>\"\",0,IF(DEZ4<DEX4,\"\",IF(DEZ4=\"\",\"\",DEZ4-DEX4)))","v":""},null,null,null,null,null,null,null,null,null,{"$f":"IF(DFH8<>\"\",0,IF(DFJ4<DFH4,\"\",IF(DFJ4=\"\",\"\",DFJ4-DFH4)))","v":""},null,null,null,null,null,null,null,null,null,{"$f":"IF(DFR8<>\"\",0,IF(DFT4<DFR4,\"\",IF(DFT4=\"\",\"\",DFT4-DFR4)))","v":""},"v",null,null,null,null,null,null,null,null,{"$f":"IF(DGB8<>\"\",0,IF(DGD4<DGB4,\"\",IF(DGD4=\"\",\"\",DGD4-DGB4)))","v":""},"v",null,null,null,null,null,null,null,null,{"$f":"IF(DGL8<>\"\",0,IF(DGN4<DGL4,\"\",IF(DGN4=\"\",\"\",DGN4-DGL4)))","v":""},"v",null,null,null,null,null,null,null,null,{"$f":"IF(DGV8<>\"\",0,IF(DGX4<DGV4,\"\",IF(DGX4=\"\",\"\",DGX4-DGV4)))","v":""},"v",null,null,null,null,null,null,null,null,{"$f":"IF(DHF8<>\"\",0,IF(DHH4<DHF4,\"\",IF(DHH4=\"\",\"\",DHH4-DHF4)))","v":""},"v",null,null,null,null,null,null,null,null,{"$f":"IF(DHP8<>\"\",0,IF(DHR4<DHP4,\"\",IF(DHR4=\"\",\"\",DHR4-DHP4)))","v":""},"v",null,null,null,null,null,null,null,null,{"$f":"IF(DHZ8<>\"\",0,IF(DIB4<DHZ4,\"\",IF(DIB4=\"\",\"\",DIB4-DHZ4)))","v":""},"v",null,null,null,null,null,null,null,null,{"$f":"IF(DIJ8<>\"\",0,IF(DIL4<DIJ4,\"\",IF(DIL4=\"\",\"\",DIL4-DIJ4)))","v":""},null,null,null,null,null,null,null,null,null,{"$f":"IF(DIT8<>\"\",0,IF(DIV4<DIT4,\"\",IF(DIV4=\"\",\"\",DIV4-DIT4)))","v":""},null,null,null,null,null,null,null,null,null,{"$f":"IF(DJD8<>\"\",0,IF(DJF4<DJD4,\"\",IF(DJF4=\"\",\"\",DJF4-DJD4)))","v":""},null,null,null,null,null,null,null,null,null,{"$f":"IF(DJN8<>\"\",0,IF(DJP4<DJN4,\"\",IF(DJP4=\"\",\"\",DJP4-DJN4)))","v":""},null,null,null,null,null,null,null,null,null,{"$f":"IF(DJX8<>\"\",0,IF(DJZ4<DJX4,\"\",IF(DJZ4=\"\",\"\",DJZ4-DJX4)))","v":""},null,null,null,null,null,null,null,null,null,{"$f":"IF(DKH8<>\"\",0,IF(DKJ4<DKH4,\"\",IF(DKJ4=\"\",\"\",DKJ4-DKH4)))","v":""},null,null,null,null,null,null,null,null,null,{"$f":"IF(DKR8<>\"\",0,IF(DKT4<DKR4,\"\",IF(DKT4=\"\",\"\",DKT4-DKR4)))","v":""},null,null,null,null,null,null,null,null,null,{"$f":"IF(DLB8<>\"\",0,IF(DLD4<DLB4,\"\",IF(DLD4=\"\",\"\",DLD4-DLB4)))","v":""},null,null,null,null,null,null,null,null,null,{"$f":"IF(DLL8<>\"\",0,IF(DLN4<DLL4,\"\",IF(DLN4=\"\",\"\",DLN4-DLL4)))","v":""},null,null,null,null,null,null,null,null,null,{"$f":"IF(DLV8<>\"\",0,IF(DLX4<DLV4,\"\",IF(DLX4=\"\",\"\",DLX4-DLV4)))","v":""},null,null,null,null,null,null,null,null,null,{"$f":"IF(DMF8<>\"\",0,IF(DMH4<DMF4,\"\",IF(DMH4=\"\",\"\",DMH4-DMF4)))","v":""},null,null,null,null,null,null,null,null,null,{"$f":"IF(DMP8<>\"\",0,IF(DMR4<DMP4,\"\",IF(DMR4=\"\",\"\",DMR4-DMP4)))","v":""},null,null,null,null,null,null,null,null,null,{"$f":"IF(DMZ8<>\"\",0,IF(DNB4<DMZ4,\"\",IF(DNB4=\"\",\"\",DNB4-DMZ4)))","v":""},null,null,null,null,null,null,null,null,null,{"$f":"IF(DNJ8<>\"\",0,IF(DNL4<DNJ4,\"\",IF(DNL4=\"\",\"\",DNL4-DNJ4)))","v":""},null,null,null,null,null,null,null,null,null,{"$f":"IF(DNT8<>\"\",0,IF(DNV4<DNT4,\"\",IF(DNV4=\"\",\"\",DNV4-DNT4)))","v":""},null,null,null,null,null,null,null,null,null,{"$f":"IF(DOD8<>\"\",0,IF(DOF4<DOD4,\"\",IF(DOF4=\"\",\"\",DOF4-DOD4)))","v":""},null,null,null,null,null,null,null,null,null,{"$f":"IF(DON8<>\"\",0,IF(DOP4<DON4,\"\",IF(DOP4=\"\",\"\",DOP4-DON4)))","v":""},null,null,null,null,null,null,null,null,null,{"$f":"IF(DOX8<>\"\",0,IF(DOZ4<DOX4,\"\",IF(DOZ4=\"\",\"\",DOZ4-DOX4)))","v":""},null,null,null,null,null,null,null,null,null,{"$f":"IF(DPH8<>\"\",0,IF(DPJ4<DPH4,\"\",IF(DPJ4=\"\",\"\",DPJ4-DPH4)))","v":""},null,null,null,null,null,null,null,null,null,{"$f":"IF(DPR8<>\"\",0,IF(DPT4<DPR4,\"\",IF(DPT4=\"\",\"\",DPT4-DPR4)))","v":""},null,null,null,null,null,null,null,null,null,{"$f":"IF(DQB8<>\"\",0,IF(DQD4<DQB4,\"\",IF(DQD4=\"\",\"\",DQD4-DQB4)))","v":""},null,null,null,null,null,null,null,null,null,{"$f":"IF(DQL8<>\"\",0,IF(DQN4<DQL4,\"\",IF(DQN4=\"\",\"\",DQN4-DQL4)))","v":""},null,null,null,null,null,null,null,null,null,{"$f":"IF(DQV8<>\"\",0,IF(DQX4<DQV4,\"\",IF(DQX4=\"\",\"\",DQX4-DQV4)))","v":""},null,null,null,null,null,null,null,null,null,{"$f":"IF(DRF8<>\"\",0,IF(DRH4<DRF4,\"\",IF(DRH4=\"\",\"\",DRH4-DRF4)))","v":""},null,null,null,null,null,null,null,null,null,{"$f":"IF(DRP8<>\"\",0,IF(DRR4<DRP4,\"\",IF(DRR4=\"\",\"\",DRR4-DRP4)))","v":""},null,null,null,null,null,null,null,null,null,{"$f":"IF(DRZ8<>\"\",0,IF(DSB4<DRZ4,\"\",IF(DSB4=\"\",\"\",DSB4-DRZ4)))","v":""},null,null,null,null,null,null,null,null,null,{"$f":"IF(DSJ8<>\"\",0,IF(DSL4<DSJ4,\"\",IF(DSL4=\"\",\"\",DSL4-DSJ4)))","v":""},null,null,null,null,null,null,null,null,null,{"$f":"IF(DST8<>\"\",0,IF(DSV4<DST4,\"\",IF(DSV4=\"\",\"\",DSV4-DST4)))","v":""},null,null,null,null,null,null,null,null,null,{"$f":"IF(DTD8<>\"\",0,IF(DTF4<DTD4,\"\",IF(DTF4=\"\",\"\",DTF4-DTD4)))","v":""},null,null,null,null,null,null,null,null,null,{"$f":"IF(DTN8<>\"\",0,IF(DTP4<DTN4,\"\",IF(DTP4=\"\",\"\",DTP4-DTN4)))","v":""},null,null,null,null,null,null,null,null,null,{"$f":"IF(DTX8<>\"\",0,IF(DTZ4<DTX4,\"\",IF(DTZ4=\"\",\"\",DTZ4-DTX4)))","v":""},null,null,null,null,null,null,null,null,null,{"$f":"IF(DUH8<>\"\",0,IF(DUJ4<DUH4,\"\",IF(DUJ4=\"\",\"\",DUJ4-DUH4)))","v":""},null,null,null,null,null,null,null,null,null,{"$f":"IF(DUR8<>\"\",0,IF(DUT4<DUR4,\"\",IF(DUT4=\"\",\"\",DUT4-DUR4)))","v":""},null,null,null,null,null,null,null,null,null,{"$f":"IF(DVB8<>\"\",0,IF(DVD4<DVB4,\"\",IF(DVD4=\"\",\"\",DVD4-DVB4)))","v":""},null,null,null,null,null,null,null,null,null,{"$f":"IF(DVL8<>\"\",0,IF(DVN4<DVL4,\"\",IF(DVN4=\"\",\"\",DVN4-DVL4)))","v":""},null,null,null,null,null,null,null,null,null,{"$f":"IF(DVV8<>\"\",0,IF(DVX4<DVV4,\"\",IF(DVX4=\"\",\"\",DVX4-DVV4)))","v":""},null,null,null,null,null,null,null,null,null,{"$f":"IF(DWF8<>\"\",0,IF(DWH4<DWF4,\"\",IF(DWH4=\"\",\"\",DWH4-DWF4)))","v":""},null,null,null,null,null,null,null,null,null,{"$f":"IF(DWP8<>\"\",0,IF(DWR4<DWP4,\"\",IF(DWR4=\"\",\"\",DWR4-DWP4)))","v":""},null,null,null,null,null,null,null,null,null,{"$f":"IF(DWZ8<>\"\",0,IF(DXB4<DWZ4,\"\",IF(DXB4=\"\",\"\",DXB4-DWZ4)))","v":""},null,null,null,null,null,null,null,null,null,{"$f":"IF(DXJ8<>\"\",0,IF(DXL4<DXJ4,\"\",IF(DXL4=\"\",\"\",DXL4-DXJ4)))","v":""},null,null,null,null,null,null,null,null,null,{"$f":"IF(DXT8<>\"\",0,IF(DXV4<DXT4,\"\",IF(DXV4=\"\",\"\",DXV4-DXT4)))","v":""},null,null,null,null,null,null,null,null,null,{"$f":"IF(DYD8<>\"\",0,IF(DYF4<DYD4,\"\",IF(DYF4=\"\",\"\",DYF4-DYD4)))","v":""},null,null,null,null,null,null,null,null,null,{"$f":"IF(DYN8<>\"\",0,IF(DYP4<DYN4,\"\",IF(DYP4=\"\",\"\",DYP4-DYN4)))","v":""},null,null,null,null,null,null,null,null,null,{"$f":"IF(DYX8<>\"\",0,IF(DYZ4<DYX4,\"\",IF(DYZ4=\"\",\"\",DYZ4-DYX4)))","v":""},null,null,null,null,null,null,null,null,null,{"$f":"IF(DZH8<>\"\",0,IF(DZJ4<DZH4,\"\",IF(DZJ4=\"\",\"\",DZJ4-DZH4)))","v":""},null,null,null,null,null,null,null,null,null,{"$f":"IF(DZR8<>\"\",0,IF(DZT4<DZR4,\"\",IF(DZT4=\"\",\"\",DZT4-DZR4)))","v":""},null,null,null,null,null,null,null,null,null,{"$f":"IF(EAB8<>\"\",0,IF(EAD4<EAB4,\"\",IF(EAD4=\"\",\"\",EAD4-EAB4)))","v":""},null,null,null,null,null,null,null,null,null,{"$f":"IF(EAL8<>\"\",0,IF(EAN4<EAL4,\"\",IF(EAN4=\"\",\"\",EAN4-EAL4)))","v":""},null,null,null,null,null,null,null,null,null,{"$f":"IF(EAV8<>\"\",0,IF(EAX4<EAV4,\"\",IF(EAX4=\"\",\"\",EAX4-EAV4)))","v":""},null,null,null,null,null,null,null,null,null,{"$f":"IF(EBF8<>\"\",0,IF(EBH4<EBF4,\"\",IF(EBH4=\"\",\"\",EBH4-EBF4)))","v":""},null,null,null,null,null,null,null,null,null,{"$f":"IF(EBP8<>\"\",0,IF(EBR4<EBP4,\"\",IF(EBR4=\"\",\"\",EBR4-EBP4)))","v":""},null,null,null,null,null,null,null,null,null,{"$f":"IF(EBZ8<>\"\",0,IF(ECB4<EBZ4,\"\",IF(ECB4=\"\",\"\",ECB4-EBZ4)))","v":""},null,null,null,null,null,null,null,null,null,{"$f":"IF(ECJ8<>\"\",0,IF(ECL4<ECJ4,\"\",IF(ECL4=\"\",\"\",ECL4-ECJ4)))","v":""},null,null,null,null,null,null,null,null,null,{"$f":"IF(ECT8<>\"\",0,IF(ECV4<ECT4,\"\",IF(ECV4=\"\",\"\",ECV4-ECT4)))","v":""},null,null,null,null,null,null,null,null,null,{"$f":"IF(EDD8<>\"\",0,IF(EDF4<EDD4,\"\",IF(EDF4=\"\",\"\",EDF4-EDD4)))","v":""},null,null,null,null,null,null,null,null,null,{"$f":"IF(EDN8<>\"\",0,IF(EDP4<EDN4,\"\",IF(EDP4=\"\",\"\",EDP4-EDN4)))","v":""},null,null,null,null,null,null,null,null,null,{"$f":"IF(EDX8<>\"\",0,IF(EDZ4<EDX4,\"\",IF(EDZ4=\"\",\"\",EDZ4-EDX4)))","v":""},null,null,null,null,null,null,null,null,null,{"$f":"IF(EEH8<>\"\",0,IF(EEJ4<EEH4,\"\",IF(EEJ4=\"\",\"\",EEJ4-EEH4)))","v":""},null,null,null,null,null,null,null,null,null,{"$f":"IF(EER8<>\"\",0,IF(EET4<EER4,\"\",IF(EET4=\"\",\"\",EET4-EER4)))","v":""},null,null,null,null,null,null,null,null,null,{"$f":"IF(EFB8<>\"\",0,IF(EFD4<EFB4,\"\",IF(EFD4=\"\",\"\",EFD4-EFB4)))","v":""},null,null,null,null,null,null,null,null,null,{"$f":"IF(EFL8<>\"\",0,IF(EFN4<EFL4,\"\",IF(EFN4=\"\",\"\",EFN4-EFL4)))","v":""},null,null,null,null,null,null,null,null,null,{"$f":"IF(EFV8<>\"\",0,IF(EFX4<EFV4,\"\",IF(EFX4=\"\",\"\",EFX4-EFV4)))","v":""},null,null,null,null,null,null,null,null,null,{"$f":"IF(EGF8<>\"\",0,IF(EGH4<EGF4,\"\",IF(EGH4=\"\",\"\",EGH4-EGF4)))","v":""},null,null,null,null,null,null,null,null,null,{"$f":"IF(EGP8<>\"\",0,IF(EGR4<EGP4,\"\",IF(EGR4=\"\",\"\",EGR4-EGP4)))","v":""},null,null,null,null,null,null,null,null,null,{"$f":"IF(EGZ8<>\"\",0,IF(EHB4<EGZ4,\"\",IF(EHB4=\"\",\"\",EHB4-EGZ4)))","v":""},"v",null,null,null,null,null,null,null,null,{"$f":"IF(EHJ8<>\"\",0,IF(EHL4<EHJ4,\"\",IF(EHL4=\"\",\"\",EHL4-EHJ4)))","v":""},"v",null,null,null,null,null,null,null,null,{"$f":"IF(EHT8<>\"\",0,IF(EHV4<EHT4,\"\",IF(EHV4=\"\",\"\",EHV4-EHT4)))","v":""},"v",null,null,null,null,null,null,null,null,{"$f":"IF(EID8<>\"\",0,IF(EIF4<EID4,\"\",IF(EIF4=\"\",\"\",EIF4-EID4)))","v":""},"v",null,null,null,null,null,null,null,null,{"$f":"IF(EIN8<>\"\",0,IF(EIP4<EIN4,\"\",IF(EIP4=\"\",\"\",EIP4-EIN4)))","v":""},"v",null,null,null,null,null,null,null,null,{"$f":"IF(EIX8<>\"\",0,IF(EIZ4<EIX4,\"\",IF(EIZ4=\"\",\"\",EIZ4-EIX4)))","v":""},"v",null,null,null,null,null,null,null,null,{"$f":"IF(EJH8<>\"\",0,IF(EJJ4<EJH4,\"\",IF(EJJ4=\"\",\"\",EJJ4-EJH4)))","v":""},"v",null,null,null,null,null,null,null,null,{"$f":"IF(EJR8<>\"\",0,IF(EJT4<EJR4,\"\",IF(EJT4=\"\",\"\",EJT4-EJR4)))","v":""},"v",null,null,null,null,null,null,null,null,{"$f":"IF(EKB8<>\"\",0,IF(EKD4<EKB4,\"\",IF(EKD4=\"\",\"\",EKD4-EKB4)))","v":""},"v",null,null,null,null,null,null,null,null,{"$f":"IF(EKL8<>\"\",0,IF(EKN4<EKL4,\"\",IF(EKN4=\"\",\"\",EKN4-EKL4)))","v":""},"v"]
[null,"Yhteensä toteutuneet tunnit",null,{"$f":"C31+D31+E31","v":0},null,"Sitomattomat tunnit",null,null,null,{"$f":"G31-C31","v":0},{"$f":"IF(G31=0,\"\",(G31-C31)/G31)","v":""},null,null,null,null,"p","Työjakso2 ",null,null,null,null,{"$f":"IF(T5<R5,\"\",IF(T5=\"\",\"\",T5-R5))","v":""},null,null,null,null,null,null,null,null,null,{"$f":"IF(AD5<AB5,\"\",IF(AD5=\"\",\"\",AD5-AB5))","v":""},null,null,null,null,null,null,null,null,null,{"$f":"IF(AN5<AL5,\"\",IF(AN5=\"\",\"\",AN5-AL5))","v":""},null,null,null,null,null,null,null,null,null,{"$f":"IF(AX5<AV5,\"\",IF(AX5=\"\",\"\",AX5-AV5))","v":""},null,null,null,null,null,null,null,null,null,{"$f":"IF(BH5<BF5,\"\",IF(BH5=\"\",\"\",BH5-BF5))","v":""},null,null,null,null,null,null,null,null,null,{"$f":"IF(BR5<BP5,\"\",IF(BR5=\"\",\"\",BR5-BP5))","v":""},null,null,null,null,null,null,null,null,null,{"$f":"IF(CB5<BZ5,\"\",IF(CB5=\"\",\"\",CB5-BZ5))","v":""},null,null,null,null,null,null,null,null,null,{"$f":"IF(CL5<CJ5,\"\",IF(CL5=\"\",\"\",CL5-CJ5))","v":""},null,null,null,null,null,null,null,null,null,{"$f":"IF(CV5<CT5,\"\",IF(CV5=\"\",\"\",CV5-CT5))","v":""},null,null,null,null,null,null,null,null,null,{"$f":"IF(DF5<DD5,\"\",IF(DF5=\"\",\"\",DF5-DD5))","v":""},null,null,null,null,null,null,null,null,null,{"$f":"IF(DP5<DN5,\"\",IF(DP5=\"\",\"\",DP5-DN5))","v":""},null,null,null,null,null,null,null,null,null,{"$f":"IF(DZ5<DX5,\"\",IF(DZ5=\"\",\"\",DZ5-DX5))","v":""},null,null,null,null,null,null,null,null,null,{"$f":"IF(EJ5<EH5,\"\",IF(EJ5=\"\",\"\",EJ5-EH5))","v":""},null,null,null,null,null,null,null,null,null,{"$f":"IF(ET5<ER5,\"\",IF(ET5=\"\",\"\",ET5-ER5))","v":""},null,null,null,null,null,null,null,null,null,{"$f":"IF(FD5<FB5,\"\",IF(FD5=\"\",\"\",FD5-FB5))","v":""},null,null,null,null,null,null,null,null,null,{"$f":"IF(FN5<FL5,\"\",IF(FN5=\"\",\"\",FN5-FL5))","v":""},null,null,null,null,null,null,null,null,null,{"$f":"IF(FX5<FV5,\"\",IF(FX5=\"\",\"\",FX5-FV5))","v":""},null,null,null,null,null,null,null,null,null,{"$f":"IF(GH5<GF5,\"\",IF(GH5=\"\",\"\",GH5-GF5))","v":""},null,null,null,null,null,null,null,null,null,{"$f":"IF(GR5<GP5,\"\",IF(GR5=\"\",\"\",GR5-GP5))","v":""},null,null,null,null,null,null,null,null,null,{"$f":"IF(HB5<GZ5,\"\",IF(HB5=\"\",\"\",HB5-GZ5))","v":""},null,null,null,null,null,null,null,null,null,{"$f":"IF(HL5<HJ5,\"\",IF(HL5=\"\",\"\",HL5-HJ5))","v":""},null,null,null,null,null,null,null,null,null,{"$f":"IF(HV5<HT5,\"\",IF(HV5=\"\",\"\",HV5-HT5))","v":""},null,null,null,null,null,null,null,null,null,{"$f":"IF(IF5<ID5,\"\",IF(IF5=\"\",\"\",IF5-ID5))","v":""},null,null,null,null,null,null,null,null,null,{"$f":"IF(IP5<IN5,\"\",IF(IP5=\"\",\"\",IP5-IN5))","v":""},null,null,null,null,null,null,null,null,null,{"$f":"IF(IZ5<IX5,\"\",IF(IZ5=\"\",\"\",IZ5-IX5))","v":""},null,null,null,null,null,null,null,null,null,{"$f":"IF(JJ5<JH5,\"\",IF(JJ5=\"\",\"\",JJ5-JH5))","v":""},null,null,null,null,null,null,null,null,null,{"$f":"IF(JT5<JR5,\"\",IF(JT5=\"\",\"\",JT5-JR5))","v":""},null,null,null,null,null,null,null,null,null,{"$f":"IF(KD5<KB5,\"\",IF(KD5=\"\",\"\",KD5-KB5))","v":""},null,null,null,null,null,null,null,null,null,{"$f":"IF(KN5<KL5,\"\",IF(KN5=\"\",\"\",KN5-KL5))","v":""},null,null,null,null,null,null,null,null,null,{"$f":"IF(KX5<KV5,\"\",IF(KX5=\"\",\"\",KX5-KV5))","v":""},null,null,null,null,null,null,null,null,null,{"$f":"IF(LH5<LF5,\"\",IF(LH5=\"\",\"\",LH5-LF5))","v":""},null,null,null,null,null,null,null,null,null,{"$f":"IF(LR5<LP5,\"\",IF(LR5=\"\",\"\",LR5-LP5))","v":""},null,null,null,null,null,null,null,null,null,{"$f":"IF(MB5<LZ5,\"\",IF(MB5=\"\",\"\",MB5-LZ5))","v":""},null,null,null,null,null,null,null,null,null,{"$f":"IF(ML5<MJ5,\"\",IF(ML5=\"\",\"\",ML5-MJ5))","v":""},null,null,null,null,null,null,null,null,null,{"$f":"IF(MV5<MT5,\"\",IF(MV5=\"\",\"\",MV5-MT5))","v":""},null,null,null,null,null,null,null,null,null,{"$f":"IF(NF5<ND5,\"\",IF(NF5=\"\",\"\",NF5-ND5))","v":""},null,null,null,null,null,null,null,null,null,{"$f":"IF(NP5<NN5,\"\",IF(NP5=\"\",\"\",NP5-NN5))","v":""},null,null,null,null,null,null,null,null,null,{"$f":"IF(NZ5<NX5,\"\",IF(NZ5=\"\",\"\",NZ5-NX5))","v":""},null,null,null,null,null,null,null,null,null,{"$f":"IF(OJ5<OH5,\"\",IF(OJ5=\"\",\"\",OJ5-OH5))","v":""},null,null,null,null,null,null,null,null,null,{"$f":"IF(OT5<OR5,\"\",IF(OT5=\"\",\"\",OT5-OR5))","v":""},null,null,null,null,null,null,null,null,null,{"$f":"IF(PD5<PB5,\"\",IF(PD5=\"\",\"\",PD5-PB5))","v":""},null,null,null,null,null,null,null,null,null,{"$f":"IF(PN5<PL5,\"\",IF(PN5=\"\",\"\",PN5-PL5))","v":""},null,null,null,null,null,null,null,null,null,{"$f":"IF(PX5<PV5,\"\",IF(PX5=\"\",\"\",PX5-PV5))","v":""},null,null,null,null,null,null,null,null,null,{"$f":"IF(QH5<QF5,\"\",IF(QH5=\"\",\"\",QH5-QF5))","v":""},null,null,null,null,null,null,null,null,null,{"$f":"IF(QR5<QP5,\"\",IF(QR5=\"\",\"\",QR5-QP5))","v":""},null,null,null,null,null,null,null,null,null,{"$f":"IF(RB5<QZ5,\"\",IF(RB5=\"\",\"\",RB5-QZ5))","v":""},null,null,null,null,null,null,null,null,null,{"$f":"IF(RL5<RJ5,\"\",IF(RL5=\"\",\"\",RL5-RJ5))","v":""},null,null,null,null,null,null,null,null,null,{"$f":"IF(RV5<RT5,\"\",IF(RV5=\"\",\"\",RV5-RT5))","v":""},null,null,null,null,null,null,null,null,null,{"$f":"IF(SF5<SD5,\"\",IF(SF5=\"\",\"\",SF5-SD5))","v":""},null,null,null,null,null,null,null,null,null,{"$f":"IF(SP5<SN5,\"\",IF(SP5=\"\",\"\",SP5-SN5))","v":""},null,null,null,null,null,null,null,null,null,{"$f":"IF(SZ5<SX5,\"\",IF(SZ5=\"\",\"\",SZ5-SX5))","v":""},null,null,null,null,null,null,null,null,null,{"$f":"IF(TJ5<TH5,\"\",IF(TJ5=\"\",\"\",TJ5-TH5))","v":""},null,null,null,null,null,null,null,null,null,{"$f":"IF(TT5<TR5,\"\",IF(TT5=\"\",\"\",TT5-TR5))","v":""},null,null,null,null,null,null,null,null,null,{"$f":"IF(UD5<UB5,\"\",IF(UD5=\"\",\"\",UD5-UB5))","v":""},null,null,null,null,null,null,null,null,null,{"$f":"IF(UN5<UL5,\"\",IF(UN5=\"\",\"\",UN5-UL5))","v":""},null,null,null,null,null,null,null,null,null,{"$f":"IF(UX5<UV5,\"\",IF(UX5=\"\",\"\",UX5-UV5))","v":""},null,null,null,null,null,null,null,null,null,{"$f":"IF(VH5<VF5,\"\",IF(VH5=\"\",\"\",VH5-VF5))","v":""},null,null,null,null,null,null,null,null,null,{"$f":"IF(VR5<VP5,\"\",IF(VR5=\"\",\"\",VR5-VP5))","v":""},null,null,null,null,null,null,null,null,null,{"$f":"IF(WB5<VZ5,\"\",IF(WB5=\"\",\"\",WB5-VZ5))","v":""},null,null,null,null,null,null,null,null,null,{"$f":"IF(WL5<WJ5,\"\",IF(WL5=\"\",\"\",WL5-WJ5))","v":""},null,null,null,null,null,null,null,null,null,{"$f":"IF(WV5<WT5,\"\",IF(WV5=\"\",\"\",WV5-WT5))","v":""},null,null,null,null,null,null,null,null,null,{"$f":"IF(XF5<XD5,\"\",IF(XF5=\"\",\"\",XF5-XD5))","v":""},null,null,null,null,null,null,null,null,null,{"$f":"IF(XP5<XN5,\"\",IF(XP5=\"\",\"\",XP5-XN5))","v":""},null,null,null,null,null,null,null,null,null,{"$f":"IF(XZ5<XX5,\"\",IF(XZ5=\"\",\"\",XZ5-XX5))","v":""},null,null,null,null,null,null,null,null,null,{"$f":"IF(YJ5<YH5,\"\",IF(YJ5=\"\",\"\",YJ5-YH5))","v":""},null,null,null,null,null,null,null,null,null,{"$f":"IF(YT5<YR5,\"\",IF(YT5=\"\",\"\",YT5-YR5))","v":""},null,null,null,null,null,null,null,null,null,{"$f":"IF(ZD5<ZB5,\"\",IF(ZD5=\"\",\"\",ZD5-ZB5))","v":""},null,null,null,null,null,null,null,null,null,{"$f":"IF(ZN5<ZL5,\"\",IF(ZN5=\"\",\"\",ZN5-ZL5))","v":""},null,null,null,null,null,null,null,null,null,{"$f":"IF(ZX5<ZV5,\"\",IF(ZX5=\"\",\"\",ZX5-ZV5))","v":""},null,null,null,null,null,null,null,null,null,{"$f":"IF(AAH5<AAF5,\"\",IF(AAH5=\"\",\"\",AAH5-AAF5))","v":""},null,null,null,null,null,null,null,null,null,{"$f":"IF(AAR5<AAP5,\"\",IF(AAR5=\"\",\"\",AAR5-AAP5))","v":""},null,null,null,null,null,null,null,null,null,{"$f":"IF(ABB5<AAZ5,\"\",IF(ABB5=\"\",\"\",ABB5-AAZ5))","v":""},null,null,null,null,null,null,null,null,null,{"$f":"IF(ABL5<ABJ5,\"\",IF(ABL5=\"\",\"\",ABL5-ABJ5))","v":""},null,null,null,null,null,null,null,null,null,{"$f":"IF(ABV5<ABT5,\"\",IF(ABV5=\"\",\"\",ABV5-ABT5))","v":""},null,null,null,null,null,null,null,null,null,{"$f":"IF(ACF5<ACD5,\"\",IF(ACF5=\"\",\"\",ACF5-ACD5))","v":""},null,null,null,null,null,null,null,null,null,{"$f":"IF(ACP5<ACN5,\"\",IF(ACP5=\"\",\"\",ACP5-ACN5))","v":""},null,null,null,null,null,null,null,null,null,{"$f":"IF(ACZ5<ACX5,\"\",IF(ACZ5=\"\",\"\",ACZ5-ACX5))","v":""},null,null,null,null,null,null,null,null,null,{"$f":"IF(ADJ5<ADH5,\"\",IF(ADJ5=\"\",\"\",ADJ5-ADH5))","v":""},null,null,null,null,null,null,null,null,null,{"$f":"IF(ADT5<ADR5,\"\",IF(ADT5=\"\",\"\",ADT5-ADR5))","v":""},null,null,null,null,null,null,null,null,null,{"$f":"IF(AED5<AEB5,\"\",IF(AED5=\"\",\"\",AED5-AEB5))","v":""},null,null,null,null,null,null,null,null,null,{"$f":"IF(AEN5<AEL5,\"\",IF(AEN5=\"\",\"\",AEN5-AEL5))","v":""},null,null,null,null,null,null,null,null,null,{"$f":"IF(AEX5<AEV5,\"\",IF(AEX5=\"\",\"\",AEX5-AEV5))","v":""},null,null,null,null,null,null,null,null,null,{"$f":"IF(AFH5<AFF5,\"\",IF(AFH5=\"\",\"\",AFH5-AFF5))","v":""},null,null,null,null,null,null,null,null,null,{"$f":"IF(AFR5<AFP5,\"\",IF(AFR5=\"\",\"\",AFR5-AFP5))","v":""},null,null,null,null,null,null,null,null,null,{"$f":"IF(AGB5<AFZ5,\"\",IF(AGB5=\"\",\"\",AGB5-AFZ5))","v":""},null,null,null,null,null,null,null,null,null,{"$f":"IF(AGL5<AGJ5,\"\",IF(AGL5=\"\",\"\",AGL5-AGJ5))","v":""},null,null,null,null,null,null,null,null,null,{"$f":"IF(AGV5<AGT5,\"\",IF(AGV5=\"\",\"\",AGV5-AGT5))","v":""},null,null,null,null,null,null,null,null,null,{"$f":"IF(AHF5<AHD5,\"\",IF(AHF5=\"\",\"\",AHF5-AHD5))","v":""},null,null,null,null,null,null,null,null,null,{"$f":"IF(AHP5<AHN5,\"\",IF(AHP5=\"\",\"\",AHP5-AHN5))","v":""},null,null,null,null,null,null,null,null,null,{"$f":"IF(AHZ5<AHX5,\"\",IF(AHZ5=\"\",\"\",AHZ5-AHX5))","v":""},null,null,null,null,null,null,null,null,null,{"$f":"IF(AIJ5<AIH5,\"\",IF(AIJ5=\"\",\"\",AIJ5-AIH5))","v":""},null,null,null,null,null,null,null,null,null,{"$f":"IF(AIT5<AIR5,\"\",IF(AIT5=\"\",\"\",AIT5-AIR5))","v":""},null,null,null,null,null,null,null,null,null,{"$f":"IF(AJD5<AJB5,\"\",IF(AJD5=\"\",\"\",AJD5-AJB5))","v":""},null,null,null,null,null,null,null,null,null,{"$f":"IF(AJN5<AJL5,\"\",IF(AJN5=\"\",\"\",AJN5-AJL5))","v":""},null,null,null,null,null,null,null,null,null,{"$f":"IF(AJX5<AJV5,\"\",IF(AJX5=\"\",\"\",AJX5-AJV5))","v":""},null,null,null,null,null,null,null,null,null,{"$f":"IF(AKH5<AKF5,\"\",IF(AKH5=\"\",\"\",AKH5-AKF5))","v":""},null,null,null,null,null,null,null,null,null,{"$f":"IF(AKR5<AKP5,\"\",IF(AKR5=\"\",\"\",AKR5-AKP5))","v":""},null,null,null,null,null,null,null,null,null,{"$f":"IF(ALB5<AKZ5,\"\",IF(ALB5=\"\",\"\",ALB5-AKZ5))","v":""},null,null,null,null,null,null,null,null,null,{"$f":"IF(ALL5<ALJ5,\"\",IF(ALL5=\"\",\"\",ALL5-ALJ5))","v":""},null,null,null,null,null,null,null,null,null,{"$f":"IF(ALV5<ALT5,\"\",IF(ALV5=\"\",\"\",ALV5-ALT5))","v":""},null,null,null,null,null,null,null,null,null,{"$f":"IF(AMF5<AMD5,\"\",IF(AMF5=\"\",\"\",AMF5-AMD5))","v":""},null,null,null,null,null,null,null,null,null,{"$f":"IF(AMP5<AMN5,\"\",IF(AMP5=\"\",\"\",AMP5-AMN5))","v":""},null,null,null,null,null,null,null,null,null,{"$f":"IF(AMZ5<AMX5,\"\",IF(AMZ5=\"\",\"\",AMZ5-AMX5))","v":""},null,null,null,null,null,null,null,null,null,{"$f":"IF(ANJ5<ANH5,\"\",IF(ANJ5=\"\",\"\",ANJ5-ANH5))","v":""},null,null,null,null,null,null,null,null,null,{"$f":"IF(ANT5<ANR5,\"\",IF(ANT5=\"\",\"\",ANT5-ANR5))","v":""},null,null,null,null,null,null,null,null,null,{"$f":"IF(AOD5<AOB5,\"\",IF(AOD5=\"\",\"\",AOD5-AOB5))","v":""},null,null,null,null,null,null,null,null,null,{"$f":"IF(AON5<AOL5,\"\",IF(AON5=\"\",\"\",AON5-AOL5))","v":""},null,null,null,null,null,null,null,null,null,{"$f":"IF(AOX5<AOV5,\"\",IF(AOX5=\"\",\"\",AOX5-AOV5))","v":""},null,null,null,null,null,null,null,null,null,{"$f":"IF(APH5<APF5,\"\",IF(APH5=\"\",\"\",APH5-APF5))","v":""},null,null,null,null,null,null,null,null,null,{"$f":"IF(APR5<APP5,\"\",IF(APR5=\"\",\"\",APR5-APP5))","v":""},null,null,null,null,null,null,null,null,null,{"$f":"IF(AQB5<APZ5,\"\",IF(AQB5=\"\",\"\",AQB5-APZ5))","v":""},null,null,null,null,null,null,null,null,null,{"$f":"IF(AQL5<AQJ5,\"\",IF(AQL5=\"\",\"\",AQL5-AQJ5))","v":""},null,null,null,null,null,null,null,null,null,{"$f":"IF(AQV5<AQT5,\"\",IF(AQV5=\"\",\"\",AQV5-AQT5))","v":""},null,null,null,null,null,null,null,null,null,{"$f":"IF(ARF5<ARD5,\"\",IF(ARF5=\"\",\"\",ARF5-ARD5))","v":""},null,null,null,null,null,null,null,null,null,{"$f":"IF(ARP5<ARN5,\"\",IF(ARP5=\"\",\"\",ARP5-ARN5))","v":""},null,null,null,null,null,null,null,null,null,{"$f":"IF(ARZ5<ARX5,\"\",IF(ARZ5=\"\",\"\",ARZ5-ARX5))","v":""},null,null,null,null,null,null,null,null,null,{"$f":"IF(ASJ5<ASH5,\"\",IF(ASJ5=\"\",\"\",ASJ5-ASH5))","v":""},null,null,null,null,null,null,null,null,null,{"$f":"IF(AST5<ASR5,\"\",IF(AST5=\"\",\"\",AST5-ASR5))","v":""},null,null,null,null,null,null,null,null,null,{"$f":"IF(ATD5<ATB5,\"\",IF(ATD5=\"\",\"\",ATD5-ATB5))","v":""},null,null,null,null,null,null,null,null,null,{"$f":"IF(ATN5<ATL5,\"\",IF(ATN5=\"\",\"\",ATN5-ATL5))","v":""},null,null,null,null,null,null,null,null,null,{"$f":"IF(ATX5<ATV5,\"\",IF(ATX5=\"\",\"\",ATX5-ATV5))","v":""},null,null,null,null,null,null,null,null,null,{"$f":"IF(AUH5<AUF5,\"\",IF(AUH5=\"\",\"\",AUH5-AUF5))","v":""},null,null,null,null,null,null,null,null,null,{"$f":"IF(AUR5<AUP5,\"\",IF(AUR5=\"\",\"\",AUR5-AUP5))","v":""},null,null,null,null,null,null,null,null,null,{"$f":"IF(AVB5<AUZ5,\"\",IF(AVB5=\"\",\"\",AVB5-AUZ5))","v":""},null,null,null,null,null,null,null,null,null,{"$f":"IF(AVL5<AVJ5,\"\",IF(AVL5=\"\",\"\",AVL5-AVJ5))","v":""},null,null,null,null,null,null,null,null,null,{"$f":"IF(AVV5<AVT5,\"\",IF(AVV5=\"\",\"\",AVV5-AVT5))","v":""},null,null,null,null,null,null,null,null,null,{"$f":"IF(AWF5<AWD5,\"\",IF(AWF5=\"\",\"\",AWF5-AWD5))","v":""},null,null,null,null,null,null,null,null,null,{"$f":"IF(AWP5<AWN5,\"\",IF(AWP5=\"\",\"\",AWP5-AWN5))","v":""},null,null,null,null,null,null,null,null,null,{"$f":"IF(AWZ5<AWX5,\"\",IF(AWZ5=\"\",\"\",AWZ5-AWX5))","v":""},null,null,null,null,null,null,null,null,null,{"$f":"IF(AXJ5<AXH5,\"\",IF(AXJ5=\"\",\"\",AXJ5-AXH5))","v":""},null,null,null,null,null,null,null,null,null,{"$f":"IF(AXT5<AXR5,\"\",IF(AXT5=\"\",\"\",AXT5-AXR5))","v":""},null,null,null,null,null,null,null,null,null,{"$f":"IF(AYD5<AYB5,\"\",IF(AYD5=\"\",\"\",AYD5-AYB5))","v":""},null,null,null,null,null,null,null,null,null,{"$f":"IF(AYN5<AYL5,\"\",IF(AYN5=\"\",\"\",AYN5-AYL5))","v":""},null,null,null,null,null,null,null,null,null,{"$f":"IF(AYX5<AYV5,\"\",IF(AYX5=\"\",\"\",AYX5-AYV5))","v":""},null,null,null,null,null,null,null,null,null,{"$f":"IF(AZH5<AZF5,\"\",IF(AZH5=\"\",\"\",AZH5-AZF5))","v":""},null,null,null,null,null,null,null,null,null,{"$f":"IF(AZR5<AZP5,\"\",IF(AZR5=\"\",\"\",AZR5-AZP5))","v":""},null,null,null,null,null,null,null,null,null,{"$f":"IF(BAB5<AZZ5,\"\",IF(BAB5=\"\",\"\",BAB5-AZZ5))","v":""},null,null,null,null,null,null,null,null,null,{"$f":"IF(BAL5<BAJ5,\"\",IF(BAL5=\"\",\"\",BAL5-BAJ5))","v":""},null,null,null,null,null,null,null,null,null,{"$f":"IF(BAV5<BAT5,\"\",IF(BAV5=\"\",\"\",BAV5-BAT5))","v":""},null,null,null,null,null,null,null,null,null,{"$f":"IF(BBF5<BBD5,\"\",IF(BBF5=\"\",\"\",BBF5-BBD5))","v":""},null,null,null,null,null,null,null,null,null,{"$f":"IF(BBP5<BBN5,\"\",IF(BBP5=\"\",\"\",BBP5-BBN5))","v":""},null,null,null,null,null,null,null,null,null,{"$f":"IF(BBZ5<BBX5,\"\",IF(BBZ5=\"\",\"\",BBZ5-BBX5))","v":""},null,null,null,null,null,null,null,null,null,{"$f":"IF(BCJ5<BCH5,\"\",IF(BCJ5=\"\",\"\",BCJ5-BCH5))","v":""},null,null,null,null,null,null,null,null,null,{"$f":"IF(BCT5<BCR5,\"\",IF(BCT5=\"\",\"\",BCT5-BCR5))","v":""},null,null,null,null,null,null,null,null,null,{"$f":"IF(BDD5<BDB5,\"\",IF(BDD5=\"\",\"\",BDD5-BDB5))","v":""},null,null,null,null,null,null,null,null,null,{"$f":"IF(BDN5<BDL5,\"\",IF(BDN5=\"\",\"\",BDN5-BDL5))","v":""},null,null,null,null,null,null,null,null,null,{"$f":"IF(BDX5<BDV5,\"\",IF(BDX5=\"\",\"\",BDX5-BDV5))","v":""},null,null,null,null,null,null,null,null,null,{"$f":"IF(BEH5<BEF5,\"\",IF(BEH5=\"\",\"\",BEH5-BEF5))","v":""},null,null,null,null,null,null,null,null,null,{"$f":"IF(BER5<BEP5,\"\",IF(BER5=\"\",\"\",BER5-BEP5))","v":""},null,null,null,null,null,null,null,null,null,{"$f":"IF(BFB5<BEZ5,\"\",IF(BFB5=\"\",\"\",BFB5-BEZ5))","v":""},null,null,null,null,null,null,null,null,null,{"$f":"IF(BFL5<BFJ5,\"\",IF(BFL5=\"\",\"\",BFL5-BFJ5))","v":""},null,null,null,null,null,null,null,null,null,{"$f":"IF(BFV5<BFT5,\"\",IF(BFV5=\"\",\"\",BFV5-BFT5))","v":""},null,null,null,null,null,null,null,null,null,{"$f":"IF(BGF5<BGD5,\"\",IF(BGF5=\"\",\"\",BGF5-BGD5))","v":""},null,null,null,null,null,null,null,null,null,{"$f":"IF(BGP5<BGN5,\"\",IF(BGP5=\"\",\"\",BGP5-BGN5))","v":""},null,null,null,null,null,null,null,null,null,{"$f":"IF(BGZ5<BGX5,\"\",IF(BGZ5=\"\",\"\",BGZ5-BGX5))","v":""},null,null,null,null,null,null,null,null,null,{"$f":"IF(BHJ5<BHH5,\"\",IF(BHJ5=\"\",\"\",BHJ5-BHH5))","v":""},null,null,null,null,null,null,null,null,null,{"$f":"IF(BHT5<BHR5,\"\",IF(BHT5=\"\",\"\",BHT5-BHR5))","v":""},null,null,null,null,null,null,null,null,null,{"$f":"IF(BID5<BIB5,\"\",IF(BID5=\"\",\"\",BID5-BIB5))","v":""},null,null,null,null,null,null,null,null,null,{"$f":"IF(BIN5<BIL5,\"\",IF(BIN5=\"\",\"\",BIN5-BIL5))","v":""},null,null,null,null,null,null,null,null,null,{"$f":"IF(BIX5<BIV5,\"\",IF(BIX5=\"\",\"\",BIX5-BIV5))","v":""},null,null,null,null,null,null,null,null,null,{"$f":"IF(BJH5<BJF5,\"\",IF(BJH5=\"\",\"\",BJH5-BJF5))","v":""},null,null,null,null,null,null,null,null,null,{"$f":"IF(BJR5<BJP5,\"\",IF(BJR5=\"\",\"\",BJR5-BJP5))","v":""},null,null,null,null,null,null,null,null,null,{"$f":"IF(BKB5<BJZ5,\"\",IF(BKB5=\"\",\"\",BKB5-BJZ5))","v":""},null,null,null,null,null,null,null,null,null,{"$f":"IF(BKL5<BKJ5,\"\",IF(BKL5=\"\",\"\",BKL5-BKJ5))","v":""},null,null,null,null,null,null,null,null,null,{"$f":"IF(BKV5<BKT5,\"\",IF(BKV5=\"\",\"\",BKV5-BKT5))","v":""},null,null,null,null,null,null,null,null,null,{"$f":"IF(BLF5<BLD5,\"\",IF(BLF5=\"\",\"\",BLF5-BLD5))","v":""},null,null,null,null,null,null,null,null,null,{"$f":"IF(BLP5<BLN5,\"\",IF(BLP5=\"\",\"\",BLP5-BLN5))","v":""},null,null,null,null,null,null,null,null,null,{"$f":"IF(BLZ5<BLX5,\"\",IF(BLZ5=\"\",\"\",BLZ5-BLX5))","v":""},null,null,null,null,null,null,null,null,null,{"$f":"IF(BMJ5<BMH5,\"\",IF(BMJ5=\"\",\"\",BMJ5-BMH5))","v":""},null,null,null,null,null,null,null,null,null,{"$f":"IF(BMT5<BMR5,\"\",IF(BMT5=\"\",\"\",BMT5-BMR5))","v":""},null,null,null,null,null,null,null,null,null,{"$f":"IF(BND5<BNB5,\"\",IF(BND5=\"\",\"\",BND5-BNB5))","v":""},null,null,null,null,null,null,null,null,null,{"$f":"IF(BNN5<BNL5,\"\",IF(BNN5=\"\",\"\",BNN5-BNL5))","v":""},null,null,null,null,null,null,null,null,null,{"$f":"IF(BNX5<BNV5,\"\",IF(BNX5=\"\",\"\",BNX5-BNV5))","v":""},null,null,null,null,null,null,null,null,null,{"$f":"IF(BOH5<BOF5,\"\",IF(BOH5=\"\",\"\",BOH5-BOF5))","v":""},null,null,null,null,null,null,null,null,null,{"$f":"IF(BOR5<BOP5,\"\",IF(BOR5=\"\",\"\",BOR5-BOP5))","v":""},null,null,null,null,null,null,null,null,null,{"$f":"IF(BPB5<BOZ5,\"\",IF(BPB5=\"\",\"\",BPB5-BOZ5))","v":""},null,null,null,null,null,null,null,null,null,{"$f":"IF(BPL5<BPJ5,\"\",IF(BPL5=\"\",\"\",BPL5-BPJ5))","v":""},null,null,null,null,null,null,null,null,null,{"$f":"IF(BPV5<BPT5,\"\",IF(BPV5=\"\",\"\",BPV5-BPT5))","v":""},null,null,null,null,null,null,null,null,null,{"$f":"IF(BQF5<BQD5,\"\",IF(BQF5=\"\",\"\",BQF5-BQD5))","v":""},null,null,null,null,null,null,null,null,null,{"$f":"IF(BQP5<BQN5,\"\",IF(BQP5=\"\",\"\",BQP5-BQN5))","v":""},null,null,null,null,null,null,null,null,null,{"$f":"IF(BQZ5<BQX5,\"\",IF(BQZ5=\"\",\"\",BQZ5-BQX5))","v":""},null,null,null,null,null,null,null,null,null,{"$f":"IF(BRJ5<BRH5,\"\",IF(BRJ5=\"\",\"\",BRJ5-BRH5))","v":""},null,null,null,null,null,null,null,null,null,{"$f":"IF(BRT5<BRR5,\"\",IF(BRT5=\"\",\"\",BRT5-BRR5))","v":""},null,null,null,null,null,null,null,null,null,{"$f":"IF(BSD5<BSB5,\"\",IF(BSD5=\"\",\"\",BSD5-BSB5))","v":""},null,null,null,null,null,null,null,null,null,{"$f":"IF(BSN5<BSL5,\"\",IF(BSN5=\"\",\"\",BSN5-BSL5))","v":""},null,null,null,null,null,null,null,null,null,{"$f":"IF(BSX5<BSV5,\"\",IF(BSX5=\"\",\"\",BSX5-BSV5))","v":""},null,null,null,null,null,null,null,null,null,{"$f":"IF(BTH5<BTF5,\"\",IF(BTH5=\"\",\"\",BTH5-BTF5))","v":""},null,null,null,null,null,null,null,null,null,{"$f":"IF(BTR5<BTP5,\"\",IF(BTR5=\"\",\"\",BTR5-BTP5))","v":""},null,null,null,null,null,null,null,null,null,{"$f":"IF(BUB5<BTZ5,\"\",IF(BUB5=\"\",\"\",BUB5-BTZ5))","v":""},null,null,null,null,null,null,null,null,null,{"$f":"IF(BUL5<BUJ5,\"\",IF(BUL5=\"\",\"\",BUL5-BUJ5))","v":""},null,null,null,null,null,null,null,null,null,{"$f":"IF(BUV5<BUT5,\"\",IF(BUV5=\"\",\"\",BUV5-BUT5))","v":""},null,null,null,null,null,null,null,null,null,{"$f":"IF(BVF5<BVD5,\"\",IF(BVF5=\"\",\"\",BVF5-BVD5))","v":""},null,null,null,null,null,null,null,null,null,{"$f":"IF(BVP5<BVN5,\"\",IF(BVP5=\"\",\"\",BVP5-BVN5))","v":""},null,null,null,null,null,null,null,null,null,{"$f":"IF(BVZ5<BVX5,\"\",IF(BVZ5=\"\",\"\",BVZ5-BVX5))","v":""},null,null,null,null,null,null,null,null,null,{"$f":"IF(BWJ5<BWH5,\"\",IF(BWJ5=\"\",\"\",BWJ5-BWH5))","v":""},null,null,null,null,null,null,null,null,null,{"$f":"IF(BWT5<BWR5,\"\",IF(BWT5=\"\",\"\",BWT5-BWR5))","v":""},null,null,null,null,null,null,null,null,null,{"$f":"IF(BXD5<BXB5,\"\",IF(BXD5=\"\",\"\",BXD5-BXB5))","v":""},null,null,null,null,null,null,null,null,null,{"$f":"IF(BXN5<BXL5,\"\",IF(BXN5=\"\",\"\",BXN5-BXL5))","v":""},null,null,null,null,null,null,null,null,null,{"$f":"IF(BXX5<BXV5,\"\",IF(BXX5=\"\",\"\",BXX5-BXV5))","v":""},null,null,null,null,null,null,null,null,null,{"$f":"IF(BYH5<BYF5,\"\",IF(BYH5=\"\",\"\",BYH5-BYF5))","v":""},null,null,null,null,null,null,null,null,null,{"$f":"IF(BYR5<BYP5,\"\",IF(BYR5=\"\",\"\",BYR5-BYP5))","v":""},null,null,null,null,null,null,null,null,null,{"$f":"IF(BZB5<BYZ5,\"\",IF(BZB5=\"\",\"\",BZB5-BYZ5))","v":""},null,null,null,null,null,null,null,null,null,{"$f":"IF(BZL5<BZJ5,\"\",IF(BZL5=\"\",\"\",BZL5-BZJ5))","v":""},null,null,null,null,null,null,null,null,null,{"$f":"IF(BZV5<BZT5,\"\",IF(BZV5=\"\",\"\",BZV5-BZT5))","v":""},null,null,null,null,null,null,null,null,null,{"$f":"IF(CAF5<CAD5,\"\",IF(CAF5=\"\",\"\",CAF5-CAD5))","v":""},null,null,null,null,null,null,null,null,null,{"$f":"IF(CAP5<CAN5,\"\",IF(CAP5=\"\",\"\",CAP5-CAN5))","v":""},null,null,null,null,null,null,null,null,null,{"$f":"IF(CAZ5<CAX5,\"\",IF(CAZ5=\"\",\"\",CAZ5-CAX5))","v":""},null,null,null,null,null,null,null,null,null,{"$f":"IF(CBJ5<CBH5,\"\",IF(CBJ5=\"\",\"\",CBJ5-CBH5))","v":""},null,null,null,null,null,null,null,null,null,{"$f":"IF(CBT5<CBR5,\"\",IF(CBT5=\"\",\"\",CBT5-CBR5))","v":""},null,null,null,null,null,null,null,null,null,{"$f":"IF(CCD5<CCB5,\"\",IF(CCD5=\"\",\"\",CCD5-CCB5))","v":""},null,null,null,null,null,null,null,null,null,{"$f":"IF(CCN5<CCL5,\"\",IF(CCN5=\"\",\"\",CCN5-CCL5))","v":""},null,null,null,null,null,null,null,null,null,{"$f":"IF(CCX5<CCV5,\"\",IF(CCX5=\"\",\"\",CCX5-CCV5))","v":""},null,null,null,null,null,null,null,null,null,{"$f":"IF(CDH5<CDF5,\"\",IF(CDH5=\"\",\"\",CDH5-CDF5))","v":""},null,null,null,null,null,null,null,null,null,{"$f":"IF(CDR5<CDP5,\"\",IF(CDR5=\"\",\"\",CDR5-CDP5))","v":""},null,null,null,null,null,null,null,null,null,{"$f":"IF(CEB5<CDZ5,\"\",IF(CEB5=\"\",\"\",CEB5-CDZ5))","v":""},null,null,null,null,null,null,null,null,null,{"$f":"IF(CEL5<CEJ5,\"\",IF(CEL5=\"\",\"\",CEL5-CEJ5))","v":""},null,null,null,null,null,null,null,null,null,{"$f":"IF(CEV5<CET5,\"\",IF(CEV5=\"\",\"\",CEV5-CET5))","v":""},null,null,null,null,null,null,null,null,null,{"$f":"IF(CFF5<CFD5,\"\",IF(CFF5=\"\",\"\",CFF5-CFD5))","v":""},null,null,null,null,null,null,null,null,null,{"$f":"IF(CFP5<CFN5,\"\",IF(CFP5=\"\",\"\",CFP5-CFN5))","v":""},null,null,null,null,null,null,null,null,null,{"$f":"IF(CFZ5<CFX5,\"\",IF(CFZ5=\"\",\"\",CFZ5-CFX5))","v":""},null,null,null,null,null,null,null,null,null,{"$f":"IF(CGJ5<CGH5,\"\",IF(CGJ5=\"\",\"\",CGJ5-CGH5))","v":""},null,null,null,null,null,null,null,null,null,{"$f":"IF(CGT5<CGR5,\"\",IF(CGT5=\"\",\"\",CGT5-CGR5))","v":""},null,null,null,null,null,null,null,null,null,{"$f":"IF(CHD5<CHB5,\"\",IF(CHD5=\"\",\"\",CHD5-CHB5))","v":""},null,null,null,null,null,null,null,null,null,{"$f":"IF(CHN5<CHL5,\"\",IF(CHN5=\"\",\"\",CHN5-CHL5))","v":""},null,null,null,null,null,null,null,null,null,{"$f":"IF(CHX5<CHV5,\"\",IF(CHX5=\"\",\"\",CHX5-CHV5))","v":""},null,null,null,null,null,null,null,null,null,{"$f":"IF(CIH5<CIF5,\"\",IF(CIH5=\"\",\"\",CIH5-CIF5))","v":""},null,null,null,null,null,null,null,null,null,{"$f":"IF(CIR5<CIP5,\"\",IF(CIR5=\"\",\"\",CIR5-CIP5))","v":""},null,null,null,null,null,null,null,null,null,{"$f":"IF(CJB5<CIZ5,\"\",IF(CJB5=\"\",\"\",CJB5-CIZ5))","v":""},null,null,null,null,null,null,null,null,null,{"$f":"IF(CJL5<CJJ5,\"\",IF(CJL5=\"\",\"\",CJL5-CJJ5))","v":""},null,null,null,null,null,null,null,null,null,{"$f":"IF(CJV5<CJT5,\"\",IF(CJV5=\"\",\"\",CJV5-CJT5))","v":""},null,null,null,null,null,null,null,null,null,{"$f":"IF(CKF5<CKD5,\"\",IF(CKF5=\"\",\"\",CKF5-CKD5))","v":""},null,null,null,null,null,null,null,null,null,{"$f":"IF(CKP5<CKN5,\"\",IF(CKP5=\"\",\"\",CKP5-CKN5))","v":""},null,null,null,null,null,null,null,null,null,{"$f":"IF(CKZ5<CKX5,\"\",IF(CKZ5=\"\",\"\",CKZ5-CKX5))","v":""},null,null,null,null,null,null,null,null,null,{"$f":"IF(CLJ5<CLH5,\"\",IF(CLJ5=\"\",\"\",CLJ5-CLH5))","v":""},null,null,null,null,null,null,null,null,null,{"$f":"IF(CLT5<CLR5,\"\",IF(CLT5=\"\",\"\",CLT5-CLR5))","v":""},null,null,null,null,null,null,null,null,null,{"$f":"IF(CMD5<CMB5,\"\",IF(CMD5=\"\",\"\",CMD5-CMB5))","v":""},null,null,null,null,null,null,null,null,null,{"$f":"IF(CMN5<CML5,\"\",IF(CMN5=\"\",\"\",CMN5-CML5))","v":""},null,null,null,null,null,null,null,null,null,{"$f":"IF(CMX5<CMV5,\"\",IF(CMX5=\"\",\"\",CMX5-CMV5))","v":""},null,null,null,null,null,null,null,null,null,{"$f":"IF(CNH5<CNF5,\"\",IF(CNH5=\"\",\"\",CNH5-CNF5))","v":""},null,null,null,null,null,null,null,null,null,{"$f":"IF(CNR5<CNP5,\"\",IF(CNR5=\"\",\"\",CNR5-CNP5))","v":""},null,null,null,null,null,null,null,null,null,{"$f":"IF(COB5<CNZ5,\"\",IF(COB5=\"\",\"\",COB5-CNZ5))","v":""},null,null,null,null,null,null,null,null,null,{"$f":"IF(COL5<COJ5,\"\",IF(COL5=\"\",\"\",COL5-COJ5))","v":""},null,null,null,null,null,null,null,null,null,{"$f":"IF(COV5<COT5,\"\",IF(COV5=\"\",\"\",COV5-COT5))","v":""},null,null,null,null,null,null,null,null,null,{"$f":"IF(CPF5<CPD5,\"\",IF(CPF5=\"\",\"\",CPF5-CPD5))","v":""},null,null,null,null,null,null,null,null,null,{"$f":"IF(CPP5<CPN5,\"\",IF(CPP5=\"\",\"\",CPP5-CPN5))","v":""},null,null,null,null,null,null,null,null,null,{"$f":"IF(CPZ5<CPX5,\"\",IF(CPZ5=\"\",\"\",CPZ5-CPX5))","v":""},null,null,null,null,null,null,null,null,null,{"$f":"IF(CQJ5<CQH5,\"\",IF(CQJ5=\"\",\"\",CQJ5-CQH5))","v":""},null,null,null,null,null,null,null,null,null,{"$f":"IF(CQT5<CQR5,\"\",IF(CQT5=\"\",\"\",CQT5-CQR5))","v":""},null,null,null,null,null,null,null,null,null,{"$f":"IF(CRD5<CRB5,\"\",IF(CRD5=\"\",\"\",CRD5-CRB5))","v":""},null,null,null,null,null,null,null,null,null,{"$f":"IF(CRN5<CRL5,\"\",IF(CRN5=\"\",\"\",CRN5-CRL5))","v":""},null,null,null,null,null,null,null,null,null,{"$f":"IF(CRX5<CRV5,\"\",IF(CRX5=\"\",\"\",CRX5-CRV5))","v":""},null,null,null,null,null,null,null,null,null,{"$f":"IF(CSH5<CSF5,\"\",IF(CSH5=\"\",\"\",CSH5-CSF5))","v":""},null,null,null,null,null,null,null,null,null,{"$f":"IF(CSR5<CSP5,\"\",IF(CSR5=\"\",\"\",CSR5-CSP5))","v":""},null,null,null,null,null,null,null,null,null,{"$f":"IF(CTB5<CSZ5,\"\",IF(CTB5=\"\",\"\",CTB5-CSZ5))","v":""},null,null,null,null,null,null,null,null,null,{"$f":"IF(CTL5<CTJ5,\"\",IF(CTL5=\"\",\"\",CTL5-CTJ5))","v":""},null,null,null,null,null,null,null,null,null,{"$f":"IF(CTV5<CTT5,\"\",IF(CTV5=\"\",\"\",CTV5-CTT5))","v":""},null,null,null,null,null,null,null,null,null,{"$f":"IF(CUF5<CUD5,\"\",IF(CUF5=\"\",\"\",CUF5-CUD5))","v":""},null,null,null,null,null,null,null,null,null,{"$f":"IF(CUP5<CUN5,\"\",IF(CUP5=\"\",\"\",CUP5-CUN5))","v":""},null,null,null,null,null,null,null,null,null,{"$f":"IF(CUZ5<CUX5,\"\",IF(CUZ5=\"\",\"\",CUZ5-CUX5))","v":""},null,null,null,null,null,null,null,null,null,{"$f":"IF(CVJ5<CVH5,\"\",IF(CVJ5=\"\",\"\",CVJ5-CVH5))","v":""},null,null,null,null,null,null,null,null,null,{"$f":"IF(CVT5<CVR5,\"\",IF(CVT5=\"\",\"\",CVT5-CVR5))","v":""},null,null,null,null,null,null,null,null,null,{"$f":"IF(CWD5<CWB5,\"\",IF(CWD5=\"\",\"\",CWD5-CWB5))","v":""},null,null,null,null,null,null,null,null,null,{"$f":"IF(CWN5<CWL5,\"\",IF(CWN5=\"\",\"\",CWN5-CWL5))","v":""},null,null,null,null,null,null,null,null,null,{"$f":"IF(CWX5<CWV5,\"\",IF(CWX5=\"\",\"\",CWX5-CWV5))","v":""},null,null,null,null,null,null,null,null,null,{"$f":"IF(CXH5<CXF5,\"\",IF(CXH5=\"\",\"\",CXH5-CXF5))","v":""},null,null,null,null,null,null,null,null,null,{"$f":"IF(CXR5<CXP5,\"\",IF(CXR5=\"\",\"\",CXR5-CXP5))","v":""},null,null,null,null,null,null,null,null,null,{"$f":"IF(CYB5<CXZ5,\"\",IF(CYB5=\"\",\"\",CYB5-CXZ5))","v":""},null,null,null,null,null,null,null,null,null,{"$f":"IF(CYL5<CYJ5,\"\",IF(CYL5=\"\",\"\",CYL5-CYJ5))","v":""},null,null,null,null,null,null,null,null,null,{"$f":"IF(CYV5<CYT5,\"\",IF(CYV5=\"\",\"\",CYV5-CYT5))","v":""},null,null,null,null,null,null,null,null,null,{"$f":"IF(CZF5<CZD5,\"\",IF(CZF5=\"\",\"\",CZF5-CZD5))","v":""},null,null,null,null,null,null,null,null,null,{"$f":"IF(CZP5<CZN5,\"\",IF(CZP5=\"\",\"\",CZP5-CZN5))","v":""},null,null,null,null,null,null,null,null,null,{"$f":"IF(CZZ5<CZX5,\"\",IF(CZZ5=\"\",\"\",CZZ5-CZX5))","v":""},null,null,null,null,null,null,null,null,null,{"$f":"IF(DAJ5<DAH5,\"\",IF(DAJ5=\"\",\"\",DAJ5-DAH5))","v":""},null,null,null,null,null,null,null,null,null,{"$f":"IF(DAT5<DAR5,\"\",IF(DAT5=\"\",\"\",DAT5-DAR5))","v":""},null,null,null,null,null,null,null,null,null,{"$f":"IF(DBD5<DBB5,\"\",IF(DBD5=\"\",\"\",DBD5-DBB5))","v":""},null,null,null,null,null,null,null,null,null,{"$f":"IF(DBN5<DBL5,\"\",IF(DBN5=\"\",\"\",DBN5-DBL5))","v":""},null,null,null,null,null,null,null,null,null,{"$f":"IF(DBX5<DBV5,\"\",IF(DBX5=\"\",\"\",DBX5-DBV5))","v":""},null,null,null,null,null,null,null,null,null,{"$f":"IF(DCH5<DCF5,\"\",IF(DCH5=\"\",\"\",DCH5-DCF5))","v":""},null,null,null,null,null,null,null,null,null,{"$f":"IF(DCR5<DCP5,\"\",IF(DCR5=\"\",\"\",DCR5-DCP5))","v":""},null,null,null,null,null,null,null,null,null,{"$f":"IF(DDB5<DCZ5,\"\",IF(DDB5=\"\",\"\",DDB5-DCZ5))","v":""},null,null,null,null,null,null,null,null,null,{"$f":"IF(DDL5<DDJ5,\"\",IF(DDL5=\"\",\"\",DDL5-DDJ5))","v":""},null,null,null,null,null,null,null,null,null,{"$f":"IF(DDV5<DDT5,\"\",IF(DDV5=\"\",\"\",DDV5-DDT5))","v":""},null,null,null,null,null,null,null,null,null,{"$f":"IF(DEF5<DED5,\"\",IF(DEF5=\"\",\"\",DEF5-DED5))","v":""},null,null,null,null,null,null,null,null,null,{"$f":"IF(DEP5<DEN5,\"\",IF(DEP5=\"\",\"\",DEP5-DEN5))","v":""},null,null,null,null,null,null,null,null,null,{"$f":"IF(DEZ5<DEX5,\"\",IF(DEZ5=\"\",\"\",DEZ5-DEX5))","v":""},null,null,null,null,null,null,null,null,null,{"$f":"IF(DFJ5<DFH5,\"\",IF(DFJ5=\"\",\"\",DFJ5-DFH5))","v":""},null,null,null,null,null,null,null,null,null,{"$f":"IF(DFT5<DFR5,\"\",IF(DFT5=\"\",\"\",DFT5-DFR5))","v":""},null,null,null,null,null,null,null,null,null,{"$f":"IF(DGD5<DGB5,\"\",IF(DGD5=\"\",\"\",DGD5-DGB5))","v":""},null,null,null,null,null,null,null,null,null,{"$f":"IF(DGN5<DGL5,\"\",IF(DGN5=\"\",\"\",DGN5-DGL5))","v":""},null,null,null,null,null,null,null,null,null,{"$f":"IF(DGX5<DGV5,\"\",IF(DGX5=\"\",\"\",DGX5-DGV5))","v":""},null,null,null,null,null,null,null,null,null,{"$f":"IF(DHH5<DHF5,\"\",IF(DHH5=\"\",\"\",DHH5-DHF5))","v":""},null,null,null,null,null,null,null,null,null,{"$f":"IF(DHR5<DHP5,\"\",IF(DHR5=\"\",\"\",DHR5-DHP5))","v":""},null,null,null,null,null,null,null,null,null,{"$f":"IF(DIB5<DHZ5,\"\",IF(DIB5=\"\",\"\",DIB5-DHZ5))","v":""},null,null,null,null,null,null,null,null,null,{"$f":"IF(DIL5<DIJ5,\"\",IF(DIL5=\"\",\"\",DIL5-DIJ5))","v":""},null,null,null,null,null,null,null,null,null,{"$f":"IF(DIV5<DIT5,\"\",IF(DIV5=\"\",\"\",DIV5-DIT5))","v":""},null,null,null,null,null,null,null,null,null,{"$f":"IF(DJF5<DJD5,\"\",IF(DJF5=\"\",\"\",DJF5-DJD5))","v":""},null,null,null,null,null,null,null,null,null,{"$f":"IF(DJP5<DJN5,\"\",IF(DJP5=\"\",\"\",DJP5-DJN5))","v":""},null,null,null,null,null,null,null,null,null,{"$f":"IF(DJZ5<DJX5,\"\",IF(DJZ5=\"\",\"\",DJZ5-DJX5))","v":""},null,null,null,null,null,null,null,null,null,{"$f":"IF(DKJ5<DKH5,\"\",IF(DKJ5=\"\",\"\",DKJ5-DKH5))","v":""},null,null,null,null,null,null,null,null,null,{"$f":"IF(DKT5<DKR5,\"\",IF(DKT5=\"\",\"\",DKT5-DKR5))","v":""},null,null,null,null,null,null,null,null,null,{"$f":"IF(DLD5<DLB5,\"\",IF(DLD5=\"\",\"\",DLD5-DLB5))","v":""},null,null,null,null,null,null,null,null,null,{"$f":"IF(DLN5<DLL5,\"\",IF(DLN5=\"\",\"\",DLN5-DLL5))","v":""},null,null,null,null,null,null,null,null,null,{"$f":"IF(DLX5<DLV5,\"\",IF(DLX5=\"\",\"\",DLX5-DLV5))","v":""},null,null,null,null,null,null,null,null,null,{"$f":"IF(DMH5<DMF5,\"\",IF(DMH5=\"\",\"\",DMH5-DMF5))","v":""},null,null,null,null,null,null,null,null,null,{"$f":"IF(DMR5<DMP5,\"\",IF(DMR5=\"\",\"\",DMR5-DMP5))","v":""},null,null,null,null,null,null,null,null,null,{"$f":"IF(DNB5<DMZ5,\"\",IF(DNB5=\"\",\"\",DNB5-DMZ5))","v":""},null,null,null,null,null,null,null,null,null,{"$f":"IF(DNL5<DNJ5,\"\",IF(DNL5=\"\",\"\",DNL5-DNJ5))","v":""},null,null,null,null,null,null,null,null,null,{"$f":"IF(DNV5<DNT5,\"\",IF(DNV5=\"\",\"\",DNV5-DNT5))","v":""},null,null,null,null,null,null,null,null,null,{"$f":"IF(DOF5<DOD5,\"\",IF(DOF5=\"\",\"\",DOF5-DOD5))","v":""},null,null,null,null,null,null,null,null,null,{"$f":"IF(DOP5<DON5,\"\",IF(DOP5=\"\",\"\",DOP5-DON5))","v":""},null,null,null,null,null,null,null,null,null,{"$f":"IF(DOZ5<DOX5,\"\",IF(DOZ5=\"\",\"\",DOZ5-DOX5))","v":""},null,null,null,null,null,null,null,null,null,{"$f":"IF(DPJ5<DPH5,\"\",IF(DPJ5=\"\",\"\",DPJ5-DPH5))","v":""},null,null,null,null,null,null,null,null,null,{"$f":"IF(DPT5<DPR5,\"\",IF(DPT5=\"\",\"\",DPT5-DPR5))","v":""},null,null,null,null,null,null,null,null,null,{"$f":"IF(DQD5<DQB5,\"\",IF(DQD5=\"\",\"\",DQD5-DQB5))","v":""},null,null,null,null,null,null,null,null,null,{"$f":"IF(DQN5<DQL5,\"\",IF(DQN5=\"\",\"\",DQN5-DQL5))","v":""},null,null,null,null,null,null,null,null,null,{"$f":"IF(DQX5<DQV5,\"\",IF(DQX5=\"\",\"\",DQX5-DQV5))","v":""},null,null,null,null,null,null,null,null,null,{"$f":"IF(DRH5<DRF5,\"\",IF(DRH5=\"\",\"\",DRH5-DRF5))","v":""},null,null,null,null,null,null,null,null,null,{"$f":"IF(DRR5<DRP5,\"\",IF(DRR5=\"\",\"\",DRR5-DRP5))","v":""},null,null,null,null,null,null,null,null,null,{"$f":"IF(DSB5<DRZ5,\"\",IF(DSB5=\"\",\"\",DSB5-DRZ5))","v":""},null,null,null,null,null,null,null,null,null,{"$f":"IF(DSL5<DSJ5,\"\",IF(DSL5=\"\",\"\",DSL5-DSJ5))","v":""},null,null,null,null,null,null,null,null,null,{"$f":"IF(DSV5<DST5,\"\",IF(DSV5=\"\",\"\",DSV5-DST5))","v":""},null,null,null,null,null,null,null,null,null,{"$f":"IF(DTF5<DTD5,\"\",IF(DTF5=\"\",\"\",DTF5-DTD5))","v":""},null,null,null,null,null,null,null,null,null,{"$f":"IF(DTP5<DTN5,\"\",IF(DTP5=\"\",\"\",DTP5-DTN5))","v":""},null,null,null,null,null,null,null,null,null,{"$f":"IF(DTZ5<DTX5,\"\",IF(DTZ5=\"\",\"\",DTZ5-DTX5))","v":""},null,null,null,null,null,null,null,null,null,{"$f":"IF(DUJ5<DUH5,\"\",IF(DUJ5=\"\",\"\",DUJ5-DUH5))","v":""},null,null,null,null,null,null,null,null,null,{"$f":"IF(DUT5<DUR5,\"\",IF(DUT5=\"\",\"\",DUT5-DUR5))","v":""},null,null,null,null,null,null,null,null,null,{"$f":"IF(DVD5<DVB5,\"\",IF(DVD5=\"\",\"\",DVD5-DVB5))","v":""},null,null,null,null,null,null,null,null,null,{"$f":"IF(DVN5<DVL5,\"\",IF(DVN5=\"\",\"\",DVN5-DVL5))","v":""},null,null,null,null,null,null,null,null,null,{"$f":"IF(DVX5<DVV5,\"\",IF(DVX5=\"\",\"\",DVX5-DVV5))","v":""},null,null,null,null,null,null,null,null,null,{"$f":"IF(DWH5<DWF5,\"\",IF(DWH5=\"\",\"\",DWH5-DWF5))","v":""},null,null,null,null,null,null,null,null,null,{"$f":"IF(DWR5<DWP5,\"\",IF(DWR5=\"\",\"\",DWR5-DWP5))","v":""},null,null,null,null,null,null,null,null,null,{"$f":"IF(DXB5<DWZ5,\"\",IF(DXB5=\"\",\"\",DXB5-DWZ5))","v":""},null,null,null,null,null,null,null,null,null,{"$f":"IF(DXL5<DXJ5,\"\",IF(DXL5=\"\",\"\",DXL5-DXJ5))","v":""},null,null,null,null,null,null,null,null,null,{"$f":"IF(DXV5<DXT5,\"\",IF(DXV5=\"\",\"\",DXV5-DXT5))","v":""},null,null,null,null,null,null,null,null,null,{"$f":"IF(DYF5<DYD5,\"\",IF(DYF5=\"\",\"\",DYF5-DYD5))","v":""},null,null,null,null,null,null,null,null,null,{"$f":"IF(DYP5<DYN5,\"\",IF(DYP5=\"\",\"\",DYP5-DYN5))","v":""},null,null,null,null,null,null,null,null,null,{"$f":"IF(DYZ5<DYX5,\"\",IF(DYZ5=\"\",\"\",DYZ5-DYX5))","v":""},null,null,null,null,null,null,null,null,null,{"$f":"IF(DZJ5<DZH5,\"\",IF(DZJ5=\"\",\"\",DZJ5-DZH5))","v":""},null,null,null,null,null,null,null,null,null,{"$f":"IF(DZT5<DZR5,\"\",IF(DZT5=\"\",\"\",DZT5-DZR5))","v":""},null,null,null,null,null,null,null,null,null,{"$f":"IF(EAD5<EAB5,\"\",IF(EAD5=\"\",\"\",EAD5-EAB5))","v":""},null,null,null,null,null,null,null,null,null,{"$f":"IF(EAN5<EAL5,\"\",IF(EAN5=\"\",\"\",EAN5-EAL5))","v":""},null,null,null,null,null,null,null,null,null,{"$f":"IF(EAX5<EAV5,\"\",IF(EAX5=\"\",\"\",EAX5-EAV5))","v":""},null,null,null,null,null,null,null,null,null,{"$f":"IF(EBH5<EBF5,\"\",IF(EBH5=\"\",\"\",EBH5-EBF5))","v":""},null,null,null,null,null,null,null,null,null,{"$f":"IF(EBR5<EBP5,\"\",IF(EBR5=\"\",\"\",EBR5-EBP5))","v":""},null,null,null,null,null,null,null,null,null,{"$f":"IF(ECB5<EBZ5,\"\",IF(ECB5=\"\",\"\",ECB5-EBZ5))","v":""},null,null,null,null,null,null,null,null,null,{"$f":"IF(ECL5<ECJ5,\"\",IF(ECL5=\"\",\"\",ECL5-ECJ5))","v":""},null,null,null,null,null,null,null,null,null,{"$f":"IF(ECV5<ECT5,\"\",IF(ECV5=\"\",\"\",ECV5-ECT5))","v":""},null,null,null,null,null,null,null,null,null,{"$f":"IF(EDF5<EDD5,\"\",IF(EDF5=\"\",\"\",EDF5-EDD5))","v":""},null,null,null,null,null,null,null,null,null,{"$f":"IF(EDP5<EDN5,\"\",IF(EDP5=\"\",\"\",EDP5-EDN5))","v":""},null,null,null,null,null,null,null,null,null,{"$f":"IF(EDZ5<EDX5,\"\",IF(EDZ5=\"\",\"\",EDZ5-EDX5))","v":""},null,null,null,null,null,null,null,null,null,{"$f":"IF(EEJ5<EEH5,\"\",IF(EEJ5=\"\",\"\",EEJ5-EEH5))","v":""},null,null,null,null,null,null,null,null,null,{"$f":"IF(EET5<EER5,\"\",IF(EET5=\"\",\"\",EET5-EER5))","v":""},null,null,null,null,null,null,null,null,null,{"$f":"IF(EFD5<EFB5,\"\",IF(EFD5=\"\",\"\",EFD5-EFB5))","v":""},null,null,null,null,null,null,null,null,null,{"$f":"IF(EFN5<EFL5,\"\",IF(EFN5=\"\",\"\",EFN5-EFL5))","v":""},null,null,null,null,null,null,null,null,null,{"$f":"IF(EFX5<EFV5,\"\",IF(EFX5=\"\",\"\",EFX5-EFV5))","v":""},null,null,null,null,null,null,null,null,null,{"$f":"IF(EGH5<EGF5,\"\",IF(EGH5=\"\",\"\",EGH5-EGF5))","v":""},null,null,null,null,null,null,null,null,null,{"$f":"IF(EGR5<EGP5,\"\",IF(EGR5=\"\",\"\",EGR5-EGP5))","v":""},null,null,null,null,null,null,null,null,null,{"$f":"IF(EHB5<EGZ5,\"\",IF(EHB5=\"\",\"\",EHB5-EGZ5))","v":""},null,null,null,null,null,null,null,null,null,{"$f":"IF(EHL5<EHJ5,\"\",IF(EHL5=\"\",\"\",EHL5-EHJ5))","v":""},null,null,null,null,null,null,null,null,null,{"$f":"IF(EHV5<EHT5,\"\",IF(EHV5=\"\",\"\",EHV5-EHT5))","v":""},null,null,null,null,null,null,null,null,null,{"$f":"IF(EIF5<EID5,\"\",IF(EIF5=\"\",\"\",EIF5-EID5))","v":""},null,null,null,null,null,null,null,null,null,{"$f":"IF(EIP5<EIN5,\"\",IF(EIP5=\"\",\"\",EIP5-EIN5))","v":""},null,null,null,null,null,null,null,null,null,{"$f":"IF(EIZ5<EIX5,\"\",IF(EIZ5=\"\",\"\",EIZ5-EIX5))","v":""},null,null,null,null,null,null,null,null,null,{"$f":"IF(EJJ5<EJH5,\"\",IF(EJJ5=\"\",\"\",EJJ5-EJH5))","v":""},null,null,null,null,null,null,null,null,null,{"$f":"IF(EJT5<EJR5,\"\",IF(EJT5=\"\",\"\",EJT5-EJR5))","v":""},null,null,null,null,null,null,null,null,null,{"$f":"IF(EKD5<EKB5,\"\",IF(EKD5=\"\",\"\",EKD5-EKB5))","v":""},null,null,null,null,null,null,null,null,null,{"$f":"IF(EKN5<EKL5,\"\",IF(EKN5=\"\",\"\",EKN5-EKL5))","v":""}]
[null,"Yhteensä suunnitellut tunnit",null,{"$f":"G31+H31+I31","v":0},null,"Sidotut tunnit",null,null,null,{"$f":"H31-D31","v":0},{"$f":"IF(H31=0,\"\",(H31-D31)/H31)","v":""},null,null,null,null,"p","Työjakso3",null,null,null,null,"",null,null,null,null,null,null,null,null,null,"",null,null,null,null,null,null,null,null,null,"",null,null,null,null,null,null,null,null,null,"",null,null,null,null,null,null,null,null,null,"",null,null,null,null,null,null,null,null,null,"",null,null,null,null,null,null,null,null,null,"",null,null,null,null,null,null,null,null,null,"",null,null,null,null,null,null,null,null,null,"",null,null,null,null,null,null,null,null,null,"",null,null,null,null,null,null,null,null,null,"",null,null,null,null,null,null,null,null,null,"",null,null,null,null,null,null,null,null,null,"",null,null,null,null,null,null,null,null,null,"",null,null,null,null,null,null,null,null,null,"",null,null,null,null,null,null,null,null,null,"",null,null,null,null,null,null,null,null,null,"",null,null,null,null,null,null,null,null,null,"",null,null,null,null,null,null,null,null,null,"",null,null,null,null,null,null,null,null,null,"",null,null,null,null,null,null,null,null,null,"",null,null,null,null,null,null,null,null,null,"",null,null,null,null,null,null,null,null,null,"",null,null,null,null,null,null,null,null,null,"",null,null,null,null,null,null,null,null,null,"",null,null,null,null,null,null,null,null,null,"",null,null,null,null,null,null,null,null,null,"",null,null,null,null,null,null,null,null,null,"",null,null,null,null,null,null,null,null,null,"",null,null,null,null,null,null,null,null,null,"",null,null,null,null,null,null,null,null,null,"",null,null,null,null,null,null,null,null,null,"",null,null,null,null,null,null,null,null,null,"",null,null,null,null,null,null,null,null,null,"",null,null,null,null,null,null,null,null,null,"",null,null,null,null,null,null,null,null,null,"",null,null,null,null,null,null,null,null,null,"",null,null,null,null,null,null,null,null,null,"",null,null,null,null,null,null,null,null,null,"",null,null,null,null,null,null,null,null,null,"",null,null,null,null,null,null,null,null,null,"",null,null,null,null,null,null,null,null,null,"",null,null,null,null,null,null,null,null,null,"",null,null,null,null,null,null,null,null,null,"",null,null,null,null,null,null,null,null,null,"",null,null,null,null,null,null,null,null,null,"",null,null,null,null,null,null,null,null,null,"",null,null,null,null,null,null,null,null,null,"",null,null,null,null,null,null,null,null,null,"",null,null,null,null,null,null,null,null,null,"",null,null,null,null,null,null,null,null,null,"",null,null,null,null,null,null,null,null,null,"",null,null,null,null,null,null,null,null,null,"",null,null,null,null,null,null,null,null,null,"",null,null,null,null,null,null,null,null,null,"",null,null,null,null,null,null,null,null,null,"",null,null,null,null,null,null,null,null,null,"",null,null,null,null,null,null,null,null,null,"",null,null,null,null,null,null,null,null,null,"",null,null,null,null,null,null,null,null,null,"",null,null,null,null,null,null,null,null,null,"",null,null,null,null,null,null,null,null,null,"",null,null,null,null,null,null,null,null,null,"",null,null,null,null,null,null,null,null,null,"",null,null,null,null,null,null,null,null,null,"",null,null,null,null,null,null,null,null,null,"",null,null,null,null,null,null,null,null,null,"",null,null,null,null,null,null,null,null,null,"",null,null,null,null,null,null,null,null,null,"",null,null,null,null,null,null,null,null,null,"",null,null,null,null,null,null,null,null,null,"",null,null,null,null,null,null,null,null,null,"",null,null,null,null,null,null,null,null,null,"",null,null,null,null,null,null,null,null,null,"",null,null,null,null,null,null,null,null,null,"",null,null,null,null,null,null,null,null,null,"",null,null,null,null,null,null,null,null,null,"",null,null,null,null,null,null,null,null,null,"",null,null,null,null,null,null,null,null,null,"",null,null,null,null,null,null,null,null,null,"",null,null,null,null,null,null,null,null,null,"",null,null,null,null,null,null,null,null,null,"",null,null,null,null,null,null,null,null,null,"",null,null,null,null,null,null,null,null,null,"",null,null,null,null,null,null,null,null,null,"",null,null,null,null,null,null,null,null,null,"",null,null,null,null,null,null,null,null,null,"",null,null,null,null,null,null,null,null,null,"",null,null,null,null,null,null,null,null,null,"",null,null,null,null,null,null,null,null,null,"",null,null,null,null,null,null,null,null,null,"",null,null,null,null,null,null,null,null,null,"",null,null,null,null,null,null,null,null,null,"",null,null,null,null,null,null,null,null,null,"",null,null,null,null,null,null,null,null,null,"",null,null,null,null,null,null,null,null,null,"",null,null,null,null,null,null,null,null,null,"",null,null,null,null,null,null,null,null,null,"",null,null,null,null,null,null,null,null,null,"",null,null,null,null,null,null,null,null,null,"",null,null,null,null,null,null,null,null,null,"",null,null,null,null,null,null,null,null,null,"",null,null,null,null,null,null,null,null,null,"",null,null,null,null,null,null,null,null,null,"",null,null,null,null,null,null,null,null,null,"",null,null,null,null,null,null,null,null,null,"",null,null,null,null,null,null,null,null,null,"",null,null,null,null,null,null,null,null,null,"",null,null,null,null,null,null,null,null,null,"",null,null,null,null,null,null,null,null,null,"",null,null,null,null,null,null,null,null,null,"",null,null,null,null,null,null,null,null,null,"",null,null,null,null,null,null,null,null,null,"",null,null,null,null,null,null,null,null,null,"",null,null,null,null,null,null,null,null,null,"",null,null,null,null,null,null,null,null,null,"",null,null,null,null,null,null,null,null,null,"",null,null,null,null,null,null,null,null,null,"",null,null,null,null,null,null,null,null,null,"",null,null,null,null,null,null,null,null,null,"",null,null,null,null,null,null,null,null,null,"",null,null,null,null,null,null,null,null,null,"",null,null,null,null,null,null,null,null,null,"",null,null,null,null,null,null,null,null,null,"",null,null,null,null,null,null,null,null,null,"",null,null,null,null,null,null,null,null,null,"",null,null,null,null,null,null,null,null,null,"",null,null,null,null,null,null,null,null,null,"",null,null,null,null,null,null,null,null,null,"",null,null,null,null,null,null,null,null,null,"",null,null,null,null,null,null,null,null,null,"",null,null,null,null,null,null,null,null,null,"",null,null,null,null,null,null,null,null,null,"",null,null,null,null,null,null,null,null,null,"",null,null,null,null,null,null,null,null,null,"",null,null,null,null,null,null,null,null,null,"",null,null,null,null,null,null,null,null,null,"",null,null,null,null,null,null,null,null,null,"",null,null,null,null,null,null,null,null,null,"",null,null,null,null,null,null,null,null,null,"",null,null,null,null,null,null,null,null,null,"",null,null,null,null,null,null,null,null,null,"",null,null,null,null,null,null,null,null,null,"",null,null,null,null,null,null,null,null,null,"",null,null,null,null,null,null,null,null,null,"",null,null,null,null,null,null,null,null,null,"",null,null,null,null,null,null,null,null,null,"",null,null,null,null,null,null,null,null,null,"",null,null,null,null,null,null,null,null,null,"",null,null,null,null,null,null,null,null,null,"",null,null,null,null,null,null,null,null,null,"",null,null,null,null,null,null,null,null,null,"",null,null,null,null,null,null,null,null,null,"",null,null,null,null,null,null,null,null,null,"",null,null,null,null,null,null,null,null,null,"",null,null,null,null,null,null,null,null,null,"",null,null,null,null,null,null,null,null,null,"",null,null,null,null,null,null,null,null,null,"",null,null,null,null,null,null,null,null,null,"",null,null,null,null,null,null,null,null,null,"",null,null,null,null,null,null,null,null,null,"",null,null,null,null,null,null,null,null,null,"",null,null,null,null,null,null,null,null,null,"",null,null,null,null,null,null,null,null,null,"",null,null,null,null,null,null,null,null,null,"",null,null,null,null,null,null,null,null,null,"",null,null,null,null,null,null,null,null,null,"",null,null,null,null,null,null,null,null,null,"",null,null,null,null,null,null,null,null,null,"",null,null,null,null,null,null,null,null,null,"",null,null,null,null,null,null,null,null,null,"",null,null,null,null,null,null,null,null,null,"",null,null,null,null,null,null,null,null,null,"",null,null,null,null,null,null,null,null,null,"",null,null,null,null,null,null,null,null,null,"",null,null,null,null,null,null,null,null,null,"",null,null,null,null,null,null,null,null,null,"",null,null,null,null,null,null,null,null,null,"",null,null,null,null,null,null,null,null,null,"",null,null,null,null,null,null,null,null,null,"",null,null,null,null,null,null,null,null,null,"",null,null,null,null,null,null,null,null,null,"",null,null,null,null,null,null,null,null,null,"",null,null,null,null,null,null,null,null,null,"",null,null,null,null,null,null,null,null,null,"",null,null,null,null,null,null,null,null,null,"",null,null,null,null,null,null,null,null,null,"",null,null,null,null,null,null,null,null,null,"",null,null,null,null,null,null,null,null,null,"",null,null,null,null,null,null,null,null,null,"",null,null,null,null,null,null,null,null,null,"",null,null,null,null,null,null,null,null,null,"",null,null,null,null,null,null,null,null,null,"",null,null,null,null,null,null,null,null,null,"",null,null,null,null,null,null,null,null,null,"",null,null,null,null,null,null,null,null,null,"",null,null,null,null,null,null,null,null,null,"",null,null,null,null,null,null,null,null,null,"",null,null,null,null,null,null,null,null,null,"",null,null,null,null,null,null,null,null,null,"",null,null,null,null,null,null,null,null,null,"",null,null,null,null,null,null,null,null,null,"",null,null,null,null,null,null,null,null,null,"",null,null,null,null,null,null,null,null,null,"",null,null,null,null,null,null,null,null,null,"",null,null,null,null,null,null,null,null,null,"",null,null,null,null,null,null,null,null,null,"",null,null,null,null,null,null,null,null,null,"",null,null,null,null,null,null,null,null,null,"",null,null,null,null,null,null,null,null,null,"",null,null,null,null,null,null,null,null,null,"",null,null,null,null,null,null,null,null,null,"",null,null,null,null,null,null,null,null,null,"",null,null,null,null,null,null,null,null,null,"",null,null,null,null,null,null,null,null,null,"",null,null,null,null,null,null,null,null,null,"",null,null,null,null,null,null,null,null,null,"",null,null,null,null,null,null,null,null,null,"",null,null,null,null,null,null,null,null,null,"",null,null,null,null,null,null,null,null,null,"",null,null,null,null,null,null,null,null,null,"",null,null,null,null,null,null,null,null,null,"",null,null,null,null,null,null,null,null,null,"",null,null,null,null,null,null,null,null,null,"",null,null,null,null,null,null,null,null,null,"",null,null,null,null,null,null,null,null,null,"",null,null,null,null,null,null,null,null,null,"",null,null,null,null,null,null,null,null,null,"",null,null,null,null,null,null,null,null,null,"",null,null,null,null,null,null,null,null,null,"",null,null,null,null,null,null,null,null,null,"",null,null,null,null,null,null,null,null,null,"",null,null,null,null,null,null,null,null,null,"",null,null,null,null,null,null,null,null,null,"",null,null,null,null,null,null,null,null,null,"",null,null,null,null,null,null,null,null,null,"",null,null,null,null,null,null,null,null,null,"",null,null,null,null,null,null,null,null,null,"",null,null,null,null,null,null,null,null,null,"",null,null,null,null,null,null,null,null,null,"",null,null,null,null,null,null,null,null,null,"",null,null,null,null,null,null,null,null,null,"",null,null,null,null,null,null,null,null,null,"",null,null,null,null,null,null,null,null,null,"",null,null,null,null,null,null,null,null,null,"",null,null,null,null,null,null,null,null,null,"",null,null,null,null,null,null,null,null,null,"",null,null,null,null,null,null,null,null,null,"",null,null,null,null,null,null,null,null,null,"",null,null,null,null,null,null,null,null,null,"",null,null,null,null,null,null,null,null,null,"",null,null,null,null,null,null,null,null,null,"",null,null,null,null,null,null,null,null,null,"",null,null,null,null,null,null,null,null,null,"",null,null,null,null,null,null,null,null,null,"",null,null,null,null,null,null,null,null,null,"",null,null,null,null,null,null,null,null,null,"",null,null,null,null,null,null,null,null,null,"",null,null,null,null,null,null,null,null,null,"",null,null,null,null,null,null,null,null,null,"",null,null,null,null,null,null,null,null,null,"",null,null,null,null,null,null,null,null,null,"",null,null,null,null,null,null,null,null,null,"",null,null,null,null,null,null,null,null,null,"",null,null,null,null,null,null,null,null,null,"",null,null,null,null,null,null,null,null,null,"",null,null,null,null,null,null,null,null,null,"",null,null,null,null,null,null,null,null,null,"",null,null,null,null,null,null,null,null,null,"",null,null,null,null,null,null,null,null,null,"",null,null,null,null,null,null,null,null,null,"",null,null,null,null,null,null,null,null,null,"",null,null,null,null,null,null,null,null,null,"",null,null,null,null,null,null,null,null,null,"",null,null,null,null,null,null,null,null,null,"",null,null,null,null,null,null,null,null,null,"",null,null,null,null,null,null,null,null,null,"",null,null,null,null,null,null,null,null,null,"",null,null,null,null,null,null,null,null,null,"",null,null,null,null,null,null,null,null,null,"",null,null,null,null,null,null,null,null,null,"",null,null,null,null,null,null,null,null,null,"",null,null,null,null,null,null,null,null,null,"",null,null,null,null,null,null,null,null,null,"",null,null,null,null,null,null,null,null,null,"",null,null,null,null,null,null,null,null,null,"",null,null,null,null,null,null,null,null,null,"",null,null,null,null,null,null,null,null,null,"",null,null,null,null,null,null,null,null,null,"",null,null,null,null,null,null,null,null,null,"",null,null,null,null,null,null,null,null,null,"",null,null,null,null,null,null,null,null,null,"",null,null,null,null,null,null,null,null,null,"",null,null,null,null,null,null,null,null,null,"",null,null,null,null,null,null,null,null,null,"",null,null,null,null,null,null,null,null,null,"",null,null,null,null,null,null,null,null,null,"",null,null,null,null,null,null,null,null,null,"",null,null,null,null,null,null,null,null,null,"",null,null,null,null,null,null,null,null,null,"",null,null,null,null,null,null,null,null,null,"",null,null,null,null,null,null,null,null,null,"",null,null,null,null,null,null,null,null,null,"",null,null,null,null,null,null,null,null,null,"",null,null,null,null,null,null,null,null,null,"",null,null,null,null,null,null,null,null,null,"",null,null,null,null,null,null,null,null,null,"",null,null,null,null,null,null,null,null,null,"",null,null,null,null,null,null,null,null,null,"",null,null,null,null,null,null,null,null,null,"",null,null,null,null,null,null,null,null,null,"",null,null,null,null,null,null,null,null,null,"",null,null,null,null,null,null,null,null,null,"",null,null,null,null,null,null,null,null,null,"",null,null,null,null,null,null,null,null,null,"",null,null,null,null,null,null,null,null,null,"",null,null,null,null,null,null,null,null,null,"",null,null,null,null,null,null,null,null,null,"",null,null,null,null,null,null,null,null,null,"",null,null,null,null,null,null,null,null,null,"",null,null,null,null,null,null,null,null,null,"",null,null,null,null,null,null,null,null,null,"",null,null,null,null,null,null,null,null,null,"",null,null,null,null,null,null,null,null,null,"",null,null,null,null,null,null,null,null,null,"",null,null,null,null,null,null,null,null,null,"",null,null,null,null,null,null,null,null,null,"",null,null,null,null,null,null,null,null,null,"",null,null,null,null,null,null,null,null,null,"",null,null,null,null,null,null,null,null,null,"",null,null,null,null,null,null,null,null,null,"",null,null,null,null,null,null,null,null,null,"",null,null,null,null,null,null,null,null,null,"",null,null,null,null,null,null,null,null,null,"",null,null,null,null,null,null,null,null,null,"",null,null,null,null,null,null,null,null,null,"",null,null,null,null,null,null,null,null,null,"",null,null,null,null,null,null,null,null,null,"",null,null,null,null,null,null,null,null,null,"",null,null,null,null,null,null,null,null,null,"",null,null,null,null,null,null,null,null,null,"",null,null,null,null,null,null,null,null,null,"",null,null,null,null,null,null,null,null,null,"",null,null,null,null,null,null,null,null,null,"",null,null,null,null,null,null,null,null,null,"",null,null,null,null,null,null,null,null,null,"",null,null,null,null,null,null,null,null,null,"",null,null,null,null,null,null,null,null,null,"",null,null,null,null,null,null,null,null,null,"",null,null,null,null,null,null,null,null,null,"",null,null,null,null,null,null,null,null,null,"",null,null,null,null,null,null,null,null,null,"",null,null,null,null,null,null,null,null,null,"",null,null,null,null,null,null,null,null,null,"",null,null,null,null,null,null,null,null,null,"",null,null,null,null,null,null,null,null,null,"",null,null,null,null,null,null,null,null,null,"",null,null,null,null,null,null,null,null,null,"",null,null,null,null,null,null,null,null,null,"",null,null,null,null,null,null,null,null,null,"",null,null,null,null,null,null,null,null,null,"",null,null,null,null,null,null,null,null,null,"",null,null,null,null,null,null,null,null,null,"",null,null,null,null,null,null,null,null,null,"",null,null,null,null,null,null,null,null,null,"",null,null,null,null,null,null,null,null,null,"",null,null,null,null,null,null,null,null,null,""]
[null,"Yhteensä työjaksojen tunnit",null,{"$f":"($V2+$AF2+$AP2+$AZ2+$BJ2+$BT2+$CD2+$CN2+$CX2+$DH2+$DR2+$EB2+$EL2+$EV2+$FF2+$FP2+$FZ2+$GJ2+$GT2+$HD2+$HN2+$HX2+$IH2+$IR2+$JB2+$JL2+$JV2+$KF2+$KP2+$KZ2+$LJ2+$LT2+$MD2+$MN2+$MX2+$NH2+$NR2+$OB2+$OL2+$OV2+$PF2+$PP2+$PZ2+$QJ2+$QT2+$RD2+$RN2+$RX2+$SH2+$SR2+$TB2+$TL2+$TV2+$UF2+$UP2+$UZ2+$VJ2+$VT2+$WD2+$WN2+$WX2+$XH2+$XR2+$YB2+$YL2+$YV2+$ZF2+$ZP2+$ZZ2+$AAJ2+$AAT2+$ABD2+$ABN2+$ABX2+$ACH2+$ACR2+$ADB2+$ADL2+$ADV2+$AEF2+$AEP2+$AEZ2+$AFJ2+$AFT2+$AGD2+$AGN2+$AGX2+$AHH2+$AHR2+$AIB2+$AIL2+$AIV2+$AJF2+$AJP2+$AJZ2+$AKJ2+$AKT2+$ALD2+$ALN2+$ALX2+$AMH2+$AMR2+$ANB2+$ANL2+$ANV2+$AOF2+$AOP2+$AOZ2+$APJ2+$APT2+$AQD2+$AQN2+$AQX2+$ARH2+$ARR2+$ASB2+$ASL2+$ASV2+$ATF2+$ATP2+$ATZ2+$AUJ2+$AUT2+$AVD2+$AVN2+$AVX2+$AWH2+$AWR2+$AXB2+$AXL2+$AXV2+$AYF2+$AYP2+$AYZ2+$AZJ2+$AZT2+$BAD2+$BAN2+$BAX2+$BBH2+$BBR2+$BCB2+$BCL2+$BCV2+$BDF2+$BDP2+$BDZ2+$BEJ2+$BET2+$BFD2+$BFN2+$BFX2+$BGH2+$BGR2+$BHB2+$BHL2+$BHV2+$BIF2+$BIP2+$BIZ2+$BJJ2+$BJT2+$BKD2+$BKN2+$BKX2+$BLH2+$BLR2+$BMB2+$BML2+$BMV2+$BNF2+$BNP2+$BNZ2+$BOJ2+$BOT2+$BPD2+$BPN2+$BPX2+$BQH2+$BQR2+$BRB2+$BRL2+$BRV2+$BSF2+$BSP2+$BSZ2+$BTJ2+$BTT2+$BUD2+$BUN2+$BUX2+$BVH2+$BVR2+$BWB2+$BWL2+$BWV2+$BXF2+$BXP2+$BXZ2+$BYJ2+$BYT2+$BZD2+$BZN2+$BZX2+$CAH2+$CAR2+$CBB2+$CBL2+$CBV2+$CCF2+$CCP2+$CCZ2+$CDJ2+$CDT2+$CED2+$CEN2+$CEX2+$CFH2+$CFR2+$CGB2+$CGL2+$CGV2+$CHF2+$CHP2+$CHZ2+$CIJ2+$CIT2+$CJD2+$CJN2+$CJX2+$CKH2+$CKR2+$CLB2+$CLL2+$CLV2+$CMF2+$CMP2+$CMZ2+$CNJ2+$CNT2+$COD2+$CON2+$COX2+$CPH2+$CPR2+$CQB2+$CQL2+$CQV2+$CRF2+$CRP2+$CRZ2+$CSJ2+$CST2+$CTD2+$CTN2+$CTX2+$CUH2+$CUR2+$CVB2+$CVL2+$CVV2+$CWF2+$CWP2+$CWZ2+$CXJ2+$CXT2+$CYD2+$CYN2+$CYX2+$CZH2+$CZR2+$DAB2+$DAL2+$DAV2+$DBF2+$DBP2+$DBZ2+$DCJ2+$DCT2+$DDD2+$DDN2+$DDX2+$DEH2+$DER2+$DFB2+$DFL2+$DFV2+$DGF2+$DGP2+$DGZ2+$DHJ2+$DHT2+$DID2+$DIN2+$DIX2+$DJH2+$DJR2+$DKB2+$DKL2+$DKV2+$DLF2+$DLP2+$DLZ2+$DMJ2+$DMT2+$DND2+$DNN2+$DNX2+$DOH2+$DOR2+$DPB2+$DPL2+$DPV2+$DQF2+$DQP2+$DQZ2+$DRJ2+$DRT2+$DSD2+$DSN2+$DSX2+$DTH2+$DTR2+$DUB2+$DUL2+$DUV2+$DVF2+$DVP2+$DVZ2+$DWJ2+$DWT2+$DXD2+$DXN2+$DXX2+$DYH2+$DYR2+$DZB2+$DZL2+$DZV2+$EAF2+$EAP2+$EAZ2+$EBJ2+$EBT2+$ECD2+$ECN2+$ECX2+$EDH2+$EDR2+$EEB2+$EEL2+$EEV2+$EFF2+$EFP2+$EFZ2+$EGJ2+$EGT2+$EHD2+$EHN2+$EHX2+$EIH2+$EIR2+$EJB2+$EJL2+$EJV2+$EKF2+$EKP2)*24","v":0},null,"Sääntelemättömät tunnit",null,null,null,{"$f":"I31-E31","v":0},{"$f":"IF(I31=0,\"\",(I31-E31)/I31)","v":""},null,null,"e",null,null,"Lounastauko    ","07:00:00","alkaa ja loppuu","22:00:00",null,"00:30:00",null,null,null,null,null,"07:00:00","alkaa ja loppuu","22:00:00",null,"00:30:00",null,null,null,null,null,"07:00:00","alkaa ja loppuu","22:00:00",null,"00:30:00",null,null,null,null,null,"07:00:00","alkaa ja loppuu","22:00:00",null,"00:30:00",null,null,null,null,null,"07:00:00","alkaa ja loppuu","22:00:00",null,"00:30:00",null,null,null,null,null,"07:00:00","alkaa ja loppuu","22:00:00",null,"00:30:00",null,null,null,null,null,"07:00:00","alkaa ja loppuu","22:00:00",null,"00:30:00",null,null,null,null,null,"07:00:00","alkaa ja loppuu","22:00:00",null,"00:30:00",null,null,null,null,null,"07:00:00","alkaa ja loppuu","22:00:00",null,"00:30:00",null,null,null,null,null,"07:00:00","alkaa ja loppuu","22:00:00",null,"00:30:00",null,null,null,null,null,"07:00:00","alkaa ja loppuu","22:00:00",null,"00:30:00",null,null,null,null,null,"07:00:00","alkaa ja loppuu","22:00:00",null,"00:30:00",null,null,null,null,null,"07:00:00","alkaa ja loppuu","22:00:00",null,"00:30:00",null,null,null,null,null,"07:00:00","alkaa ja loppuu","22:00:00",null,"00:30:00",null,null,null,null,null,"07:00:00","alkaa ja loppuu","22:00:00",null,"00:30:00",null,null,null,null,null,"07:00:00","alkaa ja loppuu","22:00:00",null,"00:30:00",null,null,null,null,null,"07:00:00","alkaa ja loppuu","22:00:00",null,"00:30:00",null,null,null,null,null,"07:00:00","alkaa ja loppuu","22:00:00",null,"00:30:00",null,null,null,null,null,"07:00:00","alkaa ja loppuu","22:00:00",null,"00:30:00",null,null,null,null,null,"07:00:00","alkaa ja loppuu","22:00:00",null,"00:30:00",null,null,null,null,null,"07:00:00","alkaa ja loppuu","22:00:00",null,"00:30:00",null,null,null,null,null,"07:00:00","alkaa ja loppuu","22:00:00",null,"00:30:00",null,null,null,null,null,"07:00:00","alkaa ja loppuu","22:00:00",null,"00:30:00",null,null,null,null,null,"07:00:00","alkaa ja loppuu","22:00:00",null,"00:30:00",null,null,null,null,null,"07:00:00","alkaa ja loppuu","22:00:00",null,"00:30:00",null,null,null,null,null,"07:00:00","alkaa ja loppuu","22:00:00",null,"00:30:00",null,null,null,null,null,"07:00:00","alkaa ja loppuu","22:00:00",null,"00:30:00",null,null,null,null,null,"07:00:00","alkaa ja loppuu","22:00:00",null,"00:30:00",null,null,null,null,null,"07:00:00","alkaa ja loppuu","22:00:00",null,"00:30:00",null,null,null,null,null,"07:00:00","alkaa ja loppuu","22:00:00",null,"00:30:00",null,null,null,null,null,"07:00:00","alkaa ja loppuu","22:00:00",null,"00:30:00",null,null,null,null,null,"07:00:00","alkaa ja loppuu","22:00:00",null,"00:30:00",null,null,null,null,null,"07:00:00","alkaa ja loppuu","22:00:00",null,"00:30:00",null,null,null,null,null,"07:00:00","alkaa ja loppuu","22:00:00",null,"00:30:00",null,null,null,null,null,"07:00:00","alkaa ja loppuu","22:00:00",null,"00:30:00",null,null,null,null,null,"07:00:00","alkaa ja loppuu","22:00:00",null,"00:30:00",null,null,null,null,null,"07:00:00","alkaa ja loppuu","22:00:00",null,"00:30:00",null,null,null,null,null,"07:00:00","alkaa ja loppuu","22:00:00",null,"00:30:00",null,null,null,null,null,"07:00:00","alkaa ja loppuu","22:00:00",null,"00:30:00",null,null,null,null,null,"07:00:00","alkaa ja loppuu","22:00:00",null,"00:30:00",null,null,null,null,null,"07:00:00","alkaa ja loppuu","22:00:00",null,"00:30:00",null,null,null,null,null,"07:00:00","alkaa ja loppuu","22:00:00",null,"00:30:00",null,null,null,null,null,"07:00:00","alkaa ja loppuu","22:00:00",null,"00:30:00",null,null,null,null,null,"07:00:00","alkaa ja loppuu","22:00:00",null,"00:30:00",null,null,null,null,null,"07:00:00","alkaa ja loppuu","22:00:00",null,"00:30:00",null,null,null,null,null,"07:00:00","alkaa ja loppuu","22:00:00",null,"00:30:00",null,null,null,null,null,"07:00:00","alkaa ja loppuu","22:00:00",null,"00:30:00",null,null,null,null,null,"07:00:00","alkaa ja loppuu","22:00:00",null,"00:30:00",null,null,null,null,null,"07:00:00","alkaa ja loppuu","22:00:00",null,"00:30:00",null,null,null,null,null,"07:00:00","alkaa ja loppuu","22:00:00",null,"00:30:00",null,null,null,null,null,"07:00:00","alkaa ja loppuu","22:00:00",null,"00:30:00",null,null,null,null,null,"07:00:00","alkaa ja loppuu","22:00:00",null,"00:30:00",null,null,null,null,null,"07:00:00","alkaa ja loppuu","22:00:00",null,"00:30:00",null,null,null,null,null,"07:00:00","alkaa ja loppuu","22:00:00",null,"00:30:00",null,null,null,null,null,"07:00:00","alkaa ja loppuu","22:00:00",null,"00:30:00",null,null,null,null,null,"07:00:00","alkaa ja loppuu","22:00:00",null,"00:30:00",null,null,null,null,null,"07:00:00","alkaa ja loppuu","22:00:00",null,"00:30:00",null,null,null,null,null,"07:00:00","alkaa ja loppuu","22:00:00",null,"00:30:00",null,null,null,null,null,"07:00:00","alkaa ja loppuu","22:00:00",null,"00:30:00",null,null,null,null,null,"07:00:00","alkaa ja loppuu","22:00:00",null,"00:30:00",null,null,null,null,null,"07:00:00","alkaa ja loppuu","22:00:00",null,"00:30:00",null,null,null,null,null,"07:00:00","alkaa ja loppuu","22:00:00",null,"00:30:00",null,null,null,null,null,"07:00:00","alkaa ja loppuu","22:00:00",null,"00:30:00",null,null,null,null,null,"07:00:00","alkaa ja loppuu","22:00:00",null,"00:30:00",null,null,null,null,null,"07:00:00","alkaa ja loppuu","22:00:00",null,"00:30:00",null,null,null,null,null,"07:00:00","alkaa ja loppuu","22:00:00",null,"00:30:00",null,null,null,null,null,"07:00:00","alkaa ja loppuu","22:00:00",null,"00:30:00",null,null,null,null,null,"07:00:00","alkaa ja loppuu","22:00:00",null,"00:30:00",null,null,null,null,null,"07:00:00","alkaa ja loppuu","22:00:00",null,"00:30:00",null,null,null,null,null,"07:00:00","alkaa ja loppuu","22:00:00",null,"00:30:00",null,null,null,null,null,"07:00:00","alkaa ja loppuu","22:00:00",null,"00:30:00",null,null,null,null,null,"07:00:00","alkaa ja loppuu","22:00:00",null,"00:30:00",null,null,null,null,null,"07:00:00","alkaa ja loppuu","22:00:00",null,"00:30:00",null,null,null,null,null,"07:00:00","alkaa ja loppuu","22:00:00",null,"00:30:00",null,null,null,null,null,"07:00:00","alkaa ja loppuu","22:00:00",null,"00:30:00",null,null,null,null,null,"07:00:00","alkaa ja loppuu","22:00:00",null,"00:30:00",null,null,null,null,null,"07:00:00","alkaa ja loppuu","22:00:00",null,"00:30:00",null,null,null,null,null,"07:00:00","alkaa ja loppuu","22:00:00",null,"00:30:00",null,null,null,null,null,"07:00:00","alkaa ja loppuu","22:00:00",null,"00:30:00",null,null,null,null,null,"07:00:00","alkaa ja loppuu","22:00:00",null,"00:30:00",null,null,null,null,null,"07:00:00","alkaa ja loppuu","22:00:00",null,"00:30:00",null,null,null,null,null,"07:00:00","alkaa ja loppuu","22:00:00",null,"00:30:00",null,null,null,null,null,"07:00:00","alkaa ja loppuu","22:00:00",null,"00:30:00",null,null,null,null,null,"07:00:00","alkaa ja loppuu","22:00:00",null,"00:30:00",null,null,null,null,null,"07:00:00","alkaa ja loppuu","22:00:00",null,"00:30:00",null,null,null,null,null,"07:00:00","alkaa ja loppuu","22:00:00",null,"00:30:00",null,null,null,null,null,"07:00:00","alkaa ja loppuu","22:00:00",null,"00:30:00",null,null,null,null,null,"07:00:00","alkaa ja loppuu","22:00:00",null,"00:30:00",null,null,null,null,null,"07:00:00","alkaa ja loppuu","22:00:00",null,"00:30:00",null,null,null,null,null,"07:00:00","alkaa ja loppuu","22:00:00",null,"00:30:00",null,null,null,null,null,"07:00:00","alkaa ja loppuu","22:00:00",null,"00:30:00",null,null,null,null,null,"07:00:00","alkaa ja loppuu","22:00:00",null,"00:30:00",null,null,null,null,null,"07:00:00","alkaa ja loppuu","22:00:00",null,"00:30:00",null,null,null,null,null,"07:00:00","alkaa ja loppuu","22:00:00",null,"00:30:00",null,null,null,null,null,"07:00:00","alkaa ja loppuu","22:00:00",null,"00:30:00",null,null,null,null,null,"07:00:00","alkaa ja loppuu","22:00:00",null,"00:30:00",null,null,null,null,null,"07:00:00","alkaa ja loppuu","22:00:00",null,"00:30:00",null,null,null,null,null,"07:00:00","alkaa ja loppuu","22:00:00",null,"00:30:00",null,null,null,null,null,"07:00:00","alkaa ja loppuu","22:00:00",null,"00:30:00",null,null,null,null,null,"07:00:00","alkaa ja loppuu","22:00:00",null,"00:30:00",null,null,null,null,null,"07:00:00","alkaa ja loppuu","22:00:00",null,"00:30:00",null,null,null,null,null,"07:00:00","alkaa ja loppuu","22:00:00",null,"00:30:00",null,null,null,null,null,"07:00:00","alkaa ja loppuu","22:00:00",null,"00:30:00",null,null,null,null,null,"07:00:00","alkaa ja loppuu","22:00:00",null,"00:30:00",null,null,null,null,null,"07:00:00","alkaa ja loppuu","22:00:00",null,"00:30:00",null,null,null,null,null,"07:00:00","alkaa ja loppuu","22:00:00",null,"00:30:00",null,null,null,null,null,"07:00:00","alkaa ja loppuu","22:00:00",null,"00:30:00",null,null,null,null,null,"07:00:00","alkaa ja loppuu","22:00:00",null,"00:30:00",null,null,null,null,null,"07:00:00","alkaa ja loppuu","22:00:00",null,"00:30:00",null,null,null,null,null,"07:00:00","alkaa ja loppuu","22:00:00",null,"00:30:00",null,null,null,null,null,"07:00:00","alkaa ja loppuu","22:00:00",null,"00:30:00",null,null,null,null,null,"07:00:00","alkaa ja loppuu","22:00:00",null,"00:30:00",null,null,null,null,null,"07:00:00","alkaa ja loppuu","22:00:00",null,"00:30:00",null,null,null,null,null,"07:00:00","alkaa ja loppuu","22:00:00",null,"00:30:00",null,null,null,null,null,"07:00:00","alkaa ja loppuu","22:00:00",null,"00:30:00",null,null,null,null,null,"07:00:00","alkaa ja loppuu","22:00:00",null,"00:30:00",null,null,null,null,null,"07:00:00","alkaa ja loppuu","22:00:00",null,"00:30:00",null,null,null,null,null,"07:00:00","alkaa ja loppuu","22:00:00",null,"00:30:00",null,null,null,null,null,"07:00:00","alkaa ja loppuu","22:00:00",null,"00:30:00",null,null,null,null,null,"07:00:00","alkaa ja loppuu","22:00:00",null,"00:30:00",null,null,null,null,null,"07:00:00","alkaa ja loppuu","22:00:00",null,"00:30:00",null,null,null,null,null,"07:00:00","alkaa ja loppuu","22:00:00",null,"00:30:00",null,null,null,null,null,"07:00:00","alkaa ja loppuu","22:00:00",null,"00:30:00",null,null,null,null,null,"07:00:00","alkaa ja loppuu","22:00:00",null,"00:30:00",null,null,null,null,null,"07:00:00","alkaa ja loppuu","22:00:00",null,"00:30:00",null,null,null,null,null,"07:00:00","alkaa ja loppuu","22:00:00",null,"00:30:00",null,null,null,null,null,"07:00:00","alkaa ja loppuu","22:00:00",null,"00:30:00",null,null,null,null,null,"07:00:00","alkaa ja loppuu","22:00:00",null,"00:30:00",null,null,null,null,null,"07:00:00","alkaa ja loppuu","22:00:00",null,"00:30:00",null,null,null,null,null,"07:00:00","alkaa ja loppuu","22:00:00",null,"00:30:00",null,null,null,null,null,"07:00:00","alkaa ja loppuu","22:00:00",null,"00:30:00",null,null,null,null,null,"07:00:00","alkaa ja loppuu","22:00:00",null,"00:30:00",null,null,null,null,null,"07:00:00","alkaa ja loppuu","22:00:00",null,"00:30:00",null,null,null,null,null,"07:00:00","alkaa ja loppuu","22:00:00",null,"00:30:00",null,null,null,null,null,"07:00:00","alkaa ja loppuu","22:00:00",null,"00:30:00",null,null,null,null,null,"07:00:00","alkaa ja loppuu","22:00:00",null,"00:30:00",null,null,null,null,null,"07:00:00","alkaa ja loppuu","22:00:00",null,"00:30:00",null,null,null,null,null,"07:00:00","alkaa ja loppuu","22:00:00",null,"00:30:00",null,null,null,null,null,"07:00:00","alkaa ja loppuu","22:00:00",null,"00:30:00",null,null,null,null,null,"07:00:00","alkaa ja loppuu","22:00:00",null,"00:30:00",null,null,null,null,null,"07:00:00","alkaa ja loppuu","22:00:00",null,"00:30:00",null,null,null,null,null,"07:00:00","alkaa ja loppuu","22:00:00",null,"00:30:00",null,null,null,null,null,"07:00:00","alkaa ja loppuu","22:00:00",null,"00:30:00",null,null,null,null,null,"07:00:00","alkaa ja loppuu","22:00:00",null,"00:30:00",null,null,null,null,null,"07:00:00","alkaa ja loppuu","22:00:00",null,"00:30:00",null,null,null,null,null,"07:00:00","alkaa ja loppuu","22:00:00",null,"00:30:00",null,null,null,null,null,"07:00:00","alkaa ja loppuu","22:00:00",null,"00:30:00",null,null,null,null,null,"07:00:00","alkaa ja loppuu","22:00:00",null,"00:30:00",null,null,null,null,null,"07:00:00","alkaa ja loppuu","22:00:00",null,"00:30:00",null,null,null,null,null,"07:00:00","alkaa ja loppuu","22:00:00",null,"00:30:00",null,null,null,null,null,"07:00:00","alkaa ja loppuu","22:00:00",null,"00:30:00",null,null,null,null,null,"07:00:00","alkaa ja loppuu","22:00:00",null,"00:30:00",null,null,null,null,null,"07:00:00","alkaa ja loppuu","22:00:00",null,"00:30:00",null,null,null,null,null,"07:00:00","alkaa ja loppuu","22:00:00",null,"00:30:00",null,null,null,null,null,"07:00:00","alkaa ja loppuu","22:00:00",null,"00:30:00",null,null,null,null,null,"07:00:00","alkaa ja loppuu","22:00:00",null,"00:30:00",null,null,null,null,null,"07:00:00","alkaa ja loppuu","22:00:00",null,"00:30:00",null,null,null,null,null,"07:00:00","alkaa ja loppuu","22:00:00",null,"00:30:00",null,null,null,null,null,"07:00:00","alkaa ja loppuu","22:00:00",null,"00:30:00",null,null,null,null,null,"07:00:00","alkaa ja loppuu","22:00:00",null,"00:30:00",null,null,null,null,null,"07:00:00","alkaa ja loppuu","22:00:00",null,"00:30:00",null,null,null,null,null,"07:00:00","alkaa ja loppuu","22:00:00",null,"00:30:00",null,null,null,null,null,"07:00:00","alkaa ja loppuu","22:00:00",null,"00:30:00",null,null,null,null,null,"07:00:00","alkaa ja loppuu","22:00:00",null,"00:30:00",null,null,null,null,null,"07:00:00","alkaa ja loppuu","22:00:00",null,"00:30:00",null,null,null,null,null,"07:00:00","alkaa ja loppuu","22:00:00",null,"00:30:00",null,null,null,null,null,"07:00:00","alkaa ja loppuu","22:00:00",null,"00:30:00",null,null,null,null,null,"07:00:00","alkaa ja loppuu","22:00:00",null,"00:30:00",null,null,null,null,null,"07:00:00","alkaa ja loppuu","22:00:00",null,"00:30:00",null,null,null,null,null,"07:00:00","alkaa ja loppuu","22:00:00",null,"00:30:00",null,null,null,null,null,"07:00:00","alkaa ja loppuu","22:00:00",null,"00:30:00",null,null,null,null,null,"07:00:00","alkaa ja loppuu","22:00:00",null,"00:30:00",null,null,null,null,null,"07:00:00","alkaa ja loppuu","22:00:00",null,"00:30:00",null,null,null,null,null,"07:00:00","alkaa ja loppuu","22:00:00",null,"00:30:00",null,null,null,null,null,"07:00:00","alkaa ja loppuu","22:00:00",null,"00:30:00",null,null,null,null,null,"07:00:00","alkaa ja loppuu","22:00:00",null,"00:30:00",null,null,null,null,null,"07:00:00","alkaa ja loppuu","22:00:00",null,"00:30:00",null,null,null,null,null,"07:00:00","alkaa ja loppuu","22:00:00",null,"00:30:00",null,null,null,null,null,"07:00:00","alkaa ja loppuu","22:00:00",null,"00:30:00",null,null,null,null,null,"07:00:00","alkaa ja loppuu","22:00:00",null,"00:30:00",null,null,null,null,null,"07:00:00","alkaa ja loppuu","22:00:00",null,"00:30:00",null,null,null,null,null,"07:00:00","alkaa ja loppuu","22:00:00",null,"00:30:00",null,null,null,null,null,"07:00:00","alkaa ja loppuu","22:00:00",null,"00:30:00",null,null,null,null,null,"07:00:00","alkaa ja loppuu","22:00:00",null,"00:30:00",null,null,null,null,null,"07:00:00","alkaa ja loppuu","22:00:00",null,"00:30:00",null,null,null,null,null,"07:00:00","alkaa ja loppuu","22:00:00",null,"00:30:00",null,null,null,null,null,"07:00:00","alkaa ja loppuu","22:00:00",null,"00:30:00",null,null,null,null,null,"07:00:00","alkaa ja loppuu","22:00:00",null,"00:30:00",null,null,null,null,null,"07:00:00","alkaa ja loppuu","22:00:00",null,"00:30:00",null,null,null,null,null,"07:00:00","alkaa ja loppuu","22:00:00",null,"00:30:00",null,null,null,null,null,"07:00:00","alkaa ja loppuu","22:00:00",null,"00:30:00",null,null,null,null,null,"07:00:00","alkaa ja loppuu","22:00:00",null,"00:30:00",null,null,null,null,null,"07:00:00","alkaa ja loppuu","22:00:00",null,"00:30:00",null,null,null,null,null,"07:00:00","alkaa ja loppuu","22:00:00",null,"00:30:00",null,null,null,null,null,"07:00:00","alkaa ja loppuu","22:00:00",null,"00:30:00",null,null,null,null,null,"07:00:00","alkaa ja loppuu","22:00:00",null,"00:30:00",null,null,null,null,null,"07:00:00","alkaa ja loppuu","22:00:00",null,"00:30:00",null,null,null,null,null,"07:00:00","alkaa ja loppuu","22:00:00",null,"00:30:00",null,null,null,null,null,"07:00:00","alkaa ja loppuu","22:00:00",null,"00:30:00",null,null,null,null,null,"07:00:00","alkaa ja loppuu","22:00:00",null,"00:30:00",null,null,null,null,null,"07:00:00","alkaa ja loppuu","22:00:00",null,"00:30:00",null,null,null,null,null,"07:00:00","alkaa ja loppuu","22:00:00",null,"00:30:00",null,null,null,null,null,"07:00:00","alkaa ja loppuu","22:00:00",null,"00:30:00",null,null,null,null,null,"07:00:00","alkaa ja loppuu","22:00:00",null,"00:30:00",null,null,null,null,null,"07:00:00","alkaa ja loppuu","22:00:00",null,"00:30:00",null,null,null,null,null,"07:00:00","alkaa ja loppuu","22:00:00",null,"00:30:00",null,null,null,null,null,"07:00:00","alkaa ja loppuu","22:00:00",null,"00:30:00",null,null,null,null,null,"07:00:00","alkaa ja loppuu","22:00:00",null,"00:30:00",null,null,null,null,null,"07:00:00","alkaa ja loppuu","22:00:00",null,"00:30:00",null,null,null,null,null,"07:00:00","alkaa ja loppuu","22:00:00",null,"00:30:00",null,null,null,null,null,"07:00:00","alkaa ja loppuu","22:00:00",null,"00:30:00",null,null,null,null,null,"07:00:00","alkaa ja loppuu","22:00:00",null,"00:30:00",null,null,null,null,null,"07:00:00","alkaa ja loppuu","22:00:00",null,"00:30:00",null,null,null,null,null,"07:00:00","alkaa ja loppuu","22:00:00",null,"00:30:00",null,null,null,null,null,"07:00:00","alkaa ja loppuu","22:00:00",null,"00:30:00",null,null,null,null,null,"07:00:00","alkaa ja loppuu","22:00:00",null,"00:30:00",null,null,null,null,null,"07:00:00","alkaa ja loppuu","22:00:00",null,"00:30:00",null,null,null,null,null,"07:00:00","alkaa ja loppuu","22:00:00",null,"00:30:00",null,null,null,null,null,"07:00:00","alkaa ja loppuu","22:00:00",null,"00:30:00",null,null,null,null,null,"07:00:00","alkaa ja loppuu","22:00:00",null,"00:30:00",null,null,null,null,null,"07:00:00","alkaa ja loppuu","22:00:00",null,"00:30:00",null,null,null,null,null,"07:00:00","alkaa ja loppuu","22:00:00",null,"00:30:00",null,null,null,null,null,"07:00:00","alkaa ja loppuu","22:00:00",null,"00:30:00",null,null,null,null,null,"07:00:00","alkaa ja loppuu","22:00:00",null,"00:30:00",null,null,null,null,null,"07:00:00","alkaa ja loppuu","22:00:00",null,"00:30:00",null,null,null,null,null,"07:00:00","alkaa ja loppuu","22:00:00",null,"00:30:00",null,null,null,null,null,"07:00:00","alkaa ja loppuu","22:00:00",null,"00:30:00",null,null,null,null,null,"07:00:00","alkaa ja loppuu","22:00:00",null,"00:30:00",null,null,null,null,null,"07:00:00","alkaa ja loppuu","22:00:00",null,"00:30:00",null,null,null,null,null,"07:00:00","alkaa ja loppuu","22:00:00",null,"00:30:00",null,null,null,null,null,"07:00:00","alkaa ja loppuu","22:00:00",null,"00:30:00",null,null,null,null,null,"07:00:00","alkaa ja loppuu","22:00:00",null,"00:30:00",null,null,null,null,null,"07:00:00","alkaa ja loppuu","22:00:00",null,"00:30:00",null,null,null,null,null,"07:00:00","alkaa ja loppuu","22:00:00",null,"00:30:00",null,null,null,null,null,"07:00:00","alkaa ja loppuu","22:00:00",null,"00:30:00",null,null,null,null,null,"07:00:00","alkaa ja loppuu","22:00:00",null,"00:30:00",null,null,null,null,null,"07:00:00","alkaa ja loppuu","22:00:00",null,"00:30:00",null,null,null,null,null,"07:00:00","alkaa ja loppuu","22:00:00",null,"00:30:00",null,null,null,null,null,"07:00:00","alkaa ja loppuu","22:00:00",null,"00:30:00",null,null,null,null,null,"07:00:00","alkaa ja loppuu","22:00:00",null,"00:30:00",null,null,null,null,null,"07:00:00","alkaa ja loppuu","22:00:00",null,"00:30:00",null,null,null,null,null,"07:00:00","alkaa ja loppuu","22:00:00",null,"00:30:00",null,null,null,null,null,"07:00:00","alkaa ja loppuu","22:00:00",null,"00:30:00",null,null,null,null,null,"07:00:00","alkaa ja loppuu","22:00:00",null,"00:30:00",null,null,null,null,null,"07:00:00","alkaa ja loppuu","22:00:00",null,"00:30:00",null,null,null,null,null,"07:00:00","alkaa ja loppuu","22:00:00",null,"00:30:00",null,null,null,null,null,"07:00:00","alkaa ja loppuu","22:00:00",null,"00:30:00",null,null,null,null,null,"07:00:00","alkaa ja loppuu","22:00:00",null,"00:30:00",null,null,null,null,null,"07:00:00","alkaa ja loppuu","22:00:00",null,"00:30:00",null,null,null,null,null,"07:00:00","alkaa ja loppuu","22:00:00",null,"00:30:00",null,null,null,null,null,"07:00:00","alkaa ja loppuu","22:00:00",null,"00:30:00",null,null,null,null,null,"07:00:00","alkaa ja loppuu","22:00:00",null,"00:30:00",null,null,null,null,null,"07:00:00","alkaa ja loppuu","22:00:00",null,"00:30:00",null,null,null,null,null,"07:00:00","alkaa ja loppuu","22:00:00",null,"00:30:00",null,null,null,null,null,"07:00:00","alkaa ja loppuu","22:00:00",null,"00:30:00",null,null,null,null,null,"07:00:00","alkaa ja loppuu","22:00:00",null,"00:30:00",null,null,null,null,null,"07:00:00","alkaa ja loppuu","22:00:00",null,"00:30:00",null,null,null,null,null,"07:00:00","alkaa ja loppuu","22:00:00",null,"00:30:00",null,null,null,null,null,"07:00:00","alkaa ja loppuu","22:00:00",null,"00:30:00",null,null,null,null,null,"07:00:00","alkaa ja loppuu","22:00:00",null,"00:30:00",null,null,null,null,null,"07:00:00","alkaa ja loppuu","22:00:00",null,"00:30:00",null,null,null,null,null,"07:00:00","alkaa ja loppuu","22:00:00",null,"00:30:00",null,null,null,null,null,"07:00:00","alkaa ja loppuu","22:00:00",null,"00:30:00",null,null,null,null,null,"07:00:00","alkaa ja loppuu","22:00:00",null,"00:30:00",null,null,null,null,null,"07:00:00","alkaa ja loppuu","22:00:00",null,"00:30:00",null,null,null,null,null,"07:00:00","alkaa ja loppuu","22:00:00",null,"00:30:00",null,null,null,null,null,"07:00:00","alkaa ja loppuu","22:00:00",null,"00:30:00",null,null,null,null,null,"07:00:00","alkaa ja loppuu","22:00:00",null,"00:30:00",null,null,null,null,null,"07:00:00","alkaa ja loppuu","22:00:00",null,"00:30:00",null,null,null,null,null,"07:00:00","alkaa ja loppuu","22:00:00",null,"00:30:00",null,null,null,null,null,"07:00:00","alkaa ja loppuu","22:00:00",null,"00:30:00",null,null,null,null,null,"07:00:00","alkaa ja loppuu","22:00:00",null,"00:30:00",null,null,null,null,null,"07:00:00","alkaa ja loppuu","22:00:00",null,"00:30:00",null,null,null,null,null,"07:00:00","alkaa ja loppuu","22:00:00",null,"00:30:00",null,null,null,null,null,"07:00:00","alkaa ja loppuu","22:00:00",null,"00:30:00",null,null,null,null,null,"07:00:00","alkaa ja loppuu","22:00:00",null,"00:30:00",null,null,null,null,null,"07:00:00","alkaa ja loppuu","22:00:00",null,"00:30:00",null,null,null,null,null,"07:00:00","alkaa ja loppuu","22:00:00",null,"00:30:00",null,null,null,null,null,"07:00:00","alkaa ja loppuu","22:00:00",null,"00:30:00",null,null,null,null,null,"07:00:00","alkaa ja loppuu","22:00:00",null,"00:30:00",null,null,null,null,null,"07:00:00","alkaa ja loppuu","22:00:00",null,"00:30:00",null,null,null,null,null,"07:00:00","alkaa ja loppuu","22:00:00",null,"00:30:00",null,null,null,null,null,"07:00:00","alkaa ja loppuu","22:00:00",null,"00:30:00",null,null,null,null,null,"07:00:00","alkaa ja loppuu","22:00:00",null,"00:30:00",null,null,null,null,null,"07:00:00","alkaa ja loppuu","22:00:00",null,"00:30:00",null,null,null,null,null,"07:00:00","alkaa ja loppuu","22:00:00",null,"00:30:00",null,null,null,null,null,"07:00:00","alkaa ja loppuu","22:00:00",null,"00:30:00",null,null,null,null,null,"07:00:00","alkaa ja loppuu","22:00:00",null,"00:30:00",null,null,null,null,null,"07:00:00","alkaa ja loppuu","22:00:00",null,"00:30:00",null,null,null,null,null,"07:00:00","alkaa ja loppuu","22:00:00",null,"00:30:00",null,null,null,null,null,"07:00:00","alkaa ja loppuu","22:00:00",null,"00:30:00",null,null,null,null,null,"07:00:00","alkaa ja loppuu","22:00:00",null,"00:30:00",null,null,null,null,null,"07:00:00","alkaa ja loppuu","22:00:00",null,"00:30:00",null,null,null,null,null,"07:00:00","alkaa ja loppuu","22:00:00",null,"00:30:00",null,null,null,null,null,"07:00:00","alkaa ja loppuu","22:00:00",null,"00:30:00",null,null,null,null,null,"07:00:00","alkaa ja loppuu","22:00:00",null,"00:30:00",null,null,null,null,null,"07:00:00","alkaa ja loppuu","22:00:00",null,"00:30:00",null,null,null,null,null,"07:00:00","alkaa ja loppuu","22:00:00",null,"00:30:00",null,null,null,null,null,"07:00:00","alkaa ja loppuu","22:00:00",null,"00:30:00",null,null,null,null,null,"07:00:00","alkaa ja loppuu","22:00:00",null,"00:30:00",null,null,null,null,null,"07:00:00","alkaa ja loppuu","22:00:00",null,"00:30:00",null,null,null,null,null,"07:00:00","alkaa ja loppuu","22:00:00",null,"00:30:00",null,null,null,null,null,"07:00:00","alkaa ja loppuu","22:00:00",null,"00:30:00",null,null,null,null,null,"07:00:00","alkaa ja loppuu","22:00:00",null,"00:30:00",null,null,null,null,null,"07:00:00","alkaa ja loppuu","22:00:00",null,"00:30:00",null,null,null,null,null,"07:00:00","alkaa ja loppuu","22:00:00",null,"00:30:00",null,null,null,null,null,"07:00:00","alkaa ja loppuu","22:00:00",null,"00:30:00",null,null,null,null,null,"07:00:00","alkaa ja loppuu","22:00:00",null,"00:30:00",null,null,null,null,null,"07:00:00","alkaa ja loppuu","22:00:00",null,"00:30:00",null,null,null,null,null,"07:00:00","alkaa ja loppuu","22:00:00",null,"00:30:00",null,null,null,null,null,"07:00:00","alkaa ja loppuu","22:00:00",null,"00:30:00",null,null,null,null,null,"07:00:00","alkaa ja loppuu","22:00:00",null,"00:30:00",null,null,null,null,null,"07:00:00","alkaa ja loppuu","22:00:00",null,"00:30:00",null,null,null,null,null,"07:00:00","alkaa ja loppuu","22:00:00",null,"00:30:00",null,null,null,null,null,"07:00:00","alkaa ja loppuu","22:00:00",null,"00:30:00",null,null,null,null,null,"07:00:00","alkaa ja loppuu","22:00:00",null,"00:30:00",null,null,null,null,null,"07:00:00","alkaa ja loppuu","22:00:00",null,"00:30:00",null,null,null,null,null,"07:00:00","alkaa ja loppuu","22:00:00",null,"00:30:00",null,null,null,null,null,"07:00:00","alkaa ja loppuu","22:00:00",null,"00:30:00",null,null,null,null,null,"07:00:00","alkaa ja loppuu","22:00:00",null,"00:30:00",null,null,null,null,null,"07:00:00","alkaa ja loppuu","22:00:00",null,"00:30:00",null,null,null,null,null,"07:00:00","alkaa ja loppuu","22:00:00",null,"00:30:00",null,null,null,null,null,"07:00:00","alkaa ja loppuu","22:00:00",null,"00:30:00",null,null,null,null,null,"07:00:00","alkaa ja loppuu","22:00:00",null,"00:30:00",null,null,null,null,null,"07:00:00","alkaa ja loppuu","22:00:00",null,"00:30:00",null,null,null,null,null,"07:00:00","alkaa ja loppuu","22:00:00",null,"00:30:00",null,null,null,null,null,"07:00:00","alkaa ja loppuu","22:00:00",null,"00:30:00",null,null,null,null,null,"07:00:00","alkaa ja loppuu","22:00:00",null,"00:30:00",null,null,null,null,null,"07:00:00","alkaa ja loppuu","22:00:00",null,"00:30:00",null,null,null,null,null,"07:00:00","alkaa ja loppuu","22:00:00",null,"00:30:00",null,null,null,null,null,"07:00:00","alkaa ja loppuu","22:00:00",null,"00:30:00",null,null,null,null,null,"07:00:00","alkaa ja loppuu","22:00:00",null,"00:30:00",null,null,null,null,null,"07:00:00","alkaa ja loppuu","22:00:00",null,"00:30:00",null,null,null,null,null,"07:00:00","alkaa ja loppuu","22:00:00",null,"00:30:00",null,null,null,null,null,"07:00:00","alkaa ja loppuu","22:00:00",null,"00:30:00",null,null,null,null,null,"07:00:00","alkaa ja loppuu","22:00:00",null,"00:30:00",null,null,null,null,null,"07:00:00","alkaa ja loppuu","22:00:00",null,"00:30:00",null,null,null,null,null,"07:00:00","alkaa ja loppuu","22:00:00",null,"00:30:00",null,null,null,null,null,"07:00:00","alkaa ja loppuu","22:00:00",null,"00:30:00",null,null,null,null,null,"07:00:00","alkaa ja loppuu","22:00:00",null,"00:30:00",null,null,null,null,null,"07:00:00","alkaa ja loppuu","22:00:00",null,"00:30:00",null,null,null,null,null,"07:00:00","alkaa ja loppuu","22:00:00",null,"00:30:00",null,null,null,null,null,"07:00:00","alkaa ja loppuu","22:00:00",null,"00:30:00",null,null,null,null,null,"07:00:00","alkaa ja loppuu","22:00:00",null,"00:30:00",null,null,null,null,null,"07:00:00","alkaa ja loppuu","22:00:00",null,"00:30:00",null,null,null,null,null,"07:00:00","alkaa ja loppuu","22:00:00",null,"00:30:00",null,null,null,null,null,"07:00:00","alkaa ja loppuu","22:00:00",null,"00:30:00",null,null,null,null,null,"07:00:00","alkaa ja loppuu","22:00:00",null,"00:30:00",null,null,null,null,null,"07:00:00","alkaa ja loppuu","22:00:00",null,"00:30:00",null,null,null,null,null,"07:00:00","alkaa ja loppuu","22:00:00",null,"00:30:00",null,null,null,null,null,"07:00:00","alkaa ja loppuu","22:00:00",null,"00:30:00",null,null,null,null,null,"07:00:00","alkaa ja loppuu","22:00:00",null,"00:30:00",null,null,null,null,null,"07:00:00","alkaa ja loppuu","22:00:00",null,"00:30:00",null,null,null,null,null,"07:00:00","alkaa ja loppuu","22:00:00",null,"00:30:00",null,null,null,null,null,"07:00:00","alkaa ja loppuu","22:00:00",null,"00:30:00",null,null,null,null,null,"07:00:00","alkaa ja loppuu","22:00:00",null,"00:30:00",null,null,null,null,null,"07:00:00","alkaa ja loppuu","22:00:00",null,"00:30:00",null,null,null,null,null,"07:00:00","alkaa ja loppuu","22:00:00",null,"00:30:00",null,null,null,null,null,"07:00:00","alkaa ja loppuu","22:00:00",null,"00:30:00",null,null,null,null,null,"07:00:00","alkaa ja loppuu","22:00:00",null,"00:30:00",null,null,null,null,null,"07:00:00","alkaa ja loppuu","22:00:00",null,"00:30:00",null,null,null,null,null,"07:00:00","alkaa ja loppuu","22:00:00",null,"00:30:00",null,null,null,null,null,"07:00:00","alkaa ja loppuu","22:00:00",null,"00:30:00",null,null,null,null,null,"07:00:00","alkaa ja loppuu","22:00:00",null,"00:30:00",null,null,null,null,null,"07:00:00","alkaa ja loppuu","22:00:00",null,"00:30:00"]
[null,"Toteutuneesta:",null,null,null,"Yhteensä tekemättömiä",null,null,null,{"$f":"SUM(J5:J7)","v":0},{"$f":"IF(KaikkiSuunnitellut=0,\"\",J8/KaikkiSuunnitellut)","v":""},null,null,"Epämukavan työn",null,null,"Poissa tältä päivältä (L)"]
[null,"Sitomattoman työn osuus",null,{"$f":"IF(C31<1,0,C31/(D31+C31))","v":0},null,"Kohdentamattomat tunnit",null,null,null,{"$f":"Kohdentamatta","v":1500},null,null,null,"tunnit koko",null,null,null,"1. aloitus",null,"2.aloitus",null,"päättyi",null,null,null,null,null,"1. aloitus",null,"2.aloitus",null,"päättyi",null,null,null,null,null,"1. aloitus",null,"2.aloitus",null,"päättyi",null,null,null,null,null,"1. aloitus",null,"2.aloitus",null,"päättyi",null,null,null,null,null,"1. aloitus",null,"2.aloitus",null,"päättyi",null,null,null,null,null,"1. aloitus",null,"2.aloitus",null,"päättyi",null,null,null,null,null,"1. aloitus",null,"2.aloitus",null,"päättyi",null,null,null,null,null,"1. aloitus",null,"2.aloitus",null,"päättyi",null,null,null,null,null,"1. aloitus",null,"2.aloitus",null,"päättyi",null,null,null,null,null,"1. aloitus",null,"2.aloitus",null,"päättyi",null,null,null,null,null,"1. aloitus",null,"2.aloitus",null,"päättyi",null,null,null,null,null,"1. aloitus",null,"2.aloitus",null,"päättyi",null,null,null,null,null,"1. aloitus",null,"2.aloitus",null,"päättyi",null,null,null,null,null,"1. aloitus",null,"2.aloitus",null,"päättyi",null,null,null,null,null,"1. aloitus",null,"2.aloitus",null,"päättyi",null,null,null,null,null,"1. aloitus",null,"2.aloitus",null,"päättyi",null,null,null,null,null,"1. aloitus",null,"2.aloitus",null,"päättyi",null,null,null,null,null,"1. aloitus",null,"2.aloitus",null,"päättyi",null,null,null,null,null,"1. aloitus",null,"2.aloitus",null,"päättyi",null,null,null,null,null,"1. aloitus",null,"2.aloitus",null,"päättyi",null,null,null,null,null,"1. aloitus",null,"2.aloitus",null,"päättyi",null,null,null,null,null,"1. aloitus",null,"2.aloitus",null,"päättyi",null,null,null,null,null,"1. aloitus",null,"2.aloitus",null,"päättyi",null,null,null,null,null,"1. aloitus",null,"2.aloitus",null,"päättyi",null,null,null,null,null,"1. aloitus",null,"2.aloitus",null,"päättyi",null,null,null,null,null,"1. aloitus",null,"2.aloitus",null,"päättyi",null,null,null,null,null,"1. aloitus",null,"2.aloitus",null,"päättyi",null,null,null,null,null,"1. aloitus",null,"2.aloitus",null,"päättyi",null,null,null,null,null,"1. aloitus",null,"2.aloitus",null,"päättyi",null,null,null,null,null,"1. aloitus",null,"2.aloitus",null,"päättyi",null,null,null,null,null,"1. aloitus",null,"2.aloitus",null,"päättyi",null,null,null,null,null,"1. aloitus",null,"2.aloitus",null,"päättyi",null,null,null,null,null,"1. aloitus",null,"2.aloitus",null,"päättyi",null,null,null,null,null,"1. aloitus",null,"2.aloitus",null,"päättyi",null,null,null,null,null,"1. aloitus",null,"2.aloitus",null,"päättyi",null,null,null,null,null,"1. aloitus",null,"2.aloitus",null,"päättyi",null,null,null,null,null,"1. aloitus",null,"2.aloitus",null,"päättyi",null,null,null,null,null,"1. aloitus",null,"2.aloitus",null,"päättyi",null,null,null,null,null,"1. aloitus",null,"2.aloitus",null,"päättyi",null,null,null,null,null,"1. aloitus",null,"2.aloitus",null,"päättyi",null,null,null,null,null,"1. aloitus",null,"2.aloitus",null,"päättyi",null,null,null,null,null,"1. aloitus",null,"2.aloitus",null,"päättyi",null,null,null,null,null,"1. aloitus",null,"2.aloitus",null,"päättyi",null,null,null,null,null,"1. aloitus",null,"2.aloitus",null,"päättyi",null,null,null,null,null,"1. aloitus",null,"2.aloitus",null,"päättyi",null,null,null,null,null,"1. aloitus",null,"2.aloitus",null,"päättyi",null,null,null,null,null,"1. aloitus",null,"2.aloitus",null,"päättyi",null,null,null,null,null,"1. aloitus",null,"2.aloitus",null,"päättyi",null,null,null,null,null,"1. aloitus",null,"2.aloitus",null,"päättyi",null,null,null,null,null,"1. aloitus",null,"2.aloitus",null,"päättyi",null,null,null,null,null,"1. aloitus",null,"2.aloitus",null,"päättyi",null,null,null,null,null,"1. aloitus",null,"2.aloitus",null,"päättyi",null,null,null,null,null,"1. aloitus",null,"2.aloitus",null,"päättyi",null,null,null,null,null,"1. aloitus",null,"2.aloitus",null,"päättyi",null,null,null,null,null,"1. aloitus",null,"2.aloitus",null,"päättyi",null,null,null,null,null,"1. aloitus",null,"2.aloitus",null,"päättyi",null,null,null,null,null,"1. aloitus",null,"2.aloitus",null,"päättyi",null,null,null,null,null,"1. aloitus",null,"2.aloitus",null,"päättyi",null,null,null,null,null,"1. aloitus",null,"2.aloitus",null,"päättyi",null,null,null,null,null,"1. aloitus",null,"2.aloitus",null,"päättyi",null,null,null,null,null,"1. aloitus",null,"2.aloitus",null,"päättyi",null,null,null,null,null,"1. aloitus",null,"2.aloitus",null,"päättyi",null,null,null,null,null,"1. aloitus",null,"2.aloitus",null,"päättyi",null,null,null,null,null,"1. aloitus",null,"2.aloitus",null,"päättyi",null,null,null,null,null,"1. aloitus",null,"2.aloitus",null,"päättyi",null,null,null,null,null,"1. aloitus",null,"2.aloitus",null,"päättyi",null,null,null,null,null,"1. aloitus",null,"2.aloitus",null,"päättyi",null,null,null,null,null,"1. aloitus",null,"2.aloitus",null,"päättyi",null,null,null,null,null,"1. aloitus",null,"2.aloitus",null,"päättyi",null,null,null,null,null,"1. aloitus",null,"2.aloitus",null,"päättyi",null,null,null,null,null,"1. aloitus",null,"2.aloitus",null,"päättyi",null,null,null,null,null,"1. aloitus",null,"2.aloitus",null,"päättyi",null,null,null,null,null,"1. aloitus",null,"2.aloitus",null,"päättyi",null,null,null,null,null,"1. aloitus",null,"2.aloitus",null,"päättyi",null,null,null,null,null,"1. aloitus",null,"2.aloitus",null,"päättyi",null,null,null,null,null,"1. aloitus",null,"2.aloitus",null,"päättyi",null,null,null,null,null,"1. aloitus",null,"2.aloitus",null,"päättyi",null,null,null,null,null,"1. aloitus",null,"2.aloitus",null,"päättyi",null,null,null,null,null,"1. aloitus",null,"2.aloitus",null,"päättyi",null,null,null,null,null,"1. aloitus",null,"2.aloitus",null,"päättyi",null,null,null,null,null,"1. aloitus",null,"2.aloitus",null,"päättyi",null,null,null,null,null,"1. aloitus",null,"2.aloitus",null,"päättyi",null,null,null,null,null,"1. aloitus",null,"2.aloitus",null,"päättyi",null,null,null,null,null,"1. aloitus",null,"2.aloitus",null,"päättyi",null,null,null,null,null,"1. aloitus",null,"2.aloitus",null,"päättyi",null,null,null,null,null,"1. aloitus",null,"2.aloitus",null,"päättyi",null,null,null,null,null,"1. aloitus",null,"2.aloitus",null,"päättyi",null,null,null,null,null,"1. aloitus",null,"2.aloitus",null,"päättyi",null,null,null,null,null,"1. aloitus",null,"2.aloitus",null,"päättyi",null,null,null,null,null,"1. aloitus",null,"2.aloitus",null,"päättyi",null,null,null,null,null,"1. aloitus",null,"2.aloitus",null,"päättyi",null,null,null,null,null,"1. aloitus",null,"2.aloitus",null,"päättyi",null,null,null,null,null,"1. aloitus",null,"2.aloitus",null,"päättyi",null,null,null,null,null,"1. aloitus",null,"2.aloitus",null,"päättyi",null,null,null,null,null,"1. aloitus",null,"2.aloitus",null,"päättyi",null,null,null,null,null,"1. aloitus",null,"2.aloitus",null,"päättyi",null,null,null,null,null,"1. aloitus",null,"2.aloitus",null,"päättyi",null,null,null,null,null,"1. aloitus",null,"2.aloitus",null,"päättyi",null,null,null,null,null,"1. aloitus",null,"2.aloitus",null,"päättyi",null,null,null,null,null,"1. aloitus",null,"2.aloitus",null,"päättyi",null,null,null,null,null,"1. aloitus",null,"2.aloitus",null,"päättyi",null,null,null,null,null,"1. aloitus",null,"2.aloitus",null,"päättyi",null,null,null,null,null,"1. aloitus",null,"2.aloitus",null,"päättyi",null,null,null,null,null,"1. aloitus",null,"2.aloitus",null,"päättyi",null,null,null,null,null,"1. aloitus",null,"2.aloitus",null,"päättyi",null,null,null,null,null,"1. aloitus",null,"2.aloitus",null,"päättyi",null,null,null,null,null,"1. aloitus",null,"2.aloitus",null,"päättyi",null,null,null,null,null,"1. aloitus",null,"2.aloitus",null,"päättyi",null,null,null,null,null,"1. aloitus",null,"2.aloitus",null,"päättyi",null,null,null,null,null,"1. aloitus",null,"2.aloitus",null,"päättyi",null,null,null,null,null,"1. aloitus",null,"2.aloitus",null,"päättyi",null,null,null,null,null,"1. aloitus",null,"2.aloitus",null,"päättyi",null,null,null,null,null,"1. aloitus",null,"2.aloitus",null,"päättyi",null,null,null,null,null,"1. aloitus",null,"2.aloitus",null,"päättyi",null,null,null,null,null,"1. aloitus",null,"2.aloitus",null,"päättyi",null,null,null,null,null,"1. aloitus",null,"2.aloitus",null,"päättyi",null,null,null,null,null,"1. aloitus",null,"2.aloitus",null,"päättyi",null,null,null,null,null,"1. aloitus",null,"2.aloitus",null,"päättyi",null,null,null,null,null,"1. aloitus",null,"2.aloitus",null,"päättyi",null,null,null,null,null,"1. aloitus",null,"2.aloitus",null,"päättyi",null,null,null,null,null,"1. aloitus",null,"2.aloitus",null,"päättyi",null,null,null,null,null,"1. aloitus",null,"2.aloitus",null,"päättyi",null,null,null,null,null,"1. aloitus",null,"2.aloitus",null,"päättyi",null,null,null,null,null,"1. aloitus",null,"2.aloitus",null,"päättyi",null,null,null,null,null,"1. aloitus",null,"2.aloitus",null,"päättyi",null,null,null,null,null,"1. aloitus",null,"2.aloitus",null,"päättyi",null,null,null,null,null,"1. aloitus",null,"2.aloitus",null,"päättyi",null,null,null,null,null,"1. aloitus",null,"2.aloitus",null,"päättyi",null,null,null,null,null,"1. aloitus",null,"2.aloitus",null,"päättyi",null,null,null,null,null,"1. aloitus",null,"2.aloitus",null,"päättyi",null,null,null,null,null,"1. aloitus",null,"2.aloitus",null,"päättyi",null,null,null,null,null,"1. aloitus",null,"2.aloitus",null,"päättyi",null,null,null,null,null,"1. aloitus",null,"2.aloitus",null,"päättyi",null,null,null,null,null,"1. aloitus",null,"2.aloitus",null,"päättyi",null,null,null,null,null,"1. aloitus",null,"2.aloitus",null,"päättyi",null,null,null,null,null,"1. aloitus",null,"2.aloitus",null,"päättyi",null,null,null,null,null,"1. aloitus",null,"2.aloitus",null,"päättyi",null,null,null,null,null,"1. aloitus",null,"2.aloitus",null,"päättyi",null,null,null,null,null,"1. aloitus",null,"2.aloitus",null,"päättyi",null,null,null,null,null,"1. aloitus",null,"2.aloitus",null,"päättyi",null,null,null,null,null,"1. aloitus",null,"2.aloitus",null,"päättyi",null,null,null,null,null,"1. aloitus",null,"2.aloitus",null,"päättyi",null,null,null,null,null,"1. aloitus",null,"2.aloitus",null,"päättyi",null,null,null,null,null,"1. aloitus",null,"2.aloitus",null,"päättyi",null,null,null,null,null,"1. aloitus",null,"2.aloitus",null,"päättyi",null,null,null,null,null,"1. aloitus",null,"2.aloitus",null,"päättyi",null,null,null,null,null,"1. aloitus",null,"2.aloitus",null,"päättyi",null,null,null,null,null,"1. aloitus",null,"2.aloitus",null,"päättyi",null,null,null,null,null,"1. aloitus",null,"2.aloitus",null,"päättyi",null,null,null,null,null,"1. aloitus",null,"2.aloitus",null,"päättyi",null,null,null,null,null,"1. aloitus",null,"2.aloitus",null,"päättyi",null,null,null,null,null,"1. aloitus",null,"2.aloitus",null,"päättyi",null,null,null,null,null,"1. aloitus",null,"2.aloitus",null,"päättyi",null,null,null,null,null,"1. aloitus",null,"2.aloitus",null,"päättyi",null,null,null,null,null,"1. aloitus",null,"2.aloitus",null,"päättyi",null,null,null,null,null,"1. aloitus",null,"2.aloitus",null,"päättyi",null,null,null,null,null,"1. aloitus",null,"2.aloitus",null,"päättyi",null,null,null,null,null,"1. aloitus",null,"2.aloitus",null,"päättyi",null,null,null,null,null,"1. aloitus",null,"2.aloitus",null,"päättyi",null,null,null,null,null,"1. aloitus",null,"2.aloitus",null,"päättyi",null,null,null,null,null,"1. aloitus",null,"2.aloitus",null,"päättyi",null,null,null,null,null,"1. aloitus",null,"2.aloitus",null,"päättyi",null,null,null,null,null,"1. aloitus",null,"2.aloitus",null,"päättyi",null,null,null,null,null,"1. aloitus",null,"2.aloitus",null,"päättyi",null,null,null,null,null,"1. aloitus",null,"2.aloitus",null,"päättyi",null,null,null,null,null,"1. aloitus",null,"2.aloitus",null,"päättyi",null,null,null,null,null,"1. aloitus",null,"2.aloitus",null,"päättyi",null,null,null,null,null,"1. aloitus",null,"2.aloitus",null,"päättyi",null,null,null,null,null,"1. aloitus",null,"2.aloitus",null,"päättyi",null,null,null,null,null,"1. aloitus",null,"2.aloitus",null,"päättyi",null,null,null,null,null,"1. aloitus",null,"2.aloitus",null,"päättyi",null,null,null,null,null,"1. aloitus",null,"2.aloitus",null,"päättyi",null,null,null,null,null,"1. aloitus",null,"2.aloitus",null,"päättyi",null,null,null,null,null,"1. aloitus",null,"2.aloitus",null,"päättyi",null,null,null,null,null,"1. aloitus",null,"2.aloitus",null,"päättyi",null,null,null,null,null,"1. aloitus",null,"2.aloitus",null,"päättyi",null,null,null,null,null,"1. aloitus",null,"2.aloitus",null,"päättyi",null,null,null,null,null,"1. aloitus",null,"2.aloitus",null,"päättyi",null,null,null,null,null,"1. aloitus",null,"2.aloitus",null,"päättyi",null,null,null,null,null,"1. aloitus",null,"2.aloitus",null,"päättyi",null,null,null,null,null,"1. aloitus",null,"2.aloitus",null,"päättyi",null,null,null,null,null,"1. aloitus",null,"2.aloitus",null,"päättyi",null,null,null,null,null,"1. aloitus",null,"2.aloitus",null,"päättyi",null,null,null,null,null,"1. aloitus",null,"2.aloitus",null,"päättyi",null,null,null,null,null,"1. aloitus",null,"2.aloitus",null,"päättyi",null,null,null,null,null,"1. aloitus",null,"2.aloitus",null,"päättyi",null,null,null,null,null,"1. aloitus",null,"2.aloitus",null,"päättyi",null,null,null,null,null,"1. aloitus",null,"2.aloitus",null,"päättyi",null,null,null,null,null,"1. aloitus",null,"2.aloitus",null,"päättyi",null,null,null,null,null,"1. aloitus",null,"2.aloitus",null,"päättyi",null,null,null,null,null,"1. aloitus",null,"2.aloitus",null,"päättyi",null,null,null,null,null,"1. aloitus",null,"2.aloitus",null,"päättyi",null,null,null,null,null,"1. aloitus",null,"2.aloitus",null,"päättyi",null,null,null,null,null,"1. aloitus",null,"2.aloitus",null,"päättyi",null,null,null,null,null,"1. aloitus",null,"2.aloitus",null,"päättyi",null,null,null,null,null,"1. aloitus",null,"2.aloitus",null,"päättyi",null,null,null,null,null,"1. aloitus",null,"2.aloitus",null,"päättyi",null,null,null,null,null,"1. aloitus",null,"2.aloitus",null,"päättyi",null,null,null,null,null,"1. aloitus",null,"2.aloitus",null,"päättyi",null,null,null,null,null,"1. aloitus",null,"2.aloitus",null,"päättyi",null,null,null,null,null,"1. aloitus",null,"2.aloitus",null,"päättyi",null,null,null,null,null,"1. aloitus",null,"2.aloitus",null,"päättyi",null,null,null,null,null,"1. aloitus",null,"2.aloitus",null,"päättyi",null,null,null,null,null,"1. aloitus",null,"2.aloitus",null,"päättyi",null,null,null,null,null,"1. aloitus",null,"2.aloitus",null,"päättyi",null,null,null,null,null,"1. aloitus",null,"2.aloitus",null,"päättyi",null,null,null,null,null,"1. aloitus",null,"2.aloitus",null,"päättyi",null,null,null,null,null,"1. aloitus",null,"2.aloitus",null,"päättyi",null,null,null,null,null,"1. aloitus",null,"2.aloitus",null,"päättyi",null,null,null,null,null,"1. aloitus",null,"2.aloitus",null,"päättyi",null,null,null,null,null,"1. aloitus",null,"2.aloitus",null,"päättyi",null,null,null,null,null,"1. aloitus",null,"2.aloitus",null,"päättyi",null,null,null,null,null,"1. aloitus",null,"2.aloitus",null,"päättyi",null,null,null,null,null,"1. aloitus",null,"2.aloitus",null,"päättyi",null,null,null,null,null,"1. aloitus",null,"2.aloitus",null,"päättyi",null,null,null,null,null,"1. aloitus",null,"2.aloitus",null,"päättyi",null,null,null,null,null,"1. aloitus",null,"2.aloitus",null,"päättyi",null,null,null,null,null,"1. aloitus",null,"2.aloitus",null,"päättyi",null,null,null,null,null,"1. aloitus",null,"2.aloitus",null,"päättyi",null,null,null,null,null,"1. aloitus",null,"2.aloitus",null,"päättyi",null,null,null,null,null,"1. aloitus",null,"2.aloitus",null,"päättyi",null,null,null,null,null,"1. aloitus",null,"2.aloitus",null,"päättyi",null,null,null,null,null,"1. aloitus",null,"2.aloitus",null,"päättyi",null,null,null,null,null,"1. aloitus",null,"2.aloitus",null,"päättyi",null,null,null,null,null,"1. aloitus",null,"2.aloitus",null,"päättyi",null,null,null,null,null,"1. aloitus",null,"2.aloitus",null,"päättyi",null,null,null,null,null,"1. aloitus",null,"2.aloitus",null,"päättyi",null,null,null,null,null,"1. aloitus",null,"2.aloitus",null,"päättyi",null,null,null,null,null,"1. aloitus",null,"2.aloitus",null,"päättyi",null,null,null,null,null,"1. aloitus",null,"2.aloitus",null,"päättyi",null,null,null,null,null,"1. aloitus",null,"2.aloitus",null,"päättyi",null,null,null,null,null,"1. aloitus",null,"2.aloitus",null,"päättyi",null,null,null,null,null,"1. aloitus",null,"2.aloitus",null,"päättyi",null,null,null,null,null,"1. aloitus",null,"2.aloitus",null,"päättyi",null,null,null,null,null,"1. aloitus",null,"2.aloitus",null,"päättyi",null,null,null,null,null,"1. aloitus",null,"2.aloitus",null,"päättyi",null,null,null,null,null,"1. aloitus",null,"2.aloitus",null,"päättyi",null,null,null,null,null,"1. aloitus",null,"2.aloitus",null,"päättyi",null,null,null,null,null,"1. aloitus",null,"2.aloitus",null,"päättyi",null,null,null,null,null,"1. aloitus",null,"2.aloitus",null,"päättyi",null,null,null,null,null,"1. aloitus",null,"2.aloitus",null,"päättyi",null,null,null,null,null,"1. aloitus",null,"2.aloitus",null,"päättyi",null,null,null,null,null,"1. aloitus",null,"2.aloitus",null,"päättyi",null,null,null,null,null,"1. aloitus",null,"2.aloitus",null,"päättyi",null,null,null,null,null,"1. aloitus",null,"2.aloitus",null,"päättyi",null,null,null,null,null,"1. aloitus",null,"2.aloitus",null,"päättyi",null,null,null,null,null,"1. aloitus",null,"2.aloitus",null,"päättyi",null,null,null,null,null,"1. aloitus",null,"2.aloitus",null,"päättyi",null,null,null,null,null,"1. aloitus",null,"2.aloitus",null,"päättyi",null,null,null,null,null,"1. aloitus",null,"2.aloitus",null,"päättyi",null,null,null,null,null,"1. aloitus",null,"2.aloitus",null,"päättyi",null,null,null,null,null,"1. aloitus",null,"2.aloitus",null,"päättyi",null,null,null,null,null,"1. aloitus",null,"2.aloitus",null,"päättyi",null,null,null,null,null,"1. aloitus",null,"2.aloitus",null,"päättyi",null,null,null,null,null,"1. aloitus",null,"2.aloitus",null,"päättyi",null,null,null,null,null,"1. aloitus",null,"2.aloitus",null,"päättyi",null,null,null,null,null,"1. aloitus",null,"2.aloitus",null,"päättyi",null,null,null,null,null,"1. aloitus",null,"2.aloitus",null,"päättyi",null,null,null,null,null,"1. aloitus",null,"2.aloitus",null,"päättyi",null,null,null,null,null,"1. aloitus",null,"2.aloitus",null,"päättyi",null,null,null,null,null,"1. aloitus",null,"2.aloitus",null,"päättyi",null,null,null,null,null,"1. aloitus",null,"2.aloitus",null,"päättyi",null,null,null,null,null,"1. aloitus",null,"2.aloitus",null,"päättyi",null,null,null,null,null,"1. aloitus",null,"2.aloitus",null,"päättyi",null,null,null,null,null,"1. aloitus",null,"2.aloitus",null,"päättyi",null,null,null,null,null,"1. aloitus",null,"2.aloitus",null,"päättyi",null,null,null,null,null,"1. aloitus",null,"2.aloitus",null,"päättyi",null,null,null,null,null,"1. aloitus",null,"2.aloitus",null,"päättyi",null,null,null,null,null,"1. aloitus",null,"2.aloitus",null,"päättyi",null,null,null,null,null,"1. aloitus",null,"2.aloitus",null,"päättyi",null,null,null,null,null,"1. aloitus",null,"2.aloitus",null,"päättyi",null,null,null,null,null,"1. aloitus",null,"2.aloitus",null,"päättyi",null,null,null,null,null,"1. aloitus",null,"2.aloitus",null,"päättyi",null,null,null,null,null,"1. aloitus",null,"2.aloitus",null,"päättyi",null,null,null,null,null,"1. aloitus",null,"2.aloitus",null,"päättyi",null,null,null,null,null,"1. aloitus",null,"2.aloitus",null,"päättyi",null,null,null,null,null,"1. aloitus",null,"2.aloitus",null,"päättyi",null,null,null,null,null,"1. aloitus",null,"2.aloitus",null,"päättyi",null,null,null,null,null,"1. aloitus",null,"2.aloitus",null,"päättyi",null,null,null,null,null,"1. aloitus",null,"2.aloitus",null,"päättyi",null,null,null,null,null,"1. aloitus",null,"2.aloitus",null,"päättyi",null,null,null,null,null,"1. aloitus",null,"2.aloitus",null,"päättyi",null,null,null,null,null,"1. aloitus",null,"2.aloitus",null,"päättyi",null,null,null,null,null,"1. aloitus",null,"2.aloitus",null,"päättyi",null,null,null,null,null,"1. aloitus",null,"2.aloitus",null,"päättyi",null,null,null,null,null,"1. aloitus",null,"2.aloitus",null,"päättyi",null,null,null,null,null,"1. aloitus",null,"2.aloitus",null,"päättyi",null,null,null,null,null,"1. aloitus",null,"2.aloitus",null,"päättyi",null,null,null,null,null,"1. aloitus",null,"2.aloitus",null,"päättyi",null,null,null,null,null,"1. aloitus",null,"2.aloitus",null,"päättyi",null,null,null,null,null,"1. aloitus",null,"2.aloitus",null,"päättyi",null,null,null,null,null,"1. aloitus",null,"2.aloitus",null,"päättyi",null,null,null,null,null,"1. aloitus",null,"2.aloitus",null,"päättyi",null,null,null,null,null,"1. aloitus",null,"2.aloitus",null,"päättyi",null,null,null,null,null,"1. aloitus",null,"2.aloitus",null,"päättyi",null,null,null,null,null,"1. aloitus",null,"2.aloitus",null,"päättyi",null,null,null,null,null,"1. aloitus",null,"2.aloitus",null,"päättyi",null,null,null,null,null,"1. aloitus",null,"2.aloitus",null,"päättyi",null,null,null,null,null,"1. aloitus",null,"2.aloitus",null,"päättyi",null,null,null,null,null,"1. aloitus",null,"2.aloitus",null,"päättyi",null,null,null,null,null,"1. aloitus",null,"2.aloitus",null,"päättyi",null,null,null,null,null,"1. aloitus",null,"2.aloitus",null,"päättyi",null,null,null,null,null,"1. aloitus",null,"2.aloitus",null,"päättyi",null,null,null,null,null,"1. aloitus",null,"2.aloitus",null,"päättyi",null,null,null,null,null,"1. aloitus",null,"2.aloitus",null,"päättyi",null,null,null,null,null,"1. aloitus",null,"2.aloitus",null,"päättyi",null,null,null,null,null,"1. aloitus",null,"2.aloitus",null,"päättyi",null,null,null,null,null,"1. aloitus",null,"2.aloitus",null,"päättyi",null,null,null,null,null,"1. aloitus",null,"2.aloitus",null,"päättyi",null,null,null,null,null,"1. aloitus",null,"2.aloitus",null,"päättyi",null,null,null,null,null,"1. aloitus",null,"2.aloitus",null,"päättyi",null,null,null,null,null,"1. aloitus",null,"2.aloitus",null,"päättyi",null,null,null,null,null,"1. aloitus",null,"2.aloitus",null,"päättyi",null,null,null,null,null,"1. aloitus",null,"2.aloitus",null,"päättyi",null,null,null,null,null,"1. aloitus",null,"2.aloitus",null,"päättyi",null,null,null,null,null,"1. aloitus",null,"2.aloitus",null,"päättyi",null,null,null,null,null,"1. aloitus",null,"2.aloitus",null,"päättyi",null,null,null,null,null,"1. aloitus",null,"2.aloitus",null,"päättyi",null,null,null,null,null,"1. aloitus",null,"2.aloitus",null,"päättyi",null,null,null,null,null,"1. aloitus",null,"2.aloitus",null,"päättyi",null,null,null,null,null,"1. aloitus",null,"2.aloitus",null,"päättyi",null,null,null,null,null,"1. aloitus",null,"2.aloitus",null,"päättyi",null,null,null,null,null,"1. aloitus",null,"2.aloitus",null,"päättyi",null,null,null,null,null,"1. aloitus",null,"2.aloitus",null,"päättyi",null,null,null,null,null,"1. aloitus",null,"2.aloitus",null,"päättyi",null,null,null,null,null,"1. aloitus",null,"2.aloitus",null,"päättyi",null,null,null,null,null,"1. aloitus",null,"2.aloitus",null,"päättyi",null,null,null,null,null,"1. aloitus",null,"2.aloitus",null,"päättyi",null,null,null,null,null,"1. aloitus",null,"2.aloitus",null,"päättyi",null,null,null,null,null,"1. aloitus",null,"2.aloitus",null,"päättyi",null,null,null,null,null,"1. aloitus",null,"2.aloitus",null,"päättyi",null,null,null,null,null,"1. aloitus",null,"2.aloitus",null,"päättyi",null,null,null,null,null,"1. aloitus",null,"2.aloitus",null,"päättyi",null,null,null,null,null,"1. aloitus",null,"2.aloitus",null,"päättyi",null,null,null,null,null,"1. aloitus",null,"2.aloitus",null,"päättyi",null,null,null,null,null,"1. aloitus",null,"2.aloitus",null,"päättyi",null,null,null,null,null,"1. aloitus",null,"2.aloitus",null,"päättyi",null,null,null,null,null,"1. aloitus",null,"2.aloitus",null,"päättyi",null,null,null,null,null,"1. aloitus",null,"2.aloitus",null,"päättyi",null,null,null,null,null,"1. aloitus",null,"2.aloitus",null,"päättyi",null,null,null,null,null,"1. aloitus",null,"2.aloitus",null,"päättyi",null,null,null,null,null,"1. aloitus",null,"2.aloitus",null,"päättyi",null,null,null,null,null,"1. aloitus",null,"2.aloitus",null,"päättyi",null,null,null,null,null,"1. aloitus",null,"2.aloitus",null,"päättyi",null,null,null,null,null,"1. aloitus",null,"2.aloitus",null,"päättyi",null,null,null,null,null,"1. aloitus",null,"2.aloitus",null,"päättyi",null,null,null,null,null,"1. aloitus",null,"2.aloitus",null,"päättyi",null,null,null,null,null,"1. aloitus",null,"2.aloitus",null,"päättyi",null,null,null,null,null,"1. aloitus",null,"2.aloitus",null,"päättyi",null,null,null,null,null,"1. aloitus",null,"2.aloitus",null,"päättyi",null,null,null,null,null,"1. aloitus",null,"2.aloitus",null,"päättyi",null,null,null,null,null,"1. aloitus",null,"2.aloitus",null,"päättyi",null,null,null,null,null,"1. aloitus",null,"2.aloitus",null,"päättyi",null,null,null,null,null,"1. aloitus",null,"2.aloitus",null,"päättyi",null,null,null,null,null,"1. aloitus",null,"2.aloitus",null,"päättyi",null,null,null,null,null,"1. aloitus",null,"2.aloitus",null,"päättyi",null,null,null,null,null,"1. aloitus",null,"2.aloitus",null,"päättyi",null,null,null,null,null,"1. aloitus",null,"2.aloitus",null,"päättyi",null,null,null,null,null,"1. aloitus",null,"2.aloitus",null,"päättyi",null,null,null,null,null,"1. aloitus",null,"2.aloitus",null,"päättyi",null,null,null,null,null,"1. aloitus",null,"2.aloitus",null,"päättyi",null,null,null,null,null,"1. aloitus",null,"2.aloitus",null,"päättyi",null,null,null,null,null,"1. aloitus",null,"2.aloitus",null,"päättyi",null,null,null,null,null,"1. aloitus",null,"2.aloitus",null,"päättyi",null,null,null,null,null,"1. aloitus",null,"2.aloitus",null,"päättyi",null,null,null,null,null,"1. aloitus",null,"2.aloitus",null,"päättyi",null,null,null,null,null,"1. aloitus",null,"2.aloitus",null,"päättyi"]
[null,"Tehdyn työn osuus vuosityöajasta",null,{"$f":"(C31+D31+E31)/TodellinenVTA","v":0},null,"Nimellinen vuosityöaika",null,null,null,{"$f":"VTA","v":1500},null,null,null," vuodelta",null,"p","Sidotun työn ajat, mikäli yli 8h",null,null,null,null,null,"08:00:00",null,null,null,null,null,null,null,null,null,"08:00:00",null,null,null,null,null,null,null,null,null,"08:00:00",null,null,null,null,null,null,null,null,null,"08:00:00",null,null,null,null,null,null,null,null,null,"08:00:00",null,null,null,null,null,null,null,null,null,"08:00:00",null,null,null,null,null,null,null,null,null,"08:00:00",null,null,null,null,null,null,null,null,null,"08:00:00",null,null,null,null,null,null,null,null,null,"08:00:00",null,null,null,null,null,null,null,null,null,"08:00:00",null,null,null,null,null,null,null,null,null,"08:00:00",null,null,null,null,null,null,null,null,null,"08:00:00",null,null,null,null,null,null,null,null,null,"08:00:00",null,null,null,null,null,null,null,null,null,"08:00:00",null,null,null,null,null,null,null,null,null,"08:00:00",null,null,null,null,null,null,null,null,null,"08:00:00",null,null,null,null,null,null,null,null,null,"08:00:00",null,null,null,null,null,null,null,null,null,"08:00:00",null,null,null,null,null,null,null,null,null,"08:00:00",null,null,null,null,null,null,null,null,null,"08:00:00",null,null,null,null,null,null,null,null,null,"08:00:00",null,null,null,null,null,null,null,null,null,"08:00:00",null,null,null,null,null,null,null,null,null,"08:00:00",null,null,null,null,null,null,null,null,null,"08:00:00",null,null,null,null,null,null,null,null,null,"08:00:00",null,null,null,null,null,null,null,null,null,"08:00:00",null,null,null,null,null,null,null,null,null,"08:00:00",null,null,null,null,null,null,null,null,null,"08:00:00",null,null,null,null,null,null,null,null,null,"08:00:00",null,null,null,null,null,null,null,null,null,"08:00:00",null,null,null,null,null,null,null,null,null,"08:00:00",null,null,null,null,null,null,null,null,null,"08:00:00",null,null,null,null,null,null,null,null,null,"08:00:00",null,null,null,null,null,null,null,null,null,"08:00:00",null,null,null,null,null,null,null,null,null,"08:00:00",null,null,null,null,null,null,null,null,null,"08:00:00",null,null,null,null,null,null,null,null,null,"08:00:00",null,null,null,null,null,null,null,null,null,"08:00:00",null,null,null,null,null,null,null,null,null,"08:00:00",null,null,null,null,null,null,null,null,null,"08:00:00",null,null,null,null,null,null,null,null,null,"08:00:00",null,null,null,null,null,null,null,null,null,"08:00:00",null,null,null,null,null,null,null,null,null,"08:00:00",null,null,null,null,null,null,null,null,null,"08:00:00",null,null,null,null,null,null,null,null,null,"08:00:00",null,null,null,null,null,null,null,null,null,"08:00:00",null,null,null,null,null,null,null,null,null,"08:00:00",null,null,null,null,null,null,null,null,null,"08:00:00",null,null,null,null,null,null,null,null,null,"08:00:00",null,null,null,null,null,null,null,null,null,"08:00:00",null,null,null,null,null,null,null,null,null,"08:00:00",null,null,null,null,null,null,null,null,null,"08:00:00",null,null,null,null,null,null,null,null,null,"08:00:00",null,null,null,null,null,null,null,null,null,"08:00:00",null,null,null,null,null,null,null,null,null,"08:00:00",null,null,null,null,null,null,null,null,null,"08:00:00",null,null,null,null,null,null,null,null,null,"08:00:00",null,null,null,null,null,null,null,null,null,"08:00:00",null,null,null,null,null,null,null,null,null,"08:00:00",null,null,null,null,null,null,null,null,null,"08:00:00",null,null,null,null,null,null,null,null,null,"08:00:00",null,null,null,null,null,null,null,null,null,"08:00:00",null,null,null,null,null,null,null,null,null,"08:00:00",null,null,null,null,null,null,null,null,null,"08:00:00",null,null,null,null,null,null,null,null,null,"08:00:00",null,null,null,null,null,null,null,null,null,"08:00:00",null,null,null,null,null,null,null,null,null,"08:00:00",null,null,null,null,null,null,null,null,null,"08:00:00",null,null,null,null,null,null,null,null,null,"08:00:00",null,null,null,null,null,null,null,null,null,"08:00:00",null,null,null,null,null,null,null,null,null,"08:00:00",null,null,null,null,null,null,null,null,null,"08:00:00",null,null,null,null,null,null,null,null,null,"08:00:00",null,null,null,null,null,null,null,null,null,"08:00:00",null,null,null,null,null,null,null,null,null,"08:00:00",null,null,null,null,null,null,null,null,null,"08:00:00",null,null,null,null,null,null,null,null,null,"08:00:00",null,null,null,null,null,null,null,null,null,"08:00:00",null,null,null,null,null,null,null,null,null,"08:00:00",null,null,null,null,null,null,null,null,null,"08:00:00",null,null,null,null,null,null,null,null,null,"08:00:00",null,null,null,null,null,null,null,null,null,"08:00:00",null,null,null,null,null,null,null,null,null,"08:00:00",null,null,null,null,null,null,null,null,null,"08:00:00",null,null,null,null,null,null,null,null,null,"08:00:00",null,null,null,null,null,null,null,null,null,"08:00:00",null,null,null,null,null,null,null,null,null,"08:00:00",null,null,null,null,null,null,null,null,null,"08:00:00",null,null,null,null,null,null,null,null,null,"08:00:00",null,null,null,null,null,null,null,null,null,"08:00:00",null,null,null,null,null,null,null,null,null,"08:00:00",null,null,null,null,null,null,null,null,null,"08:00:00",null,null,null,null,null,null,null,null,null,"08:00:00",null,null,null,null,null,null,null,null,null,"08:00:00",null,null,null,null,null,null,null,null,null,"08:00:00",null,null,null,null,null,null,null,null,null,"08:00:00",null,null,null,null,null,null,null,null,null,"08:00:00",null,null,null,null,null,null,null,null,null,"08:00:00",null,null,null,null,null,null,null,null,null,"08:00:00",null,null,null,null,null,null,null,null,null,"08:00:00",null,null,null,null,null,null,null,null,null,"08:00:00",null,null,null,null,null,null,null,null,null,"08:00:00",null,null,null,null,null,null,null,null,null,"08:00:00",null,null,null,null,null,null,null,null,null,"08:00:00",null,null,null,null,null,null,null,null,null,"08:00:00",null,null,null,null,null,null,null,null,null,"08:00:00",null,null,null,null,null,null,null,null,null,"08:00:00",null,null,null,null,null,null,null,null,null,"08:00:00",null,null,null,null,null,null,null,null,null,"08:00:00",null,null,null,null,null,null,null,null,null,"08:00:00",null,null,null,null,null,null,null,null,null,"08:00:00",null,null,null,null,null,null,null,null,null,"08:00:00",null,null,null,null,null,null,null,null,null,"08:00:00",null,null,null,null,null,null,null,null,null,"08:00:00",null,null,null,null,null,null,null,null,null,"08:00:00",null,null,null,null,null,null,null,null,null,"08:00:00",null,null,null,null,null,null,null,null,null,"08:00:00",null,null,null,null,null,null,null,null,null,"08:00:00",null,null,null,null,null,null,null,null,null,"08:00:00",null,null,null,null,null,null,null,null,null,"08:00:00",null,null,null,null,null,null,null,null,null,"08:00:00",null,null,null,null,null,null,null,null,null,"08:00:00",null,null,null,null,null,null,null,null,null,"08:00:00",null,null,null,null,null,null,null,null,null,"08:00:00",null,null,null,null,null,null,null,null,null,"08:00:00",null,null,null,null,null,null,null,null,null,"08:00:00",null,null,null,null,null,null,null,null,null,"08:00:00",null,null,null,null,null,null,null,null,null,"08:00:00",null,null,null,null,null,null,null,null,null,"08:00:00",null,null,null,null,null,null,null,null,null,"08:00:00",null,null,null,null,null,null,null,null,null,"08:00:00",null,null,null,null,null,null,null,null,null,"08:00:00",null,null,null,null,null,null,null,null,null,"08:00:00",null,null,null,null,null,null,null,null,null,"08:00:00",null,null,null,null,null,null,null,null,null,"08:00:00",null,null,null,null,null,null,null,null,null,"08:00:00",null,null,null,null,null,null,null,null,null,"08:00:00",null,null,null,null,null,null,null,null,null,"08:00:00",null,null,null,null,null,null,null,null,null,"08:00:00",null,null,null,null,null,null,null,null,null,"08:00:00",null,null,null,null,null,null,null,null,null,"08:00:00",null,null,null,null,null,null,null,null,null,"08:00:00",null,null,null,null,null,null,null,null,null,"08:00:00",null,null,null,null,null,null,null,null,null,"08:00:00",null,null,null,null,null,null,null,null,null,"08:00:00",null,null,null,null,null,null,null,null,null,"08:00:00",null,null,null,null,null,null,null,null,null,"08:00:00",null,null,null,null,null,null,null,null,null,"08:00:00",null,null,null,null,null,null,null,null,null,"08:00:00",null,null,null,null,null,null,null,null,null,"08:00:00",null,null,null,null,null,null,null,null,null,"08:00:00",null,null,null,null,null,null,null,null,null,"08:00:00",null,null,null,null,null,null,null,null,null,"08:00:00",null,null,null,null,null,null,null,null,null,"08:00:00",null,null,null,null,null,null,null,null,null,"08:00:00",null,null,null,null,null,null,null,null,null,"08:00:00",null,null,null,null,null,null,null,null,null,"08:00:00",null,null,null,null,null,null,null,null,null,"08:00:00",null,null,null,null,null,null,null,null,null,"08:00:00",null,null,null,null,null,null,null,null,null,"08:00:00",null,null,null,null,null,null,null,null,null,"08:00:00",null,null,null,null,null,null,null,null,null,"08:00:00",null,null,null,null,null,null,null,null,null,"08:00:00",null,null,null,null,null,null,null,null,null,"08:00:00",null,null,null,null,null,null,null,null,null,"08:00:00",null,null,null,null,null,null,null,null,null,"08:00:00",null,null,null,null,null,null,null,null,null,"08:00:00",null,null,null,null,null,null,null,null,null,"08:00:00",null,null,null,null,null,null,null,null,null,"08:00:00",null,null,null,null,null,null,null,null,null,"08:00:00",null,null,null,null,null,null,null,null,null,"08:00:00",null,null,null,null,null,null,null,null,null,"08:00:00",null,null,null,null,null,null,null,null,null,"08:00:00",null,null,null,null,null,null,null,null,null,"08:00:00",null,null,null,null,null,null,null,null,null,"08:00:00",null,null,null,null,null,null,null,null,null,"08:00:00",null,null,null,null,null,null,null,null,null,"08:00:00",null,null,null,null,null,null,null,null,null,"08:00:00",null,null,null,null,null,null,null,null,null,"08:00:00",null,null,null,null,null,null,null,null,null,"08:00:00",null,null,null,null,null,null,null,null,null,"08:00:00",null,null,null,null,null,null,null,null,null,"08:00:00",null,null,null,null,null,null,null,null,null,"08:00:00",null,null,null,null,null,null,null,null,null,"08:00:00",null,null,null,null,null,null,null,null,null,"08:00:00",null,null,null,null,null,null,null,null,null,"08:00:00",null,null,null,null,null,null,null,null,null,"08:00:00",null,null,null,null,null,null,null,null,null,"08:00:00",null,null,null,null,null,null,null,null,null,"08:00:00",null,null,null,null,null,null,null,null,null,"08:00:00",null,null,null,null,null,null,null,null,null,"08:00:00",null,null,null,null,null,null,null,null,null,"08:00:00",null,null,null,null,null,null,null,null,null,"08:00:00",null,null,null,null,null,null,null,null,null,"08:00:00",null,null,null,null,null,null,null,null,null,"08:00:00",null,null,null,null,null,null,null,null,null,"08:00:00",null,null,null,null,null,null,null,null,null,"08:00:00",null,null,null,null,null,null,null,null,null,"08:00:00",null,null,null,null,null,null,null,null,null,"08:00:00",null,null,null,null,null,null,null,null,null,"08:00:00",null,null,null,null,null,null,null,null,null,"08:00:00",null,null,null,null,null,null,null,null,null,"08:00:00",null,null,null,null,null,null,null,null,null,"08:00:00",null,null,null,null,null,null,null,null,null,"08:00:00",null,null,null,null,null,null,null,null,null,"08:00:00",null,null,null,null,null,null,null,null,null,"08:00:00",null,null,null,null,null,null,null,null,null,"08:00:00",null,null,null,null,null,null,null,null,null,"08:00:00",null,null,null,null,null,null,null,null,null,"08:00:00",null,null,null,null,null,null,null,null,null,"08:00:00",null,null,null,null,null,null,null,null,null,"08:00:00",null,null,null,null,null,null,null,null,null,"08:00:00",null,null,null,null,null,null,null,null,null,"08:00:00",null,null,null,null,null,null,null,null,null,"08:00:00",null,null,null,null,null,null,null,null,null,"08:00:00",null,null,null,null,null,null,null,null,null,"08:00:00",null,null,null,null,null,null,null,null,null,"08:00:00",null,null,null,null,null,null,null,null,null,"08:00:00",null,null,null,null,null,null,null,null,null,"08:00:00",null,null,null,null,null,null,null,null,null,"08:00:00",null,null,null,null,null,null,null,null,null,"08:00:00",null,null,null,null,null,null,null,null,null,"08:00:00",null,null,null,null,null,null,null,null,null,"08:00:00",null,null,null,null,null,null,null,null,null,"08:00:00",null,null,null,null,null,null,null,null,null,"08:00:00",null,null,null,null,null,null,null,null,null,"08:00:00",null,null,null,null,null,null,null,null,null,"08:00:00",null,null,null,null,null,null,null,null,null,"08:00:00",null,null,null,null,null,null,null,null,null,"08:00:00",null,null,null,null,null,null,null,null,null,"08:00:00",null,null,null,null,null,null,null,null,null,"08:00:00",null,null,null,null,null,null,null,null,null,"08:00:00",null,null,null,null,null,null,null,null,null,"08:00:00",null,null,null,null,null,null,null,null,null,"08:00:00",null,null,null,null,null,null,null,null,null,"08:00:00",null,null,null,null,null,null,null,null,null,"08:00:00",null,null,null,null,null,null,null,null,null,"08:00:00",null,null,null,null,null,null,null,null,null,"08:00:00",null,null,null,null,null,null,null,null,null,"08:00:00",null,null,null,null,null,null,null,null,null,"08:00:00",null,null,null,null,null,null,null,null,null,"08:00:00",null,null,null,null,null,null,null,null,null,"08:00:00",null,null,null,null,null,null,null,null,null,"08:00:00",null,null,null,null,null,null,null,null,null,"08:00:00",null,null,null,null,null,null,null,null,null,"08:00:00",null,null,null,null,null,null,null,null,null,"08:00:00",null,null,null,null,null,null,null,null,null,"08:00:00",null,null,null,null,null,null,null,null,null,"08:00:00",null,null,null,null,null,null,null,null,null,"08:00:00",null,null,null,null,null,null,null,null,null,"08:00:00",null,null,null,null,null,null,null,null,null,"08:00:00",null,null,null,null,null,null,null,null,null,"08:00:00",null,null,null,null,null,null,null,null,null,"08:00:00",null,null,null,null,null,null,null,null,null,"08:00:00",null,null,null,null,null,null,null,null,null,"08:00:00",null,null,null,null,null,null,null,null,null,"08:00:00",null,null,null,null,null,null,null,null,null,"08:00:00",null,null,null,null,null,null,null,null,null,"08:00:00",null,null,null,null,null,null,null,null,null,"08:00:00",null,null,null,null,null,null,null,null,null,"08:00:00",null,null,null,null,null,null,null,null,null,"08:00:00",null,null,null,null,null,null,null,null,null,"08:00:00",null,null,null,null,null,null,null,null,null,"08:00:00",null,null,null,null,null,null,null,null,null,"08:00:00",null,null,null,null,null,null,null,null,null,"08:00:00",null,null,null,null,null,null,null,null,null,"08:00:00",null,null,null,null,null,null,null,null,null,"08:00:00",null,null,null,null,null,null,null,null,null,"08:00:00",null,null,null,null,null,null,null,null,null,"08:00:00",null,null,null,null,null,null,null,null,null,"08:00:00",null,null,null,null,null,null,null,null,null,"08:00:00",null,null,null,null,null,null,null,null,null,"08:00:00",null,null,null,null,null,null,null,null,null,"08:00:00",null,null,null,null,null,null,null,null,null,"08:00:00",null,null,null,null,null,null,null,null,null,"08:00:00",null,null,null,null,null,null,null,null,null,"08:00:00",null,null,null,null,null,null,null,null,null,"08:00:00",null,null,null,null,null,null,null,null,null,"08:00:00",null,null,null,null,null,null,null,null,null,"08:00:00",null,null,null,null,null,null,null,null,null,"08:00:00",null,null,null,null,null,null,null,null,null,"08:00:00",null,null,null,null,null,null,null,null,null,"08:00:00",null,null,null,null,null,null,null,null,null,"08:00:00",null,null,null,null,null,null,null,null,null,"08:00:00",null,null,null,null,null,null,null,null,null,"08:00:00",null,null,null,null,null,null,null,null,null,"08:00:00",null,null,null,null,null,null,null,null,null,"08:00:00",null,null,null,null,null,null,null,null,null,"08:00:00",null,null,null,null,null,null,null,null,null,"08:00:00",null,null,null,null,null,null,null,null,null,"08:00:00",null,null,null,null,null,null,null,null,null,"08:00:00",null,null,null,null,null,null,null,null,null,"08:00:00",null,null,null,null,null,null,null,null,null,"08:00:00",null,null,null,null,null,null,null,null,null,"08:00:00",null,null,null,null,null,null,null,null,null,"08:00:00",null,null,null,null,null,null,null,null,null,"08:00:00",null,null,null,null,null,null,null,null,null,"08:00:00",null,null,null,null,null,null,null,null,null,"08:00:00",null,null,null,null,null,null,null,null,null,"08:00:00",null,null,null,null,null,null,null,null,null,"08:00:00",null,null,null,null,null,null,null,null,null,"08:00:00",null,null,null,null,null,null,null,null,null,"08:00:00",null,null,null,null,null,null,null,null,null,"08:00:00",null,null,null,null,null,null,null,null,null,"08:00:00",null,null,null,null,null,null,null,null,null,"08:00:00",null,null,null,null,null,null,null,null,null,"08:00:00",null,null,null,null,null,null,null,null,null,"08:00:00",null,null,null,null,null,null,null,null,null,"08:00:00",null,null,null,null,null,null,null,null,null,"08:00:00",null,null,null,null,null,null,null,null,null,"08:00:00",null,null,null,null,null,null,null,null,null,"08:00:00",null,null,null,null,null,null,null,null,null,"08:00:00",null,null,null,null,null,null,null,null,null,"08:00:00",null,null,null,null,null,null,null,null,null,"08:00:00",null,null,null,null,null,null,null,null,null,"08:00:00",null,null,null,null,null,null,null,null,null,"08:00:00",null,null,null,null,null,null,null,null,null,"08:00:00",null,null,null,null,null,null,null,null,null,"08:00:00",null,null,null,null,null,null,null,null,null,"08:00:00",null,null,null,null,null,null,null,null,null,"08:00:00",null,null,null,null,null,null,null,null,null,"08:00:00",null,null,null,null,null,null,null,null,null,"08:00:00",null,null,null,null,null,null,null,null,null,"08:00:00",null,null,null,null,null,null,null,null,null,"08:00:00",null,null,null,null,null,null,null,null,null,"08:00:00",null,null,null,null,null,null,null,null,null,"08:00:00",null,null,null,null,null,null,null,null,null,"08:00:00",null,null,null,null,null,null,null,null,null,"08:00:00",null,null,null,null,null,null,null,null,null,"08:00:00",null,null,null,null,null,null,null,null,null,"08:00:00",null,null,null,null,null,null,null,null,null,"08:00:00",null,null,null,null,null,null,null,null,null,"08:00:00",null,null,null,null,null,null,null,null,null,"08:00:00",null,null,null,null,null,null,null,null,null,"08:00:00",null,null,null,null,null,null,null,null,null,"08:00:00",null,null,null,null,null,null,null,null,null,"08:00:00",null,null,null,null,null,null,null,null,null,"08:00:00",null,null,null,null,null,null,null,null,null,"08:00:00",null,null,null,null,null,null,null,null,null,"08:00:00",null,null,null,null,null,null,null,null,null,"08:00:00",null,null,null,null,null,null,null,null,null,"08:00:00",null,null,null,null,null,null,null,null,null,"08:00:00",null,null,null,null,null,null,null,null,null,"08:00:00",null,null,null,null,null,null,null,null,null,"08:00:00",null,null,null,null,null,null,null,null,null,"08:00:00",null,null,null,null,null,null,null,null,null,"08:00:00",null,null,null,null,null,null,null,null,null,"08:00:00",null,null,null,null,null,null,null,null,null,"08:00:00",null,null,null,null,null,null,null,null,null,"08:00:00",null,null,null,null,null,null,null,null,null,"08:00:00",null,null,null,null,null,null,null,null,null,"08:00:00",null,null,null,null,null,null,null,null,null,"08:00:00",null,null,null,null,null,null,null,null,null,"08:00:00",null,null,null,null,null,null,null,null,null,"08:00:00",null,null,null,null,null,null,null,null,null,"08:00:00",null,null,null,null,null,null,null,null,null,"08:00:00",null,null,null,null,null,null,null,null,null,"08:00:00",null,null,null,null,null,null,null,null,null,"08:00:00",null,null,null,null,null,null,null,null,null,"08:00:00",null,null,null,null,null,null,null,null,null,"08:00:00",null,null,null,null,null,null,null,null,null,"08:00:00",null,null,null,null,null,null,null,null,null,"08:00:00",null,null,null,null,null,null,null,null,null,"08:00:00",null,null,null,null,null,null,null,null,null,"08:00:00",null,null,null,null,null,null,null,null,null,"08:00:00",null,null,null,null,null,null,null,null,null,"08:00:00",null,null,null,null,null,null,null,null,null,"08:00:00"]
[null,null,null,null,null,null,null,null,null,null,null,null,null,{"$f":"Osakoonti!D11+($R11+$AB11+$AL11+$AV11+$BF11+$BP11+$BZ11+$CJ11+$CT11+$DD11+$DN11+$DX11+$EH11+$ER11+$FB11+$FL11+$FV11+$GF11+$GP11+$GZ11+$HJ11+$HT11+$ID11+$IN11+$IX11+$JH11+$JR11+$KB11+$KL11+$KV11+$LF11+$LP11+$LZ11+$MJ11+$MT11+$ND11+$NN11+$NX11+$OH11+$OR11+$PB11+$PL11+$PV11+$QF11+$QP11+$QZ11+$RJ11+$RT11+$SD11+$SN11+$SX11+$TH11+$TR11+$UB11+$UL11+$UV11+$VF11+$VP11+$VZ11+$WJ11+$WT11+$XD11+$XN11+$XX11+$YH11+$YR11+$ZB11+$ZL11+$ZV11+$AAF11+$AAP11+$AAZ11+$ABJ11+$ABT11+$ACD11+$ACN11+$ACX11+$ADH11+$ADR11+$AEB11+$AEL11+$AEV11+$AFF11+$AFP11+$AFZ11+$AGJ11+$AGT11+$AHD11+$AHN11+$AHX11+$AIH11+$AIR11+$AJB11+$AJL11+$AJV11+$AKF11+$AKP11+$AKZ11+$ALJ11+$ALT11+$AMD11+$AMN11+$AMX11+$ANH11+$ANR11+$AOB11+$AOL11+$AOV11+$APF11+$APP11+$APZ11+$AQJ11+$AQT11+$ARD11+$ARN11+$ARX11+$ASH11+$ASR11+$ATB11+$ATL11+$ATV11+$AUF11+$AUP11+$AUZ11+$AVJ11+$AVT11+$AWD11+$AWN11+$AWX11+$AXH11+$AXR11+$AYB11+$AYL11+$AYV11+$AZF11+$AZP11+$AZZ11+$BAJ11+$BAT11+$BBD11+$BBN11+$BBX11+$BCH11+$BCR11+$BDB11+$BDL11+$BDV11+$BEF11+$BEP11+$BEZ11+$BFJ11+$BFT11+$BGD11+$BGN11+$BGX11+$BHH11+$BHR11+$BIB11+$BIL11+$BIV11+$BJF11+$BJP11+$BJZ11+$BKJ11+$BKT11+$BLD11+$BLN11+$BLX11+$BMH11+$BMR11+$BNB11+$BNL11+$BNV11+$BOF11+$BOP11+$BOZ11+$BPJ11+$BPT11+$BQD11+$BQN11+$BQX11+$BRH11+$BRR11+$BSB11+$BSL11+$BSV11+$BTF11+$BTP11+$BTZ11+$BUJ11+$BUT11+$BVD11+$BVN11+$BVX11+$BWH11+$BWR11+$BXB11+$BXL11+$BXV11+$BYF11+$BYP11+$BYZ11+$BZJ11+$BZT11+$CAD11+$CAN11+$CAX11+$CBH11+$CBR11+$CCB11+$CCL11+$CCV11+$CDF11+$CDP11+$CDZ11+$CEJ11+$CET11+$CFD11+$CFN11+$CFX11+$CGH11+$CGR11+$CHB11+$CHL11+$CHV11+$CIF11+$CIP11+$CIZ11+$CJJ11+$CJT11+$CKD11+$CKN11+$CKX11+$CLH11+$CLR11+$CMB11+$CML11+$CMV11+$CNF11+$CNP11+$CNZ11+$COJ11+$COT11+$CPD11+$CPN11+$CPX11+$CQH11+$CQR11+$CRB11+$CRL11+$CRV11+$CSF11+$CSP11+$CSZ11+$CTJ11+$CTT11+$CUD11+$CUN11+$CUX11+$CVH11+$CVR11+$CWB11+$CWL11+$CWV11+$CXF11+$CXP11+$CXZ11+$CYJ11+$CYT11+$CZD11+$CZN11+$CZX11+$DAH11+$DAR11+$DBB11+$DBL11+$DBV11+$DCF11+$DCP11+$DCZ11+$DDJ11+$DDT11+$DED11+$DEN11+$DEX11+$DFH11+$DFR11+$DGB11+$DGL11+$DGV11+$DHF11+$DHP11+$DHZ11+$DIJ11+$DIT11+$DJD11+$DJN11+$DJX11+$DKH11+$DKR11+$DLB11+$DLL11+$DLV11+$DMF11+$DMP11+$DMZ11+$DNJ11+$DNT11+$DOD11+$DON11+$DOX11+$DPH11+$DPR11+$DQB11+$DQL11+$DQV11+$DRF11+$DRP11+$DRZ11+$DSJ11+$DST11+$DTD11+$DTN11+$DTX11+$DUH11+$DUR11+$DVB11+$DVL11+$DVV11+$DWF11+$DWP11+$DWZ11+$DXJ11+$DXT11+$DYD11+$DYN11+$DYX11+$DZH11+$DZR11+$EAB11+$EAL11+$EAV11+$EBF11+$EBP11+$EBZ11+$ECJ11+$ECT11+$EDD11+$EDN11+$EDX11+$EEH11+$EER11+$EFB11+$EFL11+$EFV11+$EGF11+$EGP11+$EGZ11+$EHJ11+$EHT11+$EID11+$EIN11+$EIX11+$EJH11+$EJR11+$EKB11+$EKL11)*24","v":0},"h","p","Laskettu epämukavan työn pituus",{"$f":"IF(W4=\"v\",0,IF(X1=\"Lauantai\",V11,IF(X1=\"Sunnuntai\",V11,IF(W2=\"h\",V11,IF(V10=\"\",0,IF(R10=\"\",0,IF(T11<W11,T11,W11)))))))+X11","v":"00:00:00"},null,{"$f":"IF(V10=\"\",0,IF(T10=\"\",V11,V10-T10))","v":"00:00:00"},null,{"$f":"IF(V10=\"\",0,V10-R10)","v":"00:00:00"},{"$f":"IF(V11<W10,0,IF(V10=\"\",0,IF(R10=\"\",0,V11-W10)))","v":"00:00:00"},{"$f":"IF(R4=\"\",0,IF(S4=\"ep\",T4-R4,IF(S4=\"y\",IF(R4<R7,(R7-R4),0),0)+IF(U4=\"y\",IF(T4>T7,(T4-T7),0),0)))+IF(R5=\"\",0,IF(S5=\"ep\",T5-R5,IF(S5=\"y\",IF(R5<R7,(R7-R5),0),0)+IF(U5=\"y\",IF(T5>T7,(T5-T7),0),0)))+IF(R6=\"\",0,IF(S6=\"ep\",T6-R6,IF(S6=\"y\",IF(R6<R7,(R7-R6),0),0)+IF(U6=\"y\",IF(T6>T7,(T6-T7),0),0)))","v":"00:00:00"},null,null,null,{"$f":"IF(AG4=\"v\",0,IF(AH1=\"Lauantai\",AF11,IF(AH1=\"Sunnuntai\",AF11,IF(AG2=\"h\",AF11,IF(AF10=\"\",0,IF(AB10=\"\",0,IF(AD11<AG11,AD11,AG11)))))))+AH11","v":"00:00:00"},null,{"$f":"IF(AF10=\"\",0,IF(AD10=\"\",AF11,AF10-AD10))","v":"00:00:00"},null,{"$f":"IF(AF10=\"\",0,AF10-AB10)","v":"00:00:00"},{"$f":"IF(AF11<AG10,0,IF(AF10=\"\",0,IF(AB10=\"\",0,AF11-AG10)))","v":"00:00:00"},{"$f":"IF(AB4=\"\",0,IF(AC4=\"ep\",AD4-AB4,IF(AC4=\"y\",IF(AB4<AB7,(AB7-AB4),0),0)+IF(AE4=\"y\",IF(AD4>AD7,(AD4-AD7),0),0)))+IF(AB5=\"\",0,IF(AC5=\"ep\",AD5-AB5,IF(AC5=\"y\",IF(AB5<AB7,(AB7-AB5),0),0)+IF(AE5=\"y\",IF(AD5>AD7,(AD5-AD7),0),0)))+IF(AB6=\"\",0,IF(AC6=\"ep\",AD6-AB6,IF(AC6=\"y\",IF(AB6<AB7,(AB7-AB6),0),0)+IF(AE6=\"y\",IF(AD6>AD7,(AD6-AD7),0),0)))","v":"00:00:00"},null,null,null,{"$f":"IF(AQ4=\"v\",0,IF(AR1=\"Lauantai\",AP11,IF(AR1=\"Sunnuntai\",AP11,IF(AQ2=\"h\",AP11,IF(AP10=\"\",0,IF(AL10=\"\",0,IF(AN11<AQ11,AN11,AQ11)))))))+AR11","v":"00:00:00"},null,{"$f":"IF(AP10=\"\",0,IF(AN10=\"\",AP11,AP10-AN10))","v":"00:00:00"},null,{"$f":"IF(AP10=\"\",0,AP10-AL10)","v":"00:00:00"},{"$f":"IF(AP11<AQ10,0,IF(AP10=\"\",0,IF(AL10=\"\",0,AP11-AQ10)))","v":"00:00:00"},{"$f":"IF(AL4=\"\",0,IF(AM4=\"ep\",AN4-AL4,IF(AM4=\"y\",IF(AL4<AL7,(AL7-AL4),0),0)+IF(AO4=\"y\",IF(AN4>AN7,(AN4-AN7),0),0)))+IF(AL5=\"\",0,IF(AM5=\"ep\",AN5-AL5,IF(AM5=\"y\",IF(AL5<AL7,(AL7-AL5),0),0)+IF(AO5=\"y\",IF(AN5>AN7,(AN5-AN7),0),0)))+IF(AL6=\"\",0,IF(AM6=\"ep\",AN6-AL6,IF(AM6=\"y\",IF(AL6<AL7,(AL7-AL6),0),0)+IF(AO6=\"y\",IF(AN6>AN7,(AN6-AN7),0),0)))","v":"00:00:00"},null,null,null,{"$f":"IF(BA4=\"v\",0,IF(BB1=\"Lauantai\",AZ11,IF(BB1=\"Sunnuntai\",AZ11,IF(BA2=\"h\",AZ11,IF(AZ10=\"\",0,IF(AV10=\"\",0,IF(AX11<BA11,AX11,BA11)))))))+BB11","v":"00:00:00"},null,{"$f":"IF(AZ10=\"\",0,IF(AX10=\"\",AZ11,AZ10-AX10))","v":"00:00:00"},null,{"$f":"IF(AZ10=\"\",0,AZ10-AV10)","v":"00:00:00"},{"$f":"IF(AZ11<BA10,0,IF(AZ10=\"\",0,IF(AV10=\"\",0,AZ11-BA10)))","v":"00:00:00"},{"$f":"IF(AV4=\"\",0,IF(AW4=\"ep\",AX4-AV4,IF(AW4=\"y\",IF(AV4<AV7,(AV7-AV4),0),0)+IF(AY4=\"y\",IF(AX4>AX7,(AX4-AX7),0),0)))+IF(AV5=\"\",0,IF(AW5=\"ep\",AX5-AV5,IF(AW5=\"y\",IF(AV5<AV7,(AV7-AV5),0),0)+IF(AY5=\"y\",IF(AX5>AX7,(AX5-AX7),0),0)))+IF(AV6=\"\",0,IF(AW6=\"ep\",AX6-AV6,IF(AW6=\"y\",IF(AV6<AV7,(AV7-AV6),0),0)+IF(AY6=\"y\",IF(AX6>AX7,(AX6-AX7),0),0)))","v":"00:00:00"},null,null,null,{"$f":"IF(BK4=\"v\",0,IF(BL1=\"Lauantai\",BJ11,IF(BL1=\"Sunnuntai\",BJ11,IF(BK2=\"h\",BJ11,IF(BJ10=\"\",0,IF(BF10=\"\",0,IF(BH11<BK11,BH11,BK11)))))))+BL11","v":"00:00:00"},null,{"$f":"IF(BJ10=\"\",0,IF(BH10=\"\",BJ11,BJ10-BH10))","v":"00:00:00"},null,{"$f":"IF(BJ10=\"\",0,BJ10-BF10)","v":"00:00:00"},{"$f":"IF(BJ11<BK10,0,IF(BJ10=\"\",0,IF(BF10=\"\",0,BJ11-BK10)))","v":"00:00:00"},{"$f":"IF(BF4=\"\",0,IF(BG4=\"ep\",BH4-BF4,IF(BG4=\"y\",IF(BF4<BF7,(BF7-BF4),0),0)+IF(BI4=\"y\",IF(BH4>BH7,(BH4-BH7),0),0)))+IF(BF5=\"\",0,IF(BG5=\"ep\",BH5-BF5,IF(BG5=\"y\",IF(BF5<BF7,(BF7-BF5),0),0)+IF(BI5=\"y\",IF(BH5>BH7,(BH5-BH7),0),0)))+IF(BF6=\"\",0,IF(BG6=\"ep\",BH6-BF6,IF(BG6=\"y\",IF(BF6<BF7,(BF7-BF6),0),0)+IF(BI6=\"y\",IF(BH6>BH7,(BH6-BH7),0),0)))","v":"00:00:00"},null,null,null,{"$f":"IF(BU4=\"v\",0,IF(BV1=\"Lauantai\",BT11,IF(BV1=\"Sunnuntai\",BT11,IF(BU2=\"h\",BT11,IF(BT10=\"\",0,IF(BP10=\"\",0,IF(BR11<BU11,BR11,BU11)))))))+BV11","v":"00:00:00"},null,{"$f":"IF(BT10=\"\",0,IF(BR10=\"\",BT11,BT10-BR10))","v":"00:00:00"},null,{"$f":"IF(BT10=\"\",0,BT10-BP10)","v":"00:00:00"},{"$f":"IF(BT11<BU10,0,IF(BT10=\"\",0,IF(BP10=\"\",0,BT11-BU10)))","v":"00:00:00"},{"$f":"IF(BP4=\"\",0,IF(BQ4=\"ep\",BR4-BP4,IF(BQ4=\"y\",IF(BP4<BP7,(BP7-BP4),0),0)+IF(BS4=\"y\",IF(BR4>BR7,(BR4-BR7),0),0)))+IF(BP5=\"\",0,IF(BQ5=\"ep\",BR5-BP5,IF(BQ5=\"y\",IF(BP5<BP7,(BP7-BP5),0),0)+IF(BS5=\"y\",IF(BR5>BR7,(BR5-BR7),0),0)))+IF(BP6=\"\",0,IF(BQ6=\"ep\",BR6-BP6,IF(BQ6=\"y\",IF(BP6<BP7,(BP7-BP6),0),0)+IF(BS6=\"y\",IF(BR6>BR7,(BR6-BR7),0),0)))","v":"00:00:00"},null,null,null,{"$f":"IF(CE4=\"v\",0,IF(CF1=\"Lauantai\",CD11,IF(CF1=\"Sunnuntai\",CD11,IF(CE2=\"h\",CD11,IF(CD10=\"\",0,IF(BZ10=\"\",0,IF(CB11<CE11,CB11,CE11)))))))+CF11","v":"00:00:00"},null,{"$f":"IF(CD10=\"\",0,IF(CB10=\"\",CD11,CD10-CB10))","v":"00:00:00"},null,{"$f":"IF(CD10=\"\",0,CD10-BZ10)","v":"00:00:00"},{"$f":"IF(CD11<CE10,0,IF(CD10=\"\",0,IF(BZ10=\"\",0,CD11-CE10)))","v":"00:00:00"},{"$f":"IF(BZ4=\"\",0,IF(CA4=\"ep\",CB4-BZ4,IF(CA4=\"y\",IF(BZ4<BZ7,(BZ7-BZ4),0),0)+IF(CC4=\"y\",IF(CB4>CB7,(CB4-CB7),0),0)))+IF(BZ5=\"\",0,IF(CA5=\"ep\",CB5-BZ5,IF(CA5=\"y\",IF(BZ5<BZ7,(BZ7-BZ5),0),0)+IF(CC5=\"y\",IF(CB5>CB7,(CB5-CB7),0),0)))+IF(BZ6=\"\",0,IF(CA6=\"ep\",CB6-BZ6,IF(CA6=\"y\",IF(BZ6<BZ7,(BZ7-BZ6),0),0)+IF(CC6=\"y\",IF(CB6>CB7,(CB6-CB7),0),0)))","v":"00:00:00"},null,null,null,{"$f":"IF(CO4=\"v\",0,IF(CP1=\"Lauantai\",CN11,IF(CP1=\"Sunnuntai\",CN11,IF(CO2=\"h\",CN11,IF(CN10=\"\",0,IF(CJ10=\"\",0,IF(CL11<CO11,CL11,CO11)))))))+CP11","v":"00:00:00"},null,{"$f":"IF(CN10=\"\",0,IF(CL10=\"\",CN11,CN10-CL10))","v":"00:00:00"},null,{"$f":"IF(CN10=\"\",0,CN10-CJ10)","v":"00:00:00"},{"$f":"IF(CN11<CO10,0,IF(CN10=\"\",0,IF(CJ10=\"\",0,CN11-CO10)))","v":"00:00:00"},{"$f":"IF(CJ4=\"\",0,IF(CK4=\"ep\",CL4-CJ4,IF(CK4=\"y\",IF(CJ4<CJ7,(CJ7-CJ4),0),0)+IF(CM4=\"y\",IF(CL4>CL7,(CL4-CL7),0),0)))+IF(CJ5=\"\",0,IF(CK5=\"ep\",CL5-CJ5,IF(CK5=\"y\",IF(CJ5<CJ7,(CJ7-CJ5),0),0)+IF(CM5=\"y\",IF(CL5>CL7,(CL5-CL7),0),0)))+IF(CJ6=\"\",0,IF(CK6=\"ep\",CL6-CJ6,IF(CK6=\"y\",IF(CJ6<CJ7,(CJ7-CJ6),0),0)+IF(CM6=\"y\",IF(CL6>CL7,(CL6-CL7),0),0)))","v":"00:00:00"},null,null,null,{"$f":"IF(CY4=\"v\",0,IF(CZ1=\"Lauantai\",CX11,IF(CZ1=\"Sunnuntai\",CX11,IF(CY2=\"h\",CX11,IF(CX10=\"\",0,IF(CT10=\"\",0,IF(CV11<CY11,CV11,CY11)))))))+CZ11","v":"00:00:00"},null,{"$f":"IF(CX10=\"\",0,IF(CV10=\"\",CX11,CX10-CV10))","v":"00:00:00"},null,{"$f":"IF(CX10=\"\",0,CX10-CT10)","v":"00:00:00"},{"$f":"IF(CX11<CY10,0,IF(CX10=\"\",0,IF(CT10=\"\",0,CX11-CY10)))","v":"00:00:00"},{"$f":"IF(CT4=\"\",0,IF(CU4=\"ep\",CV4-CT4,IF(CU4=\"y\",IF(CT4<CT7,(CT7-CT4),0),0)+IF(CW4=\"y\",IF(CV4>CV7,(CV4-CV7),0),0)))+IF(CT5=\"\",0,IF(CU5=\"ep\",CV5-CT5,IF(CU5=\"y\",IF(CT5<CT7,(CT7-CT5),0),0)+IF(CW5=\"y\",IF(CV5>CV7,(CV5-CV7),0),0)))+IF(CT6=\"\",0,IF(CU6=\"ep\",CV6-CT6,IF(CU6=\"y\",IF(CT6<CT7,(CT7-CT6),0),0)+IF(CW6=\"y\",IF(CV6>CV7,(CV6-CV7),0),0)))","v":"00:00:00"},null,null,null,{"$f":"IF(DI4=\"v\",0,IF(DJ1=\"Lauantai\",DH11,IF(DJ1=\"Sunnuntai\",DH11,IF(DI2=\"h\",DH11,IF(DH10=\"\",0,IF(DD10=\"\",0,IF(DF11<DI11,DF11,DI11)))))))+DJ11","v":"00:00:00"},null,{"$f":"IF(DH10=\"\",0,IF(DF10=\"\",DH11,DH10-DF10))","v":"00:00:00"},null,{"$f":"IF(DH10=\"\",0,DH10-DD10)","v":"00:00:00"},{"$f":"IF(DH11<DI10,0,IF(DH10=\"\",0,IF(DD10=\"\",0,DH11-DI10)))","v":"00:00:00"},{"$f":"IF(DD4=\"\",0,IF(DE4=\"ep\",DF4-DD4,IF(DE4=\"y\",IF(DD4<DD7,(DD7-DD4),0),0)+IF(DG4=\"y\",IF(DF4>DF7,(DF4-DF7),0),0)))+IF(DD5=\"\",0,IF(DE5=\"ep\",DF5-DD5,IF(DE5=\"y\",IF(DD5<DD7,(DD7-DD5),0),0)+IF(DG5=\"y\",IF(DF5>DF7,(DF5-DF7),0),0)))+IF(DD6=\"\",0,IF(DE6=\"ep\",DF6-DD6,IF(DE6=\"y\",IF(DD6<DD7,(DD7-DD6),0),0)+IF(DG6=\"y\",IF(DF6>DF7,(DF6-DF7),0),0)))","v":"00:00:00"},null,null,null,{"$f":"IF(DS4=\"v\",0,IF(DT1=\"Lauantai\",DR11,IF(DT1=\"Sunnuntai\",DR11,IF(DS2=\"h\",DR11,IF(DR10=\"\",0,IF(DN10=\"\",0,IF(DP11<DS11,DP11,DS11)))))))+DT11","v":"00:00:00"},null,{"$f":"IF(DR10=\"\",0,IF(DP10=\"\",DR11,DR10-DP10))","v":"00:00:00"},null,{"$f":"IF(DR10=\"\",0,DR10-DN10)","v":"00:00:00"},{"$f":"IF(DR11<DS10,0,IF(DR10=\"\",0,IF(DN10=\"\",0,DR11-DS10)))","v":"00:00:00"},{"$f":"IF(DN4=\"\",0,IF(DO4=\"ep\",DP4-DN4,IF(DO4=\"y\",IF(DN4<DN7,(DN7-DN4),0),0)+IF(DQ4=\"y\",IF(DP4>DP7,(DP4-DP7),0),0)))+IF(DN5=\"\",0,IF(DO5=\"ep\",DP5-DN5,IF(DO5=\"y\",IF(DN5<DN7,(DN7-DN5),0),0)+IF(DQ5=\"y\",IF(DP5>DP7,(DP5-DP7),0),0)))+IF(DN6=\"\",0,IF(DO6=\"ep\",DP6-DN6,IF(DO6=\"y\",IF(DN6<DN7,(DN7-DN6),0),0)+IF(DQ6=\"y\",IF(DP6>DP7,(DP6-DP7),0),0)))","v":"00:00:00"},null,null,null,{"$f":"IF(EC4=\"v\",0,IF(ED1=\"Lauantai\",EB11,IF(ED1=\"Sunnuntai\",EB11,IF(EC2=\"h\",EB11,IF(EB10=\"\",0,IF(DX10=\"\",0,IF(DZ11<EC11,DZ11,EC11)))))))+ED11","v":"00:00:00"},null,{"$f":"IF(EB10=\"\",0,IF(DZ10=\"\",EB11,EB10-DZ10))","v":"00:00:00"},null,{"$f":"IF(EB10=\"\",0,EB10-DX10)","v":"00:00:00"},{"$f":"IF(EB11<EC10,0,IF(EB10=\"\",0,IF(DX10=\"\",0,EB11-EC10)))","v":"00:00:00"},{"$f":"IF(DX4=\"\",0,IF(DY4=\"ep\",DZ4-DX4,IF(DY4=\"y\",IF(DX4<DX7,(DX7-DX4),0),0)+IF(EA4=\"y\",IF(DZ4>DZ7,(DZ4-DZ7),0),0)))+IF(DX5=\"\",0,IF(DY5=\"ep\",DZ5-DX5,IF(DY5=\"y\",IF(DX5<DX7,(DX7-DX5),0),0)+IF(EA5=\"y\",IF(DZ5>DZ7,(DZ5-DZ7),0),0)))+IF(DX6=\"\",0,IF(DY6=\"ep\",DZ6-DX6,IF(DY6=\"y\",IF(DX6<DX7,(DX7-DX6),0),0)+IF(EA6=\"y\",IF(DZ6>DZ7,(DZ6-DZ7),0),0)))","v":"00:00:00"},null,null,null,{"$f":"IF(EM4=\"v\",0,IF(EN1=\"Lauantai\",EL11,IF(EN1=\"Sunnuntai\",EL11,IF(EM2=\"h\",EL11,IF(EL10=\"\",0,IF(EH10=\"\",0,IF(EJ11<EM11,EJ11,EM11)))))))+EN11","v":"00:00:00"},null,{"$f":"IF(EL10=\"\",0,IF(EJ10=\"\",EL11,EL10-EJ10))","v":"00:00:00"},null,{"$f":"IF(EL10=\"\",0,EL10-EH10)","v":"00:00:00"},{"$f":"IF(EL11<EM10,0,IF(EL10=\"\",0,IF(EH10=\"\",0,EL11-EM10)))","v":"00:00:00"},{"$f":"IF(EH4=\"\",0,IF(EI4=\"ep\",EJ4-EH4,IF(EI4=\"y\",IF(EH4<EH7,(EH7-EH4),0),0)+IF(EK4=\"y\",IF(EJ4>EJ7,(EJ4-EJ7),0),0)))+IF(EH5=\"\",0,IF(EI5=\"ep\",EJ5-EH5,IF(EI5=\"y\",IF(EH5<EH7,(EH7-EH5),0),0)+IF(EK5=\"y\",IF(EJ5>EJ7,(EJ5-EJ7),0),0)))+IF(EH6=\"\",0,IF(EI6=\"ep\",EJ6-EH6,IF(EI6=\"y\",IF(EH6<EH7,(EH7-EH6),0),0)+IF(EK6=\"y\",IF(EJ6>EJ7,(EJ6-EJ7),0),0)))","v":"00:00:00"},null,null,null,{"$f":"IF(EW4=\"v\",0,IF(EX1=\"Lauantai\",EV11,IF(EX1=\"Sunnuntai\",EV11,IF(EW2=\"h\",EV11,IF(EV10=\"\",0,IF(ER10=\"\",0,IF(ET11<EW11,ET11,EW11)))))))+EX11","v":"00:00:00"},null,{"$f":"IF(EV10=\"\",0,IF(ET10=\"\",EV11,EV10-ET10))","v":"00:00:00"},null,{"$f":"IF(EV10=\"\",0,EV10-ER10)","v":"00:00:00"},{"$f":"IF(EV11<EW10,0,IF(EV10=\"\",0,IF(ER10=\"\",0,EV11-EW10)))","v":"00:00:00"},{"$f":"IF(ER4=\"\",0,IF(ES4=\"ep\",ET4-ER4,IF(ES4=\"y\",IF(ER4<ER7,(ER7-ER4),0),0)+IF(EU4=\"y\",IF(ET4>ET7,(ET4-ET7),0),0)))+IF(ER5=\"\",0,IF(ES5=\"ep\",ET5-ER5,IF(ES5=\"y\",IF(ER5<ER7,(ER7-ER5),0),0)+IF(EU5=\"y\",IF(ET5>ET7,(ET5-ET7),0),0)))+IF(ER6=\"\",0,IF(ES6=\"ep\",ET6-ER6,IF(ES6=\"y\",IF(ER6<ER7,(ER7-ER6),0),0)+IF(EU6=\"y\",IF(ET6>ET7,(ET6-ET7),0),0)))","v":"00:00:00"},null,null,null,{"$f":"IF(FG4=\"v\",0,IF(FH1=\"Lauantai\",FF11,IF(FH1=\"Sunnuntai\",FF11,IF(FG2=\"h\",FF11,IF(FF10=\"\",0,IF(FB10=\"\",0,IF(FD11<FG11,FD11,FG11)))))))+FH11","v":"00:00:00"},null,{"$f":"IF(FF10=\"\",0,IF(FD10=\"\",FF11,FF10-FD10))","v":"00:00:00"},null,{"$f":"IF(FF10=\"\",0,FF10-FB10)","v":"00:00:00"},{"$f":"IF(FF11<FG10,0,IF(FF10=\"\",0,IF(FB10=\"\",0,FF11-FG10)))","v":"00:00:00"},{"$f":"IF(FB4=\"\",0,IF(FC4=\"ep\",FD4-FB4,IF(FC4=\"y\",IF(FB4<FB7,(FB7-FB4),0),0)+IF(FE4=\"y\",IF(FD4>FD7,(FD4-FD7),0),0)))+IF(FB5=\"\",0,IF(FC5=\"ep\",FD5-FB5,IF(FC5=\"y\",IF(FB5<FB7,(FB7-FB5),0),0)+IF(FE5=\"y\",IF(FD5>FD7,(FD5-FD7),0),0)))+IF(FB6=\"\",0,IF(FC6=\"ep\",FD6-FB6,IF(FC6=\"y\",IF(FB6<FB7,(FB7-FB6),0),0)+IF(FE6=\"y\",IF(FD6>FD7,(FD6-FD7),0),0)))","v":"00:00:00"},null,null,null,{"$f":"IF(FQ4=\"v\",0,IF(FR1=\"Lauantai\",FP11,IF(FR1=\"Sunnuntai\",FP11,IF(FQ2=\"h\",FP11,IF(FP10=\"\",0,IF(FL10=\"\",0,IF(FN11<FQ11,FN11,FQ11)))))))+FR11","v":"00:00:00"},null,{"$f":"IF(FP10=\"\",0,IF(FN10=\"\",FP11,FP10-FN10))","v":"00:00:00"},null,{"$f":"IF(FP10=\"\",0,FP10-FL10)","v":"00:00:00"},{"$f":"IF(FP11<FQ10,0,IF(FP10=\"\",0,IF(FL10=\"\",0,FP11-FQ10)))","v":"00:00:00"},{"$f":"IF(FL4=\"\",0,IF(FM4=\"ep\",FN4-FL4,IF(FM4=\"y\",IF(FL4<FL7,(FL7-FL4),0),0)+IF(FO4=\"y\",IF(FN4>FN7,(FN4-FN7),0),0)))+IF(FL5=\"\",0,IF(FM5=\"ep\",FN5-FL5,IF(FM5=\"y\",IF(FL5<FL7,(FL7-FL5),0),0)+IF(FO5=\"y\",IF(FN5>FN7,(FN5-FN7),0),0)))+IF(FL6=\"\",0,IF(FM6=\"ep\",FN6-FL6,IF(FM6=\"y\",IF(FL6<FL7,(FL7-FL6),0),0)+IF(FO6=\"y\",IF(FN6>FN7,(FN6-FN7),0),0)))","v":"00:00:00"},null,null,null,{"$f":"IF(GA4=\"v\",0,IF(GB1=\"Lauantai\",FZ11,IF(GB1=\"Sunnuntai\",FZ11,IF(GA2=\"h\",FZ11,IF(FZ10=\"\",0,IF(FV10=\"\",0,IF(FX11<GA11,FX11,GA11)))))))+GB11","v":"00:00:00"},null,{"$f":"IF(FZ10=\"\",0,IF(FX10=\"\",FZ11,FZ10-FX10))","v":"00:00:00"},null,{"$f":"IF(FZ10=\"\",0,FZ10-FV10)","v":"00:00:00"},{"$f":"IF(FZ11<GA10,0,IF(FZ10=\"\",0,IF(FV10=\"\",0,FZ11-GA10)))","v":"00:00:00"},{"$f":"IF(FV4=\"\",0,IF(FW4=\"ep\",FX4-FV4,IF(FW4=\"y\",IF(FV4<FV7,(FV7-FV4),0),0)+IF(FY4=\"y\",IF(FX4>FX7,(FX4-FX7),0),0)))+IF(FV5=\"\",0,IF(FW5=\"ep\",FX5-FV5,IF(FW5=\"y\",IF(FV5<FV7,(FV7-FV5),0),0)+IF(FY5=\"y\",IF(FX5>FX7,(FX5-FX7),0),0)))+IF(FV6=\"\",0,IF(FW6=\"ep\",FX6-FV6,IF(FW6=\"y\",IF(FV6<FV7,(FV7-FV6),0),0)+IF(FY6=\"y\",IF(FX6>FX7,(FX6-FX7),0),0)))","v":"00:00:00"},null,null,null,{"$f":"IF(GK4=\"v\",0,IF(GL1=\"Lauantai\",GJ11,IF(GL1=\"Sunnuntai\",GJ11,IF(GK2=\"h\",GJ11,IF(GJ10=\"\",0,IF(GF10=\"\",0,IF(GH11<GK11,GH11,GK11)))))))+GL11","v":"00:00:00"},null,{"$f":"IF(GJ10=\"\",0,IF(GH10=\"\",GJ11,GJ10-GH10))","v":"00:00:00"},null,{"$f":"IF(GJ10=\"\",0,GJ10-GF10)","v":"00:00:00"},{"$f":"IF(GJ11<GK10,0,IF(GJ10=\"\",0,IF(GF10=\"\",0,GJ11-GK10)))","v":"00:00:00"},{"$f":"IF(GF4=\"\",0,IF(GG4=\"ep\",GH4-GF4,IF(GG4=\"y\",IF(GF4<GF7,(GF7-GF4),0),0)+IF(GI4=\"y\",IF(GH4>GH7,(GH4-GH7),0),0)))+IF(GF5=\"\",0,IF(GG5=\"ep\",GH5-GF5,IF(GG5=\"y\",IF(GF5<GF7,(GF7-GF5),0),0)+IF(GI5=\"y\",IF(GH5>GH7,(GH5-GH7),0),0)))+IF(GF6=\"\",0,IF(GG6=\"ep\",GH6-GF6,IF(GG6=\"y\",IF(GF6<GF7,(GF7-GF6),0),0)+IF(GI6=\"y\",IF(GH6>GH7,(GH6-GH7),0),0)))","v":"00:00:00"},null,null,null,{"$f":"IF(GU4=\"v\",0,IF(GV1=\"Lauantai\",GT11,IF(GV1=\"Sunnuntai\",GT11,IF(GU2=\"h\",GT11,IF(GT10=\"\",0,IF(GP10=\"\",0,IF(GR11<GU11,GR11,GU11)))))))+GV11","v":"00:00:00"},null,{"$f":"IF(GT10=\"\",0,IF(GR10=\"\",GT11,GT10-GR10))","v":"00:00:00"},null,{"$f":"IF(GT10=\"\",0,GT10-GP10)","v":"00:00:00"},{"$f":"IF(GT11<GU10,0,IF(GT10=\"\",0,IF(GP10=\"\",0,GT11-GU10)))","v":"00:00:00"},{"$f":"IF(GP4=\"\",0,IF(GQ4=\"ep\",GR4-GP4,IF(GQ4=\"y\",IF(GP4<GP7,(GP7-GP4),0),0)+IF(GS4=\"y\",IF(GR4>GR7,(GR4-GR7),0),0)))+IF(GP5=\"\",0,IF(GQ5=\"ep\",GR5-GP5,IF(GQ5=\"y\",IF(GP5<GP7,(GP7-GP5),0),0)+IF(GS5=\"y\",IF(GR5>GR7,(GR5-GR7),0),0)))+IF(GP6=\"\",0,IF(GQ6=\"ep\",GR6-GP6,IF(GQ6=\"y\",IF(GP6<GP7,(GP7-GP6),0),0)+IF(GS6=\"y\",IF(GR6>GR7,(GR6-GR7),0),0)))","v":"00:00:00"},null,null,null,{"$f":"IF(HE4=\"v\",0,IF(HF1=\"Lauantai\",HD11,IF(HF1=\"Sunnuntai\",HD11,IF(HE2=\"h\",HD11,IF(HD10=\"\",0,IF(GZ10=\"\",0,IF(HB11<HE11,HB11,HE11)))))))+HF11","v":"00:00:00"},null,{"$f":"IF(HD10=\"\",0,IF(HB10=\"\",HD11,HD10-HB10))","v":"00:00:00"},null,{"$f":"IF(HD10=\"\",0,HD10-GZ10)","v":"00:00:00"},{"$f":"IF(HD11<HE10,0,IF(HD10=\"\",0,IF(GZ10=\"\",0,HD11-HE10)))","v":"00:00:00"},{"$f":"IF(GZ4=\"\",0,IF(HA4=\"ep\",HB4-GZ4,IF(HA4=\"y\",IF(GZ4<GZ7,(GZ7-GZ4),0),0)+IF(HC4=\"y\",IF(HB4>HB7,(HB4-HB7),0),0)))+IF(GZ5=\"\",0,IF(HA5=\"ep\",HB5-GZ5,IF(HA5=\"y\",IF(GZ5<GZ7,(GZ7-GZ5),0),0)+IF(HC5=\"y\",IF(HB5>HB7,(HB5-HB7),0),0)))+IF(GZ6=\"\",0,IF(HA6=\"ep\",HB6-GZ6,IF(HA6=\"y\",IF(GZ6<GZ7,(GZ7-GZ6),0),0)+IF(HC6=\"y\",IF(HB6>HB7,(HB6-HB7),0),0)))","v":"00:00:00"},null,null,null,{"$f":"IF(HO4=\"v\",0,IF(HP1=\"Lauantai\",HN11,IF(HP1=\"Sunnuntai\",HN11,IF(HO2=\"h\",HN11,IF(HN10=\"\",0,IF(HJ10=\"\",0,IF(HL11<HO11,HL11,HO11)))))))+HP11","v":"00:00:00"},null,{"$f":"IF(HN10=\"\",0,IF(HL10=\"\",HN11,HN10-HL10))","v":"00:00:00"},null,{"$f":"IF(HN10=\"\",0,HN10-HJ10)","v":"00:00:00"},{"$f":"IF(HN11<HO10,0,IF(HN10=\"\",0,IF(HJ10=\"\",0,HN11-HO10)))","v":"00:00:00"},{"$f":"IF(HJ4=\"\",0,IF(HK4=\"ep\",HL4-HJ4,IF(HK4=\"y\",IF(HJ4<HJ7,(HJ7-HJ4),0),0)+IF(HM4=\"y\",IF(HL4>HL7,(HL4-HL7),0),0)))+IF(HJ5=\"\",0,IF(HK5=\"ep\",HL5-HJ5,IF(HK5=\"y\",IF(HJ5<HJ7,(HJ7-HJ5),0),0)+IF(HM5=\"y\",IF(HL5>HL7,(HL5-HL7),0),0)))+IF(HJ6=\"\",0,IF(HK6=\"ep\",HL6-HJ6,IF(HK6=\"y\",IF(HJ6<HJ7,(HJ7-HJ6),0),0)+IF(HM6=\"y\",IF(HL6>HL7,(HL6-HL7),0),0)))","v":"00:00:00"},null,null,null,{"$f":"IF(HY4=\"v\",0,IF(HZ1=\"Lauantai\",HX11,IF(HZ1=\"Sunnuntai\",HX11,IF(HY2=\"h\",HX11,IF(HX10=\"\",0,IF(HT10=\"\",0,IF(HV11<HY11,HV11,HY11)))))))+HZ11","v":"00:00:00"},null,{"$f":"IF(HX10=\"\",0,IF(HV10=\"\",HX11,HX10-HV10))","v":"00:00:00"},null,{"$f":"IF(HX10=\"\",0,HX10-HT10)","v":"00:00:00"},{"$f":"IF(HX11<HY10,0,IF(HX10=\"\",0,IF(HT10=\"\",0,HX11-HY10)))","v":"00:00:00"},{"$f":"IF(HT4=\"\",0,IF(HU4=\"ep\",HV4-HT4,IF(HU4=\"y\",IF(HT4<HT7,(HT7-HT4),0),0)+IF(HW4=\"y\",IF(HV4>HV7,(HV4-HV7),0),0)))+IF(HT5=\"\",0,IF(HU5=\"ep\",HV5-HT5,IF(HU5=\"y\",IF(HT5<HT7,(HT7-HT5),0),0)+IF(HW5=\"y\",IF(HV5>HV7,(HV5-HV7),0),0)))+IF(HT6=\"\",0,IF(HU6=\"ep\",HV6-HT6,IF(HU6=\"y\",IF(HT6<HT7,(HT7-HT6),0),0)+IF(HW6=\"y\",IF(HV6>HV7,(HV6-HV7),0),0)))","v":"00:00:00"},null,null,null,{"$f":"IF(II4=\"v\",0,IF(IJ1=\"Lauantai\",IH11,IF(IJ1=\"Sunnuntai\",IH11,IF(II2=\"h\",IH11,IF(IH10=\"\",0,IF(ID10=\"\",0,IF(IF11<II11,IF11,II11)))))))+IJ11","v":"00:00:00"},null,{"$f":"IF(IH10=\"\",0,IF(IF10=\"\",IH11,IH10-IF10))","v":"00:00:00"},null,{"$f":"IF(IH10=\"\",0,IH10-ID10)","v":"00:00:00"},{"$f":"IF(IH11<II10,0,IF(IH10=\"\",0,IF(ID10=\"\",0,IH11-II10)))","v":"00:00:00"},{"$f":"IF(ID4=\"\",0,IF(IE4=\"ep\",IF4-ID4,IF(IE4=\"y\",IF(ID4<ID7,(ID7-ID4),0),0)+IF(IG4=\"y\",IF(IF4>IF7,(IF4-IF7),0),0)))+IF(ID5=\"\",0,IF(IE5=\"ep\",IF5-ID5,IF(IE5=\"y\",IF(ID5<ID7,(ID7-ID5),0),0)+IF(IG5=\"y\",IF(IF5>IF7,(IF5-IF7),0),0)))+IF(ID6=\"\",0,IF(IE6=\"ep\",IF6-ID6,IF(IE6=\"y\",IF(ID6<ID7,(ID7-ID6),0),0)+IF(IG6=\"y\",IF(IF6>IF7,(IF6-IF7),0),0)))","v":"00:00:00"},null,null,null,{"$f":"IF(IS4=\"v\",0,IF(IT1=\"Lauantai\",IR11,IF(IT1=\"Sunnuntai\",IR11,IF(IS2=\"h\",IR11,IF(IR10=\"\",0,IF(IN10=\"\",0,IF(IP11<IS11,IP11,IS11)))))))+IT11","v":"00:00:00"},null,{"$f":"IF(IR10=\"\",0,IF(IP10=\"\",IR11,IR10-IP10))","v":"00:00:00"},null,{"$f":"IF(IR10=\"\",0,IR10-IN10)","v":"00:00:00"},{"$f":"IF(IR11<IS10,0,IF(IR10=\"\",0,IF(IN10=\"\",0,IR11-IS10)))","v":"00:00:00"},{"$f":"IF(IN4=\"\",0,IF(IO4=\"ep\",IP4-IN4,IF(IO4=\"y\",IF(IN4<IN7,(IN7-IN4),0),0)+IF(IQ4=\"y\",IF(IP4>IP7,(IP4-IP7),0),0)))+IF(IN5=\"\",0,IF(IO5=\"ep\",IP5-IN5,IF(IO5=\"y\",IF(IN5<IN7,(IN7-IN5),0),0)+IF(IQ5=\"y\",IF(IP5>IP7,(IP5-IP7),0),0)))+IF(IN6=\"\",0,IF(IO6=\"ep\",IP6-IN6,IF(IO6=\"y\",IF(IN6<IN7,(IN7-IN6),0),0)+IF(IQ6=\"y\",IF(IP6>IP7,(IP6-IP7),0),0)))","v":"00:00:00"},null,null,null,{"$f":"IF(JC4=\"v\",0,IF(JD1=\"Lauantai\",JB11,IF(JD1=\"Sunnuntai\",JB11,IF(JC2=\"h\",JB11,IF(JB10=\"\",0,IF(IX10=\"\",0,IF(IZ11<JC11,IZ11,JC11)))))))+JD11","v":"00:00:00"},null,{"$f":"IF(JB10=\"\",0,IF(IZ10=\"\",JB11,JB10-IZ10))","v":"00:00:00"},null,{"$f":"IF(JB10=\"\",0,JB10-IX10)","v":"00:00:00"},{"$f":"IF(JB11<JC10,0,IF(JB10=\"\",0,IF(IX10=\"\",0,JB11-JC10)))","v":"00:00:00"},{"$f":"IF(IX4=\"\",0,IF(IY4=\"ep\",IZ4-IX4,IF(IY4=\"y\",IF(IX4<IX7,(IX7-IX4),0),0)+IF(JA4=\"y\",IF(IZ4>IZ7,(IZ4-IZ7),0),0)))+IF(IX5=\"\",0,IF(IY5=\"ep\",IZ5-IX5,IF(IY5=\"y\",IF(IX5<IX7,(IX7-IX5),0),0)+IF(JA5=\"y\",IF(IZ5>IZ7,(IZ5-IZ7),0),0)))+IF(IX6=\"\",0,IF(IY6=\"ep\",IZ6-IX6,IF(IY6=\"y\",IF(IX6<IX7,(IX7-IX6),0),0)+IF(JA6=\"y\",IF(IZ6>IZ7,(IZ6-IZ7),0),0)))","v":"00:00:00"},null,null,null,{"$f":"IF(JM4=\"v\",0,IF(JN1=\"Lauantai\",JL11,IF(JN1=\"Sunnuntai\",JL11,IF(JM2=\"h\",JL11,IF(JL10=\"\",0,IF(JH10=\"\",0,IF(JJ11<JM11,JJ11,JM11)))))))+JN11","v":"00:00:00"},null,{"$f":"IF(JL10=\"\",0,IF(JJ10=\"\",JL11,JL10-JJ10))","v":"00:00:00"},null,{"$f":"IF(JL10=\"\",0,JL10-JH10)","v":"00:00:00"},{"$f":"IF(JL11<JM10,0,IF(JL10=\"\",0,IF(JH10=\"\",0,JL11-JM10)))","v":"00:00:00"},{"$f":"IF(JH4=\"\",0,IF(JI4=\"ep\",JJ4-JH4,IF(JI4=\"y\",IF(JH4<JH7,(JH7-JH4),0),0)+IF(JK4=\"y\",IF(JJ4>JJ7,(JJ4-JJ7),0),0)))+IF(JH5=\"\",0,IF(JI5=\"ep\",JJ5-JH5,IF(JI5=\"y\",IF(JH5<JH7,(JH7-JH5),0),0)+IF(JK5=\"y\",IF(JJ5>JJ7,(JJ5-JJ7),0),0)))+IF(JH6=\"\",0,IF(JI6=\"ep\",JJ6-JH6,IF(JI6=\"y\",IF(JH6<JH7,(JH7-JH6),0),0)+IF(JK6=\"y\",IF(JJ6>JJ7,(JJ6-JJ7),0),0)))","v":"00:00:00"},null,null,null,{"$f":"IF(JW4=\"v\",0,IF(JX1=\"Lauantai\",JV11,IF(JX1=\"Sunnuntai\",JV11,IF(JW2=\"h\",JV11,IF(JV10=\"\",0,IF(JR10=\"\",0,IF(JT11<JW11,JT11,JW11)))))))+JX11","v":"00:00:00"},null,{"$f":"IF(JV10=\"\",0,IF(JT10=\"\",JV11,JV10-JT10))","v":"00:00:00"},null,{"$f":"IF(JV10=\"\",0,JV10-JR10)","v":"00:00:00"},{"$f":"IF(JV11<JW10,0,IF(JV10=\"\",0,IF(JR10=\"\",0,JV11-JW10)))","v":"00:00:00"},{"$f":"IF(JR4=\"\",0,IF(JS4=\"ep\",JT4-JR4,IF(JS4=\"y\",IF(JR4<JR7,(JR7-JR4),0),0)+IF(JU4=\"y\",IF(JT4>JT7,(JT4-JT7),0),0)))+IF(JR5=\"\",0,IF(JS5=\"ep\",JT5-JR5,IF(JS5=\"y\",IF(JR5<JR7,(JR7-JR5),0),0)+IF(JU5=\"y\",IF(JT5>JT7,(JT5-JT7),0),0)))+IF(JR6=\"\",0,IF(JS6=\"ep\",JT6-JR6,IF(JS6=\"y\",IF(JR6<JR7,(JR7-JR6),0),0)+IF(JU6=\"y\",IF(JT6>JT7,(JT6-JT7),0),0)))","v":"00:00:00"},null,null,null,{"$f":"IF(KG4=\"v\",0,IF(KH1=\"Lauantai\",KF11,IF(KH1=\"Sunnuntai\",KF11,IF(KG2=\"h\",KF11,IF(KF10=\"\",0,IF(KB10=\"\",0,IF(KD11<KG11,KD11,KG11)))))))+KH11","v":"00:00:00"},null,{"$f":"IF(KF10=\"\",0,IF(KD10=\"\",KF11,KF10-KD10))","v":"00:00:00"},null,{"$f":"IF(KF10=\"\",0,KF10-KB10)","v":"00:00:00"},{"$f":"IF(KF11<KG10,0,IF(KF10=\"\",0,IF(KB10=\"\",0,KF11-KG10)))","v":"00:00:00"},{"$f":"IF(KB4=\"\",0,IF(KC4=\"ep\",KD4-KB4,IF(KC4=\"y\",IF(KB4<KB7,(KB7-KB4),0),0)+IF(KE4=\"y\",IF(KD4>KD7,(KD4-KD7),0),0)))+IF(KB5=\"\",0,IF(KC5=\"ep\",KD5-KB5,IF(KC5=\"y\",IF(KB5<KB7,(KB7-KB5),0),0)+IF(KE5=\"y\",IF(KD5>KD7,(KD5-KD7),0),0)))+IF(KB6=\"\",0,IF(KC6=\"ep\",KD6-KB6,IF(KC6=\"y\",IF(KB6<KB7,(KB7-KB6),0),0)+IF(KE6=\"y\",IF(KD6>KD7,(KD6-KD7),0),0)))","v":"00:00:00"},null,null,null,{"$f":"IF(KQ4=\"v\",0,IF(KR1=\"Lauantai\",KP11,IF(KR1=\"Sunnuntai\",KP11,IF(KQ2=\"h\",KP11,IF(KP10=\"\",0,IF(KL10=\"\",0,IF(KN11<KQ11,KN11,KQ11)))))))+KR11","v":"00:00:00"},null,{"$f":"IF(KP10=\"\",0,IF(KN10=\"\",KP11,KP10-KN10))","v":"00:00:00"},null,{"$f":"IF(KP10=\"\",0,KP10-KL10)","v":"00:00:00"},{"$f":"IF(KP11<KQ10,0,IF(KP10=\"\",0,IF(KL10=\"\",0,KP11-KQ10)))","v":"00:00:00"},{"$f":"IF(KL4=\"\",0,IF(KM4=\"ep\",KN4-KL4,IF(KM4=\"y\",IF(KL4<KL7,(KL7-KL4),0),0)+IF(KO4=\"y\",IF(KN4>KN7,(KN4-KN7),0),0)))+IF(KL5=\"\",0,IF(KM5=\"ep\",KN5-KL5,IF(KM5=\"y\",IF(KL5<KL7,(KL7-KL5),0),0)+IF(KO5=\"y\",IF(KN5>KN7,(KN5-KN7),0),0)))+IF(KL6=\"\",0,IF(KM6=\"ep\",KN6-KL6,IF(KM6=\"y\",IF(KL6<KL7,(KL7-KL6),0),0)+IF(KO6=\"y\",IF(KN6>KN7,(KN6-KN7),0),0)))","v":"00:00:00"},null,null,null,{"$f":"IF(LA4=\"v\",0,IF(LB1=\"Lauantai\",KZ11,IF(LB1=\"Sunnuntai\",KZ11,IF(LA2=\"h\",KZ11,IF(KZ10=\"\",0,IF(KV10=\"\",0,IF(KX11<LA11,KX11,LA11)))))))+LB11","v":"00:00:00"},null,{"$f":"IF(KZ10=\"\",0,IF(KX10=\"\",KZ11,KZ10-KX10))","v":"00:00:00"},null,{"$f":"IF(KZ10=\"\",0,KZ10-KV10)","v":"00:00:00"},{"$f":"IF(KZ11<LA10,0,IF(KZ10=\"\",0,IF(KV10=\"\",0,KZ11-LA10)))","v":"00:00:00"},{"$f":"IF(KV4=\"\",0,IF(KW4=\"ep\",KX4-KV4,IF(KW4=\"y\",IF(KV4<KV7,(KV7-KV4),0),0)+IF(KY4=\"y\",IF(KX4>KX7,(KX4-KX7),0),0)))+IF(KV5=\"\",0,IF(KW5=\"ep\",KX5-KV5,IF(KW5=\"y\",IF(KV5<KV7,(KV7-KV5),0),0)+IF(KY5=\"y\",IF(KX5>KX7,(KX5-KX7),0),0)))+IF(KV6=\"\",0,IF(KW6=\"ep\",KX6-KV6,IF(KW6=\"y\",IF(KV6<KV7,(KV7-KV6),0),0)+IF(KY6=\"y\",IF(KX6>KX7,(KX6-KX7),0),0)))","v":"00:00:00"},null,null,null,{"$f":"IF(LK4=\"v\",0,IF(LL1=\"Lauantai\",LJ11,IF(LL1=\"Sunnuntai\",LJ11,IF(LK2=\"h\",LJ11,IF(LJ10=\"\",0,IF(LF10=\"\",0,IF(LH11<LK11,LH11,LK11)))))))+LL11","v":"00:00:00"},null,{"$f":"IF(LJ10=\"\",0,IF(LH10=\"\",LJ11,LJ10-LH10))","v":"00:00:00"},null,{"$f":"IF(LJ10=\"\",0,LJ10-LF10)","v":"00:00:00"},{"$f":"IF(LJ11<LK10,0,IF(LJ10=\"\",0,IF(LF10=\"\",0,LJ11-LK10)))","v":"00:00:00"},{"$f":"IF(LF4=\"\",0,IF(LG4=\"ep\",LH4-LF4,IF(LG4=\"y\",IF(LF4<LF7,(LF7-LF4),0),0)+IF(LI4=\"y\",IF(LH4>LH7,(LH4-LH7),0),0)))+IF(LF5=\"\",0,IF(LG5=\"ep\",LH5-LF5,IF(LG5=\"y\",IF(LF5<LF7,(LF7-LF5),0),0)+IF(LI5=\"y\",IF(LH5>LH7,(LH5-LH7),0),0)))+IF(LF6=\"\",0,IF(LG6=\"ep\",LH6-LF6,IF(LG6=\"y\",IF(LF6<LF7,(LF7-LF6),0),0)+IF(LI6=\"y\",IF(LH6>LH7,(LH6-LH7),0),0)))","v":"00:00:00"},null,null,null,{"$f":"IF(LU4=\"v\",0,IF(LV1=\"Lauantai\",LT11,IF(LV1=\"Sunnuntai\",LT11,IF(LU2=\"h\",LT11,IF(LT10=\"\",0,IF(LP10=\"\",0,IF(LR11<LU11,LR11,LU11)))))))+LV11","v":"00:00:00"},null,{"$f":"IF(LT10=\"\",0,IF(LR10=\"\",LT11,LT10-LR10))","v":"00:00:00"},null,{"$f":"IF(LT10=\"\",0,LT10-LP10)","v":"00:00:00"},{"$f":"IF(LT11<LU10,0,IF(LT10=\"\",0,IF(LP10=\"\",0,LT11-LU10)))","v":"00:00:00"},{"$f":"IF(LP4=\"\",0,IF(LQ4=\"ep\",LR4-LP4,IF(LQ4=\"y\",IF(LP4<LP7,(LP7-LP4),0),0)+IF(LS4=\"y\",IF(LR4>LR7,(LR4-LR7),0),0)))+IF(LP5=\"\",0,IF(LQ5=\"ep\",LR5-LP5,IF(LQ5=\"y\",IF(LP5<LP7,(LP7-LP5),0),0)+IF(LS5=\"y\",IF(LR5>LR7,(LR5-LR7),0),0)))+IF(LP6=\"\",0,IF(LQ6=\"ep\",LR6-LP6,IF(LQ6=\"y\",IF(LP6<LP7,(LP7-LP6),0),0)+IF(LS6=\"y\",IF(LR6>LR7,(LR6-LR7),0),0)))","v":"00:00:00"},null,null,null,{"$f":"IF(ME4=\"v\",0,IF(MF1=\"Lauantai\",MD11,IF(MF1=\"Sunnuntai\",MD11,IF(ME2=\"h\",MD11,IF(MD10=\"\",0,IF(LZ10=\"\",0,IF(MB11<ME11,MB11,ME11)))))))+MF11","v":"00:00:00"},null,{"$f":"IF(MD10=\"\",0,IF(MB10=\"\",MD11,MD10-MB10))","v":"00:00:00"},null,{"$f":"IF(MD10=\"\",0,MD10-LZ10)","v":"00:00:00"},{"$f":"IF(MD11<ME10,0,IF(MD10=\"\",0,IF(LZ10=\"\",0,MD11-ME10)))","v":"00:00:00"},{"$f":"IF(LZ4=\"\",0,IF(MA4=\"ep\",MB4-LZ4,IF(MA4=\"y\",IF(LZ4<LZ7,(LZ7-LZ4),0),0)+IF(MC4=\"y\",IF(MB4>MB7,(MB4-MB7),0),0)))+IF(LZ5=\"\",0,IF(MA5=\"ep\",MB5-LZ5,IF(MA5=\"y\",IF(LZ5<LZ7,(LZ7-LZ5),0),0)+IF(MC5=\"y\",IF(MB5>MB7,(MB5-MB7),0),0)))+IF(LZ6=\"\",0,IF(MA6=\"ep\",MB6-LZ6,IF(MA6=\"y\",IF(LZ6<LZ7,(LZ7-LZ6),0),0)+IF(MC6=\"y\",IF(MB6>MB7,(MB6-MB7),0),0)))","v":"00:00:00"},null,null,null,{"$f":"IF(MO4=\"v\",0,IF(MP1=\"Lauantai\",MN11,IF(MP1=\"Sunnuntai\",MN11,IF(MO2=\"h\",MN11,IF(MN10=\"\",0,IF(MJ10=\"\",0,IF(ML11<MO11,ML11,MO11)))))))+MP11","v":"00:00:00"},null,{"$f":"IF(MN10=\"\",0,IF(ML10=\"\",MN11,MN10-ML10))","v":"00:00:00"},null,{"$f":"IF(MN10=\"\",0,MN10-MJ10)","v":"00:00:00"},{"$f":"IF(MN11<MO10,0,IF(MN10=\"\",0,IF(MJ10=\"\",0,MN11-MO10)))","v":"00:00:00"},{"$f":"IF(MJ4=\"\",0,IF(MK4=\"ep\",ML4-MJ4,IF(MK4=\"y\",IF(MJ4<MJ7,(MJ7-MJ4),0),0)+IF(MM4=\"y\",IF(ML4>ML7,(ML4-ML7),0),0)))+IF(MJ5=\"\",0,IF(MK5=\"ep\",ML5-MJ5,IF(MK5=\"y\",IF(MJ5<MJ7,(MJ7-MJ5),0),0)+IF(MM5=\"y\",IF(ML5>ML7,(ML5-ML7),0),0)))+IF(MJ6=\"\",0,IF(MK6=\"ep\",ML6-MJ6,IF(MK6=\"y\",IF(MJ6<MJ7,(MJ7-MJ6),0),0)+IF(MM6=\"y\",IF(ML6>ML7,(ML6-ML7),0),0)))","v":"00:00:00"},null,null,null,{"$f":"IF(MY4=\"v\",0,IF(MZ1=\"Lauantai\",MX11,IF(MZ1=\"Sunnuntai\",MX11,IF(MY2=\"h\",MX11,IF(MX10=\"\",0,IF(MT10=\"\",0,IF(MV11<MY11,MV11,MY11)))))))+MZ11","v":"00:00:00"},null,{"$f":"IF(MX10=\"\",0,IF(MV10=\"\",MX11,MX10-MV10))","v":"00:00:00"},null,{"$f":"IF(MX10=\"\",0,MX10-MT10)","v":"00:00:00"},{"$f":"IF(MX11<MY10,0,IF(MX10=\"\",0,IF(MT10=\"\",0,MX11-MY10)))","v":"00:00:00"},{"$f":"IF(MT4=\"\",0,IF(MU4=\"ep\",MV4-MT4,IF(MU4=\"y\",IF(MT4<MT7,(MT7-MT4),0),0)+IF(MW4=\"y\",IF(MV4>MV7,(MV4-MV7),0),0)))+IF(MT5=\"\",0,IF(MU5=\"ep\",MV5-MT5,IF(MU5=\"y\",IF(MT5<MT7,(MT7-MT5),0),0)+IF(MW5=\"y\",IF(MV5>MV7,(MV5-MV7),0),0)))+IF(MT6=\"\",0,IF(MU6=\"ep\",MV6-MT6,IF(MU6=\"y\",IF(MT6<MT7,(MT7-MT6),0),0)+IF(MW6=\"y\",IF(MV6>MV7,(MV6-MV7),0),0)))","v":"00:00:00"},null,null,null,{"$f":"IF(NI4=\"v\",0,IF(NJ1=\"Lauantai\",NH11,IF(NJ1=\"Sunnuntai\",NH11,IF(NI2=\"h\",NH11,IF(NH10=\"\",0,IF(ND10=\"\",0,IF(NF11<NI11,NF11,NI11)))))))+NJ11","v":"00:00:00"},null,{"$f":"IF(NH10=\"\",0,IF(NF10=\"\",NH11,NH10-NF10))","v":"00:00:00"},null,{"$f":"IF(NH10=\"\",0,NH10-ND10)","v":"00:00:00"},{"$f":"IF(NH11<NI10,0,IF(NH10=\"\",0,IF(ND10=\"\",0,NH11-NI10)))","v":"00:00:00"},{"$f":"IF(ND4=\"\",0,IF(NE4=\"ep\",NF4-ND4,IF(NE4=\"y\",IF(ND4<ND7,(ND7-ND4),0),0)+IF(NG4=\"y\",IF(NF4>NF7,(NF4-NF7),0),0)))+IF(ND5=\"\",0,IF(NE5=\"ep\",NF5-ND5,IF(NE5=\"y\",IF(ND5<ND7,(ND7-ND5),0),0)+IF(NG5=\"y\",IF(NF5>NF7,(NF5-NF7),0),0)))+IF(ND6=\"\",0,IF(NE6=\"ep\",NF6-ND6,IF(NE6=\"y\",IF(ND6<ND7,(ND7-ND6),0),0)+IF(NG6=\"y\",IF(NF6>NF7,(NF6-NF7),0),0)))","v":"00:00:00"},null,null,null,{"$f":"IF(NS4=\"v\",0,IF(NT1=\"Lauantai\",NR11,IF(NT1=\"Sunnuntai\",NR11,IF(NS2=\"h\",NR11,IF(NR10=\"\",0,IF(NN10=\"\",0,IF(NP11<NS11,NP11,NS11)))))))+NT11","v":"00:00:00"},null,{"$f":"IF(NR10=\"\",0,IF(NP10=\"\",NR11,NR10-NP10))","v":"00:00:00"},null,{"$f":"IF(NR10=\"\",0,NR10-NN10)","v":"00:00:00"},{"$f":"IF(NR11<NS10,0,IF(NR10=\"\",0,IF(NN10=\"\",0,NR11-NS10)))","v":"00:00:00"},{"$f":"IF(NN4=\"\",0,IF(NO4=\"ep\",NP4-NN4,IF(NO4=\"y\",IF(NN4<NN7,(NN7-NN4),0),0)+IF(NQ4=\"y\",IF(NP4>NP7,(NP4-NP7),0),0)))+IF(NN5=\"\",0,IF(NO5=\"ep\",NP5-NN5,IF(NO5=\"y\",IF(NN5<NN7,(NN7-NN5),0),0)+IF(NQ5=\"y\",IF(NP5>NP7,(NP5-NP7),0),0)))+IF(NN6=\"\",0,IF(NO6=\"ep\",NP6-NN6,IF(NO6=\"y\",IF(NN6<NN7,(NN7-NN6),0),0)+IF(NQ6=\"y\",IF(NP6>NP7,(NP6-NP7),0),0)))","v":"00:00:00"},null,null,null,{"$f":"IF(OC4=\"v\",0,IF(OD1=\"Lauantai\",OB11,IF(OD1=\"Sunnuntai\",OB11,IF(OC2=\"h\",OB11,IF(OB10=\"\",0,IF(NX10=\"\",0,IF(NZ11<OC11,NZ11,OC11)))))))+OD11","v":"00:00:00"},null,{"$f":"IF(OB10=\"\",0,IF(NZ10=\"\",OB11,OB10-NZ10))","v":"00:00:00"},null,{"$f":"IF(OB10=\"\",0,OB10-NX10)","v":"00:00:00"},{"$f":"IF(OB11<OC10,0,IF(OB10=\"\",0,IF(NX10=\"\",0,OB11-OC10)))","v":"00:00:00"},{"$f":"IF(NX4=\"\",0,IF(NY4=\"ep\",NZ4-NX4,IF(NY4=\"y\",IF(NX4<NX7,(NX7-NX4),0),0)+IF(OA4=\"y\",IF(NZ4>NZ7,(NZ4-NZ7),0),0)))+IF(NX5=\"\",0,IF(NY5=\"ep\",NZ5-NX5,IF(NY5=\"y\",IF(NX5<NX7,(NX7-NX5),0),0)+IF(OA5=\"y\",IF(NZ5>NZ7,(NZ5-NZ7),0),0)))+IF(NX6=\"\",0,IF(NY6=\"ep\",NZ6-NX6,IF(NY6=\"y\",IF(NX6<NX7,(NX7-NX6),0),0)+IF(OA6=\"y\",IF(NZ6>NZ7,(NZ6-NZ7),0),0)))","v":"00:00:00"},null,null,null,{"$f":"IF(OM4=\"v\",0,IF(ON1=\"Lauantai\",OL11,IF(ON1=\"Sunnuntai\",OL11,IF(OM2=\"h\",OL11,IF(OL10=\"\",0,IF(OH10=\"\",0,IF(OJ11<OM11,OJ11,OM11)))))))+ON11","v":"00:00:00"},null,{"$f":"IF(OL10=\"\",0,IF(OJ10=\"\",OL11,OL10-OJ10))","v":"00:00:00"},null,{"$f":"IF(OL10=\"\",0,OL10-OH10)","v":"00:00:00"},{"$f":"IF(OL11<OM10,0,IF(OL10=\"\",0,IF(OH10=\"\",0,OL11-OM10)))","v":"00:00:00"},{"$f":"IF(OH4=\"\",0,IF(OI4=\"ep\",OJ4-OH4,IF(OI4=\"y\",IF(OH4<OH7,(OH7-OH4),0),0)+IF(OK4=\"y\",IF(OJ4>OJ7,(OJ4-OJ7),0),0)))+IF(OH5=\"\",0,IF(OI5=\"ep\",OJ5-OH5,IF(OI5=\"y\",IF(OH5<OH7,(OH7-OH5),0),0)+IF(OK5=\"y\",IF(OJ5>OJ7,(OJ5-OJ7),0),0)))+IF(OH6=\"\",0,IF(OI6=\"ep\",OJ6-OH6,IF(OI6=\"y\",IF(OH6<OH7,(OH7-OH6),0),0)+IF(OK6=\"y\",IF(OJ6>OJ7,(OJ6-OJ7),0),0)))","v":"00:00:00"},null,null,null,{"$f":"IF(OW4=\"v\",0,IF(OX1=\"Lauantai\",OV11,IF(OX1=\"Sunnuntai\",OV11,IF(OW2=\"h\",OV11,IF(OV10=\"\",0,IF(OR10=\"\",0,IF(OT11<OW11,OT11,OW11)))))))+OX11","v":"00:00:00"},null,{"$f":"IF(OV10=\"\",0,IF(OT10=\"\",OV11,OV10-OT10))","v":"00:00:00"},null,{"$f":"IF(OV10=\"\",0,OV10-OR10)","v":"00:00:00"},{"$f":"IF(OV11<OW10,0,IF(OV10=\"\",0,IF(OR10=\"\",0,OV11-OW10)))","v":"00:00:00"},{"$f":"IF(OR4=\"\",0,IF(OS4=\"ep\",OT4-OR4,IF(OS4=\"y\",IF(OR4<OR7,(OR7-OR4),0),0)+IF(OU4=\"y\",IF(OT4>OT7,(OT4-OT7),0),0)))+IF(OR5=\"\",0,IF(OS5=\"ep\",OT5-OR5,IF(OS5=\"y\",IF(OR5<OR7,(OR7-OR5),0),0)+IF(OU5=\"y\",IF(OT5>OT7,(OT5-OT7),0),0)))+IF(OR6=\"\",0,IF(OS6=\"ep\",OT6-OR6,IF(OS6=\"y\",IF(OR6<OR7,(OR7-OR6),0),0)+IF(OU6=\"y\",IF(OT6>OT7,(OT6-OT7),0),0)))","v":"00:00:00"},null,null,null,{"$f":"IF(PG4=\"v\",0,IF(PH1=\"Lauantai\",PF11,IF(PH1=\"Sunnuntai\",PF11,IF(PG2=\"h\",PF11,IF(PF10=\"\",0,IF(PB10=\"\",0,IF(PD11<PG11,PD11,PG11)))))))+PH11","v":"00:00:00"},null,{"$f":"IF(PF10=\"\",0,IF(PD10=\"\",PF11,PF10-PD10))","v":"00:00:00"},null,{"$f":"IF(PF10=\"\",0,PF10-PB10)","v":"00:00:00"},{"$f":"IF(PF11<PG10,0,IF(PF10=\"\",0,IF(PB10=\"\",0,PF11-PG10)))","v":"00:00:00"},{"$f":"IF(PB4=\"\",0,IF(PC4=\"ep\",PD4-PB4,IF(PC4=\"y\",IF(PB4<PB7,(PB7-PB4),0),0)+IF(PE4=\"y\",IF(PD4>PD7,(PD4-PD7),0),0)))+IF(PB5=\"\",0,IF(PC5=\"ep\",PD5-PB5,IF(PC5=\"y\",IF(PB5<PB7,(PB7-PB5),0),0)+IF(PE5=\"y\",IF(PD5>PD7,(PD5-PD7),0),0)))+IF(PB6=\"\",0,IF(PC6=\"ep\",PD6-PB6,IF(PC6=\"y\",IF(PB6<PB7,(PB7-PB6),0),0)+IF(PE6=\"y\",IF(PD6>PD7,(PD6-PD7),0),0)))","v":"00:00:00"},null,null,null,{"$f":"IF(PQ4=\"v\",0,IF(PR1=\"Lauantai\",PP11,IF(PR1=\"Sunnuntai\",PP11,IF(PQ2=\"h\",PP11,IF(PP10=\"\",0,IF(PL10=\"\",0,IF(PN11<PQ11,PN11,PQ11)))))))+PR11","v":"00:00:00"},null,{"$f":"IF(PP10=\"\",0,IF(PN10=\"\",PP11,PP10-PN10))","v":"00:00:00"},null,{"$f":"IF(PP10=\"\",0,PP10-PL10)","v":"00:00:00"},{"$f":"IF(PP11<PQ10,0,IF(PP10=\"\",0,IF(PL10=\"\",0,PP11-PQ10)))","v":"00:00:00"},{"$f":"IF(PL4=\"\",0,IF(PM4=\"ep\",PN4-PL4,IF(PM4=\"y\",IF(PL4<PL7,(PL7-PL4),0),0)+IF(PO4=\"y\",IF(PN4>PN7,(PN4-PN7),0),0)))+IF(PL5=\"\",0,IF(PM5=\"ep\",PN5-PL5,IF(PM5=\"y\",IF(PL5<PL7,(PL7-PL5),0),0)+IF(PO5=\"y\",IF(PN5>PN7,(PN5-PN7),0),0)))+IF(PL6=\"\",0,IF(PM6=\"ep\",PN6-PL6,IF(PM6=\"y\",IF(PL6<PL7,(PL7-PL6),0),0)+IF(PO6=\"y\",IF(PN6>PN7,(PN6-PN7),0),0)))","v":"00:00:00"},null,null,null,{"$f":"IF(QA4=\"v\",0,IF(QB1=\"Lauantai\",PZ11,IF(QB1=\"Sunnuntai\",PZ11,IF(QA2=\"h\",PZ11,IF(PZ10=\"\",0,IF(PV10=\"\",0,IF(PX11<QA11,PX11,QA11)))))))+QB11","v":"00:00:00"},null,{"$f":"IF(PZ10=\"\",0,IF(PX10=\"\",PZ11,PZ10-PX10))","v":"00:00:00"},null,{"$f":"IF(PZ10=\"\",0,PZ10-PV10)","v":"00:00:00"},{"$f":"IF(PZ11<QA10,0,IF(PZ10=\"\",0,IF(PV10=\"\",0,PZ11-QA10)))","v":"00:00:00"},{"$f":"IF(PV4=\"\",0,IF(PW4=\"ep\",PX4-PV4,IF(PW4=\"y\",IF(PV4<PV7,(PV7-PV4),0),0)+IF(PY4=\"y\",IF(PX4>PX7,(PX4-PX7),0),0)))+IF(PV5=\"\",0,IF(PW5=\"ep\",PX5-PV5,IF(PW5=\"y\",IF(PV5<PV7,(PV7-PV5),0),0)+IF(PY5=\"y\",IF(PX5>PX7,(PX5-PX7),0),0)))+IF(PV6=\"\",0,IF(PW6=\"ep\",PX6-PV6,IF(PW6=\"y\",IF(PV6<PV7,(PV7-PV6),0),0)+IF(PY6=\"y\",IF(PX6>PX7,(PX6-PX7),0),0)))","v":"00:00:00"},null,null,null,{"$f":"IF(QK4=\"v\",0,IF(QL1=\"Lauantai\",QJ11,IF(QL1=\"Sunnuntai\",QJ11,IF(QK2=\"h\",QJ11,IF(QJ10=\"\",0,IF(QF10=\"\",0,IF(QH11<QK11,QH11,QK11)))))))+QL11","v":"00:00:00"},null,{"$f":"IF(QJ10=\"\",0,IF(QH10=\"\",QJ11,QJ10-QH10))","v":"00:00:00"},null,{"$f":"IF(QJ10=\"\",0,QJ10-QF10)","v":"00:00:00"},{"$f":"IF(QJ11<QK10,0,IF(QJ10=\"\",0,IF(QF10=\"\",0,QJ11-QK10)))","v":"00:00:00"},{"$f":"IF(QF4=\"\",0,IF(QG4=\"ep\",QH4-QF4,IF(QG4=\"y\",IF(QF4<QF7,(QF7-QF4),0),0)+IF(QI4=\"y\",IF(QH4>QH7,(QH4-QH7),0),0)))+IF(QF5=\"\",0,IF(QG5=\"ep\",QH5-QF5,IF(QG5=\"y\",IF(QF5<QF7,(QF7-QF5),0),0)+IF(QI5=\"y\",IF(QH5>QH7,(QH5-QH7),0),0)))+IF(QF6=\"\",0,IF(QG6=\"ep\",QH6-QF6,IF(QG6=\"y\",IF(QF6<QF7,(QF7-QF6),0),0)+IF(QI6=\"y\",IF(QH6>QH7,(QH6-QH7),0),0)))","v":"00:00:00"},null,null,null,{"$f":"IF(QU4=\"v\",0,IF(QV1=\"Lauantai\",QT11,IF(QV1=\"Sunnuntai\",QT11,IF(QU2=\"h\",QT11,IF(QT10=\"\",0,IF(QP10=\"\",0,IF(QR11<QU11,QR11,QU11)))))))+QV11","v":"00:00:00"},null,{"$f":"IF(QT10=\"\",0,IF(QR10=\"\",QT11,QT10-QR10))","v":"00:00:00"},null,{"$f":"IF(QT10=\"\",0,QT10-QP10)","v":"00:00:00"},{"$f":"IF(QT11<QU10,0,IF(QT10=\"\",0,IF(QP10=\"\",0,QT11-QU10)))","v":"00:00:00"},{"$f":"IF(QP4=\"\",0,IF(QQ4=\"ep\",QR4-QP4,IF(QQ4=\"y\",IF(QP4<QP7,(QP7-QP4),0),0)+IF(QS4=\"y\",IF(QR4>QR7,(QR4-QR7),0),0)))+IF(QP5=\"\",0,IF(QQ5=\"ep\",QR5-QP5,IF(QQ5=\"y\",IF(QP5<QP7,(QP7-QP5),0),0)+IF(QS5=\"y\",IF(QR5>QR7,(QR5-QR7),0),0)))+IF(QP6=\"\",0,IF(QQ6=\"ep\",QR6-QP6,IF(QQ6=\"y\",IF(QP6<QP7,(QP7-QP6),0),0)+IF(QS6=\"y\",IF(QR6>QR7,(QR6-QR7),0),0)))","v":"00:00:00"},null,null,null,{"$f":"IF(RE4=\"v\",0,IF(RF1=\"Lauantai\",RD11,IF(RF1=\"Sunnuntai\",RD11,IF(RE2=\"h\",RD11,IF(RD10=\"\",0,IF(QZ10=\"\",0,IF(RB11<RE11,RB11,RE11)))))))+RF11","v":"00:00:00"},null,{"$f":"IF(RD10=\"\",0,IF(RB10=\"\",RD11,RD10-RB10))","v":"00:00:00"},null,{"$f":"IF(RD10=\"\",0,RD10-QZ10)","v":"00:00:00"},{"$f":"IF(RD11<RE10,0,IF(RD10=\"\",0,IF(QZ10=\"\",0,RD11-RE10)))","v":"00:00:00"},{"$f":"IF(QZ4=\"\",0,IF(RA4=\"ep\",RB4-QZ4,IF(RA4=\"y\",IF(QZ4<QZ7,(QZ7-QZ4),0),0)+IF(RC4=\"y\",IF(RB4>RB7,(RB4-RB7),0),0)))+IF(QZ5=\"\",0,IF(RA5=\"ep\",RB5-QZ5,IF(RA5=\"y\",IF(QZ5<QZ7,(QZ7-QZ5),0),0)+IF(RC5=\"y\",IF(RB5>RB7,(RB5-RB7),0),0)))+IF(QZ6=\"\",0,IF(RA6=\"ep\",RB6-QZ6,IF(RA6=\"y\",IF(QZ6<QZ7,(QZ7-QZ6),0),0)+IF(RC6=\"y\",IF(RB6>RB7,(RB6-RB7),0),0)))","v":"00:00:00"},null,null,null,{"$f":"IF(RO4=\"v\",0,IF(RP1=\"Lauantai\",RN11,IF(RP1=\"Sunnuntai\",RN11,IF(RO2=\"h\",RN11,IF(RN10=\"\",0,IF(RJ10=\"\",0,IF(RL11<RO11,RL11,RO11)))))))+RP11","v":"00:00:00"},null,{"$f":"IF(RN10=\"\",0,IF(RL10=\"\",RN11,RN10-RL10))","v":"00:00:00"},null,{"$f":"IF(RN10=\"\",0,RN10-RJ10)","v":"00:00:00"},{"$f":"IF(RN11<RO10,0,IF(RN10=\"\",0,IF(RJ10=\"\",0,RN11-RO10)))","v":"00:00:00"},{"$f":"IF(RJ4=\"\",0,IF(RK4=\"ep\",RL4-RJ4,IF(RK4=\"y\",IF(RJ4<RJ7,(RJ7-RJ4),0),0)+IF(RM4=\"y\",IF(RL4>RL7,(RL4-RL7),0),0)))+IF(RJ5=\"\",0,IF(RK5=\"ep\",RL5-RJ5,IF(RK5=\"y\",IF(RJ5<RJ7,(RJ7-RJ5),0),0)+IF(RM5=\"y\",IF(RL5>RL7,(RL5-RL7),0),0)))+IF(RJ6=\"\",0,IF(RK6=\"ep\",RL6-RJ6,IF(RK6=\"y\",IF(RJ6<RJ7,(RJ7-RJ6),0),0)+IF(RM6=\"y\",IF(RL6>RL7,(RL6-RL7),0),0)))","v":"00:00:00"},null,null,null,{"$f":"IF(RY4=\"v\",0,IF(RZ1=\"Lauantai\",RX11,IF(RZ1=\"Sunnuntai\",RX11,IF(RY2=\"h\",RX11,IF(RX10=\"\",0,IF(RT10=\"\",0,IF(RV11<RY11,RV11,RY11)))))))+RZ11","v":"00:00:00"},null,{"$f":"IF(RX10=\"\",0,IF(RV10=\"\",RX11,RX10-RV10))","v":"00:00:00"},null,{"$f":"IF(RX10=\"\",0,RX10-RT10)","v":"00:00:00"},{"$f":"IF(RX11<RY10,0,IF(RX10=\"\",0,IF(RT10=\"\",0,RX11-RY10)))","v":"00:00:00"},{"$f":"IF(RT4=\"\",0,IF(RU4=\"ep\",RV4-RT4,IF(RU4=\"y\",IF(RT4<RT7,(RT7-RT4),0),0)+IF(RW4=\"y\",IF(RV4>RV7,(RV4-RV7),0),0)))+IF(RT5=\"\",0,IF(RU5=\"ep\",RV5-RT5,IF(RU5=\"y\",IF(RT5<RT7,(RT7-RT5),0),0)+IF(RW5=\"y\",IF(RV5>RV7,(RV5-RV7),0),0)))+IF(RT6=\"\",0,IF(RU6=\"ep\",RV6-RT6,IF(RU6=\"y\",IF(RT6<RT7,(RT7-RT6),0),0)+IF(RW6=\"y\",IF(RV6>RV7,(RV6-RV7),0),0)))","v":"00:00:00"},null,null,null,{"$f":"IF(SI4=\"v\",0,IF(SJ1=\"Lauantai\",SH11,IF(SJ1=\"Sunnuntai\",SH11,IF(SI2=\"h\",SH11,IF(SH10=\"\",0,IF(SD10=\"\",0,IF(SF11<SI11,SF11,SI11)))))))+SJ11","v":"00:00:00"},null,{"$f":"IF(SH10=\"\",0,IF(SF10=\"\",SH11,SH10-SF10))","v":"00:00:00"},null,{"$f":"IF(SH10=\"\",0,SH10-SD10)","v":"00:00:00"},{"$f":"IF(SH11<SI10,0,IF(SH10=\"\",0,IF(SD10=\"\",0,SH11-SI10)))","v":"00:00:00"},{"$f":"IF(SD4=\"\",0,IF(SE4=\"ep\",SF4-SD4,IF(SE4=\"y\",IF(SD4<SD7,(SD7-SD4),0),0)+IF(SG4=\"y\",IF(SF4>SF7,(SF4-SF7),0),0)))+IF(SD5=\"\",0,IF(SE5=\"ep\",SF5-SD5,IF(SE5=\"y\",IF(SD5<SD7,(SD7-SD5),0),0)+IF(SG5=\"y\",IF(SF5>SF7,(SF5-SF7),0),0)))+IF(SD6=\"\",0,IF(SE6=\"ep\",SF6-SD6,IF(SE6=\"y\",IF(SD6<SD7,(SD7-SD6),0),0)+IF(SG6=\"y\",IF(SF6>SF7,(SF6-SF7),0),0)))","v":"00:00:00"},null,null,null,{"$f":"IF(SS4=\"v\",0,IF(ST1=\"Lauantai\",SR11,IF(ST1=\"Sunnuntai\",SR11,IF(SS2=\"h\",SR11,IF(SR10=\"\",0,IF(SN10=\"\",0,IF(SP11<SS11,SP11,SS11)))))))+ST11","v":"00:00:00"},null,{"$f":"IF(SR10=\"\",0,IF(SP10=\"\",SR11,SR10-SP10))","v":"00:00:00"},null,{"$f":"IF(SR10=\"\",0,SR10-SN10)","v":"00:00:00"},{"$f":"IF(SR11<SS10,0,IF(SR10=\"\",0,IF(SN10=\"\",0,SR11-SS10)))","v":"00:00:00"},{"$f":"IF(SN4=\"\",0,IF(SO4=\"ep\",SP4-SN4,IF(SO4=\"y\",IF(SN4<SN7,(SN7-SN4),0),0)+IF(SQ4=\"y\",IF(SP4>SP7,(SP4-SP7),0),0)))+IF(SN5=\"\",0,IF(SO5=\"ep\",SP5-SN5,IF(SO5=\"y\",IF(SN5<SN7,(SN7-SN5),0),0)+IF(SQ5=\"y\",IF(SP5>SP7,(SP5-SP7),0),0)))+IF(SN6=\"\",0,IF(SO6=\"ep\",SP6-SN6,IF(SO6=\"y\",IF(SN6<SN7,(SN7-SN6),0),0)+IF(SQ6=\"y\",IF(SP6>SP7,(SP6-SP7),0),0)))","v":"00:00:00"},null,null,null,{"$f":"IF(TC4=\"v\",0,IF(TD1=\"Lauantai\",TB11,IF(TD1=\"Sunnuntai\",TB11,IF(TC2=\"h\",TB11,IF(TB10=\"\",0,IF(SX10=\"\",0,IF(SZ11<TC11,SZ11,TC11)))))))+TD11","v":"00:00:00"},null,{"$f":"IF(TB10=\"\",0,IF(SZ10=\"\",TB11,TB10-SZ10))","v":"00:00:00"},null,{"$f":"IF(TB10=\"\",0,TB10-SX10)","v":"00:00:00"},{"$f":"IF(TB11<TC10,0,IF(TB10=\"\",0,IF(SX10=\"\",0,TB11-TC10)))","v":"00:00:00"},{"$f":"IF(SX4=\"\",0,IF(SY4=\"ep\",SZ4-SX4,IF(SY4=\"y\",IF(SX4<SX7,(SX7-SX4),0),0)+IF(TA4=\"y\",IF(SZ4>SZ7,(SZ4-SZ7),0),0)))+IF(SX5=\"\",0,IF(SY5=\"ep\",SZ5-SX5,IF(SY5=\"y\",IF(SX5<SX7,(SX7-SX5),0),0)+IF(TA5=\"y\",IF(SZ5>SZ7,(SZ5-SZ7),0),0)))+IF(SX6=\"\",0,IF(SY6=\"ep\",SZ6-SX6,IF(SY6=\"y\",IF(SX6<SX7,(SX7-SX6),0),0)+IF(TA6=\"y\",IF(SZ6>SZ7,(SZ6-SZ7),0),0)))","v":"00:00:00"},null,null,null,{"$f":"IF(TM4=\"v\",0,IF(TN1=\"Lauantai\",TL11,IF(TN1=\"Sunnuntai\",TL11,IF(TM2=\"h\",TL11,IF(TL10=\"\",0,IF(TH10=\"\",0,IF(TJ11<TM11,TJ11,TM11)))))))+TN11","v":"00:00:00"},null,{"$f":"IF(TL10=\"\",0,IF(TJ10=\"\",TL11,TL10-TJ10))","v":"00:00:00"},null,{"$f":"IF(TL10=\"\",0,TL10-TH10)","v":"00:00:00"},{"$f":"IF(TL11<TM10,0,IF(TL10=\"\",0,IF(TH10=\"\",0,TL11-TM10)))","v":"00:00:00"},{"$f":"IF(TH4=\"\",0,IF(TI4=\"ep\",TJ4-TH4,IF(TI4=\"y\",IF(TH4<TH7,(TH7-TH4),0),0)+IF(TK4=\"y\",IF(TJ4>TJ7,(TJ4-TJ7),0),0)))+IF(TH5=\"\",0,IF(TI5=\"ep\",TJ5-TH5,IF(TI5=\"y\",IF(TH5<TH7,(TH7-TH5),0),0)+IF(TK5=\"y\",IF(TJ5>TJ7,(TJ5-TJ7),0),0)))+IF(TH6=\"\",0,IF(TI6=\"ep\",TJ6-TH6,IF(TI6=\"y\",IF(TH6<TH7,(TH7-TH6),0),0)+IF(TK6=\"y\",IF(TJ6>TJ7,(TJ6-TJ7),0),0)))","v":"00:00:00"},null,null,null,{"$f":"IF(TW4=\"v\",0,IF(TX1=\"Lauantai\",TV11,IF(TX1=\"Sunnuntai\",TV11,IF(TW2=\"h\",TV11,IF(TV10=\"\",0,IF(TR10=\"\",0,IF(TT11<TW11,TT11,TW11)))))))+TX11","v":"00:00:00"},null,{"$f":"IF(TV10=\"\",0,IF(TT10=\"\",TV11,TV10-TT10))","v":"00:00:00"},null,{"$f":"IF(TV10=\"\",0,TV10-TR10)","v":"00:00:00"},{"$f":"IF(TV11<TW10,0,IF(TV10=\"\",0,IF(TR10=\"\",0,TV11-TW10)))","v":"00:00:00"},{"$f":"IF(TR4=\"\",0,IF(TS4=\"ep\",TT4-TR4,IF(TS4=\"y\",IF(TR4<TR7,(TR7-TR4),0),0)+IF(TU4=\"y\",IF(TT4>TT7,(TT4-TT7),0),0)))+IF(TR5=\"\",0,IF(TS5=\"ep\",TT5-TR5,IF(TS5=\"y\",IF(TR5<TR7,(TR7-TR5),0),0)+IF(TU5=\"y\",IF(TT5>TT7,(TT5-TT7),0),0)))+IF(TR6=\"\",0,IF(TS6=\"ep\",TT6-TR6,IF(TS6=\"y\",IF(TR6<TR7,(TR7-TR6),0),0)+IF(TU6=\"y\",IF(TT6>TT7,(TT6-TT7),0),0)))","v":"00:00:00"},null,null,null,{"$f":"IF(UG4=\"v\",0,IF(UH1=\"Lauantai\",UF11,IF(UH1=\"Sunnuntai\",UF11,IF(UG2=\"h\",UF11,IF(UF10=\"\",0,IF(UB10=\"\",0,IF(UD11<UG11,UD11,UG11)))))))+UH11","v":"00:00:00"},null,{"$f":"IF(UF10=\"\",0,IF(UD10=\"\",UF11,UF10-UD10))","v":"00:00:00"},null,{"$f":"IF(UF10=\"\",0,UF10-UB10)","v":"00:00:00"},{"$f":"IF(UF11<UG10,0,IF(UF10=\"\",0,IF(UB10=\"\",0,UF11-UG10)))","v":"00:00:00"},{"$f":"IF(UB4=\"\",0,IF(UC4=\"ep\",UD4-UB4,IF(UC4=\"y\",IF(UB4<UB7,(UB7-UB4),0),0)+IF(UE4=\"y\",IF(UD4>UD7,(UD4-UD7),0),0)))+IF(UB5=\"\",0,IF(UC5=\"ep\",UD5-UB5,IF(UC5=\"y\",IF(UB5<UB7,(UB7-UB5),0),0)+IF(UE5=\"y\",IF(UD5>UD7,(UD5-UD7),0),0)))+IF(UB6=\"\",0,IF(UC6=\"ep\",UD6-UB6,IF(UC6=\"y\",IF(UB6<UB7,(UB7-UB6),0),0)+IF(UE6=\"y\",IF(UD6>UD7,(UD6-UD7),0),0)))","v":"00:00:00"},null,null,null,{"$f":"IF(UQ4=\"v\",0,IF(UR1=\"Lauantai\",UP11,IF(UR1=\"Sunnuntai\",UP11,IF(UQ2=\"h\",UP11,IF(UP10=\"\",0,IF(UL10=\"\",0,IF(UN11<UQ11,UN11,UQ11)))))))+UR11","v":"00:00:00"},null,{"$f":"IF(UP10=\"\",0,IF(UN10=\"\",UP11,UP10-UN10))","v":"00:00:00"},null,{"$f":"IF(UP10=\"\",0,UP10-UL10)","v":"00:00:00"},{"$f":"IF(UP11<UQ10,0,IF(UP10=\"\",0,IF(UL10=\"\",0,UP11-UQ10)))","v":"00:00:00"},{"$f":"IF(UL4=\"\",0,IF(UM4=\"ep\",UN4-UL4,IF(UM4=\"y\",IF(UL4<UL7,(UL7-UL4),0),0)+IF(UO4=\"y\",IF(UN4>UN7,(UN4-UN7),0),0)))+IF(UL5=\"\",0,IF(UM5=\"ep\",UN5-UL5,IF(UM5=\"y\",IF(UL5<UL7,(UL7-UL5),0),0)+IF(UO5=\"y\",IF(UN5>UN7,(UN5-UN7),0),0)))+IF(UL6=\"\",0,IF(UM6=\"ep\",UN6-UL6,IF(UM6=\"y\",IF(UL6<UL7,(UL7-UL6),0),0)+IF(UO6=\"y\",IF(UN6>UN7,(UN6-UN7),0),0)))","v":"00:00:00"},null,null,null,{"$f":"IF(VA4=\"v\",0,IF(VB1=\"Lauantai\",UZ11,IF(VB1=\"Sunnuntai\",UZ11,IF(VA2=\"h\",UZ11,IF(UZ10=\"\",0,IF(UV10=\"\",0,IF(UX11<VA11,UX11,VA11)))))))+VB11","v":"00:00:00"},null,{"$f":"IF(UZ10=\"\",0,IF(UX10=\"\",UZ11,UZ10-UX10))","v":"00:00:00"},null,{"$f":"IF(UZ10=\"\",0,UZ10-UV10)","v":"00:00:00"},{"$f":"IF(UZ11<VA10,0,IF(UZ10=\"\",0,IF(UV10=\"\",0,UZ11-VA10)))","v":"00:00:00"},{"$f":"IF(UV4=\"\",0,IF(UW4=\"ep\",UX4-UV4,IF(UW4=\"y\",IF(UV4<UV7,(UV7-UV4),0),0)+IF(UY4=\"y\",IF(UX4>UX7,(UX4-UX7),0),0)))+IF(UV5=\"\",0,IF(UW5=\"ep\",UX5-UV5,IF(UW5=\"y\",IF(UV5<UV7,(UV7-UV5),0),0)+IF(UY5=\"y\",IF(UX5>UX7,(UX5-UX7),0),0)))+IF(UV6=\"\",0,IF(UW6=\"ep\",UX6-UV6,IF(UW6=\"y\",IF(UV6<UV7,(UV7-UV6),0),0)+IF(UY6=\"y\",IF(UX6>UX7,(UX6-UX7),0),0)))","v":"00:00:00"},null,null,null,{"$f":"IF(VK4=\"v\",0,IF(VL1=\"Lauantai\",VJ11,IF(VL1=\"Sunnuntai\",VJ11,IF(VK2=\"h\",VJ11,IF(VJ10=\"\",0,IF(VF10=\"\",0,IF(VH11<VK11,VH11,VK11)))))))+VL11","v":"00:00:00"},null,{"$f":"IF(VJ10=\"\",0,IF(VH10=\"\",VJ11,VJ10-VH10))","v":"00:00:00"},null,{"$f":"IF(VJ10=\"\",0,VJ10-VF10)","v":"00:00:00"},{"$f":"IF(VJ11<VK10,0,IF(VJ10=\"\",0,IF(VF10=\"\",0,VJ11-VK10)))","v":"00:00:00"},{"$f":"IF(VF4=\"\",0,IF(VG4=\"ep\",VH4-VF4,IF(VG4=\"y\",IF(VF4<VF7,(VF7-VF4),0),0)+IF(VI4=\"y\",IF(VH4>VH7,(VH4-VH7),0),0)))+IF(VF5=\"\",0,IF(VG5=\"ep\",VH5-VF5,IF(VG5=\"y\",IF(VF5<VF7,(VF7-VF5),0),0)+IF(VI5=\"y\",IF(VH5>VH7,(VH5-VH7),0),0)))+IF(VF6=\"\",0,IF(VG6=\"ep\",VH6-VF6,IF(VG6=\"y\",IF(VF6<VF7,(VF7-VF6),0),0)+IF(VI6=\"y\",IF(VH6>VH7,(VH6-VH7),0),0)))","v":"00:00:00"},null,null,null,{"$f":"IF(VU4=\"v\",0,IF(VV1=\"Lauantai\",VT11,IF(VV1=\"Sunnuntai\",VT11,IF(VU2=\"h\",VT11,IF(VT10=\"\",0,IF(VP10=\"\",0,IF(VR11<VU11,VR11,VU11)))))))+VV11","v":"00:00:00"},null,{"$f":"IF(VT10=\"\",0,IF(VR10=\"\",VT11,VT10-VR10))","v":"00:00:00"},null,{"$f":"IF(VT10=\"\",0,VT10-VP10)","v":"00:00:00"},{"$f":"IF(VT11<VU10,0,IF(VT10=\"\",0,IF(VP10=\"\",0,VT11-VU10)))","v":"00:00:00"},{"$f":"IF(VP4=\"\",0,IF(VQ4=\"ep\",VR4-VP4,IF(VQ4=\"y\",IF(VP4<VP7,(VP7-VP4),0),0)+IF(VS4=\"y\",IF(VR4>VR7,(VR4-VR7),0),0)))+IF(VP5=\"\",0,IF(VQ5=\"ep\",VR5-VP5,IF(VQ5=\"y\",IF(VP5<VP7,(VP7-VP5),0),0)+IF(VS5=\"y\",IF(VR5>VR7,(VR5-VR7),0),0)))+IF(VP6=\"\",0,IF(VQ6=\"ep\",VR6-VP6,IF(VQ6=\"y\",IF(VP6<VP7,(VP7-VP6),0),0)+IF(VS6=\"y\",IF(VR6>VR7,(VR6-VR7),0),0)))","v":"00:00:00"},null,null,null,{"$f":"IF(WE4=\"v\",0,IF(WF1=\"Lauantai\",WD11,IF(WF1=\"Sunnuntai\",WD11,IF(WE2=\"h\",WD11,IF(WD10=\"\",0,IF(VZ10=\"\",0,IF(WB11<WE11,WB11,WE11)))))))+WF11","v":"00:00:00"},null,{"$f":"IF(WD10=\"\",0,IF(WB10=\"\",WD11,WD10-WB10))","v":"00:00:00"},null,{"$f":"IF(WD10=\"\",0,WD10-VZ10)","v":"00:00:00"},{"$f":"IF(WD11<WE10,0,IF(WD10=\"\",0,IF(VZ10=\"\",0,WD11-WE10)))","v":"00:00:00"},{"$f":"IF(VZ4=\"\",0,IF(WA4=\"ep\",WB4-VZ4,IF(WA4=\"y\",IF(VZ4<VZ7,(VZ7-VZ4),0),0)+IF(WC4=\"y\",IF(WB4>WB7,(WB4-WB7),0),0)))+IF(VZ5=\"\",0,IF(WA5=\"ep\",WB5-VZ5,IF(WA5=\"y\",IF(VZ5<VZ7,(VZ7-VZ5),0),0)+IF(WC5=\"y\",IF(WB5>WB7,(WB5-WB7),0),0)))+IF(VZ6=\"\",0,IF(WA6=\"ep\",WB6-VZ6,IF(WA6=\"y\",IF(VZ6<VZ7,(VZ7-VZ6),0),0)+IF(WC6=\"y\",IF(WB6>WB7,(WB6-WB7),0),0)))","v":"00:00:00"},null,null,null,{"$f":"IF(WO4=\"v\",0,IF(WP1=\"Lauantai\",WN11,IF(WP1=\"Sunnuntai\",WN11,IF(WO2=\"h\",WN11,IF(WN10=\"\",0,IF(WJ10=\"\",0,IF(WL11<WO11,WL11,WO11)))))))+WP11","v":"00:00:00"},null,{"$f":"IF(WN10=\"\",0,IF(WL10=\"\",WN11,WN10-WL10))","v":"00:00:00"},null,{"$f":"IF(WN10=\"\",0,WN10-WJ10)","v":"00:00:00"},{"$f":"IF(WN11<WO10,0,IF(WN10=\"\",0,IF(WJ10=\"\",0,WN11-WO10)))","v":"00:00:00"},{"$f":"IF(WJ4=\"\",0,IF(WK4=\"ep\",WL4-WJ4,IF(WK4=\"y\",IF(WJ4<WJ7,(WJ7-WJ4),0),0)+IF(WM4=\"y\",IF(WL4>WL7,(WL4-WL7),0),0)))+IF(WJ5=\"\",0,IF(WK5=\"ep\",WL5-WJ5,IF(WK5=\"y\",IF(WJ5<WJ7,(WJ7-WJ5),0),0)+IF(WM5=\"y\",IF(WL5>WL7,(WL5-WL7),0),0)))+IF(WJ6=\"\",0,IF(WK6=\"ep\",WL6-WJ6,IF(WK6=\"y\",IF(WJ6<WJ7,(WJ7-WJ6),0),0)+IF(WM6=\"y\",IF(WL6>WL7,(WL6-WL7),0),0)))","v":"00:00:00"},null,null,null,{"$f":"IF(WY4=\"v\",0,IF(WZ1=\"Lauantai\",WX11,IF(WZ1=\"Sunnuntai\",WX11,IF(WY2=\"h\",WX11,IF(WX10=\"\",0,IF(WT10=\"\",0,IF(WV11<WY11,WV11,WY11)))))))+WZ11","v":"00:00:00"},null,{"$f":"IF(WX10=\"\",0,IF(WV10=\"\",WX11,WX10-WV10))","v":"00:00:00"},null,{"$f":"IF(WX10=\"\",0,WX10-WT10)","v":"00:00:00"},{"$f":"IF(WX11<WY10,0,IF(WX10=\"\",0,IF(WT10=\"\",0,WX11-WY10)))","v":"00:00:00"},{"$f":"IF(WT4=\"\",0,IF(WU4=\"ep\",WV4-WT4,IF(WU4=\"y\",IF(WT4<WT7,(WT7-WT4),0),0)+IF(WW4=\"y\",IF(WV4>WV7,(WV4-WV7),0),0)))+IF(WT5=\"\",0,IF(WU5=\"ep\",WV5-WT5,IF(WU5=\"y\",IF(WT5<WT7,(WT7-WT5),0),0)+IF(WW5=\"y\",IF(WV5>WV7,(WV5-WV7),0),0)))+IF(WT6=\"\",0,IF(WU6=\"ep\",WV6-WT6,IF(WU6=\"y\",IF(WT6<WT7,(WT7-WT6),0),0)+IF(WW6=\"y\",IF(WV6>WV7,(WV6-WV7),0),0)))","v":"00:00:00"},null,null,null,{"$f":"IF(XI4=\"v\",0,IF(XJ1=\"Lauantai\",XH11,IF(XJ1=\"Sunnuntai\",XH11,IF(XI2=\"h\",XH11,IF(XH10=\"\",0,IF(XD10=\"\",0,IF(XF11<XI11,XF11,XI11)))))))+XJ11","v":"00:00:00"},null,{"$f":"IF(XH10=\"\",0,IF(XF10=\"\",XH11,XH10-XF10))","v":"00:00:00"},null,{"$f":"IF(XH10=\"\",0,XH10-XD10)","v":"00:00:00"},{"$f":"IF(XH11<XI10,0,IF(XH10=\"\",0,IF(XD10=\"\",0,XH11-XI10)))","v":"00:00:00"},{"$f":"IF(XD4=\"\",0,IF(XE4=\"ep\",XF4-XD4,IF(XE4=\"y\",IF(XD4<XD7,(XD7-XD4),0),0)+IF(XG4=\"y\",IF(XF4>XF7,(XF4-XF7),0),0)))+IF(XD5=\"\",0,IF(XE5=\"ep\",XF5-XD5,IF(XE5=\"y\",IF(XD5<XD7,(XD7-XD5),0),0)+IF(XG5=\"y\",IF(XF5>XF7,(XF5-XF7),0),0)))+IF(XD6=\"\",0,IF(XE6=\"ep\",XF6-XD6,IF(XE6=\"y\",IF(XD6<XD7,(XD7-XD6),0),0)+IF(XG6=\"y\",IF(XF6>XF7,(XF6-XF7),0),0)))","v":"00:00:00"},null,null,null,{"$f":"IF(XS4=\"v\",0,IF(XT1=\"Lauantai\",XR11,IF(XT1=\"Sunnuntai\",XR11,IF(XS2=\"h\",XR11,IF(XR10=\"\",0,IF(XN10=\"\",0,IF(XP11<XS11,XP11,XS11)))))))+XT11","v":"00:00:00"},null,{"$f":"IF(XR10=\"\",0,IF(XP10=\"\",XR11,XR10-XP10))","v":"00:00:00"},null,{"$f":"IF(XR10=\"\",0,XR10-XN10)","v":"00:00:00"},{"$f":"IF(XR11<XS10,0,IF(XR10=\"\",0,IF(XN10=\"\",0,XR11-XS10)))","v":"00:00:00"},{"$f":"IF(XN4=\"\",0,IF(XO4=\"ep\",XP4-XN4,IF(XO4=\"y\",IF(XN4<XN7,(XN7-XN4),0),0)+IF(XQ4=\"y\",IF(XP4>XP7,(XP4-XP7),0),0)))+IF(XN5=\"\",0,IF(XO5=\"ep\",XP5-XN5,IF(XO5=\"y\",IF(XN5<XN7,(XN7-XN5),0),0)+IF(XQ5=\"y\",IF(XP5>XP7,(XP5-XP7),0),0)))+IF(XN6=\"\",0,IF(XO6=\"ep\",XP6-XN6,IF(XO6=\"y\",IF(XN6<XN7,(XN7-XN6),0),0)+IF(XQ6=\"y\",IF(XP6>XP7,(XP6-XP7),0),0)))","v":"00:00:00"},null,null,null,{"$f":"IF(YC4=\"v\",0,IF(YD1=\"Lauantai\",YB11,IF(YD1=\"Sunnuntai\",YB11,IF(YC2=\"h\",YB11,IF(YB10=\"\",0,IF(XX10=\"\",0,IF(XZ11<YC11,XZ11,YC11)))))))+YD11","v":"00:00:00"},null,{"$f":"IF(YB10=\"\",0,IF(XZ10=\"\",YB11,YB10-XZ10))","v":"00:00:00"},null,{"$f":"IF(YB10=\"\",0,YB10-XX10)","v":"00:00:00"},{"$f":"IF(YB11<YC10,0,IF(YB10=\"\",0,IF(XX10=\"\",0,YB11-YC10)))","v":"00:00:00"},{"$f":"IF(XX4=\"\",0,IF(XY4=\"ep\",XZ4-XX4,IF(XY4=\"y\",IF(XX4<XX7,(XX7-XX4),0),0)+IF(YA4=\"y\",IF(XZ4>XZ7,(XZ4-XZ7),0),0)))+IF(XX5=\"\",0,IF(XY5=\"ep\",XZ5-XX5,IF(XY5=\"y\",IF(XX5<XX7,(XX7-XX5),0),0)+IF(YA5=\"y\",IF(XZ5>XZ7,(XZ5-XZ7),0),0)))+IF(XX6=\"\",0,IF(XY6=\"ep\",XZ6-XX6,IF(XY6=\"y\",IF(XX6<XX7,(XX7-XX6),0),0)+IF(YA6=\"y\",IF(XZ6>XZ7,(XZ6-XZ7),0),0)))","v":"00:00:00"},null,null,null,{"$f":"IF(YM4=\"v\",0,IF(YN1=\"Lauantai\",YL11,IF(YN1=\"Sunnuntai\",YL11,IF(YM2=\"h\",YL11,IF(YL10=\"\",0,IF(YH10=\"\",0,IF(YJ11<YM11,YJ11,YM11)))))))+YN11","v":"00:00:00"},null,{"$f":"IF(YL10=\"\",0,IF(YJ10=\"\",YL11,YL10-YJ10))","v":"00:00:00"},null,{"$f":"IF(YL10=\"\",0,YL10-YH10)","v":"00:00:00"},{"$f":"IF(YL11<YM10,0,IF(YL10=\"\",0,IF(YH10=\"\",0,YL11-YM10)))","v":"00:00:00"},{"$f":"IF(YH4=\"\",0,IF(YI4=\"ep\",YJ4-YH4,IF(YI4=\"y\",IF(YH4<YH7,(YH7-YH4),0),0)+IF(YK4=\"y\",IF(YJ4>YJ7,(YJ4-YJ7),0),0)))+IF(YH5=\"\",0,IF(YI5=\"ep\",YJ5-YH5,IF(YI5=\"y\",IF(YH5<YH7,(YH7-YH5),0),0)+IF(YK5=\"y\",IF(YJ5>YJ7,(YJ5-YJ7),0),0)))+IF(YH6=\"\",0,IF(YI6=\"ep\",YJ6-YH6,IF(YI6=\"y\",IF(YH6<YH7,(YH7-YH6),0),0)+IF(YK6=\"y\",IF(YJ6>YJ7,(YJ6-YJ7),0),0)))","v":"00:00:00"},null,null,null,{"$f":"IF(YW4=\"v\",0,IF(YX1=\"Lauantai\",YV11,IF(YX1=\"Sunnuntai\",YV11,IF(YW2=\"h\",YV11,IF(YV10=\"\",0,IF(YR10=\"\",0,IF(YT11<YW11,YT11,YW11)))))))+YX11","v":"00:00:00"},null,{"$f":"IF(YV10=\"\",0,IF(YT10=\"\",YV11,YV10-YT10))","v":"00:00:00"},null,{"$f":"IF(YV10=\"\",0,YV10-YR10)","v":"00:00:00"},{"$f":"IF(YV11<YW10,0,IF(YV10=\"\",0,IF(YR10=\"\",0,YV11-YW10)))","v":"00:00:00"},{"$f":"IF(YR4=\"\",0,IF(YS4=\"ep\",YT4-YR4,IF(YS4=\"y\",IF(YR4<YR7,(YR7-YR4),0),0)+IF(YU4=\"y\",IF(YT4>YT7,(YT4-YT7),0),0)))+IF(YR5=\"\",0,IF(YS5=\"ep\",YT5-YR5,IF(YS5=\"y\",IF(YR5<YR7,(YR7-YR5),0),0)+IF(YU5=\"y\",IF(YT5>YT7,(YT5-YT7),0),0)))+IF(YR6=\"\",0,IF(YS6=\"ep\",YT6-YR6,IF(YS6=\"y\",IF(YR6<YR7,(YR7-YR6),0),0)+IF(YU6=\"y\",IF(YT6>YT7,(YT6-YT7),0),0)))","v":"00:00:00"},null,null,null,{"$f":"IF(ZG4=\"v\",0,IF(ZH1=\"Lauantai\",ZF11,IF(ZH1=\"Sunnuntai\",ZF11,IF(ZG2=\"h\",ZF11,IF(ZF10=\"\",0,IF(ZB10=\"\",0,IF(ZD11<ZG11,ZD11,ZG11)))))))+ZH11","v":"00:00:00"},null,{"$f":"IF(ZF10=\"\",0,IF(ZD10=\"\",ZF11,ZF10-ZD10))","v":"00:00:00"},null,{"$f":"IF(ZF10=\"\",0,ZF10-ZB10)","v":"00:00:00"},{"$f":"IF(ZF11<ZG10,0,IF(ZF10=\"\",0,IF(ZB10=\"\",0,ZF11-ZG10)))","v":"00:00:00"},{"$f":"IF(ZB4=\"\",0,IF(ZC4=\"ep\",ZD4-ZB4,IF(ZC4=\"y\",IF(ZB4<ZB7,(ZB7-ZB4),0),0)+IF(ZE4=\"y\",IF(ZD4>ZD7,(ZD4-ZD7),0),0)))+IF(ZB5=\"\",0,IF(ZC5=\"ep\",ZD5-ZB5,IF(ZC5=\"y\",IF(ZB5<ZB7,(ZB7-ZB5),0),0)+IF(ZE5=\"y\",IF(ZD5>ZD7,(ZD5-ZD7),0),0)))+IF(ZB6=\"\",0,IF(ZC6=\"ep\",ZD6-ZB6,IF(ZC6=\"y\",IF(ZB6<ZB7,(ZB7-ZB6),0),0)+IF(ZE6=\"y\",IF(ZD6>ZD7,(ZD6-ZD7),0),0)))","v":"00:00:00"},null,null,null,{"$f":"IF(ZQ4=\"v\",0,IF(ZR1=\"Lauantai\",ZP11,IF(ZR1=\"Sunnuntai\",ZP11,IF(ZQ2=\"h\",ZP11,IF(ZP10=\"\",0,IF(ZL10=\"\",0,IF(ZN11<ZQ11,ZN11,ZQ11)))))))+ZR11","v":"00:00:00"},null,{"$f":"IF(ZP10=\"\",0,IF(ZN10=\"\",ZP11,ZP10-ZN10))","v":"00:00:00"},null,{"$f":"IF(ZP10=\"\",0,ZP10-ZL10)","v":"00:00:00"},{"$f":"IF(ZP11<ZQ10,0,IF(ZP10=\"\",0,IF(ZL10=\"\",0,ZP11-ZQ10)))","v":"00:00:00"},{"$f":"IF(ZL4=\"\",0,IF(ZM4=\"ep\",ZN4-ZL4,IF(ZM4=\"y\",IF(ZL4<ZL7,(ZL7-ZL4),0),0)+IF(ZO4=\"y\",IF(ZN4>ZN7,(ZN4-ZN7),0),0)))+IF(ZL5=\"\",0,IF(ZM5=\"ep\",ZN5-ZL5,IF(ZM5=\"y\",IF(ZL5<ZL7,(ZL7-ZL5),0),0)+IF(ZO5=\"y\",IF(ZN5>ZN7,(ZN5-ZN7),0),0)))+IF(ZL6=\"\",0,IF(ZM6=\"ep\",ZN6-ZL6,IF(ZM6=\"y\",IF(ZL6<ZL7,(ZL7-ZL6),0),0)+IF(ZO6=\"y\",IF(ZN6>ZN7,(ZN6-ZN7),0),0)))","v":"00:00:00"},null,null,null,{"$f":"IF(AAA4=\"v\",0,IF(AAB1=\"Lauantai\",ZZ11,IF(AAB1=\"Sunnuntai\",ZZ11,IF(AAA2=\"h\",ZZ11,IF(ZZ10=\"\",0,IF(ZV10=\"\",0,IF(ZX11<AAA11,ZX11,AAA11)))))))+AAB11","v":"00:00:00"},null,{"$f":"IF(ZZ10=\"\",0,IF(ZX10=\"\",ZZ11,ZZ10-ZX10))","v":"00:00:00"},null,{"$f":"IF(ZZ10=\"\",0,ZZ10-ZV10)","v":"00:00:00"},{"$f":"IF(ZZ11<AAA10,0,IF(ZZ10=\"\",0,IF(ZV10=\"\",0,ZZ11-AAA10)))","v":"00:00:00"},{"$f":"IF(ZV4=\"\",0,IF(ZW4=\"ep\",ZX4-ZV4,IF(ZW4=\"y\",IF(ZV4<ZV7,(ZV7-ZV4),0),0)+IF(ZY4=\"y\",IF(ZX4>ZX7,(ZX4-ZX7),0),0)))+IF(ZV5=\"\",0,IF(ZW5=\"ep\",ZX5-ZV5,IF(ZW5=\"y\",IF(ZV5<ZV7,(ZV7-ZV5),0),0)+IF(ZY5=\"y\",IF(ZX5>ZX7,(ZX5-ZX7),0),0)))+IF(ZV6=\"\",0,IF(ZW6=\"ep\",ZX6-ZV6,IF(ZW6=\"y\",IF(ZV6<ZV7,(ZV7-ZV6),0),0)+IF(ZY6=\"y\",IF(ZX6>ZX7,(ZX6-ZX7),0),0)))","v":"00:00:00"},null,null,null,{"$f":"IF(AAK4=\"v\",0,IF(AAL1=\"Lauantai\",AAJ11,IF(AAL1=\"Sunnuntai\",AAJ11,IF(AAK2=\"h\",AAJ11,IF(AAJ10=\"\",0,IF(AAF10=\"\",0,IF(AAH11<AAK11,AAH11,AAK11)))))))+AAL11","v":"00:00:00"},null,{"$f":"IF(AAJ10=\"\",0,IF(AAH10=\"\",AAJ11,AAJ10-AAH10))","v":"00:00:00"},null,{"$f":"IF(AAJ10=\"\",0,AAJ10-AAF10)","v":"00:00:00"},{"$f":"IF(AAJ11<AAK10,0,IF(AAJ10=\"\",0,IF(AAF10=\"\",0,AAJ11-AAK10)))","v":"00:00:00"},{"$f":"IF(AAF4=\"\",0,IF(AAG4=\"ep\",AAH4-AAF4,IF(AAG4=\"y\",IF(AAF4<AAF7,(AAF7-AAF4),0),0)+IF(AAI4=\"y\",IF(AAH4>AAH7,(AAH4-AAH7),0),0)))+IF(AAF5=\"\",0,IF(AAG5=\"ep\",AAH5-AAF5,IF(AAG5=\"y\",IF(AAF5<AAF7,(AAF7-AAF5),0),0)+IF(AAI5=\"y\",IF(AAH5>AAH7,(AAH5-AAH7),0),0)))+IF(AAF6=\"\",0,IF(AAG6=\"ep\",AAH6-AAF6,IF(AAG6=\"y\",IF(AAF6<AAF7,(AAF7-AAF6),0),0)+IF(AAI6=\"y\",IF(AAH6>AAH7,(AAH6-AAH7),0),0)))","v":"00:00:00"},null,null,null,{"$f":"IF(AAU4=\"v\",0,IF(AAV1=\"Lauantai\",AAT11,IF(AAV1=\"Sunnuntai\",AAT11,IF(AAU2=\"h\",AAT11,IF(AAT10=\"\",0,IF(AAP10=\"\",0,IF(AAR11<AAU11,AAR11,AAU11)))))))+AAV11","v":"00:00:00"},null,{"$f":"IF(AAT10=\"\",0,IF(AAR10=\"\",AAT11,AAT10-AAR10))","v":"00:00:00"},null,{"$f":"IF(AAT10=\"\",0,AAT10-AAP10)","v":"00:00:00"},{"$f":"IF(AAT11<AAU10,0,IF(AAT10=\"\",0,IF(AAP10=\"\",0,AAT11-AAU10)))","v":"00:00:00"},{"$f":"IF(AAP4=\"\",0,IF(AAQ4=\"ep\",AAR4-AAP4,IF(AAQ4=\"y\",IF(AAP4<AAP7,(AAP7-AAP4),0),0)+IF(AAS4=\"y\",IF(AAR4>AAR7,(AAR4-AAR7),0),0)))+IF(AAP5=\"\",0,IF(AAQ5=\"ep\",AAR5-AAP5,IF(AAQ5=\"y\",IF(AAP5<AAP7,(AAP7-AAP5),0),0)+IF(AAS5=\"y\",IF(AAR5>AAR7,(AAR5-AAR7),0),0)))+IF(AAP6=\"\",0,IF(AAQ6=\"ep\",AAR6-AAP6,IF(AAQ6=\"y\",IF(AAP6<AAP7,(AAP7-AAP6),0),0)+IF(AAS6=\"y\",IF(AAR6>AAR7,(AAR6-AAR7),0),0)))","v":"00:00:00"},null,null,null,{"$f":"IF(ABE4=\"v\",0,IF(ABF1=\"Lauantai\",ABD11,IF(ABF1=\"Sunnuntai\",ABD11,IF(ABE2=\"h\",ABD11,IF(ABD10=\"\",0,IF(AAZ10=\"\",0,IF(ABB11<ABE11,ABB11,ABE11)))))))+ABF11","v":"00:00:00"},null,{"$f":"IF(ABD10=\"\",0,IF(ABB10=\"\",ABD11,ABD10-ABB10))","v":"00:00:00"},null,{"$f":"IF(ABD10=\"\",0,ABD10-AAZ10)","v":"00:00:00"},{"$f":"IF(ABD11<ABE10,0,IF(ABD10=\"\",0,IF(AAZ10=\"\",0,ABD11-ABE10)))","v":"00:00:00"},{"$f":"IF(AAZ4=\"\",0,IF(ABA4=\"ep\",ABB4-AAZ4,IF(ABA4=\"y\",IF(AAZ4<AAZ7,(AAZ7-AAZ4),0),0)+IF(ABC4=\"y\",IF(ABB4>ABB7,(ABB4-ABB7),0),0)))+IF(AAZ5=\"\",0,IF(ABA5=\"ep\",ABB5-AAZ5,IF(ABA5=\"y\",IF(AAZ5<AAZ7,(AAZ7-AAZ5),0),0)+IF(ABC5=\"y\",IF(ABB5>ABB7,(ABB5-ABB7),0),0)))+IF(AAZ6=\"\",0,IF(ABA6=\"ep\",ABB6-AAZ6,IF(ABA6=\"y\",IF(AAZ6<AAZ7,(AAZ7-AAZ6),0),0)+IF(ABC6=\"y\",IF(ABB6>ABB7,(ABB6-ABB7),0),0)))","v":"00:00:00"},null,null,null,{"$f":"IF(ABO4=\"v\",0,IF(ABP1=\"Lauantai\",ABN11,IF(ABP1=\"Sunnuntai\",ABN11,IF(ABO2=\"h\",ABN11,IF(ABN10=\"\",0,IF(ABJ10=\"\",0,IF(ABL11<ABO11,ABL11,ABO11)))))))+ABP11","v":"00:00:00"},null,{"$f":"IF(ABN10=\"\",0,IF(ABL10=\"\",ABN11,ABN10-ABL10))","v":"00:00:00"},null,{"$f":"IF(ABN10=\"\",0,ABN10-ABJ10)","v":"00:00:00"},{"$f":"IF(ABN11<ABO10,0,IF(ABN10=\"\",0,IF(ABJ10=\"\",0,ABN11-ABO10)))","v":"00:00:00"},{"$f":"IF(ABJ4=\"\",0,IF(ABK4=\"ep\",ABL4-ABJ4,IF(ABK4=\"y\",IF(ABJ4<ABJ7,(ABJ7-ABJ4),0),0)+IF(ABM4=\"y\",IF(ABL4>ABL7,(ABL4-ABL7),0),0)))+IF(ABJ5=\"\",0,IF(ABK5=\"ep\",ABL5-ABJ5,IF(ABK5=\"y\",IF(ABJ5<ABJ7,(ABJ7-ABJ5),0),0)+IF(ABM5=\"y\",IF(ABL5>ABL7,(ABL5-ABL7),0),0)))+IF(ABJ6=\"\",0,IF(ABK6=\"ep\",ABL6-ABJ6,IF(ABK6=\"y\",IF(ABJ6<ABJ7,(ABJ7-ABJ6),0),0)+IF(ABM6=\"y\",IF(ABL6>ABL7,(ABL6-ABL7),0),0)))","v":"00:00:00"},null,null,null,{"$f":"IF(ABY4=\"v\",0,IF(ABZ1=\"Lauantai\",ABX11,IF(ABZ1=\"Sunnuntai\",ABX11,IF(ABY2=\"h\",ABX11,IF(ABX10=\"\",0,IF(ABT10=\"\",0,IF(ABV11<ABY11,ABV11,ABY11)))))))+ABZ11","v":"00:00:00"},null,{"$f":"IF(ABX10=\"\",0,IF(ABV10=\"\",ABX11,ABX10-ABV10))","v":"00:00:00"},null,{"$f":"IF(ABX10=\"\",0,ABX10-ABT10)","v":"00:00:00"},{"$f":"IF(ABX11<ABY10,0,IF(ABX10=\"\",0,IF(ABT10=\"\",0,ABX11-ABY10)))","v":"00:00:00"},{"$f":"IF(ABT4=\"\",0,IF(ABU4=\"ep\",ABV4-ABT4,IF(ABU4=\"y\",IF(ABT4<ABT7,(ABT7-ABT4),0),0)+IF(ABW4=\"y\",IF(ABV4>ABV7,(ABV4-ABV7),0),0)))+IF(ABT5=\"\",0,IF(ABU5=\"ep\",ABV5-ABT5,IF(ABU5=\"y\",IF(ABT5<ABT7,(ABT7-ABT5),0),0)+IF(ABW5=\"y\",IF(ABV5>ABV7,(ABV5-ABV7),0),0)))+IF(ABT6=\"\",0,IF(ABU6=\"ep\",ABV6-ABT6,IF(ABU6=\"y\",IF(ABT6<ABT7,(ABT7-ABT6),0),0)+IF(ABW6=\"y\",IF(ABV6>ABV7,(ABV6-ABV7),0),0)))","v":"00:00:00"},null,null,null,{"$f":"IF(ACI4=\"v\",0,IF(ACJ1=\"Lauantai\",ACH11,IF(ACJ1=\"Sunnuntai\",ACH11,IF(ACI2=\"h\",ACH11,IF(ACH10=\"\",0,IF(ACD10=\"\",0,IF(ACF11<ACI11,ACF11,ACI11)))))))+ACJ11","v":"00:00:00"},null,{"$f":"IF(ACH10=\"\",0,IF(ACF10=\"\",ACH11,ACH10-ACF10))","v":"00:00:00"},null,{"$f":"IF(ACH10=\"\",0,ACH10-ACD10)","v":"00:00:00"},{"$f":"IF(ACH11<ACI10,0,IF(ACH10=\"\",0,IF(ACD10=\"\",0,ACH11-ACI10)))","v":"00:00:00"},{"$f":"IF(ACD4=\"\",0,IF(ACE4=\"ep\",ACF4-ACD4,IF(ACE4=\"y\",IF(ACD4<ACD7,(ACD7-ACD4),0),0)+IF(ACG4=\"y\",IF(ACF4>ACF7,(ACF4-ACF7),0),0)))+IF(ACD5=\"\",0,IF(ACE5=\"ep\",ACF5-ACD5,IF(ACE5=\"y\",IF(ACD5<ACD7,(ACD7-ACD5),0),0)+IF(ACG5=\"y\",IF(ACF5>ACF7,(ACF5-ACF7),0),0)))+IF(ACD6=\"\",0,IF(ACE6=\"ep\",ACF6-ACD6,IF(ACE6=\"y\",IF(ACD6<ACD7,(ACD7-ACD6),0),0)+IF(ACG6=\"y\",IF(ACF6>ACF7,(ACF6-ACF7),0),0)))","v":"00:00:00"},null,null,null,{"$f":"IF(ACS4=\"v\",0,IF(ACT1=\"Lauantai\",ACR11,IF(ACT1=\"Sunnuntai\",ACR11,IF(ACS2=\"h\",ACR11,IF(ACR10=\"\",0,IF(ACN10=\"\",0,IF(ACP11<ACS11,ACP11,ACS11)))))))+ACT11","v":"00:00:00"},null,{"$f":"IF(ACR10=\"\",0,IF(ACP10=\"\",ACR11,ACR10-ACP10))","v":"00:00:00"},null,{"$f":"IF(ACR10=\"\",0,ACR10-ACN10)","v":"00:00:00"},{"$f":"IF(ACR11<ACS10,0,IF(ACR10=\"\",0,IF(ACN10=\"\",0,ACR11-ACS10)))","v":"00:00:00"},{"$f":"IF(ACN4=\"\",0,IF(ACO4=\"ep\",ACP4-ACN4,IF(ACO4=\"y\",IF(ACN4<ACN7,(ACN7-ACN4),0),0)+IF(ACQ4=\"y\",IF(ACP4>ACP7,(ACP4-ACP7),0),0)))+IF(ACN5=\"\",0,IF(ACO5=\"ep\",ACP5-ACN5,IF(ACO5=\"y\",IF(ACN5<ACN7,(ACN7-ACN5),0),0)+IF(ACQ5=\"y\",IF(ACP5>ACP7,(ACP5-ACP7),0),0)))+IF(ACN6=\"\",0,IF(ACO6=\"ep\",ACP6-ACN6,IF(ACO6=\"y\",IF(ACN6<ACN7,(ACN7-ACN6),0),0)+IF(ACQ6=\"y\",IF(ACP6>ACP7,(ACP6-ACP7),0),0)))","v":"00:00:00"},null,null,null,{"$f":"IF(ADC4=\"v\",0,IF(ADD1=\"Lauantai\",ADB11,IF(ADD1=\"Sunnuntai\",ADB11,IF(ADC2=\"h\",ADB11,IF(ADB10=\"\",0,IF(ACX10=\"\",0,IF(ACZ11<ADC11,ACZ11,ADC11)))))))+ADD11","v":"00:00:00"},null,{"$f":"IF(ADB10=\"\",0,IF(ACZ10=\"\",ADB11,ADB10-ACZ10))","v":"00:00:00"},null,{"$f":"IF(ADB10=\"\",0,ADB10-ACX10)","v":"00:00:00"},{"$f":"IF(ADB11<ADC10,0,IF(ADB10=\"\",0,IF(ACX10=\"\",0,ADB11-ADC10)))","v":"00:00:00"},{"$f":"IF(ACX4=\"\",0,IF(ACY4=\"ep\",ACZ4-ACX4,IF(ACY4=\"y\",IF(ACX4<ACX7,(ACX7-ACX4),0),0)+IF(ADA4=\"y\",IF(ACZ4>ACZ7,(ACZ4-ACZ7),0),0)))+IF(ACX5=\"\",0,IF(ACY5=\"ep\",ACZ5-ACX5,IF(ACY5=\"y\",IF(ACX5<ACX7,(ACX7-ACX5),0),0)+IF(ADA5=\"y\",IF(ACZ5>ACZ7,(ACZ5-ACZ7),0),0)))+IF(ACX6=\"\",0,IF(ACY6=\"ep\",ACZ6-ACX6,IF(ACY6=\"y\",IF(ACX6<ACX7,(ACX7-ACX6),0),0)+IF(ADA6=\"y\",IF(ACZ6>ACZ7,(ACZ6-ACZ7),0),0)))","v":"00:00:00"},null,null,null,{"$f":"IF(ADM4=\"v\",0,IF(ADN1=\"Lauantai\",ADL11,IF(ADN1=\"Sunnuntai\",ADL11,IF(ADM2=\"h\",ADL11,IF(ADL10=\"\",0,IF(ADH10=\"\",0,IF(ADJ11<ADM11,ADJ11,ADM11)))))))+ADN11","v":"00:00:00"},null,{"$f":"IF(ADL10=\"\",0,IF(ADJ10=\"\",ADL11,ADL10-ADJ10))","v":"00:00:00"},null,{"$f":"IF(ADL10=\"\",0,ADL10-ADH10)","v":"00:00:00"},{"$f":"IF(ADL11<ADM10,0,IF(ADL10=\"\",0,IF(ADH10=\"\",0,ADL11-ADM10)))","v":"00:00:00"},{"$f":"IF(ADH4=\"\",0,IF(ADI4=\"ep\",ADJ4-ADH4,IF(ADI4=\"y\",IF(ADH4<ADH7,(ADH7-ADH4),0),0)+IF(ADK4=\"y\",IF(ADJ4>ADJ7,(ADJ4-ADJ7),0),0)))+IF(ADH5=\"\",0,IF(ADI5=\"ep\",ADJ5-ADH5,IF(ADI5=\"y\",IF(ADH5<ADH7,(ADH7-ADH5),0),0)+IF(ADK5=\"y\",IF(ADJ5>ADJ7,(ADJ5-ADJ7),0),0)))+IF(ADH6=\"\",0,IF(ADI6=\"ep\",ADJ6-ADH6,IF(ADI6=\"y\",IF(ADH6<ADH7,(ADH7-ADH6),0),0)+IF(ADK6=\"y\",IF(ADJ6>ADJ7,(ADJ6-ADJ7),0),0)))","v":"00:00:00"},null,null,null,{"$f":"IF(ADW4=\"v\",0,IF(ADX1=\"Lauantai\",ADV11,IF(ADX1=\"Sunnuntai\",ADV11,IF(ADW2=\"h\",ADV11,IF(ADV10=\"\",0,IF(ADR10=\"\",0,IF(ADT11<ADW11,ADT11,ADW11)))))))+ADX11","v":"00:00:00"},null,{"$f":"IF(ADV10=\"\",0,IF(ADT10=\"\",ADV11,ADV10-ADT10))","v":"00:00:00"},null,{"$f":"IF(ADV10=\"\",0,ADV10-ADR10)","v":"00:00:00"},{"$f":"IF(ADV11<ADW10,0,IF(ADV10=\"\",0,IF(ADR10=\"\",0,ADV11-ADW10)))","v":"00:00:00"},{"$f":"IF(ADR4=\"\",0,IF(ADS4=\"ep\",ADT4-ADR4,IF(ADS4=\"y\",IF(ADR4<ADR7,(ADR7-ADR4),0),0)+IF(ADU4=\"y\",IF(ADT4>ADT7,(ADT4-ADT7),0),0)))+IF(ADR5=\"\",0,IF(ADS5=\"ep\",ADT5-ADR5,IF(ADS5=\"y\",IF(ADR5<ADR7,(ADR7-ADR5),0),0)+IF(ADU5=\"y\",IF(ADT5>ADT7,(ADT5-ADT7),0),0)))+IF(ADR6=\"\",0,IF(ADS6=\"ep\",ADT6-ADR6,IF(ADS6=\"y\",IF(ADR6<ADR7,(ADR7-ADR6),0),0)+IF(ADU6=\"y\",IF(ADT6>ADT7,(ADT6-ADT7),0),0)))","v":"00:00:00"},null,null,null,{"$f":"IF(AEG4=\"v\",0,IF(AEH1=\"Lauantai\",AEF11,IF(AEH1=\"Sunnuntai\",AEF11,IF(AEG2=\"h\",AEF11,IF(AEF10=\"\",0,IF(AEB10=\"\",0,IF(AED11<AEG11,AED11,AEG11)))))))+AEH11","v":"00:00:00"},null,{"$f":"IF(AEF10=\"\",0,IF(AED10=\"\",AEF11,AEF10-AED10))","v":"00:00:00"},null,{"$f":"IF(AEF10=\"\",0,AEF10-AEB10)","v":"00:00:00"},{"$f":"IF(AEF11<AEG10,0,IF(AEF10=\"\",0,IF(AEB10=\"\",0,AEF11-AEG10)))","v":"00:00:00"},{"$f":"IF(AEB4=\"\",0,IF(AEC4=\"ep\",AED4-AEB4,IF(AEC4=\"y\",IF(AEB4<AEB7,(AEB7-AEB4),0),0)+IF(AEE4=\"y\",IF(AED4>AED7,(AED4-AED7),0),0)))+IF(AEB5=\"\",0,IF(AEC5=\"ep\",AED5-AEB5,IF(AEC5=\"y\",IF(AEB5<AEB7,(AEB7-AEB5),0),0)+IF(AEE5=\"y\",IF(AED5>AED7,(AED5-AED7),0),0)))+IF(AEB6=\"\",0,IF(AEC6=\"ep\",AED6-AEB6,IF(AEC6=\"y\",IF(AEB6<AEB7,(AEB7-AEB6),0),0)+IF(AEE6=\"y\",IF(AED6>AED7,(AED6-AED7),0),0)))","v":"00:00:00"},null,null,null,{"$f":"IF(AEQ4=\"v\",0,IF(AER1=\"Lauantai\",AEP11,IF(AER1=\"Sunnuntai\",AEP11,IF(AEQ2=\"h\",AEP11,IF(AEP10=\"\",0,IF(AEL10=\"\",0,IF(AEN11<AEQ11,AEN11,AEQ11)))))))+AER11","v":"00:00:00"},null,{"$f":"IF(AEP10=\"\",0,IF(AEN10=\"\",AEP11,AEP10-AEN10))","v":"00:00:00"},null,{"$f":"IF(AEP10=\"\",0,AEP10-AEL10)","v":"00:00:00"},{"$f":"IF(AEP11<AEQ10,0,IF(AEP10=\"\",0,IF(AEL10=\"\",0,AEP11-AEQ10)))","v":"00:00:00"},{"$f":"IF(AEL4=\"\",0,IF(AEM4=\"ep\",AEN4-AEL4,IF(AEM4=\"y\",IF(AEL4<AEL7,(AEL7-AEL4),0),0)+IF(AEO4=\"y\",IF(AEN4>AEN7,(AEN4-AEN7),0),0)))+IF(AEL5=\"\",0,IF(AEM5=\"ep\",AEN5-AEL5,IF(AEM5=\"y\",IF(AEL5<AEL7,(AEL7-AEL5),0),0)+IF(AEO5=\"y\",IF(AEN5>AEN7,(AEN5-AEN7),0),0)))+IF(AEL6=\"\",0,IF(AEM6=\"ep\",AEN6-AEL6,IF(AEM6=\"y\",IF(AEL6<AEL7,(AEL7-AEL6),0),0)+IF(AEO6=\"y\",IF(AEN6>AEN7,(AEN6-AEN7),0),0)))","v":"00:00:00"},null,null,null,{"$f":"IF(AFA4=\"v\",0,IF(AFB1=\"Lauantai\",AEZ11,IF(AFB1=\"Sunnuntai\",AEZ11,IF(AFA2=\"h\",AEZ11,IF(AEZ10=\"\",0,IF(AEV10=\"\",0,IF(AEX11<AFA11,AEX11,AFA11)))))))+AFB11","v":"00:00:00"},null,{"$f":"IF(AEZ10=\"\",0,IF(AEX10=\"\",AEZ11,AEZ10-AEX10))","v":"00:00:00"},null,{"$f":"IF(AEZ10=\"\",0,AEZ10-AEV10)","v":"00:00:00"},{"$f":"IF(AEZ11<AFA10,0,IF(AEZ10=\"\",0,IF(AEV10=\"\",0,AEZ11-AFA10)))","v":"00:00:00"},{"$f":"IF(AEV4=\"\",0,IF(AEW4=\"ep\",AEX4-AEV4,IF(AEW4=\"y\",IF(AEV4<AEV7,(AEV7-AEV4),0),0)+IF(AEY4=\"y\",IF(AEX4>AEX7,(AEX4-AEX7),0),0)))+IF(AEV5=\"\",0,IF(AEW5=\"ep\",AEX5-AEV5,IF(AEW5=\"y\",IF(AEV5<AEV7,(AEV7-AEV5),0),0)+IF(AEY5=\"y\",IF(AEX5>AEX7,(AEX5-AEX7),0),0)))+IF(AEV6=\"\",0,IF(AEW6=\"ep\",AEX6-AEV6,IF(AEW6=\"y\",IF(AEV6<AEV7,(AEV7-AEV6),0),0)+IF(AEY6=\"y\",IF(AEX6>AEX7,(AEX6-AEX7),0),0)))","v":"00:00:00"},null,null,null,{"$f":"IF(AFK4=\"v\",0,IF(AFL1=\"Lauantai\",AFJ11,IF(AFL1=\"Sunnuntai\",AFJ11,IF(AFK2=\"h\",AFJ11,IF(AFJ10=\"\",0,IF(AFF10=\"\",0,IF(AFH11<AFK11,AFH11,AFK11)))))))+AFL11","v":"00:00:00"},null,{"$f":"IF(AFJ10=\"\",0,IF(AFH10=\"\",AFJ11,AFJ10-AFH10))","v":"00:00:00"},null,{"$f":"IF(AFJ10=\"\",0,AFJ10-AFF10)","v":"00:00:00"},{"$f":"IF(AFJ11<AFK10,0,IF(AFJ10=\"\",0,IF(AFF10=\"\",0,AFJ11-AFK10)))","v":"00:00:00"},{"$f":"IF(AFF4=\"\",0,IF(AFG4=\"ep\",AFH4-AFF4,IF(AFG4=\"y\",IF(AFF4<AFF7,(AFF7-AFF4),0),0)+IF(AFI4=\"y\",IF(AFH4>AFH7,(AFH4-AFH7),0),0)))+IF(AFF5=\"\",0,IF(AFG5=\"ep\",AFH5-AFF5,IF(AFG5=\"y\",IF(AFF5<AFF7,(AFF7-AFF5),0),0)+IF(AFI5=\"y\",IF(AFH5>AFH7,(AFH5-AFH7),0),0)))+IF(AFF6=\"\",0,IF(AFG6=\"ep\",AFH6-AFF6,IF(AFG6=\"y\",IF(AFF6<AFF7,(AFF7-AFF6),0),0)+IF(AFI6=\"y\",IF(AFH6>AFH7,(AFH6-AFH7),0),0)))","v":"00:00:00"},null,null,null,{"$f":"IF(AFU4=\"v\",0,IF(AFV1=\"Lauantai\",AFT11,IF(AFV1=\"Sunnuntai\",AFT11,IF(AFU2=\"h\",AFT11,IF(AFT10=\"\",0,IF(AFP10=\"\",0,IF(AFR11<AFU11,AFR11,AFU11)))))))+AFV11","v":"00:00:00"},null,{"$f":"IF(AFT10=\"\",0,IF(AFR10=\"\",AFT11,AFT10-AFR10))","v":"00:00:00"},null,{"$f":"IF(AFT10=\"\",0,AFT10-AFP10)","v":"00:00:00"},{"$f":"IF(AFT11<AFU10,0,IF(AFT10=\"\",0,IF(AFP10=\"\",0,AFT11-AFU10)))","v":"00:00:00"},{"$f":"IF(AFP4=\"\",0,IF(AFQ4=\"ep\",AFR4-AFP4,IF(AFQ4=\"y\",IF(AFP4<AFP7,(AFP7-AFP4),0),0)+IF(AFS4=\"y\",IF(AFR4>AFR7,(AFR4-AFR7),0),0)))+IF(AFP5=\"\",0,IF(AFQ5=\"ep\",AFR5-AFP5,IF(AFQ5=\"y\",IF(AFP5<AFP7,(AFP7-AFP5),0),0)+IF(AFS5=\"y\",IF(AFR5>AFR7,(AFR5-AFR7),0),0)))+IF(AFP6=\"\",0,IF(AFQ6=\"ep\",AFR6-AFP6,IF(AFQ6=\"y\",IF(AFP6<AFP7,(AFP7-AFP6),0),0)+IF(AFS6=\"y\",IF(AFR6>AFR7,(AFR6-AFR7),0),0)))","v":"00:00:00"},null,null,null,{"$f":"IF(AGE4=\"v\",0,IF(AGF1=\"Lauantai\",AGD11,IF(AGF1=\"Sunnuntai\",AGD11,IF(AGE2=\"h\",AGD11,IF(AGD10=\"\",0,IF(AFZ10=\"\",0,IF(AGB11<AGE11,AGB11,AGE11)))))))+AGF11","v":"00:00:00"},null,{"$f":"IF(AGD10=\"\",0,IF(AGB10=\"\",AGD11,AGD10-AGB10))","v":"00:00:00"},null,{"$f":"IF(AGD10=\"\",0,AGD10-AFZ10)","v":"00:00:00"},{"$f":"IF(AGD11<AGE10,0,IF(AGD10=\"\",0,IF(AFZ10=\"\",0,AGD11-AGE10)))","v":"00:00:00"},{"$f":"IF(AFZ4=\"\",0,IF(AGA4=\"ep\",AGB4-AFZ4,IF(AGA4=\"y\",IF(AFZ4<AFZ7,(AFZ7-AFZ4),0),0)+IF(AGC4=\"y\",IF(AGB4>AGB7,(AGB4-AGB7),0),0)))+IF(AFZ5=\"\",0,IF(AGA5=\"ep\",AGB5-AFZ5,IF(AGA5=\"y\",IF(AFZ5<AFZ7,(AFZ7-AFZ5),0),0)+IF(AGC5=\"y\",IF(AGB5>AGB7,(AGB5-AGB7),0),0)))+IF(AFZ6=\"\",0,IF(AGA6=\"ep\",AGB6-AFZ6,IF(AGA6=\"y\",IF(AFZ6<AFZ7,(AFZ7-AFZ6),0),0)+IF(AGC6=\"y\",IF(AGB6>AGB7,(AGB6-AGB7),0),0)))","v":"00:00:00"},null,null,null,{"$f":"IF(AGO4=\"v\",0,IF(AGP1=\"Lauantai\",AGN11,IF(AGP1=\"Sunnuntai\",AGN11,IF(AGO2=\"h\",AGN11,IF(AGN10=\"\",0,IF(AGJ10=\"\",0,IF(AGL11<AGO11,AGL11,AGO11)))))))+AGP11","v":"00:00:00"},null,{"$f":"IF(AGN10=\"\",0,IF(AGL10=\"\",AGN11,AGN10-AGL10))","v":"00:00:00"},null,{"$f":"IF(AGN10=\"\",0,AGN10-AGJ10)","v":"00:00:00"},{"$f":"IF(AGN11<AGO10,0,IF(AGN10=\"\",0,IF(AGJ10=\"\",0,AGN11-AGO10)))","v":"00:00:00"},{"$f":"IF(AGJ4=\"\",0,IF(AGK4=\"ep\",AGL4-AGJ4,IF(AGK4=\"y\",IF(AGJ4<AGJ7,(AGJ7-AGJ4),0),0)+IF(AGM4=\"y\",IF(AGL4>AGL7,(AGL4-AGL7),0),0)))+IF(AGJ5=\"\",0,IF(AGK5=\"ep\",AGL5-AGJ5,IF(AGK5=\"y\",IF(AGJ5<AGJ7,(AGJ7-AGJ5),0),0)+IF(AGM5=\"y\",IF(AGL5>AGL7,(AGL5-AGL7),0),0)))+IF(AGJ6=\"\",0,IF(AGK6=\"ep\",AGL6-AGJ6,IF(AGK6=\"y\",IF(AGJ6<AGJ7,(AGJ7-AGJ6),0),0)+IF(AGM6=\"y\",IF(AGL6>AGL7,(AGL6-AGL7),0),0)))","v":"00:00:00"},null,null,null,{"$f":"IF(AGY4=\"v\",0,IF(AGZ1=\"Lauantai\",AGX11,IF(AGZ1=\"Sunnuntai\",AGX11,IF(AGY2=\"h\",AGX11,IF(AGX10=\"\",0,IF(AGT10=\"\",0,IF(AGV11<AGY11,AGV11,AGY11)))))))+AGZ11","v":"00:00:00"},null,{"$f":"IF(AGX10=\"\",0,IF(AGV10=\"\",AGX11,AGX10-AGV10))","v":"00:00:00"},null,{"$f":"IF(AGX10=\"\",0,AGX10-AGT10)","v":"00:00:00"},{"$f":"IF(AGX11<AGY10,0,IF(AGX10=\"\",0,IF(AGT10=\"\",0,AGX11-AGY10)))","v":"00:00:00"},{"$f":"IF(AGT4=\"\",0,IF(AGU4=\"ep\",AGV4-AGT4,IF(AGU4=\"y\",IF(AGT4<AGT7,(AGT7-AGT4),0),0)+IF(AGW4=\"y\",IF(AGV4>AGV7,(AGV4-AGV7),0),0)))+IF(AGT5=\"\",0,IF(AGU5=\"ep\",AGV5-AGT5,IF(AGU5=\"y\",IF(AGT5<AGT7,(AGT7-AGT5),0),0)+IF(AGW5=\"y\",IF(AGV5>AGV7,(AGV5-AGV7),0),0)))+IF(AGT6=\"\",0,IF(AGU6=\"ep\",AGV6-AGT6,IF(AGU6=\"y\",IF(AGT6<AGT7,(AGT7-AGT6),0),0)+IF(AGW6=\"y\",IF(AGV6>AGV7,(AGV6-AGV7),0),0)))","v":"00:00:00"},null,null,null,{"$f":"IF(AHI4=\"v\",0,IF(AHJ1=\"Lauantai\",AHH11,IF(AHJ1=\"Sunnuntai\",AHH11,IF(AHI2=\"h\",AHH11,IF(AHH10=\"\",0,IF(AHD10=\"\",0,IF(AHF11<AHI11,AHF11,AHI11)))))))+AHJ11","v":"00:00:00"},null,{"$f":"IF(AHH10=\"\",0,IF(AHF10=\"\",AHH11,AHH10-AHF10))","v":"00:00:00"},null,{"$f":"IF(AHH10=\"\",0,AHH10-AHD10)","v":"00:00:00"},{"$f":"IF(AHH11<AHI10,0,IF(AHH10=\"\",0,IF(AHD10=\"\",0,AHH11-AHI10)))","v":"00:00:00"},{"$f":"IF(AHD4=\"\",0,IF(AHE4=\"ep\",AHF4-AHD4,IF(AHE4=\"y\",IF(AHD4<AHD7,(AHD7-AHD4),0),0)+IF(AHG4=\"y\",IF(AHF4>AHF7,(AHF4-AHF7),0),0)))+IF(AHD5=\"\",0,IF(AHE5=\"ep\",AHF5-AHD5,IF(AHE5=\"y\",IF(AHD5<AHD7,(AHD7-AHD5),0),0)+IF(AHG5=\"y\",IF(AHF5>AHF7,(AHF5-AHF7),0),0)))+IF(AHD6=\"\",0,IF(AHE6=\"ep\",AHF6-AHD6,IF(AHE6=\"y\",IF(AHD6<AHD7,(AHD7-AHD6),0),0)+IF(AHG6=\"y\",IF(AHF6>AHF7,(AHF6-AHF7),0),0)))","v":"00:00:00"},null,null,null,{"$f":"IF(AHS4=\"v\",0,IF(AHT1=\"Lauantai\",AHR11,IF(AHT1=\"Sunnuntai\",AHR11,IF(AHS2=\"h\",AHR11,IF(AHR10=\"\",0,IF(AHN10=\"\",0,IF(AHP11<AHS11,AHP11,AHS11)))))))+AHT11","v":"00:00:00"},null,{"$f":"IF(AHR10=\"\",0,IF(AHP10=\"\",AHR11,AHR10-AHP10))","v":"00:00:00"},null,{"$f":"IF(AHR10=\"\",0,AHR10-AHN10)","v":"00:00:00"},{"$f":"IF(AHR11<AHS10,0,IF(AHR10=\"\",0,IF(AHN10=\"\",0,AHR11-AHS10)))","v":"00:00:00"},{"$f":"IF(AHN4=\"\",0,IF(AHO4=\"ep\",AHP4-AHN4,IF(AHO4=\"y\",IF(AHN4<AHN7,(AHN7-AHN4),0),0)+IF(AHQ4=\"y\",IF(AHP4>AHP7,(AHP4-AHP7),0),0)))+IF(AHN5=\"\",0,IF(AHO5=\"ep\",AHP5-AHN5,IF(AHO5=\"y\",IF(AHN5<AHN7,(AHN7-AHN5),0),0)+IF(AHQ5=\"y\",IF(AHP5>AHP7,(AHP5-AHP7),0),0)))+IF(AHN6=\"\",0,IF(AHO6=\"ep\",AHP6-AHN6,IF(AHO6=\"y\",IF(AHN6<AHN7,(AHN7-AHN6),0),0)+IF(AHQ6=\"y\",IF(AHP6>AHP7,(AHP6-AHP7),0),0)))","v":"00:00:00"},null,null,null,{"$f":"IF(AIC4=\"v\",0,IF(AID1=\"Lauantai\",AIB11,IF(AID1=\"Sunnuntai\",AIB11,IF(AIC2=\"h\",AIB11,IF(AIB10=\"\",0,IF(AHX10=\"\",0,IF(AHZ11<AIC11,AHZ11,AIC11)))))))+AID11","v":"00:00:00"},null,{"$f":"IF(AIB10=\"\",0,IF(AHZ10=\"\",AIB11,AIB10-AHZ10))","v":"00:00:00"},null,{"$f":"IF(AIB10=\"\",0,AIB10-AHX10)","v":"00:00:00"},{"$f":"IF(AIB11<AIC10,0,IF(AIB10=\"\",0,IF(AHX10=\"\",0,AIB11-AIC10)))","v":"00:00:00"},{"$f":"IF(AHX4=\"\",0,IF(AHY4=\"ep\",AHZ4-AHX4,IF(AHY4=\"y\",IF(AHX4<AHX7,(AHX7-AHX4),0),0)+IF(AIA4=\"y\",IF(AHZ4>AHZ7,(AHZ4-AHZ7),0),0)))+IF(AHX5=\"\",0,IF(AHY5=\"ep\",AHZ5-AHX5,IF(AHY5=\"y\",IF(AHX5<AHX7,(AHX7-AHX5),0),0)+IF(AIA5=\"y\",IF(AHZ5>AHZ7,(AHZ5-AHZ7),0),0)))+IF(AHX6=\"\",0,IF(AHY6=\"ep\",AHZ6-AHX6,IF(AHY6=\"y\",IF(AHX6<AHX7,(AHX7-AHX6),0),0)+IF(AIA6=\"y\",IF(AHZ6>AHZ7,(AHZ6-AHZ7),0),0)))","v":"00:00:00"},null,null,null,{"$f":"IF(AIM4=\"v\",0,IF(AIN1=\"Lauantai\",AIL11,IF(AIN1=\"Sunnuntai\",AIL11,IF(AIM2=\"h\",AIL11,IF(AIL10=\"\",0,IF(AIH10=\"\",0,IF(AIJ11<AIM11,AIJ11,AIM11)))))))+AIN11","v":"00:00:00"},null,{"$f":"IF(AIL10=\"\",0,IF(AIJ10=\"\",AIL11,AIL10-AIJ10))","v":"00:00:00"},null,{"$f":"IF(AIL10=\"\",0,AIL10-AIH10)","v":"00:00:00"},{"$f":"IF(AIL11<AIM10,0,IF(AIL10=\"\",0,IF(AIH10=\"\",0,AIL11-AIM10)))","v":"00:00:00"},{"$f":"IF(AIH4=\"\",0,IF(AII4=\"ep\",AIJ4-AIH4,IF(AII4=\"y\",IF(AIH4<AIH7,(AIH7-AIH4),0),0)+IF(AIK4=\"y\",IF(AIJ4>AIJ7,(AIJ4-AIJ7),0),0)))+IF(AIH5=\"\",0,IF(AII5=\"ep\",AIJ5-AIH5,IF(AII5=\"y\",IF(AIH5<AIH7,(AIH7-AIH5),0),0)+IF(AIK5=\"y\",IF(AIJ5>AIJ7,(AIJ5-AIJ7),0),0)))+IF(AIH6=\"\",0,IF(AII6=\"ep\",AIJ6-AIH6,IF(AII6=\"y\",IF(AIH6<AIH7,(AIH7-AIH6),0),0)+IF(AIK6=\"y\",IF(AIJ6>AIJ7,(AIJ6-AIJ7),0),0)))","v":"00:00:00"},null,null,null,{"$f":"IF(AIW4=\"v\",0,IF(AIX1=\"Lauantai\",AIV11,IF(AIX1=\"Sunnuntai\",AIV11,IF(AIW2=\"h\",AIV11,IF(AIV10=\"\",0,IF(AIR10=\"\",0,IF(AIT11<AIW11,AIT11,AIW11)))))))+AIX11","v":"00:00:00"},null,{"$f":"IF(AIV10=\"\",0,IF(AIT10=\"\",AIV11,AIV10-AIT10))","v":"00:00:00"},null,{"$f":"IF(AIV10=\"\",0,AIV10-AIR10)","v":"00:00:00"},{"$f":"IF(AIV11<AIW10,0,IF(AIV10=\"\",0,IF(AIR10=\"\",0,AIV11-AIW10)))","v":"00:00:00"},{"$f":"IF(AIR4=\"\",0,IF(AIS4=\"ep\",AIT4-AIR4,IF(AIS4=\"y\",IF(AIR4<AIR7,(AIR7-AIR4),0),0)+IF(AIU4=\"y\",IF(AIT4>AIT7,(AIT4-AIT7),0),0)))+IF(AIR5=\"\",0,IF(AIS5=\"ep\",AIT5-AIR5,IF(AIS5=\"y\",IF(AIR5<AIR7,(AIR7-AIR5),0),0)+IF(AIU5=\"y\",IF(AIT5>AIT7,(AIT5-AIT7),0),0)))+IF(AIR6=\"\",0,IF(AIS6=\"ep\",AIT6-AIR6,IF(AIS6=\"y\",IF(AIR6<AIR7,(AIR7-AIR6),0),0)+IF(AIU6=\"y\",IF(AIT6>AIT7,(AIT6-AIT7),0),0)))","v":"00:00:00"},null,null,null,{"$f":"IF(AJG4=\"v\",0,IF(AJH1=\"Lauantai\",AJF11,IF(AJH1=\"Sunnuntai\",AJF11,IF(AJG2=\"h\",AJF11,IF(AJF10=\"\",0,IF(AJB10=\"\",0,IF(AJD11<AJG11,AJD11,AJG11)))))))+AJH11","v":"00:00:00"},null,{"$f":"IF(AJF10=\"\",0,IF(AJD10=\"\",AJF11,AJF10-AJD10))","v":"00:00:00"},null,{"$f":"IF(AJF10=\"\",0,AJF10-AJB10)","v":"00:00:00"},{"$f":"IF(AJF11<AJG10,0,IF(AJF10=\"\",0,IF(AJB10=\"\",0,AJF11-AJG10)))","v":"00:00:00"},{"$f":"IF(AJB4=\"\",0,IF(AJC4=\"ep\",AJD4-AJB4,IF(AJC4=\"y\",IF(AJB4<AJB7,(AJB7-AJB4),0),0)+IF(AJE4=\"y\",IF(AJD4>AJD7,(AJD4-AJD7),0),0)))+IF(AJB5=\"\",0,IF(AJC5=\"ep\",AJD5-AJB5,IF(AJC5=\"y\",IF(AJB5<AJB7,(AJB7-AJB5),0),0)+IF(AJE5=\"y\",IF(AJD5>AJD7,(AJD5-AJD7),0),0)))+IF(AJB6=\"\",0,IF(AJC6=\"ep\",AJD6-AJB6,IF(AJC6=\"y\",IF(AJB6<AJB7,(AJB7-AJB6),0),0)+IF(AJE6=\"y\",IF(AJD6>AJD7,(AJD6-AJD7),0),0)))","v":"00:00:00"},null,null,null,{"$f":"IF(AJQ4=\"v\",0,IF(AJR1=\"Lauantai\",AJP11,IF(AJR1=\"Sunnuntai\",AJP11,IF(AJQ2=\"h\",AJP11,IF(AJP10=\"\",0,IF(AJL10=\"\",0,IF(AJN11<AJQ11,AJN11,AJQ11)))))))+AJR11","v":"00:00:00"},null,{"$f":"IF(AJP10=\"\",0,IF(AJN10=\"\",AJP11,AJP10-AJN10))","v":"00:00:00"},null,{"$f":"IF(AJP10=\"\",0,AJP10-AJL10)","v":"00:00:00"},{"$f":"IF(AJP11<AJQ10,0,IF(AJP10=\"\",0,IF(AJL10=\"\",0,AJP11-AJQ10)))","v":"00:00:00"},{"$f":"IF(AJL4=\"\",0,IF(AJM4=\"ep\",AJN4-AJL4,IF(AJM4=\"y\",IF(AJL4<AJL7,(AJL7-AJL4),0),0)+IF(AJO4=\"y\",IF(AJN4>AJN7,(AJN4-AJN7),0),0)))+IF(AJL5=\"\",0,IF(AJM5=\"ep\",AJN5-AJL5,IF(AJM5=\"y\",IF(AJL5<AJL7,(AJL7-AJL5),0),0)+IF(AJO5=\"y\",IF(AJN5>AJN7,(AJN5-AJN7),0),0)))+IF(AJL6=\"\",0,IF(AJM6=\"ep\",AJN6-AJL6,IF(AJM6=\"y\",IF(AJL6<AJL7,(AJL7-AJL6),0),0)+IF(AJO6=\"y\",IF(AJN6>AJN7,(AJN6-AJN7),0),0)))","v":"00:00:00"},null,null,null,{"$f":"IF(AKA4=\"v\",0,IF(AKB1=\"Lauantai\",AJZ11,IF(AKB1=\"Sunnuntai\",AJZ11,IF(AKA2=\"h\",AJZ11,IF(AJZ10=\"\",0,IF(AJV10=\"\",0,IF(AJX11<AKA11,AJX11,AKA11)))))))+AKB11","v":"00:00:00"},null,{"$f":"IF(AJZ10=\"\",0,IF(AJX10=\"\",AJZ11,AJZ10-AJX10))","v":"00:00:00"},null,{"$f":"IF(AJZ10=\"\",0,AJZ10-AJV10)","v":"00:00:00"},{"$f":"IF(AJZ11<AKA10,0,IF(AJZ10=\"\",0,IF(AJV10=\"\",0,AJZ11-AKA10)))","v":"00:00:00"},{"$f":"IF(AJV4=\"\",0,IF(AJW4=\"ep\",AJX4-AJV4,IF(AJW4=\"y\",IF(AJV4<AJV7,(AJV7-AJV4),0),0)+IF(AJY4=\"y\",IF(AJX4>AJX7,(AJX4-AJX7),0),0)))+IF(AJV5=\"\",0,IF(AJW5=\"ep\",AJX5-AJV5,IF(AJW5=\"y\",IF(AJV5<AJV7,(AJV7-AJV5),0),0)+IF(AJY5=\"y\",IF(AJX5>AJX7,(AJX5-AJX7),0),0)))+IF(AJV6=\"\",0,IF(AJW6=\"ep\",AJX6-AJV6,IF(AJW6=\"y\",IF(AJV6<AJV7,(AJV7-AJV6),0),0)+IF(AJY6=\"y\",IF(AJX6>AJX7,(AJX6-AJX7),0),0)))","v":"00:00:00"},null,null,null,{"$f":"IF(AKK4=\"v\",0,IF(AKL1=\"Lauantai\",AKJ11,IF(AKL1=\"Sunnuntai\",AKJ11,IF(AKK2=\"h\",AKJ11,IF(AKJ10=\"\",0,IF(AKF10=\"\",0,IF(AKH11<AKK11,AKH11,AKK11)))))))+AKL11","v":"00:00:00"},null,{"$f":"IF(AKJ10=\"\",0,IF(AKH10=\"\",AKJ11,AKJ10-AKH10))","v":"00:00:00"},null,{"$f":"IF(AKJ10=\"\",0,AKJ10-AKF10)","v":"00:00:00"},{"$f":"IF(AKJ11<AKK10,0,IF(AKJ10=\"\",0,IF(AKF10=\"\",0,AKJ11-AKK10)))","v":"00:00:00"},{"$f":"IF(AKF4=\"\",0,IF(AKG4=\"ep\",AKH4-AKF4,IF(AKG4=\"y\",IF(AKF4<AKF7,(AKF7-AKF4),0),0)+IF(AKI4=\"y\",IF(AKH4>AKH7,(AKH4-AKH7),0),0)))+IF(AKF5=\"\",0,IF(AKG5=\"ep\",AKH5-AKF5,IF(AKG5=\"y\",IF(AKF5<AKF7,(AKF7-AKF5),0),0)+IF(AKI5=\"y\",IF(AKH5>AKH7,(AKH5-AKH7),0),0)))+IF(AKF6=\"\",0,IF(AKG6=\"ep\",AKH6-AKF6,IF(AKG6=\"y\",IF(AKF6<AKF7,(AKF7-AKF6),0),0)+IF(AKI6=\"y\",IF(AKH6>AKH7,(AKH6-AKH7),0),0)))","v":"00:00:00"},null,null,null,{"$f":"IF(AKU4=\"v\",0,IF(AKV1=\"Lauantai\",AKT11,IF(AKV1=\"Sunnuntai\",AKT11,IF(AKU2=\"h\",AKT11,IF(AKT10=\"\",0,IF(AKP10=\"\",0,IF(AKR11<AKU11,AKR11,AKU11)))))))+AKV11","v":"00:00:00"},null,{"$f":"IF(AKT10=\"\",0,IF(AKR10=\"\",AKT11,AKT10-AKR10))","v":"00:00:00"},null,{"$f":"IF(AKT10=\"\",0,AKT10-AKP10)","v":"00:00:00"},{"$f":"IF(AKT11<AKU10,0,IF(AKT10=\"\",0,IF(AKP10=\"\",0,AKT11-AKU10)))","v":"00:00:00"},{"$f":"IF(AKP4=\"\",0,IF(AKQ4=\"ep\",AKR4-AKP4,IF(AKQ4=\"y\",IF(AKP4<AKP7,(AKP7-AKP4),0),0)+IF(AKS4=\"y\",IF(AKR4>AKR7,(AKR4-AKR7),0),0)))+IF(AKP5=\"\",0,IF(AKQ5=\"ep\",AKR5-AKP5,IF(AKQ5=\"y\",IF(AKP5<AKP7,(AKP7-AKP5),0),0)+IF(AKS5=\"y\",IF(AKR5>AKR7,(AKR5-AKR7),0),0)))+IF(AKP6=\"\",0,IF(AKQ6=\"ep\",AKR6-AKP6,IF(AKQ6=\"y\",IF(AKP6<AKP7,(AKP7-AKP6),0),0)+IF(AKS6=\"y\",IF(AKR6>AKR7,(AKR6-AKR7),0),0)))","v":"00:00:00"},null,null,null,{"$f":"IF(ALE4=\"v\",0,IF(ALF1=\"Lauantai\",ALD11,IF(ALF1=\"Sunnuntai\",ALD11,IF(ALE2=\"h\",ALD11,IF(ALD10=\"\",0,IF(AKZ10=\"\",0,IF(ALB11<ALE11,ALB11,ALE11)))))))+ALF11","v":"00:00:00"},null,{"$f":"IF(ALD10=\"\",0,IF(ALB10=\"\",ALD11,ALD10-ALB10))","v":"00:00:00"},null,{"$f":"IF(ALD10=\"\",0,ALD10-AKZ10)","v":"00:00:00"},{"$f":"IF(ALD11<ALE10,0,IF(ALD10=\"\",0,IF(AKZ10=\"\",0,ALD11-ALE10)))","v":"00:00:00"},{"$f":"IF(AKZ4=\"\",0,IF(ALA4=\"ep\",ALB4-AKZ4,IF(ALA4=\"y\",IF(AKZ4<AKZ7,(AKZ7-AKZ4),0),0)+IF(ALC4=\"y\",IF(ALB4>ALB7,(ALB4-ALB7),0),0)))+IF(AKZ5=\"\",0,IF(ALA5=\"ep\",ALB5-AKZ5,IF(ALA5=\"y\",IF(AKZ5<AKZ7,(AKZ7-AKZ5),0),0)+IF(ALC5=\"y\",IF(ALB5>ALB7,(ALB5-ALB7),0),0)))+IF(AKZ6=\"\",0,IF(ALA6=\"ep\",ALB6-AKZ6,IF(ALA6=\"y\",IF(AKZ6<AKZ7,(AKZ7-AKZ6),0),0)+IF(ALC6=\"y\",IF(ALB6>ALB7,(ALB6-ALB7),0),0)))","v":"00:00:00"},null,null,null,{"$f":"IF(ALO4=\"v\",0,IF(ALP1=\"Lauantai\",ALN11,IF(ALP1=\"Sunnuntai\",ALN11,IF(ALO2=\"h\",ALN11,IF(ALN10=\"\",0,IF(ALJ10=\"\",0,IF(ALL11<ALO11,ALL11,ALO11)))))))+ALP11","v":"00:00:00"},null,{"$f":"IF(ALN10=\"\",0,IF(ALL10=\"\",ALN11,ALN10-ALL10))","v":"00:00:00"},null,{"$f":"IF(ALN10=\"\",0,ALN10-ALJ10)","v":"00:00:00"},{"$f":"IF(ALN11<ALO10,0,IF(ALN10=\"\",0,IF(ALJ10=\"\",0,ALN11-ALO10)))","v":"00:00:00"},{"$f":"IF(ALJ4=\"\",0,IF(ALK4=\"ep\",ALL4-ALJ4,IF(ALK4=\"y\",IF(ALJ4<ALJ7,(ALJ7-ALJ4),0),0)+IF(ALM4=\"y\",IF(ALL4>ALL7,(ALL4-ALL7),0),0)))+IF(ALJ5=\"\",0,IF(ALK5=\"ep\",ALL5-ALJ5,IF(ALK5=\"y\",IF(ALJ5<ALJ7,(ALJ7-ALJ5),0),0)+IF(ALM5=\"y\",IF(ALL5>ALL7,(ALL5-ALL7),0),0)))+IF(ALJ6=\"\",0,IF(ALK6=\"ep\",ALL6-ALJ6,IF(ALK6=\"y\",IF(ALJ6<ALJ7,(ALJ7-ALJ6),0),0)+IF(ALM6=\"y\",IF(ALL6>ALL7,(ALL6-ALL7),0),0)))","v":"00:00:00"},null,null,null,{"$f":"IF(ALY4=\"v\",0,IF(ALZ1=\"Lauantai\",ALX11,IF(ALZ1=\"Sunnuntai\",ALX11,IF(ALY2=\"h\",ALX11,IF(ALX10=\"\",0,IF(ALT10=\"\",0,IF(ALV11<ALY11,ALV11,ALY11)))))))+ALZ11","v":"00:00:00"},null,{"$f":"IF(ALX10=\"\",0,IF(ALV10=\"\",ALX11,ALX10-ALV10))","v":"00:00:00"},null,{"$f":"IF(ALX10=\"\",0,ALX10-ALT10)","v":"00:00:00"},{"$f":"IF(ALX11<ALY10,0,IF(ALX10=\"\",0,IF(ALT10=\"\",0,ALX11-ALY10)))","v":"00:00:00"},{"$f":"IF(ALT4=\"\",0,IF(ALU4=\"ep\",ALV4-ALT4,IF(ALU4=\"y\",IF(ALT4<ALT7,(ALT7-ALT4),0),0)+IF(ALW4=\"y\",IF(ALV4>ALV7,(ALV4-ALV7),0),0)))+IF(ALT5=\"\",0,IF(ALU5=\"ep\",ALV5-ALT5,IF(ALU5=\"y\",IF(ALT5<ALT7,(ALT7-ALT5),0),0)+IF(ALW5=\"y\",IF(ALV5>ALV7,(ALV5-ALV7),0),0)))+IF(ALT6=\"\",0,IF(ALU6=\"ep\",ALV6-ALT6,IF(ALU6=\"y\",IF(ALT6<ALT7,(ALT7-ALT6),0),0)+IF(ALW6=\"y\",IF(ALV6>ALV7,(ALV6-ALV7),0),0)))","v":"00:00:00"},null,null,null,{"$f":"IF(AMI4=\"v\",0,IF(AMJ1=\"Lauantai\",AMH11,IF(AMJ1=\"Sunnuntai\",AMH11,IF(AMI2=\"h\",AMH11,IF(AMH10=\"\",0,IF(AMD10=\"\",0,IF(AMF11<AMI11,AMF11,AMI11)))))))+AMJ11","v":"00:00:00"},null,{"$f":"IF(AMH10=\"\",0,IF(AMF10=\"\",AMH11,AMH10-AMF10))","v":"00:00:00"},null,{"$f":"IF(AMH10=\"\",0,AMH10-AMD10)","v":"00:00:00"},{"$f":"IF(AMH11<AMI10,0,IF(AMH10=\"\",0,IF(AMD10=\"\",0,AMH11-AMI10)))","v":"00:00:00"},{"$f":"IF(AMD4=\"\",0,IF(AME4=\"ep\",AMF4-AMD4,IF(AME4=\"y\",IF(AMD4<AMD7,(AMD7-AMD4),0),0)+IF(AMG4=\"y\",IF(AMF4>AMF7,(AMF4-AMF7),0),0)))+IF(AMD5=\"\",0,IF(AME5=\"ep\",AMF5-AMD5,IF(AME5=\"y\",IF(AMD5<AMD7,(AMD7-AMD5),0),0)+IF(AMG5=\"y\",IF(AMF5>AMF7,(AMF5-AMF7),0),0)))+IF(AMD6=\"\",0,IF(AME6=\"ep\",AMF6-AMD6,IF(AME6=\"y\",IF(AMD6<AMD7,(AMD7-AMD6),0),0)+IF(AMG6=\"y\",IF(AMF6>AMF7,(AMF6-AMF7),0),0)))","v":"00:00:00"},null,null,null,{"$f":"IF(AMS4=\"v\",0,IF(AMT1=\"Lauantai\",AMR11,IF(AMT1=\"Sunnuntai\",AMR11,IF(AMS2=\"h\",AMR11,IF(AMR10=\"\",0,IF(AMN10=\"\",0,IF(AMP11<AMS11,AMP11,AMS11)))))))+AMT11","v":"00:00:00"},null,{"$f":"IF(AMR10=\"\",0,IF(AMP10=\"\",AMR11,AMR10-AMP10))","v":"00:00:00"},null,{"$f":"IF(AMR10=\"\",0,AMR10-AMN10)","v":"00:00:00"},{"$f":"IF(AMR11<AMS10,0,IF(AMR10=\"\",0,IF(AMN10=\"\",0,AMR11-AMS10)))","v":"00:00:00"},{"$f":"IF(AMN4=\"\",0,IF(AMO4=\"ep\",AMP4-AMN4,IF(AMO4=\"y\",IF(AMN4<AMN7,(AMN7-AMN4),0),0)+IF(AMQ4=\"y\",IF(AMP4>AMP7,(AMP4-AMP7),0),0)))+IF(AMN5=\"\",0,IF(AMO5=\"ep\",AMP5-AMN5,IF(AMO5=\"y\",IF(AMN5<AMN7,(AMN7-AMN5),0),0)+IF(AMQ5=\"y\",IF(AMP5>AMP7,(AMP5-AMP7),0),0)))+IF(AMN6=\"\",0,IF(AMO6=\"ep\",AMP6-AMN6,IF(AMO6=\"y\",IF(AMN6<AMN7,(AMN7-AMN6),0),0)+IF(AMQ6=\"y\",IF(AMP6>AMP7,(AMP6-AMP7),0),0)))","v":"00:00:00"},null,null,null,{"$f":"IF(ANC4=\"v\",0,IF(AND1=\"Lauantai\",ANB11,IF(AND1=\"Sunnuntai\",ANB11,IF(ANC2=\"h\",ANB11,IF(ANB10=\"\",0,IF(AMX10=\"\",0,IF(AMZ11<ANC11,AMZ11,ANC11)))))))+AND11","v":"00:00:00"},null,{"$f":"IF(ANB10=\"\",0,IF(AMZ10=\"\",ANB11,ANB10-AMZ10))","v":"00:00:00"},null,{"$f":"IF(ANB10=\"\",0,ANB10-AMX10)","v":"00:00:00"},{"$f":"IF(ANB11<ANC10,0,IF(ANB10=\"\",0,IF(AMX10=\"\",0,ANB11-ANC10)))","v":"00:00:00"},{"$f":"IF(AMX4=\"\",0,IF(AMY4=\"ep\",AMZ4-AMX4,IF(AMY4=\"y\",IF(AMX4<AMX7,(AMX7-AMX4),0),0)+IF(ANA4=\"y\",IF(AMZ4>AMZ7,(AMZ4-AMZ7),0),0)))+IF(AMX5=\"\",0,IF(AMY5=\"ep\",AMZ5-AMX5,IF(AMY5=\"y\",IF(AMX5<AMX7,(AMX7-AMX5),0),0)+IF(ANA5=\"y\",IF(AMZ5>AMZ7,(AMZ5-AMZ7),0),0)))+IF(AMX6=\"\",0,IF(AMY6=\"ep\",AMZ6-AMX6,IF(AMY6=\"y\",IF(AMX6<AMX7,(AMX7-AMX6),0),0)+IF(ANA6=\"y\",IF(AMZ6>AMZ7,(AMZ6-AMZ7),0),0)))","v":"00:00:00"},null,null,null,{"$f":"IF(ANM4=\"v\",0,IF(ANN1=\"Lauantai\",ANL11,IF(ANN1=\"Sunnuntai\",ANL11,IF(ANM2=\"h\",ANL11,IF(ANL10=\"\",0,IF(ANH10=\"\",0,IF(ANJ11<ANM11,ANJ11,ANM11)))))))+ANN11","v":"00:00:00"},null,{"$f":"IF(ANL10=\"\",0,IF(ANJ10=\"\",ANL11,ANL10-ANJ10))","v":"00:00:00"},null,{"$f":"IF(ANL10=\"\",0,ANL10-ANH10)","v":"00:00:00"},{"$f":"IF(ANL11<ANM10,0,IF(ANL10=\"\",0,IF(ANH10=\"\",0,ANL11-ANM10)))","v":"00:00:00"},{"$f":"IF(ANH4=\"\",0,IF(ANI4=\"ep\",ANJ4-ANH4,IF(ANI4=\"y\",IF(ANH4<ANH7,(ANH7-ANH4),0),0)+IF(ANK4=\"y\",IF(ANJ4>ANJ7,(ANJ4-ANJ7),0),0)))+IF(ANH5=\"\",0,IF(ANI5=\"ep\",ANJ5-ANH5,IF(ANI5=\"y\",IF(ANH5<ANH7,(ANH7-ANH5),0),0)+IF(ANK5=\"y\",IF(ANJ5>ANJ7,(ANJ5-ANJ7),0),0)))+IF(ANH6=\"\",0,IF(ANI6=\"ep\",ANJ6-ANH6,IF(ANI6=\"y\",IF(ANH6<ANH7,(ANH7-ANH6),0),0)+IF(ANK6=\"y\",IF(ANJ6>ANJ7,(ANJ6-ANJ7),0),0)))","v":"00:00:00"},null,null,null,{"$f":"IF(ANW4=\"v\",0,IF(ANX1=\"Lauantai\",ANV11,IF(ANX1=\"Sunnuntai\",ANV11,IF(ANW2=\"h\",ANV11,IF(ANV10=\"\",0,IF(ANR10=\"\",0,IF(ANT11<ANW11,ANT11,ANW11)))))))+ANX11","v":"00:00:00"},null,{"$f":"IF(ANV10=\"\",0,IF(ANT10=\"\",ANV11,ANV10-ANT10))","v":"00:00:00"},null,{"$f":"IF(ANV10=\"\",0,ANV10-ANR10)","v":"00:00:00"},{"$f":"IF(ANV11<ANW10,0,IF(ANV10=\"\",0,IF(ANR10=\"\",0,ANV11-ANW10)))","v":"00:00:00"},{"$f":"IF(ANR4=\"\",0,IF(ANS4=\"ep\",ANT4-ANR4,IF(ANS4=\"y\",IF(ANR4<ANR7,(ANR7-ANR4),0),0)+IF(ANU4=\"y\",IF(ANT4>ANT7,(ANT4-ANT7),0),0)))+IF(ANR5=\"\",0,IF(ANS5=\"ep\",ANT5-ANR5,IF(ANS5=\"y\",IF(ANR5<ANR7,(ANR7-ANR5),0),0)+IF(ANU5=\"y\",IF(ANT5>ANT7,(ANT5-ANT7),0),0)))+IF(ANR6=\"\",0,IF(ANS6=\"ep\",ANT6-ANR6,IF(ANS6=\"y\",IF(ANR6<ANR7,(ANR7-ANR6),0),0)+IF(ANU6=\"y\",IF(ANT6>ANT7,(ANT6-ANT7),0),0)))","v":"00:00:00"},null,null,null,{"$f":"IF(AOG4=\"v\",0,IF(AOH1=\"Lauantai\",AOF11,IF(AOH1=\"Sunnuntai\",AOF11,IF(AOG2=\"h\",AOF11,IF(AOF10=\"\",0,IF(AOB10=\"\",0,IF(AOD11<AOG11,AOD11,AOG11)))))))+AOH11","v":"00:00:00"},null,{"$f":"IF(AOF10=\"\",0,IF(AOD10=\"\",AOF11,AOF10-AOD10))","v":"00:00:00"},null,{"$f":"IF(AOF10=\"\",0,AOF10-AOB10)","v":"00:00:00"},{"$f":"IF(AOF11<AOG10,0,IF(AOF10=\"\",0,IF(AOB10=\"\",0,AOF11-AOG10)))","v":"00:00:00"},{"$f":"IF(AOB4=\"\",0,IF(AOC4=\"ep\",AOD4-AOB4,IF(AOC4=\"y\",IF(AOB4<AOB7,(AOB7-AOB4),0),0)+IF(AOE4=\"y\",IF(AOD4>AOD7,(AOD4-AOD7),0),0)))+IF(AOB5=\"\",0,IF(AOC5=\"ep\",AOD5-AOB5,IF(AOC5=\"y\",IF(AOB5<AOB7,(AOB7-AOB5),0),0)+IF(AOE5=\"y\",IF(AOD5>AOD7,(AOD5-AOD7),0),0)))+IF(AOB6=\"\",0,IF(AOC6=\"ep\",AOD6-AOB6,IF(AOC6=\"y\",IF(AOB6<AOB7,(AOB7-AOB6),0),0)+IF(AOE6=\"y\",IF(AOD6>AOD7,(AOD6-AOD7),0),0)))","v":"00:00:00"},null,null,null,{"$f":"IF(AOQ4=\"v\",0,IF(AOR1=\"Lauantai\",AOP11,IF(AOR1=\"Sunnuntai\",AOP11,IF(AOQ2=\"h\",AOP11,IF(AOP10=\"\",0,IF(AOL10=\"\",0,IF(AON11<AOQ11,AON11,AOQ11)))))))+AOR11","v":"00:00:00"},null,{"$f":"IF(AOP10=\"\",0,IF(AON10=\"\",AOP11,AOP10-AON10))","v":"00:00:00"},null,{"$f":"IF(AOP10=\"\",0,AOP10-AOL10)","v":"00:00:00"},{"$f":"IF(AOP11<AOQ10,0,IF(AOP10=\"\",0,IF(AOL10=\"\",0,AOP11-AOQ10)))","v":"00:00:00"},{"$f":"IF(AOL4=\"\",0,IF(AOM4=\"ep\",AON4-AOL4,IF(AOM4=\"y\",IF(AOL4<AOL7,(AOL7-AOL4),0),0)+IF(AOO4=\"y\",IF(AON4>AON7,(AON4-AON7),0),0)))+IF(AOL5=\"\",0,IF(AOM5=\"ep\",AON5-AOL5,IF(AOM5=\"y\",IF(AOL5<AOL7,(AOL7-AOL5),0),0)+IF(AOO5=\"y\",IF(AON5>AON7,(AON5-AON7),0),0)))+IF(AOL6=\"\",0,IF(AOM6=\"ep\",AON6-AOL6,IF(AOM6=\"y\",IF(AOL6<AOL7,(AOL7-AOL6),0),0)+IF(AOO6=\"y\",IF(AON6>AON7,(AON6-AON7),0),0)))","v":"00:00:00"},null,null,null,{"$f":"IF(APA4=\"v\",0,IF(APB1=\"Lauantai\",AOZ11,IF(APB1=\"Sunnuntai\",AOZ11,IF(APA2=\"h\",AOZ11,IF(AOZ10=\"\",0,IF(AOV10=\"\",0,IF(AOX11<APA11,AOX11,APA11)))))))+APB11","v":"00:00:00"},null,{"$f":"IF(AOZ10=\"\",0,IF(AOX10=\"\",AOZ11,AOZ10-AOX10))","v":"00:00:00"},null,{"$f":"IF(AOZ10=\"\",0,AOZ10-AOV10)","v":"00:00:00"},{"$f":"IF(AOZ11<APA10,0,IF(AOZ10=\"\",0,IF(AOV10=\"\",0,AOZ11-APA10)))","v":"00:00:00"},{"$f":"IF(AOV4=\"\",0,IF(AOW4=\"ep\",AOX4-AOV4,IF(AOW4=\"y\",IF(AOV4<AOV7,(AOV7-AOV4),0),0)+IF(AOY4=\"y\",IF(AOX4>AOX7,(AOX4-AOX7),0),0)))+IF(AOV5=\"\",0,IF(AOW5=\"ep\",AOX5-AOV5,IF(AOW5=\"y\",IF(AOV5<AOV7,(AOV7-AOV5),0),0)+IF(AOY5=\"y\",IF(AOX5>AOX7,(AOX5-AOX7),0),0)))+IF(AOV6=\"\",0,IF(AOW6=\"ep\",AOX6-AOV6,IF(AOW6=\"y\",IF(AOV6<AOV7,(AOV7-AOV6),0),0)+IF(AOY6=\"y\",IF(AOX6>AOX7,(AOX6-AOX7),0),0)))","v":"00:00:00"},null,null,null,{"$f":"IF(APK4=\"v\",0,IF(APL1=\"Lauantai\",APJ11,IF(APL1=\"Sunnuntai\",APJ11,IF(APK2=\"h\",APJ11,IF(APJ10=\"\",0,IF(APF10=\"\",0,IF(APH11<APK11,APH11,APK11)))))))+APL11","v":"00:00:00"},null,{"$f":"IF(APJ10=\"\",0,IF(APH10=\"\",APJ11,APJ10-APH10))","v":"00:00:00"},null,{"$f":"IF(APJ10=\"\",0,APJ10-APF10)","v":"00:00:00"},{"$f":"IF(APJ11<APK10,0,IF(APJ10=\"\",0,IF(APF10=\"\",0,APJ11-APK10)))","v":"00:00:00"},{"$f":"IF(APF4=\"\",0,IF(APG4=\"ep\",APH4-APF4,IF(APG4=\"y\",IF(APF4<APF7,(APF7-APF4),0),0)+IF(API4=\"y\",IF(APH4>APH7,(APH4-APH7),0),0)))+IF(APF5=\"\",0,IF(APG5=\"ep\",APH5-APF5,IF(APG5=\"y\",IF(APF5<APF7,(APF7-APF5),0),0)+IF(API5=\"y\",IF(APH5>APH7,(APH5-APH7),0),0)))+IF(APF6=\"\",0,IF(APG6=\"ep\",APH6-APF6,IF(APG6=\"y\",IF(APF6<APF7,(APF7-APF6),0),0)+IF(API6=\"y\",IF(APH6>APH7,(APH6-APH7),0),0)))","v":"00:00:00"},null,null,null,{"$f":"IF(APU4=\"v\",0,IF(APV1=\"Lauantai\",APT11,IF(APV1=\"Sunnuntai\",APT11,IF(APU2=\"h\",APT11,IF(APT10=\"\",0,IF(APP10=\"\",0,IF(APR11<APU11,APR11,APU11)))))))+APV11","v":"00:00:00"},null,{"$f":"IF(APT10=\"\",0,IF(APR10=\"\",APT11,APT10-APR10))","v":"00:00:00"},null,{"$f":"IF(APT10=\"\",0,APT10-APP10)","v":"00:00:00"},{"$f":"IF(APT11<APU10,0,IF(APT10=\"\",0,IF(APP10=\"\",0,APT11-APU10)))","v":"00:00:00"},{"$f":"IF(APP4=\"\",0,IF(APQ4=\"ep\",APR4-APP4,IF(APQ4=\"y\",IF(APP4<APP7,(APP7-APP4),0),0)+IF(APS4=\"y\",IF(APR4>APR7,(APR4-APR7),0),0)))+IF(APP5=\"\",0,IF(APQ5=\"ep\",APR5-APP5,IF(APQ5=\"y\",IF(APP5<APP7,(APP7-APP5),0),0)+IF(APS5=\"y\",IF(APR5>APR7,(APR5-APR7),0),0)))+IF(APP6=\"\",0,IF(APQ6=\"ep\",APR6-APP6,IF(APQ6=\"y\",IF(APP6<APP7,(APP7-APP6),0),0)+IF(APS6=\"y\",IF(APR6>APR7,(APR6-APR7),0),0)))","v":"00:00:00"},null,null,null,{"$f":"IF(AQE4=\"v\",0,IF(AQF1=\"Lauantai\",AQD11,IF(AQF1=\"Sunnuntai\",AQD11,IF(AQE2=\"h\",AQD11,IF(AQD10=\"\",0,IF(APZ10=\"\",0,IF(AQB11<AQE11,AQB11,AQE11)))))))+AQF11","v":"00:00:00"},null,{"$f":"IF(AQD10=\"\",0,IF(AQB10=\"\",AQD11,AQD10-AQB10))","v":"00:00:00"},null,{"$f":"IF(AQD10=\"\",0,AQD10-APZ10)","v":"00:00:00"},{"$f":"IF(AQD11<AQE10,0,IF(AQD10=\"\",0,IF(APZ10=\"\",0,AQD11-AQE10)))","v":"00:00:00"},{"$f":"IF(APZ4=\"\",0,IF(AQA4=\"ep\",AQB4-APZ4,IF(AQA4=\"y\",IF(APZ4<APZ7,(APZ7-APZ4),0),0)+IF(AQC4=\"y\",IF(AQB4>AQB7,(AQB4-AQB7),0),0)))+IF(APZ5=\"\",0,IF(AQA5=\"ep\",AQB5-APZ5,IF(AQA5=\"y\",IF(APZ5<APZ7,(APZ7-APZ5),0),0)+IF(AQC5=\"y\",IF(AQB5>AQB7,(AQB5-AQB7),0),0)))+IF(APZ6=\"\",0,IF(AQA6=\"ep\",AQB6-APZ6,IF(AQA6=\"y\",IF(APZ6<APZ7,(APZ7-APZ6),0),0)+IF(AQC6=\"y\",IF(AQB6>AQB7,(AQB6-AQB7),0),0)))","v":"00:00:00"},null,null,null,{"$f":"IF(AQO4=\"v\",0,IF(AQP1=\"Lauantai\",AQN11,IF(AQP1=\"Sunnuntai\",AQN11,IF(AQO2=\"h\",AQN11,IF(AQN10=\"\",0,IF(AQJ10=\"\",0,IF(AQL11<AQO11,AQL11,AQO11)))))))+AQP11","v":"00:00:00"},null,{"$f":"IF(AQN10=\"\",0,IF(AQL10=\"\",AQN11,AQN10-AQL10))","v":"00:00:00"},null,{"$f":"IF(AQN10=\"\",0,AQN10-AQJ10)","v":"00:00:00"},{"$f":"IF(AQN11<AQO10,0,IF(AQN10=\"\",0,IF(AQJ10=\"\",0,AQN11-AQO10)))","v":"00:00:00"},{"$f":"IF(AQJ4=\"\",0,IF(AQK4=\"ep\",AQL4-AQJ4,IF(AQK4=\"y\",IF(AQJ4<AQJ7,(AQJ7-AQJ4),0),0)+IF(AQM4=\"y\",IF(AQL4>AQL7,(AQL4-AQL7),0),0)))+IF(AQJ5=\"\",0,IF(AQK5=\"ep\",AQL5-AQJ5,IF(AQK5=\"y\",IF(AQJ5<AQJ7,(AQJ7-AQJ5),0),0)+IF(AQM5=\"y\",IF(AQL5>AQL7,(AQL5-AQL7),0),0)))+IF(AQJ6=\"\",0,IF(AQK6=\"ep\",AQL6-AQJ6,IF(AQK6=\"y\",IF(AQJ6<AQJ7,(AQJ7-AQJ6),0),0)+IF(AQM6=\"y\",IF(AQL6>AQL7,(AQL6-AQL7),0),0)))","v":"00:00:00"},null,null,null,{"$f":"IF(AQY4=\"v\",0,IF(AQZ1=\"Lauantai\",AQX11,IF(AQZ1=\"Sunnuntai\",AQX11,IF(AQY2=\"h\",AQX11,IF(AQX10=\"\",0,IF(AQT10=\"\",0,IF(AQV11<AQY11,AQV11,AQY11)))))))+AQZ11","v":"00:00:00"},null,{"$f":"IF(AQX10=\"\",0,IF(AQV10=\"\",AQX11,AQX10-AQV10))","v":"00:00:00"},null,{"$f":"IF(AQX10=\"\",0,AQX10-AQT10)","v":"00:00:00"},{"$f":"IF(AQX11<AQY10,0,IF(AQX10=\"\",0,IF(AQT10=\"\",0,AQX11-AQY10)))","v":"00:00:00"},{"$f":"IF(AQT4=\"\",0,IF(AQU4=\"ep\",AQV4-AQT4,IF(AQU4=\"y\",IF(AQT4<AQT7,(AQT7-AQT4),0),0)+IF(AQW4=\"y\",IF(AQV4>AQV7,(AQV4-AQV7),0),0)))+IF(AQT5=\"\",0,IF(AQU5=\"ep\",AQV5-AQT5,IF(AQU5=\"y\",IF(AQT5<AQT7,(AQT7-AQT5),0),0)+IF(AQW5=\"y\",IF(AQV5>AQV7,(AQV5-AQV7),0),0)))+IF(AQT6=\"\",0,IF(AQU6=\"ep\",AQV6-AQT6,IF(AQU6=\"y\",IF(AQT6<AQT7,(AQT7-AQT6),0),0)+IF(AQW6=\"y\",IF(AQV6>AQV7,(AQV6-AQV7),0),0)))","v":"00:00:00"},null,null,null,{"$f":"IF(ARI4=\"v\",0,IF(ARJ1=\"Lauantai\",ARH11,IF(ARJ1=\"Sunnuntai\",ARH11,IF(ARI2=\"h\",ARH11,IF(ARH10=\"\",0,IF(ARD10=\"\",0,IF(ARF11<ARI11,ARF11,ARI11)))))))+ARJ11","v":"00:00:00"},null,{"$f":"IF(ARH10=\"\",0,IF(ARF10=\"\",ARH11,ARH10-ARF10))","v":"00:00:00"},null,{"$f":"IF(ARH10=\"\",0,ARH10-ARD10)","v":"00:00:00"},{"$f":"IF(ARH11<ARI10,0,IF(ARH10=\"\",0,IF(ARD10=\"\",0,ARH11-ARI10)))","v":"00:00:00"},{"$f":"IF(ARD4=\"\",0,IF(ARE4=\"ep\",ARF4-ARD4,IF(ARE4=\"y\",IF(ARD4<ARD7,(ARD7-ARD4),0),0)+IF(ARG4=\"y\",IF(ARF4>ARF7,(ARF4-ARF7),0),0)))+IF(ARD5=\"\",0,IF(ARE5=\"ep\",ARF5-ARD5,IF(ARE5=\"y\",IF(ARD5<ARD7,(ARD7-ARD5),0),0)+IF(ARG5=\"y\",IF(ARF5>ARF7,(ARF5-ARF7),0),0)))+IF(ARD6=\"\",0,IF(ARE6=\"ep\",ARF6-ARD6,IF(ARE6=\"y\",IF(ARD6<ARD7,(ARD7-ARD6),0),0)+IF(ARG6=\"y\",IF(ARF6>ARF7,(ARF6-ARF7),0),0)))","v":"00:00:00"},null,null,null,{"$f":"IF(ARS4=\"v\",0,IF(ART1=\"Lauantai\",ARR11,IF(ART1=\"Sunnuntai\",ARR11,IF(ARS2=\"h\",ARR11,IF(ARR10=\"\",0,IF(ARN10=\"\",0,IF(ARP11<ARS11,ARP11,ARS11)))))))+ART11","v":"00:00:00"},null,{"$f":"IF(ARR10=\"\",0,IF(ARP10=\"\",ARR11,ARR10-ARP10))","v":"00:00:00"},null,{"$f":"IF(ARR10=\"\",0,ARR10-ARN10)","v":"00:00:00"},{"$f":"IF(ARR11<ARS10,0,IF(ARR10=\"\",0,IF(ARN10=\"\",0,ARR11-ARS10)))","v":"00:00:00"},{"$f":"IF(ARN4=\"\",0,IF(ARO4=\"ep\",ARP4-ARN4,IF(ARO4=\"y\",IF(ARN4<ARN7,(ARN7-ARN4),0),0)+IF(ARQ4=\"y\",IF(ARP4>ARP7,(ARP4-ARP7),0),0)))+IF(ARN5=\"\",0,IF(ARO5=\"ep\",ARP5-ARN5,IF(ARO5=\"y\",IF(ARN5<ARN7,(ARN7-ARN5),0),0)+IF(ARQ5=\"y\",IF(ARP5>ARP7,(ARP5-ARP7),0),0)))+IF(ARN6=\"\",0,IF(ARO6=\"ep\",ARP6-ARN6,IF(ARO6=\"y\",IF(ARN6<ARN7,(ARN7-ARN6),0),0)+IF(ARQ6=\"y\",IF(ARP6>ARP7,(ARP6-ARP7),0),0)))","v":"00:00:00"},null,null,null,{"$f":"IF(ASC4=\"v\",0,IF(ASD1=\"Lauantai\",ASB11,IF(ASD1=\"Sunnuntai\",ASB11,IF(ASC2=\"h\",ASB11,IF(ASB10=\"\",0,IF(ARX10=\"\",0,IF(ARZ11<ASC11,ARZ11,ASC11)))))))+ASD11","v":"00:00:00"},null,{"$f":"IF(ASB10=\"\",0,IF(ARZ10=\"\",ASB11,ASB10-ARZ10))","v":"00:00:00"},null,{"$f":"IF(ASB10=\"\",0,ASB10-ARX10)","v":"00:00:00"},{"$f":"IF(ASB11<ASC10,0,IF(ASB10=\"\",0,IF(ARX10=\"\",0,ASB11-ASC10)))","v":"00:00:00"},{"$f":"IF(ARX4=\"\",0,IF(ARY4=\"ep\",ARZ4-ARX4,IF(ARY4=\"y\",IF(ARX4<ARX7,(ARX7-ARX4),0),0)+IF(ASA4=\"y\",IF(ARZ4>ARZ7,(ARZ4-ARZ7),0),0)))+IF(ARX5=\"\",0,IF(ARY5=\"ep\",ARZ5-ARX5,IF(ARY5=\"y\",IF(ARX5<ARX7,(ARX7-ARX5),0),0)+IF(ASA5=\"y\",IF(ARZ5>ARZ7,(ARZ5-ARZ7),0),0)))+IF(ARX6=\"\",0,IF(ARY6=\"ep\",ARZ6-ARX6,IF(ARY6=\"y\",IF(ARX6<ARX7,(ARX7-ARX6),0),0)+IF(ASA6=\"y\",IF(ARZ6>ARZ7,(ARZ6-ARZ7),0),0)))","v":"00:00:00"},null,null,null,{"$f":"IF(ASM4=\"v\",0,IF(ASN1=\"Lauantai\",ASL11,IF(ASN1=\"Sunnuntai\",ASL11,IF(ASM2=\"h\",ASL11,IF(ASL10=\"\",0,IF(ASH10=\"\",0,IF(ASJ11<ASM11,ASJ11,ASM11)))))))+ASN11","v":"00:00:00"},null,{"$f":"IF(ASL10=\"\",0,IF(ASJ10=\"\",ASL11,ASL10-ASJ10))","v":"00:00:00"},null,{"$f":"IF(ASL10=\"\",0,ASL10-ASH10)","v":"00:00:00"},{"$f":"IF(ASL11<ASM10,0,IF(ASL10=\"\",0,IF(ASH10=\"\",0,ASL11-ASM10)))","v":"00:00:00"},{"$f":"IF(ASH4=\"\",0,IF(ASI4=\"ep\",ASJ4-ASH4,IF(ASI4=\"y\",IF(ASH4<ASH7,(ASH7-ASH4),0),0)+IF(ASK4=\"y\",IF(ASJ4>ASJ7,(ASJ4-ASJ7),0),0)))+IF(ASH5=\"\",0,IF(ASI5=\"ep\",ASJ5-ASH5,IF(ASI5=\"y\",IF(ASH5<ASH7,(ASH7-ASH5),0),0)+IF(ASK5=\"y\",IF(ASJ5>ASJ7,(ASJ5-ASJ7),0),0)))+IF(ASH6=\"\",0,IF(ASI6=\"ep\",ASJ6-ASH6,IF(ASI6=\"y\",IF(ASH6<ASH7,(ASH7-ASH6),0),0)+IF(ASK6=\"y\",IF(ASJ6>ASJ7,(ASJ6-ASJ7),0),0)))","v":"00:00:00"},null,null,null,{"$f":"IF(ASW4=\"v\",0,IF(ASX1=\"Lauantai\",ASV11,IF(ASX1=\"Sunnuntai\",ASV11,IF(ASW2=\"h\",ASV11,IF(ASV10=\"\",0,IF(ASR10=\"\",0,IF(AST11<ASW11,AST11,ASW11)))))))+ASX11","v":"00:00:00"},null,{"$f":"IF(ASV10=\"\",0,IF(AST10=\"\",ASV11,ASV10-AST10))","v":"00:00:00"},null,{"$f":"IF(ASV10=\"\",0,ASV10-ASR10)","v":"00:00:00"},{"$f":"IF(ASV11<ASW10,0,IF(ASV10=\"\",0,IF(ASR10=\"\",0,ASV11-ASW10)))","v":"00:00:00"},{"$f":"IF(ASR4=\"\",0,IF(ASS4=\"ep\",AST4-ASR4,IF(ASS4=\"y\",IF(ASR4<ASR7,(ASR7-ASR4),0),0)+IF(ASU4=\"y\",IF(AST4>AST7,(AST4-AST7),0),0)))+IF(ASR5=\"\",0,IF(ASS5=\"ep\",AST5-ASR5,IF(ASS5=\"y\",IF(ASR5<ASR7,(ASR7-ASR5),0),0)+IF(ASU5=\"y\",IF(AST5>AST7,(AST5-AST7),0),0)))+IF(ASR6=\"\",0,IF(ASS6=\"ep\",AST6-ASR6,IF(ASS6=\"y\",IF(ASR6<ASR7,(ASR7-ASR6),0),0)+IF(ASU6=\"y\",IF(AST6>AST7,(AST6-AST7),0),0)))","v":"00:00:00"},null,null,null,{"$f":"IF(ATG4=\"v\",0,IF(ATH1=\"Lauantai\",ATF11,IF(ATH1=\"Sunnuntai\",ATF11,IF(ATG2=\"h\",ATF11,IF(ATF10=\"\",0,IF(ATB10=\"\",0,IF(ATD11<ATG11,ATD11,ATG11)))))))+ATH11","v":"00:00:00"},null,{"$f":"IF(ATF10=\"\",0,IF(ATD10=\"\",ATF11,ATF10-ATD10))","v":"00:00:00"},null,{"$f":"IF(ATF10=\"\",0,ATF10-ATB10)","v":"00:00:00"},{"$f":"IF(ATF11<ATG10,0,IF(ATF10=\"\",0,IF(ATB10=\"\",0,ATF11-ATG10)))","v":"00:00:00"},{"$f":"IF(ATB4=\"\",0,IF(ATC4=\"ep\",ATD4-ATB4,IF(ATC4=\"y\",IF(ATB4<ATB7,(ATB7-ATB4),0),0)+IF(ATE4=\"y\",IF(ATD4>ATD7,(ATD4-ATD7),0),0)))+IF(ATB5=\"\",0,IF(ATC5=\"ep\",ATD5-ATB5,IF(ATC5=\"y\",IF(ATB5<ATB7,(ATB7-ATB5),0),0)+IF(ATE5=\"y\",IF(ATD5>ATD7,(ATD5-ATD7),0),0)))+IF(ATB6=\"\",0,IF(ATC6=\"ep\",ATD6-ATB6,IF(ATC6=\"y\",IF(ATB6<ATB7,(ATB7-ATB6),0),0)+IF(ATE6=\"y\",IF(ATD6>ATD7,(ATD6-ATD7),0),0)))","v":"00:00:00"},null,null,null,{"$f":"IF(ATQ4=\"v\",0,IF(ATR1=\"Lauantai\",ATP11,IF(ATR1=\"Sunnuntai\",ATP11,IF(ATQ2=\"h\",ATP11,IF(ATP10=\"\",0,IF(ATL10=\"\",0,IF(ATN11<ATQ11,ATN11,ATQ11)))))))+ATR11","v":"00:00:00"},null,{"$f":"IF(ATP10=\"\",0,IF(ATN10=\"\",ATP11,ATP10-ATN10))","v":"00:00:00"},null,{"$f":"IF(ATP10=\"\",0,ATP10-ATL10)","v":"00:00:00"},{"$f":"IF(ATP11<ATQ10,0,IF(ATP10=\"\",0,IF(ATL10=\"\",0,ATP11-ATQ10)))","v":"00:00:00"},{"$f":"IF(ATL4=\"\",0,IF(ATM4=\"ep\",ATN4-ATL4,IF(ATM4=\"y\",IF(ATL4<ATL7,(ATL7-ATL4),0),0)+IF(ATO4=\"y\",IF(ATN4>ATN7,(ATN4-ATN7),0),0)))+IF(ATL5=\"\",0,IF(ATM5=\"ep\",ATN5-ATL5,IF(ATM5=\"y\",IF(ATL5<ATL7,(ATL7-ATL5),0),0)+IF(ATO5=\"y\",IF(ATN5>ATN7,(ATN5-ATN7),0),0)))+IF(ATL6=\"\",0,IF(ATM6=\"ep\",ATN6-ATL6,IF(ATM6=\"y\",IF(ATL6<ATL7,(ATL7-ATL6),0),0)+IF(ATO6=\"y\",IF(ATN6>ATN7,(ATN6-ATN7),0),0)))","v":"00:00:00"},null,null,null,{"$f":"IF(AUA4=\"v\",0,IF(AUB1=\"Lauantai\",ATZ11,IF(AUB1=\"Sunnuntai\",ATZ11,IF(AUA2=\"h\",ATZ11,IF(ATZ10=\"\",0,IF(ATV10=\"\",0,IF(ATX11<AUA11,ATX11,AUA11)))))))+AUB11","v":"00:00:00"},null,{"$f":"IF(ATZ10=\"\",0,IF(ATX10=\"\",ATZ11,ATZ10-ATX10))","v":"00:00:00"},null,{"$f":"IF(ATZ10=\"\",0,ATZ10-ATV10)","v":"00:00:00"},{"$f":"IF(ATZ11<AUA10,0,IF(ATZ10=\"\",0,IF(ATV10=\"\",0,ATZ11-AUA10)))","v":"00:00:00"},{"$f":"IF(ATV4=\"\",0,IF(ATW4=\"ep\",ATX4-ATV4,IF(ATW4=\"y\",IF(ATV4<ATV7,(ATV7-ATV4),0),0)+IF(ATY4=\"y\",IF(ATX4>ATX7,(ATX4-ATX7),0),0)))+IF(ATV5=\"\",0,IF(ATW5=\"ep\",ATX5-ATV5,IF(ATW5=\"y\",IF(ATV5<ATV7,(ATV7-ATV5),0),0)+IF(ATY5=\"y\",IF(ATX5>ATX7,(ATX5-ATX7),0),0)))+IF(ATV6=\"\",0,IF(ATW6=\"ep\",ATX6-ATV6,IF(ATW6=\"y\",IF(ATV6<ATV7,(ATV7-ATV6),0),0)+IF(ATY6=\"y\",IF(ATX6>ATX7,(ATX6-ATX7),0),0)))","v":"00:00:00"},null,null,null,{"$f":"IF(AUK4=\"v\",0,IF(AUL1=\"Lauantai\",AUJ11,IF(AUL1=\"Sunnuntai\",AUJ11,IF(AUK2=\"h\",AUJ11,IF(AUJ10=\"\",0,IF(AUF10=\"\",0,IF(AUH11<AUK11,AUH11,AUK11)))))))+AUL11","v":"00:00:00"},null,{"$f":"IF(AUJ10=\"\",0,IF(AUH10=\"\",AUJ11,AUJ10-AUH10))","v":"00:00:00"},null,{"$f":"IF(AUJ10=\"\",0,AUJ10-AUF10)","v":"00:00:00"},{"$f":"IF(AUJ11<AUK10,0,IF(AUJ10=\"\",0,IF(AUF10=\"\",0,AUJ11-AUK10)))","v":"00:00:00"},{"$f":"IF(AUF4=\"\",0,IF(AUG4=\"ep\",AUH4-AUF4,IF(AUG4=\"y\",IF(AUF4<AUF7,(AUF7-AUF4),0),0)+IF(AUI4=\"y\",IF(AUH4>AUH7,(AUH4-AUH7),0),0)))+IF(AUF5=\"\",0,IF(AUG5=\"ep\",AUH5-AUF5,IF(AUG5=\"y\",IF(AUF5<AUF7,(AUF7-AUF5),0),0)+IF(AUI5=\"y\",IF(AUH5>AUH7,(AUH5-AUH7),0),0)))+IF(AUF6=\"\",0,IF(AUG6=\"ep\",AUH6-AUF6,IF(AUG6=\"y\",IF(AUF6<AUF7,(AUF7-AUF6),0),0)+IF(AUI6=\"y\",IF(AUH6>AUH7,(AUH6-AUH7),0),0)))","v":"00:00:00"},null,null,null,{"$f":"IF(AUU4=\"v\",0,IF(AUV1=\"Lauantai\",AUT11,IF(AUV1=\"Sunnuntai\",AUT11,IF(AUU2=\"h\",AUT11,IF(AUT10=\"\",0,IF(AUP10=\"\",0,IF(AUR11<AUU11,AUR11,AUU11)))))))+AUV11","v":"00:00:00"},null,{"$f":"IF(AUT10=\"\",0,IF(AUR10=\"\",AUT11,AUT10-AUR10))","v":"00:00:00"},null,{"$f":"IF(AUT10=\"\",0,AUT10-AUP10)","v":"00:00:00"},{"$f":"IF(AUT11<AUU10,0,IF(AUT10=\"\",0,IF(AUP10=\"\",0,AUT11-AUU10)))","v":"00:00:00"},{"$f":"IF(AUP4=\"\",0,IF(AUQ4=\"ep\",AUR4-AUP4,IF(AUQ4=\"y\",IF(AUP4<AUP7,(AUP7-AUP4),0),0)+IF(AUS4=\"y\",IF(AUR4>AUR7,(AUR4-AUR7),0),0)))+IF(AUP5=\"\",0,IF(AUQ5=\"ep\",AUR5-AUP5,IF(AUQ5=\"y\",IF(AUP5<AUP7,(AUP7-AUP5),0),0)+IF(AUS5=\"y\",IF(AUR5>AUR7,(AUR5-AUR7),0),0)))+IF(AUP6=\"\",0,IF(AUQ6=\"ep\",AUR6-AUP6,IF(AUQ6=\"y\",IF(AUP6<AUP7,(AUP7-AUP6),0),0)+IF(AUS6=\"y\",IF(AUR6>AUR7,(AUR6-AUR7),0),0)))","v":"00:00:00"},null,null,null,{"$f":"IF(AVE4=\"v\",0,IF(AVF1=\"Lauantai\",AVD11,IF(AVF1=\"Sunnuntai\",AVD11,IF(AVE2=\"h\",AVD11,IF(AVD10=\"\",0,IF(AUZ10=\"\",0,IF(AVB11<AVE11,AVB11,AVE11)))))))+AVF11","v":"00:00:00"},null,{"$f":"IF(AVD10=\"\",0,IF(AVB10=\"\",AVD11,AVD10-AVB10))","v":"00:00:00"},null,{"$f":"IF(AVD10=\"\",0,AVD10-AUZ10)","v":"00:00:00"},{"$f":"IF(AVD11<AVE10,0,IF(AVD10=\"\",0,IF(AUZ10=\"\",0,AVD11-AVE10)))","v":"00:00:00"},{"$f":"IF(AUZ4=\"\",0,IF(AVA4=\"ep\",AVB4-AUZ4,IF(AVA4=\"y\",IF(AUZ4<AUZ7,(AUZ7-AUZ4),0),0)+IF(AVC4=\"y\",IF(AVB4>AVB7,(AVB4-AVB7),0),0)))+IF(AUZ5=\"\",0,IF(AVA5=\"ep\",AVB5-AUZ5,IF(AVA5=\"y\",IF(AUZ5<AUZ7,(AUZ7-AUZ5),0),0)+IF(AVC5=\"y\",IF(AVB5>AVB7,(AVB5-AVB7),0),0)))+IF(AUZ6=\"\",0,IF(AVA6=\"ep\",AVB6-AUZ6,IF(AVA6=\"y\",IF(AUZ6<AUZ7,(AUZ7-AUZ6),0),0)+IF(AVC6=\"y\",IF(AVB6>AVB7,(AVB6-AVB7),0),0)))","v":"00:00:00"},null,null,null,{"$f":"IF(AVO4=\"v\",0,IF(AVP1=\"Lauantai\",AVN11,IF(AVP1=\"Sunnuntai\",AVN11,IF(AVO2=\"h\",AVN11,IF(AVN10=\"\",0,IF(AVJ10=\"\",0,IF(AVL11<AVO11,AVL11,AVO11)))))))+AVP11","v":"00:00:00"},null,{"$f":"IF(AVN10=\"\",0,IF(AVL10=\"\",AVN11,AVN10-AVL10))","v":"00:00:00"},null,{"$f":"IF(AVN10=\"\",0,AVN10-AVJ10)","v":"00:00:00"},{"$f":"IF(AVN11<AVO10,0,IF(AVN10=\"\",0,IF(AVJ10=\"\",0,AVN11-AVO10)))","v":"00:00:00"},{"$f":"IF(AVJ4=\"\",0,IF(AVK4=\"ep\",AVL4-AVJ4,IF(AVK4=\"y\",IF(AVJ4<AVJ7,(AVJ7-AVJ4),0),0)+IF(AVM4=\"y\",IF(AVL4>AVL7,(AVL4-AVL7),0),0)))+IF(AVJ5=\"\",0,IF(AVK5=\"ep\",AVL5-AVJ5,IF(AVK5=\"y\",IF(AVJ5<AVJ7,(AVJ7-AVJ5),0),0)+IF(AVM5=\"y\",IF(AVL5>AVL7,(AVL5-AVL7),0),0)))+IF(AVJ6=\"\",0,IF(AVK6=\"ep\",AVL6-AVJ6,IF(AVK6=\"y\",IF(AVJ6<AVJ7,(AVJ7-AVJ6),0),0)+IF(AVM6=\"y\",IF(AVL6>AVL7,(AVL6-AVL7),0),0)))","v":"00:00:00"},null,null,null,{"$f":"IF(AVY4=\"v\",0,IF(AVZ1=\"Lauantai\",AVX11,IF(AVZ1=\"Sunnuntai\",AVX11,IF(AVY2=\"h\",AVX11,IF(AVX10=\"\",0,IF(AVT10=\"\",0,IF(AVV11<AVY11,AVV11,AVY11)))))))+AVZ11","v":"00:00:00"},null,{"$f":"IF(AVX10=\"\",0,IF(AVV10=\"\",AVX11,AVX10-AVV10))","v":"00:00:00"},null,{"$f":"IF(AVX10=\"\",0,AVX10-AVT10)","v":"00:00:00"},{"$f":"IF(AVX11<AVY10,0,IF(AVX10=\"\",0,IF(AVT10=\"\",0,AVX11-AVY10)))","v":"00:00:00"},{"$f":"IF(AVT4=\"\",0,IF(AVU4=\"ep\",AVV4-AVT4,IF(AVU4=\"y\",IF(AVT4<AVT7,(AVT7-AVT4),0),0)+IF(AVW4=\"y\",IF(AVV4>AVV7,(AVV4-AVV7),0),0)))+IF(AVT5=\"\",0,IF(AVU5=\"ep\",AVV5-AVT5,IF(AVU5=\"y\",IF(AVT5<AVT7,(AVT7-AVT5),0),0)+IF(AVW5=\"y\",IF(AVV5>AVV7,(AVV5-AVV7),0),0)))+IF(AVT6=\"\",0,IF(AVU6=\"ep\",AVV6-AVT6,IF(AVU6=\"y\",IF(AVT6<AVT7,(AVT7-AVT6),0),0)+IF(AVW6=\"y\",IF(AVV6>AVV7,(AVV6-AVV7),0),0)))","v":"00:00:00"},null,null,null,{"$f":"IF(AWI4=\"v\",0,IF(AWJ1=\"Lauantai\",AWH11,IF(AWJ1=\"Sunnuntai\",AWH11,IF(AWI2=\"h\",AWH11,IF(AWH10=\"\",0,IF(AWD10=\"\",0,IF(AWF11<AWI11,AWF11,AWI11)))))))+AWJ11","v":"00:00:00"},null,{"$f":"IF(AWH10=\"\",0,IF(AWF10=\"\",AWH11,AWH10-AWF10))","v":"00:00:00"},null,{"$f":"IF(AWH10=\"\",0,AWH10-AWD10)","v":"00:00:00"},{"$f":"IF(AWH11<AWI10,0,IF(AWH10=\"\",0,IF(AWD10=\"\",0,AWH11-AWI10)))","v":"00:00:00"},{"$f":"IF(AWD4=\"\",0,IF(AWE4=\"ep\",AWF4-AWD4,IF(AWE4=\"y\",IF(AWD4<AWD7,(AWD7-AWD4),0),0)+IF(AWG4=\"y\",IF(AWF4>AWF7,(AWF4-AWF7),0),0)))+IF(AWD5=\"\",0,IF(AWE5=\"ep\",AWF5-AWD5,IF(AWE5=\"y\",IF(AWD5<AWD7,(AWD7-AWD5),0),0)+IF(AWG5=\"y\",IF(AWF5>AWF7,(AWF5-AWF7),0),0)))+IF(AWD6=\"\",0,IF(AWE6=\"ep\",AWF6-AWD6,IF(AWE6=\"y\",IF(AWD6<AWD7,(AWD7-AWD6),0),0)+IF(AWG6=\"y\",IF(AWF6>AWF7,(AWF6-AWF7),0),0)))","v":"00:00:00"},null,null,null,{"$f":"IF(AWS4=\"v\",0,IF(AWT1=\"Lauantai\",AWR11,IF(AWT1=\"Sunnuntai\",AWR11,IF(AWS2=\"h\",AWR11,IF(AWR10=\"\",0,IF(AWN10=\"\",0,IF(AWP11<AWS11,AWP11,AWS11)))))))+AWT11","v":"00:00:00"},null,{"$f":"IF(AWR10=\"\",0,IF(AWP10=\"\",AWR11,AWR10-AWP10))","v":"00:00:00"},null,{"$f":"IF(AWR10=\"\",0,AWR10-AWN10)","v":"00:00:00"},{"$f":"IF(AWR11<AWS10,0,IF(AWR10=\"\",0,IF(AWN10=\"\",0,AWR11-AWS10)))","v":"00:00:00"},{"$f":"IF(AWN4=\"\",0,IF(AWO4=\"ep\",AWP4-AWN4,IF(AWO4=\"y\",IF(AWN4<AWN7,(AWN7-AWN4),0),0)+IF(AWQ4=\"y\",IF(AWP4>AWP7,(AWP4-AWP7),0),0)))+IF(AWN5=\"\",0,IF(AWO5=\"ep\",AWP5-AWN5,IF(AWO5=\"y\",IF(AWN5<AWN7,(AWN7-AWN5),0),0)+IF(AWQ5=\"y\",IF(AWP5>AWP7,(AWP5-AWP7),0),0)))+IF(AWN6=\"\",0,IF(AWO6=\"ep\",AWP6-AWN6,IF(AWO6=\"y\",IF(AWN6<AWN7,(AWN7-AWN6),0),0)+IF(AWQ6=\"y\",IF(AWP6>AWP7,(AWP6-AWP7),0),0)))","v":"00:00:00"},null,null,null,{"$f":"IF(AXC4=\"v\",0,IF(AXD1=\"Lauantai\",AXB11,IF(AXD1=\"Sunnuntai\",AXB11,IF(AXC2=\"h\",AXB11,IF(AXB10=\"\",0,IF(AWX10=\"\",0,IF(AWZ11<AXC11,AWZ11,AXC11)))))))+AXD11","v":"00:00:00"},null,{"$f":"IF(AXB10=\"\",0,IF(AWZ10=\"\",AXB11,AXB10-AWZ10))","v":"00:00:00"},null,{"$f":"IF(AXB10=\"\",0,AXB10-AWX10)","v":"00:00:00"},{"$f":"IF(AXB11<AXC10,0,IF(AXB10=\"\",0,IF(AWX10=\"\",0,AXB11-AXC10)))","v":"00:00:00"},{"$f":"IF(AWX4=\"\",0,IF(AWY4=\"ep\",AWZ4-AWX4,IF(AWY4=\"y\",IF(AWX4<AWX7,(AWX7-AWX4),0),0)+IF(AXA4=\"y\",IF(AWZ4>AWZ7,(AWZ4-AWZ7),0),0)))+IF(AWX5=\"\",0,IF(AWY5=\"ep\",AWZ5-AWX5,IF(AWY5=\"y\",IF(AWX5<AWX7,(AWX7-AWX5),0),0)+IF(AXA5=\"y\",IF(AWZ5>AWZ7,(AWZ5-AWZ7),0),0)))+IF(AWX6=\"\",0,IF(AWY6=\"ep\",AWZ6-AWX6,IF(AWY6=\"y\",IF(AWX6<AWX7,(AWX7-AWX6),0),0)+IF(AXA6=\"y\",IF(AWZ6>AWZ7,(AWZ6-AWZ7),0),0)))","v":"00:00:00"},null,null,null,{"$f":"IF(AXM4=\"v\",0,IF(AXN1=\"Lauantai\",AXL11,IF(AXN1=\"Sunnuntai\",AXL11,IF(AXM2=\"h\",AXL11,IF(AXL10=\"\",0,IF(AXH10=\"\",0,IF(AXJ11<AXM11,AXJ11,AXM11)))))))+AXN11","v":"00:00:00"},null,{"$f":"IF(AXL10=\"\",0,IF(AXJ10=\"\",AXL11,AXL10-AXJ10))","v":"00:00:00"},null,{"$f":"IF(AXL10=\"\",0,AXL10-AXH10)","v":"00:00:00"},{"$f":"IF(AXL11<AXM10,0,IF(AXL10=\"\",0,IF(AXH10=\"\",0,AXL11-AXM10)))","v":"00:00:00"},{"$f":"IF(AXH4=\"\",0,IF(AXI4=\"ep\",AXJ4-AXH4,IF(AXI4=\"y\",IF(AXH4<AXH7,(AXH7-AXH4),0),0)+IF(AXK4=\"y\",IF(AXJ4>AXJ7,(AXJ4-AXJ7),0),0)))+IF(AXH5=\"\",0,IF(AXI5=\"ep\",AXJ5-AXH5,IF(AXI5=\"y\",IF(AXH5<AXH7,(AXH7-AXH5),0),0)+IF(AXK5=\"y\",IF(AXJ5>AXJ7,(AXJ5-AXJ7),0),0)))+IF(AXH6=\"\",0,IF(AXI6=\"ep\",AXJ6-AXH6,IF(AXI6=\"y\",IF(AXH6<AXH7,(AXH7-AXH6),0),0)+IF(AXK6=\"y\",IF(AXJ6>AXJ7,(AXJ6-AXJ7),0),0)))","v":"00:00:00"},null,null,null,{"$f":"IF(AXW4=\"v\",0,IF(AXX1=\"Lauantai\",AXV11,IF(AXX1=\"Sunnuntai\",AXV11,IF(AXW2=\"h\",AXV11,IF(AXV10=\"\",0,IF(AXR10=\"\",0,IF(AXT11<AXW11,AXT11,AXW11)))))))+AXX11","v":"00:00:00"},null,{"$f":"IF(AXV10=\"\",0,IF(AXT10=\"\",AXV11,AXV10-AXT10))","v":"00:00:00"},null,{"$f":"IF(AXV10=\"\",0,AXV10-AXR10)","v":"00:00:00"},{"$f":"IF(AXV11<AXW10,0,IF(AXV10=\"\",0,IF(AXR10=\"\",0,AXV11-AXW10)))","v":"00:00:00"},{"$f":"IF(AXR4=\"\",0,IF(AXS4=\"ep\",AXT4-AXR4,IF(AXS4=\"y\",IF(AXR4<AXR7,(AXR7-AXR4),0),0)+IF(AXU4=\"y\",IF(AXT4>AXT7,(AXT4-AXT7),0),0)))+IF(AXR5=\"\",0,IF(AXS5=\"ep\",AXT5-AXR5,IF(AXS5=\"y\",IF(AXR5<AXR7,(AXR7-AXR5),0),0)+IF(AXU5=\"y\",IF(AXT5>AXT7,(AXT5-AXT7),0),0)))+IF(AXR6=\"\",0,IF(AXS6=\"ep\",AXT6-AXR6,IF(AXS6=\"y\",IF(AXR6<AXR7,(AXR7-AXR6),0),0)+IF(AXU6=\"y\",IF(AXT6>AXT7,(AXT6-AXT7),0),0)))","v":"00:00:00"},null,null,null,{"$f":"IF(AYG4=\"v\",0,IF(AYH1=\"Lauantai\",AYF11,IF(AYH1=\"Sunnuntai\",AYF11,IF(AYG2=\"h\",AYF11,IF(AYF10=\"\",0,IF(AYB10=\"\",0,IF(AYD11<AYG11,AYD11,AYG11)))))))+AYH11","v":"00:00:00"},null,{"$f":"IF(AYF10=\"\",0,IF(AYD10=\"\",AYF11,AYF10-AYD10))","v":"00:00:00"},null,{"$f":"IF(AYF10=\"\",0,AYF10-AYB10)","v":"00:00:00"},{"$f":"IF(AYF11<AYG10,0,IF(AYF10=\"\",0,IF(AYB10=\"\",0,AYF11-AYG10)))","v":"00:00:00"},{"$f":"IF(AYB4=\"\",0,IF(AYC4=\"ep\",AYD4-AYB4,IF(AYC4=\"y\",IF(AYB4<AYB7,(AYB7-AYB4),0),0)+IF(AYE4=\"y\",IF(AYD4>AYD7,(AYD4-AYD7),0),0)))+IF(AYB5=\"\",0,IF(AYC5=\"ep\",AYD5-AYB5,IF(AYC5=\"y\",IF(AYB5<AYB7,(AYB7-AYB5),0),0)+IF(AYE5=\"y\",IF(AYD5>AYD7,(AYD5-AYD7),0),0)))+IF(AYB6=\"\",0,IF(AYC6=\"ep\",AYD6-AYB6,IF(AYC6=\"y\",IF(AYB6<AYB7,(AYB7-AYB6),0),0)+IF(AYE6=\"y\",IF(AYD6>AYD7,(AYD6-AYD7),0),0)))","v":"00:00:00"},null,null,null,{"$f":"IF(AYQ4=\"v\",0,IF(AYR1=\"Lauantai\",AYP11,IF(AYR1=\"Sunnuntai\",AYP11,IF(AYQ2=\"h\",AYP11,IF(AYP10=\"\",0,IF(AYL10=\"\",0,IF(AYN11<AYQ11,AYN11,AYQ11)))))))+AYR11","v":"00:00:00"},null,{"$f":"IF(AYP10=\"\",0,IF(AYN10=\"\",AYP11,AYP10-AYN10))","v":"00:00:00"},null,{"$f":"IF(AYP10=\"\",0,AYP10-AYL10)","v":"00:00:00"},{"$f":"IF(AYP11<AYQ10,0,IF(AYP10=\"\",0,IF(AYL10=\"\",0,AYP11-AYQ10)))","v":"00:00:00"},{"$f":"IF(AYL4=\"\",0,IF(AYM4=\"ep\",AYN4-AYL4,IF(AYM4=\"y\",IF(AYL4<AYL7,(AYL7-AYL4),0),0)+IF(AYO4=\"y\",IF(AYN4>AYN7,(AYN4-AYN7),0),0)))+IF(AYL5=\"\",0,IF(AYM5=\"ep\",AYN5-AYL5,IF(AYM5=\"y\",IF(AYL5<AYL7,(AYL7-AYL5),0),0)+IF(AYO5=\"y\",IF(AYN5>AYN7,(AYN5-AYN7),0),0)))+IF(AYL6=\"\",0,IF(AYM6=\"ep\",AYN6-AYL6,IF(AYM6=\"y\",IF(AYL6<AYL7,(AYL7-AYL6),0),0)+IF(AYO6=\"y\",IF(AYN6>AYN7,(AYN6-AYN7),0),0)))","v":"00:00:00"},null,null,null,{"$f":"IF(AZA4=\"v\",0,IF(AZB1=\"Lauantai\",AYZ11,IF(AZB1=\"Sunnuntai\",AYZ11,IF(AZA2=\"h\",AYZ11,IF(AYZ10=\"\",0,IF(AYV10=\"\",0,IF(AYX11<AZA11,AYX11,AZA11)))))))+AZB11","v":"00:00:00"},null,{"$f":"IF(AYZ10=\"\",0,IF(AYX10=\"\",AYZ11,AYZ10-AYX10))","v":"00:00:00"},null,{"$f":"IF(AYZ10=\"\",0,AYZ10-AYV10)","v":"00:00:00"},{"$f":"IF(AYZ11<AZA10,0,IF(AYZ10=\"\",0,IF(AYV10=\"\",0,AYZ11-AZA10)))","v":"00:00:00"},{"$f":"IF(AYV4=\"\",0,IF(AYW4=\"ep\",AYX4-AYV4,IF(AYW4=\"y\",IF(AYV4<AYV7,(AYV7-AYV4),0),0)+IF(AYY4=\"y\",IF(AYX4>AYX7,(AYX4-AYX7),0),0)))+IF(AYV5=\"\",0,IF(AYW5=\"ep\",AYX5-AYV5,IF(AYW5=\"y\",IF(AYV5<AYV7,(AYV7-AYV5),0),0)+IF(AYY5=\"y\",IF(AYX5>AYX7,(AYX5-AYX7),0),0)))+IF(AYV6=\"\",0,IF(AYW6=\"ep\",AYX6-AYV6,IF(AYW6=\"y\",IF(AYV6<AYV7,(AYV7-AYV6),0),0)+IF(AYY6=\"y\",IF(AYX6>AYX7,(AYX6-AYX7),0),0)))","v":"00:00:00"},null,null,null,{"$f":"IF(AZK4=\"v\",0,IF(AZL1=\"Lauantai\",AZJ11,IF(AZL1=\"Sunnuntai\",AZJ11,IF(AZK2=\"h\",AZJ11,IF(AZJ10=\"\",0,IF(AZF10=\"\",0,IF(AZH11<AZK11,AZH11,AZK11)))))))+AZL11","v":"00:00:00"},null,{"$f":"IF(AZJ10=\"\",0,IF(AZH10=\"\",AZJ11,AZJ10-AZH10))","v":"00:00:00"},null,{"$f":"IF(AZJ10=\"\",0,AZJ10-AZF10)","v":"00:00:00"},{"$f":"IF(AZJ11<AZK10,0,IF(AZJ10=\"\",0,IF(AZF10=\"\",0,AZJ11-AZK10)))","v":"00:00:00"},{"$f":"IF(AZF4=\"\",0,IF(AZG4=\"ep\",AZH4-AZF4,IF(AZG4=\"y\",IF(AZF4<AZF7,(AZF7-AZF4),0),0)+IF(AZI4=\"y\",IF(AZH4>AZH7,(AZH4-AZH7),0),0)))+IF(AZF5=\"\",0,IF(AZG5=\"ep\",AZH5-AZF5,IF(AZG5=\"y\",IF(AZF5<AZF7,(AZF7-AZF5),0),0)+IF(AZI5=\"y\",IF(AZH5>AZH7,(AZH5-AZH7),0),0)))+IF(AZF6=\"\",0,IF(AZG6=\"ep\",AZH6-AZF6,IF(AZG6=\"y\",IF(AZF6<AZF7,(AZF7-AZF6),0),0)+IF(AZI6=\"y\",IF(AZH6>AZH7,(AZH6-AZH7),0),0)))","v":"00:00:00"},null,null,null,{"$f":"IF(AZU4=\"v\",0,IF(AZV1=\"Lauantai\",AZT11,IF(AZV1=\"Sunnuntai\",AZT11,IF(AZU2=\"h\",AZT11,IF(AZT10=\"\",0,IF(AZP10=\"\",0,IF(AZR11<AZU11,AZR11,AZU11)))))))+AZV11","v":"00:00:00"},null,{"$f":"IF(AZT10=\"\",0,IF(AZR10=\"\",AZT11,AZT10-AZR10))","v":"00:00:00"},null,{"$f":"IF(AZT10=\"\",0,AZT10-AZP10)","v":"00:00:00"},{"$f":"IF(AZT11<AZU10,0,IF(AZT10=\"\",0,IF(AZP10=\"\",0,AZT11-AZU10)))","v":"00:00:00"},{"$f":"IF(AZP4=\"\",0,IF(AZQ4=\"ep\",AZR4-AZP4,IF(AZQ4=\"y\",IF(AZP4<AZP7,(AZP7-AZP4),0),0)+IF(AZS4=\"y\",IF(AZR4>AZR7,(AZR4-AZR7),0),0)))+IF(AZP5=\"\",0,IF(AZQ5=\"ep\",AZR5-AZP5,IF(AZQ5=\"y\",IF(AZP5<AZP7,(AZP7-AZP5),0),0)+IF(AZS5=\"y\",IF(AZR5>AZR7,(AZR5-AZR7),0),0)))+IF(AZP6=\"\",0,IF(AZQ6=\"ep\",AZR6-AZP6,IF(AZQ6=\"y\",IF(AZP6<AZP7,(AZP7-AZP6),0),0)+IF(AZS6=\"y\",IF(AZR6>AZR7,(AZR6-AZR7),0),0)))","v":"00:00:00"},null,null,null,{"$f":"IF(BAE4=\"v\",0,IF(BAF1=\"Lauantai\",BAD11,IF(BAF1=\"Sunnuntai\",BAD11,IF(BAE2=\"h\",BAD11,IF(BAD10=\"\",0,IF(AZZ10=\"\",0,IF(BAB11<BAE11,BAB11,BAE11)))))))+BAF11","v":"00:00:00"},null,{"$f":"IF(BAD10=\"\",0,IF(BAB10=\"\",BAD11,BAD10-BAB10))","v":"00:00:00"},null,{"$f":"IF(BAD10=\"\",0,BAD10-AZZ10)","v":"00:00:00"},{"$f":"IF(BAD11<BAE10,0,IF(BAD10=\"\",0,IF(AZZ10=\"\",0,BAD11-BAE10)))","v":"00:00:00"},{"$f":"IF(AZZ4=\"\",0,IF(BAA4=\"ep\",BAB4-AZZ4,IF(BAA4=\"y\",IF(AZZ4<AZZ7,(AZZ7-AZZ4),0),0)+IF(BAC4=\"y\",IF(BAB4>BAB7,(BAB4-BAB7),0),0)))+IF(AZZ5=\"\",0,IF(BAA5=\"ep\",BAB5-AZZ5,IF(BAA5=\"y\",IF(AZZ5<AZZ7,(AZZ7-AZZ5),0),0)+IF(BAC5=\"y\",IF(BAB5>BAB7,(BAB5-BAB7),0),0)))+IF(AZZ6=\"\",0,IF(BAA6=\"ep\",BAB6-AZZ6,IF(BAA6=\"y\",IF(AZZ6<AZZ7,(AZZ7-AZZ6),0),0)+IF(BAC6=\"y\",IF(BAB6>BAB7,(BAB6-BAB7),0),0)))","v":"00:00:00"},null,null,null,{"$f":"IF(BAO4=\"v\",0,IF(BAP1=\"Lauantai\",BAN11,IF(BAP1=\"Sunnuntai\",BAN11,IF(BAO2=\"h\",BAN11,IF(BAN10=\"\",0,IF(BAJ10=\"\",0,IF(BAL11<BAO11,BAL11,BAO11)))))))+BAP11","v":"00:00:00"},null,{"$f":"IF(BAN10=\"\",0,IF(BAL10=\"\",BAN11,BAN10-BAL10))","v":"00:00:00"},null,{"$f":"IF(BAN10=\"\",0,BAN10-BAJ10)","v":"00:00:00"},{"$f":"IF(BAN11<BAO10,0,IF(BAN10=\"\",0,IF(BAJ10=\"\",0,BAN11-BAO10)))","v":"00:00:00"},{"$f":"IF(BAJ4=\"\",0,IF(BAK4=\"ep\",BAL4-BAJ4,IF(BAK4=\"y\",IF(BAJ4<BAJ7,(BAJ7-BAJ4),0),0)+IF(BAM4=\"y\",IF(BAL4>BAL7,(BAL4-BAL7),0),0)))+IF(BAJ5=\"\",0,IF(BAK5=\"ep\",BAL5-BAJ5,IF(BAK5=\"y\",IF(BAJ5<BAJ7,(BAJ7-BAJ5),0),0)+IF(BAM5=\"y\",IF(BAL5>BAL7,(BAL5-BAL7),0),0)))+IF(BAJ6=\"\",0,IF(BAK6=\"ep\",BAL6-BAJ6,IF(BAK6=\"y\",IF(BAJ6<BAJ7,(BAJ7-BAJ6),0),0)+IF(BAM6=\"y\",IF(BAL6>BAL7,(BAL6-BAL7),0),0)))","v":"00:00:00"},null,null,null,{"$f":"IF(BAY4=\"v\",0,IF(BAZ1=\"Lauantai\",BAX11,IF(BAZ1=\"Sunnuntai\",BAX11,IF(BAY2=\"h\",BAX11,IF(BAX10=\"\",0,IF(BAT10=\"\",0,IF(BAV11<BAY11,BAV11,BAY11)))))))+BAZ11","v":"00:00:00"},null,{"$f":"IF(BAX10=\"\",0,IF(BAV10=\"\",BAX11,BAX10-BAV10))","v":"00:00:00"},null,{"$f":"IF(BAX10=\"\",0,BAX10-BAT10)","v":"00:00:00"},{"$f":"IF(BAX11<BAY10,0,IF(BAX10=\"\",0,IF(BAT10=\"\",0,BAX11-BAY10)))","v":"00:00:00"},{"$f":"IF(BAT4=\"\",0,IF(BAU4=\"ep\",BAV4-BAT4,IF(BAU4=\"y\",IF(BAT4<BAT7,(BAT7-BAT4),0),0)+IF(BAW4=\"y\",IF(BAV4>BAV7,(BAV4-BAV7),0),0)))+IF(BAT5=\"\",0,IF(BAU5=\"ep\",BAV5-BAT5,IF(BAU5=\"y\",IF(BAT5<BAT7,(BAT7-BAT5),0),0)+IF(BAW5=\"y\",IF(BAV5>BAV7,(BAV5-BAV7),0),0)))+IF(BAT6=\"\",0,IF(BAU6=\"ep\",BAV6-BAT6,IF(BAU6=\"y\",IF(BAT6<BAT7,(BAT7-BAT6),0),0)+IF(BAW6=\"y\",IF(BAV6>BAV7,(BAV6-BAV7),0),0)))","v":"00:00:00"},null,null,null,{"$f":"IF(BBI4=\"v\",0,IF(BBJ1=\"Lauantai\",BBH11,IF(BBJ1=\"Sunnuntai\",BBH11,IF(BBI2=\"h\",BBH11,IF(BBH10=\"\",0,IF(BBD10=\"\",0,IF(BBF11<BBI11,BBF11,BBI11)))))))+BBJ11","v":"00:00:00"},null,{"$f":"IF(BBH10=\"\",0,IF(BBF10=\"\",BBH11,BBH10-BBF10))","v":"00:00:00"},null,{"$f":"IF(BBH10=\"\",0,BBH10-BBD10)","v":"00:00:00"},{"$f":"IF(BBH11<BBI10,0,IF(BBH10=\"\",0,IF(BBD10=\"\",0,BBH11-BBI10)))","v":"00:00:00"},{"$f":"IF(BBD4=\"\",0,IF(BBE4=\"ep\",BBF4-BBD4,IF(BBE4=\"y\",IF(BBD4<BBD7,(BBD7-BBD4),0),0)+IF(BBG4=\"y\",IF(BBF4>BBF7,(BBF4-BBF7),0),0)))+IF(BBD5=\"\",0,IF(BBE5=\"ep\",BBF5-BBD5,IF(BBE5=\"y\",IF(BBD5<BBD7,(BBD7-BBD5),0),0)+IF(BBG5=\"y\",IF(BBF5>BBF7,(BBF5-BBF7),0),0)))+IF(BBD6=\"\",0,IF(BBE6=\"ep\",BBF6-BBD6,IF(BBE6=\"y\",IF(BBD6<BBD7,(BBD7-BBD6),0),0)+IF(BBG6=\"y\",IF(BBF6>BBF7,(BBF6-BBF7),0),0)))","v":"00:00:00"},null,null,null,{"$f":"IF(BBS4=\"v\",0,IF(BBT1=\"Lauantai\",BBR11,IF(BBT1=\"Sunnuntai\",BBR11,IF(BBS2=\"h\",BBR11,IF(BBR10=\"\",0,IF(BBN10=\"\",0,IF(BBP11<BBS11,BBP11,BBS11)))))))+BBT11","v":"00:00:00"},null,{"$f":"IF(BBR10=\"\",0,IF(BBP10=\"\",BBR11,BBR10-BBP10))","v":"00:00:00"},null,{"$f":"IF(BBR10=\"\",0,BBR10-BBN10)","v":"00:00:00"},{"$f":"IF(BBR11<BBS10,0,IF(BBR10=\"\",0,IF(BBN10=\"\",0,BBR11-BBS10)))","v":"00:00:00"},{"$f":"IF(BBN4=\"\",0,IF(BBO4=\"ep\",BBP4-BBN4,IF(BBO4=\"y\",IF(BBN4<BBN7,(BBN7-BBN4),0),0)+IF(BBQ4=\"y\",IF(BBP4>BBP7,(BBP4-BBP7),0),0)))+IF(BBN5=\"\",0,IF(BBO5=\"ep\",BBP5-BBN5,IF(BBO5=\"y\",IF(BBN5<BBN7,(BBN7-BBN5),0),0)+IF(BBQ5=\"y\",IF(BBP5>BBP7,(BBP5-BBP7),0),0)))+IF(BBN6=\"\",0,IF(BBO6=\"ep\",BBP6-BBN6,IF(BBO6=\"y\",IF(BBN6<BBN7,(BBN7-BBN6),0),0)+IF(BBQ6=\"y\",IF(BBP6>BBP7,(BBP6-BBP7),0),0)))","v":"00:00:00"},null,null,null,{"$f":"IF(BCC4=\"v\",0,IF(BCD1=\"Lauantai\",BCB11,IF(BCD1=\"Sunnuntai\",BCB11,IF(BCC2=\"h\",BCB11,IF(BCB10=\"\",0,IF(BBX10=\"\",0,IF(BBZ11<BCC11,BBZ11,BCC11)))))))+BCD11","v":"00:00:00"},null,{"$f":"IF(BCB10=\"\",0,IF(BBZ10=\"\",BCB11,BCB10-BBZ10))","v":"00:00:00"},null,{"$f":"IF(BCB10=\"\",0,BCB10-BBX10)","v":"00:00:00"},{"$f":"IF(BCB11<BCC10,0,IF(BCB10=\"\",0,IF(BBX10=\"\",0,BCB11-BCC10)))","v":"00:00:00"},{"$f":"IF(BBX4=\"\",0,IF(BBY4=\"ep\",BBZ4-BBX4,IF(BBY4=\"y\",IF(BBX4<BBX7,(BBX7-BBX4),0),0)+IF(BCA4=\"y\",IF(BBZ4>BBZ7,(BBZ4-BBZ7),0),0)))+IF(BBX5=\"\",0,IF(BBY5=\"ep\",BBZ5-BBX5,IF(BBY5=\"y\",IF(BBX5<BBX7,(BBX7-BBX5),0),0)+IF(BCA5=\"y\",IF(BBZ5>BBZ7,(BBZ5-BBZ7),0),0)))+IF(BBX6=\"\",0,IF(BBY6=\"ep\",BBZ6-BBX6,IF(BBY6=\"y\",IF(BBX6<BBX7,(BBX7-BBX6),0),0)+IF(BCA6=\"y\",IF(BBZ6>BBZ7,(BBZ6-BBZ7),0),0)))","v":"00:00:00"},null,null,null,{"$f":"IF(BCM4=\"v\",0,IF(BCN1=\"Lauantai\",BCL11,IF(BCN1=\"Sunnuntai\",BCL11,IF(BCM2=\"h\",BCL11,IF(BCL10=\"\",0,IF(BCH10=\"\",0,IF(BCJ11<BCM11,BCJ11,BCM11)))))))+BCN11","v":"00:00:00"},null,{"$f":"IF(BCL10=\"\",0,IF(BCJ10=\"\",BCL11,BCL10-BCJ10))","v":"00:00:00"},null,{"$f":"IF(BCL10=\"\",0,BCL10-BCH10)","v":"00:00:00"},{"$f":"IF(BCL11<BCM10,0,IF(BCL10=\"\",0,IF(BCH10=\"\",0,BCL11-BCM10)))","v":"00:00:00"},{"$f":"IF(BCH4=\"\",0,IF(BCI4=\"ep\",BCJ4-BCH4,IF(BCI4=\"y\",IF(BCH4<BCH7,(BCH7-BCH4),0),0)+IF(BCK4=\"y\",IF(BCJ4>BCJ7,(BCJ4-BCJ7),0),0)))+IF(BCH5=\"\",0,IF(BCI5=\"ep\",BCJ5-BCH5,IF(BCI5=\"y\",IF(BCH5<BCH7,(BCH7-BCH5),0),0)+IF(BCK5=\"y\",IF(BCJ5>BCJ7,(BCJ5-BCJ7),0),0)))+IF(BCH6=\"\",0,IF(BCI6=\"ep\",BCJ6-BCH6,IF(BCI6=\"y\",IF(BCH6<BCH7,(BCH7-BCH6),0),0)+IF(BCK6=\"y\",IF(BCJ6>BCJ7,(BCJ6-BCJ7),0),0)))","v":"00:00:00"},null,null,null,{"$f":"IF(BCW4=\"v\",0,IF(BCX1=\"Lauantai\",BCV11,IF(BCX1=\"Sunnuntai\",BCV11,IF(BCW2=\"h\",BCV11,IF(BCV10=\"\",0,IF(BCR10=\"\",0,IF(BCT11<BCW11,BCT11,BCW11)))))))+BCX11","v":"00:00:00"},null,{"$f":"IF(BCV10=\"\",0,IF(BCT10=\"\",BCV11,BCV10-BCT10))","v":"00:00:00"},null,{"$f":"IF(BCV10=\"\",0,BCV10-BCR10)","v":"00:00:00"},{"$f":"IF(BCV11<BCW10,0,IF(BCV10=\"\",0,IF(BCR10=\"\",0,BCV11-BCW10)))","v":"00:00:00"},{"$f":"IF(BCR4=\"\",0,IF(BCS4=\"ep\",BCT4-BCR4,IF(BCS4=\"y\",IF(BCR4<BCR7,(BCR7-BCR4),0),0)+IF(BCU4=\"y\",IF(BCT4>BCT7,(BCT4-BCT7),0),0)))+IF(BCR5=\"\",0,IF(BCS5=\"ep\",BCT5-BCR5,IF(BCS5=\"y\",IF(BCR5<BCR7,(BCR7-BCR5),0),0)+IF(BCU5=\"y\",IF(BCT5>BCT7,(BCT5-BCT7),0),0)))+IF(BCR6=\"\",0,IF(BCS6=\"ep\",BCT6-BCR6,IF(BCS6=\"y\",IF(BCR6<BCR7,(BCR7-BCR6),0),0)+IF(BCU6=\"y\",IF(BCT6>BCT7,(BCT6-BCT7),0),0)))","v":"00:00:00"},null,null,null,{"$f":"IF(BDG4=\"v\",0,IF(BDH1=\"Lauantai\",BDF11,IF(BDH1=\"Sunnuntai\",BDF11,IF(BDG2=\"h\",BDF11,IF(BDF10=\"\",0,IF(BDB10=\"\",0,IF(BDD11<BDG11,BDD11,BDG11)))))))+BDH11","v":"00:00:00"},null,{"$f":"IF(BDF10=\"\",0,IF(BDD10=\"\",BDF11,BDF10-BDD10))","v":"00:00:00"},null,{"$f":"IF(BDF10=\"\",0,BDF10-BDB10)","v":"00:00:00"},{"$f":"IF(BDF11<BDG10,0,IF(BDF10=\"\",0,IF(BDB10=\"\",0,BDF11-BDG10)))","v":"00:00:00"},{"$f":"IF(BDB4=\"\",0,IF(BDC4=\"ep\",BDD4-BDB4,IF(BDC4=\"y\",IF(BDB4<BDB7,(BDB7-BDB4),0),0)+IF(BDE4=\"y\",IF(BDD4>BDD7,(BDD4-BDD7),0),0)))+IF(BDB5=\"\",0,IF(BDC5=\"ep\",BDD5-BDB5,IF(BDC5=\"y\",IF(BDB5<BDB7,(BDB7-BDB5),0),0)+IF(BDE5=\"y\",IF(BDD5>BDD7,(BDD5-BDD7),0),0)))+IF(BDB6=\"\",0,IF(BDC6=\"ep\",BDD6-BDB6,IF(BDC6=\"y\",IF(BDB6<BDB7,(BDB7-BDB6),0),0)+IF(BDE6=\"y\",IF(BDD6>BDD7,(BDD6-BDD7),0),0)))","v":"00:00:00"},null,null,null,{"$f":"IF(BDQ4=\"v\",0,IF(BDR1=\"Lauantai\",BDP11,IF(BDR1=\"Sunnuntai\",BDP11,IF(BDQ2=\"h\",BDP11,IF(BDP10=\"\",0,IF(BDL10=\"\",0,IF(BDN11<BDQ11,BDN11,BDQ11)))))))+BDR11","v":"00:00:00"},null,{"$f":"IF(BDP10=\"\",0,IF(BDN10=\"\",BDP11,BDP10-BDN10))","v":"00:00:00"},null,{"$f":"IF(BDP10=\"\",0,BDP10-BDL10)","v":"00:00:00"},{"$f":"IF(BDP11<BDQ10,0,IF(BDP10=\"\",0,IF(BDL10=\"\",0,BDP11-BDQ10)))","v":"00:00:00"},{"$f":"IF(BDL4=\"\",0,IF(BDM4=\"ep\",BDN4-BDL4,IF(BDM4=\"y\",IF(BDL4<BDL7,(BDL7-BDL4),0),0)+IF(BDO4=\"y\",IF(BDN4>BDN7,(BDN4-BDN7),0),0)))+IF(BDL5=\"\",0,IF(BDM5=\"ep\",BDN5-BDL5,IF(BDM5=\"y\",IF(BDL5<BDL7,(BDL7-BDL5),0),0)+IF(BDO5=\"y\",IF(BDN5>BDN7,(BDN5-BDN7),0),0)))+IF(BDL6=\"\",0,IF(BDM6=\"ep\",BDN6-BDL6,IF(BDM6=\"y\",IF(BDL6<BDL7,(BDL7-BDL6),0),0)+IF(BDO6=\"y\",IF(BDN6>BDN7,(BDN6-BDN7),0),0)))","v":"00:00:00"},null,null,null,{"$f":"IF(BEA4=\"v\",0,IF(BEB1=\"Lauantai\",BDZ11,IF(BEB1=\"Sunnuntai\",BDZ11,IF(BEA2=\"h\",BDZ11,IF(BDZ10=\"\",0,IF(BDV10=\"\",0,IF(BDX11<BEA11,BDX11,BEA11)))))))+BEB11","v":"00:00:00"},null,{"$f":"IF(BDZ10=\"\",0,IF(BDX10=\"\",BDZ11,BDZ10-BDX10))","v":"00:00:00"},null,{"$f":"IF(BDZ10=\"\",0,BDZ10-BDV10)","v":"00:00:00"},{"$f":"IF(BDZ11<BEA10,0,IF(BDZ10=\"\",0,IF(BDV10=\"\",0,BDZ11-BEA10)))","v":"00:00:00"},{"$f":"IF(BDV4=\"\",0,IF(BDW4=\"ep\",BDX4-BDV4,IF(BDW4=\"y\",IF(BDV4<BDV7,(BDV7-BDV4),0),0)+IF(BDY4=\"y\",IF(BDX4>BDX7,(BDX4-BDX7),0),0)))+IF(BDV5=\"\",0,IF(BDW5=\"ep\",BDX5-BDV5,IF(BDW5=\"y\",IF(BDV5<BDV7,(BDV7-BDV5),0),0)+IF(BDY5=\"y\",IF(BDX5>BDX7,(BDX5-BDX7),0),0)))+IF(BDV6=\"\",0,IF(BDW6=\"ep\",BDX6-BDV6,IF(BDW6=\"y\",IF(BDV6<BDV7,(BDV7-BDV6),0),0)+IF(BDY6=\"y\",IF(BDX6>BDX7,(BDX6-BDX7),0),0)))","v":"00:00:00"},null,null,null,{"$f":"IF(BEK4=\"v\",0,IF(BEL1=\"Lauantai\",BEJ11,IF(BEL1=\"Sunnuntai\",BEJ11,IF(BEK2=\"h\",BEJ11,IF(BEJ10=\"\",0,IF(BEF10=\"\",0,IF(BEH11<BEK11,BEH11,BEK11)))))))+BEL11","v":"00:00:00"},null,{"$f":"IF(BEJ10=\"\",0,IF(BEH10=\"\",BEJ11,BEJ10-BEH10))","v":"00:00:00"},null,{"$f":"IF(BEJ10=\"\",0,BEJ10-BEF10)","v":"00:00:00"},{"$f":"IF(BEJ11<BEK10,0,IF(BEJ10=\"\",0,IF(BEF10=\"\",0,BEJ11-BEK10)))","v":"00:00:00"},{"$f":"IF(BEF4=\"\",0,IF(BEG4=\"ep\",BEH4-BEF4,IF(BEG4=\"y\",IF(BEF4<BEF7,(BEF7-BEF4),0),0)+IF(BEI4=\"y\",IF(BEH4>BEH7,(BEH4-BEH7),0),0)))+IF(BEF5=\"\",0,IF(BEG5=\"ep\",BEH5-BEF5,IF(BEG5=\"y\",IF(BEF5<BEF7,(BEF7-BEF5),0),0)+IF(BEI5=\"y\",IF(BEH5>BEH7,(BEH5-BEH7),0),0)))+IF(BEF6=\"\",0,IF(BEG6=\"ep\",BEH6-BEF6,IF(BEG6=\"y\",IF(BEF6<BEF7,(BEF7-BEF6),0),0)+IF(BEI6=\"y\",IF(BEH6>BEH7,(BEH6-BEH7),0),0)))","v":"00:00:00"},null,null,null,{"$f":"IF(BEU4=\"v\",0,IF(BEV1=\"Lauantai\",BET11,IF(BEV1=\"Sunnuntai\",BET11,IF(BEU2=\"h\",BET11,IF(BET10=\"\",0,IF(BEP10=\"\",0,IF(BER11<BEU11,BER11,BEU11)))))))+BEV11","v":"00:00:00"},null,{"$f":"IF(BET10=\"\",0,IF(BER10=\"\",BET11,BET10-BER10))","v":"00:00:00"},null,{"$f":"IF(BET10=\"\",0,BET10-BEP10)","v":"00:00:00"},{"$f":"IF(BET11<BEU10,0,IF(BET10=\"\",0,IF(BEP10=\"\",0,BET11-BEU10)))","v":"00:00:00"},{"$f":"IF(BEP4=\"\",0,IF(BEQ4=\"ep\",BER4-BEP4,IF(BEQ4=\"y\",IF(BEP4<BEP7,(BEP7-BEP4),0),0)+IF(BES4=\"y\",IF(BER4>BER7,(BER4-BER7),0),0)))+IF(BEP5=\"\",0,IF(BEQ5=\"ep\",BER5-BEP5,IF(BEQ5=\"y\",IF(BEP5<BEP7,(BEP7-BEP5),0),0)+IF(BES5=\"y\",IF(BER5>BER7,(BER5-BER7),0),0)))+IF(BEP6=\"\",0,IF(BEQ6=\"ep\",BER6-BEP6,IF(BEQ6=\"y\",IF(BEP6<BEP7,(BEP7-BEP6),0),0)+IF(BES6=\"y\",IF(BER6>BER7,(BER6-BER7),0),0)))","v":"00:00:00"},null,null,null,{"$f":"IF(BFE4=\"v\",0,IF(BFF1=\"Lauantai\",BFD11,IF(BFF1=\"Sunnuntai\",BFD11,IF(BFE2=\"h\",BFD11,IF(BFD10=\"\",0,IF(BEZ10=\"\",0,IF(BFB11<BFE11,BFB11,BFE11)))))))+BFF11","v":"00:00:00"},null,{"$f":"IF(BFD10=\"\",0,IF(BFB10=\"\",BFD11,BFD10-BFB10))","v":"00:00:00"},null,{"$f":"IF(BFD10=\"\",0,BFD10-BEZ10)","v":"00:00:00"},{"$f":"IF(BFD11<BFE10,0,IF(BFD10=\"\",0,IF(BEZ10=\"\",0,BFD11-BFE10)))","v":"00:00:00"},{"$f":"IF(BEZ4=\"\",0,IF(BFA4=\"ep\",BFB4-BEZ4,IF(BFA4=\"y\",IF(BEZ4<BEZ7,(BEZ7-BEZ4),0),0)+IF(BFC4=\"y\",IF(BFB4>BFB7,(BFB4-BFB7),0),0)))+IF(BEZ5=\"\",0,IF(BFA5=\"ep\",BFB5-BEZ5,IF(BFA5=\"y\",IF(BEZ5<BEZ7,(BEZ7-BEZ5),0),0)+IF(BFC5=\"y\",IF(BFB5>BFB7,(BFB5-BFB7),0),0)))+IF(BEZ6=\"\",0,IF(BFA6=\"ep\",BFB6-BEZ6,IF(BFA6=\"y\",IF(BEZ6<BEZ7,(BEZ7-BEZ6),0),0)+IF(BFC6=\"y\",IF(BFB6>BFB7,(BFB6-BFB7),0),0)))","v":"00:00:00"},null,null,null,{"$f":"IF(BFO4=\"v\",0,IF(BFP1=\"Lauantai\",BFN11,IF(BFP1=\"Sunnuntai\",BFN11,IF(BFO2=\"h\",BFN11,IF(BFN10=\"\",0,IF(BFJ10=\"\",0,IF(BFL11<BFO11,BFL11,BFO11)))))))+BFP11","v":"00:00:00"},null,{"$f":"IF(BFN10=\"\",0,IF(BFL10=\"\",BFN11,BFN10-BFL10))","v":"00:00:00"},null,{"$f":"IF(BFN10=\"\",0,BFN10-BFJ10)","v":"00:00:00"},{"$f":"IF(BFN11<BFO10,0,IF(BFN10=\"\",0,IF(BFJ10=\"\",0,BFN11-BFO10)))","v":"00:00:00"},{"$f":"IF(BFJ4=\"\",0,IF(BFK4=\"ep\",BFL4-BFJ4,IF(BFK4=\"y\",IF(BFJ4<BFJ7,(BFJ7-BFJ4),0),0)+IF(BFM4=\"y\",IF(BFL4>BFL7,(BFL4-BFL7),0),0)))+IF(BFJ5=\"\",0,IF(BFK5=\"ep\",BFL5-BFJ5,IF(BFK5=\"y\",IF(BFJ5<BFJ7,(BFJ7-BFJ5),0),0)+IF(BFM5=\"y\",IF(BFL5>BFL7,(BFL5-BFL7),0),0)))+IF(BFJ6=\"\",0,IF(BFK6=\"ep\",BFL6-BFJ6,IF(BFK6=\"y\",IF(BFJ6<BFJ7,(BFJ7-BFJ6),0),0)+IF(BFM6=\"y\",IF(BFL6>BFL7,(BFL6-BFL7),0),0)))","v":"00:00:00"},null,null,null,{"$f":"IF(BFY4=\"v\",0,IF(BFZ1=\"Lauantai\",BFX11,IF(BFZ1=\"Sunnuntai\",BFX11,IF(BFY2=\"h\",BFX11,IF(BFX10=\"\",0,IF(BFT10=\"\",0,IF(BFV11<BFY11,BFV11,BFY11)))))))+BFZ11","v":"00:00:00"},null,{"$f":"IF(BFX10=\"\",0,IF(BFV10=\"\",BFX11,BFX10-BFV10))","v":"00:00:00"},null,{"$f":"IF(BFX10=\"\",0,BFX10-BFT10)","v":"00:00:00"},{"$f":"IF(BFX11<BFY10,0,IF(BFX10=\"\",0,IF(BFT10=\"\",0,BFX11-BFY10)))","v":"00:00:00"},{"$f":"IF(BFT4=\"\",0,IF(BFU4=\"ep\",BFV4-BFT4,IF(BFU4=\"y\",IF(BFT4<BFT7,(BFT7-BFT4),0),0)+IF(BFW4=\"y\",IF(BFV4>BFV7,(BFV4-BFV7),0),0)))+IF(BFT5=\"\",0,IF(BFU5=\"ep\",BFV5-BFT5,IF(BFU5=\"y\",IF(BFT5<BFT7,(BFT7-BFT5),0),0)+IF(BFW5=\"y\",IF(BFV5>BFV7,(BFV5-BFV7),0),0)))+IF(BFT6=\"\",0,IF(BFU6=\"ep\",BFV6-BFT6,IF(BFU6=\"y\",IF(BFT6<BFT7,(BFT7-BFT6),0),0)+IF(BFW6=\"y\",IF(BFV6>BFV7,(BFV6-BFV7),0),0)))","v":"00:00:00"},null,null,null,{"$f":"IF(BGI4=\"v\",0,IF(BGJ1=\"Lauantai\",BGH11,IF(BGJ1=\"Sunnuntai\",BGH11,IF(BGI2=\"h\",BGH11,IF(BGH10=\"\",0,IF(BGD10=\"\",0,IF(BGF11<BGI11,BGF11,BGI11)))))))+BGJ11","v":"00:00:00"},null,{"$f":"IF(BGH10=\"\",0,IF(BGF10=\"\",BGH11,BGH10-BGF10))","v":"00:00:00"},null,{"$f":"IF(BGH10=\"\",0,BGH10-BGD10)","v":"00:00:00"},{"$f":"IF(BGH11<BGI10,0,IF(BGH10=\"\",0,IF(BGD10=\"\",0,BGH11-BGI10)))","v":"00:00:00"},{"$f":"IF(BGD4=\"\",0,IF(BGE4=\"ep\",BGF4-BGD4,IF(BGE4=\"y\",IF(BGD4<BGD7,(BGD7-BGD4),0),0)+IF(BGG4=\"y\",IF(BGF4>BGF7,(BGF4-BGF7),0),0)))+IF(BGD5=\"\",0,IF(BGE5=\"ep\",BGF5-BGD5,IF(BGE5=\"y\",IF(BGD5<BGD7,(BGD7-BGD5),0),0)+IF(BGG5=\"y\",IF(BGF5>BGF7,(BGF5-BGF7),0),0)))+IF(BGD6=\"\",0,IF(BGE6=\"ep\",BGF6-BGD6,IF(BGE6=\"y\",IF(BGD6<BGD7,(BGD7-BGD6),0),0)+IF(BGG6=\"y\",IF(BGF6>BGF7,(BGF6-BGF7),0),0)))","v":"00:00:00"},null,null,null,{"$f":"IF(BGS4=\"v\",0,IF(BGT1=\"Lauantai\",BGR11,IF(BGT1=\"Sunnuntai\",BGR11,IF(BGS2=\"h\",BGR11,IF(BGR10=\"\",0,IF(BGN10=\"\",0,IF(BGP11<BGS11,BGP11,BGS11)))))))+BGT11","v":"00:00:00"},null,{"$f":"IF(BGR10=\"\",0,IF(BGP10=\"\",BGR11,BGR10-BGP10))","v":"00:00:00"},null,{"$f":"IF(BGR10=\"\",0,BGR10-BGN10)","v":"00:00:00"},{"$f":"IF(BGR11<BGS10,0,IF(BGR10=\"\",0,IF(BGN10=\"\",0,BGR11-BGS10)))","v":"00:00:00"},{"$f":"IF(BGN4=\"\",0,IF(BGO4=\"ep\",BGP4-BGN4,IF(BGO4=\"y\",IF(BGN4<BGN7,(BGN7-BGN4),0),0)+IF(BGQ4=\"y\",IF(BGP4>BGP7,(BGP4-BGP7),0),0)))+IF(BGN5=\"\",0,IF(BGO5=\"ep\",BGP5-BGN5,IF(BGO5=\"y\",IF(BGN5<BGN7,(BGN7-BGN5),0),0)+IF(BGQ5=\"y\",IF(BGP5>BGP7,(BGP5-BGP7),0),0)))+IF(BGN6=\"\",0,IF(BGO6=\"ep\",BGP6-BGN6,IF(BGO6=\"y\",IF(BGN6<BGN7,(BGN7-BGN6),0),0)+IF(BGQ6=\"y\",IF(BGP6>BGP7,(BGP6-BGP7),0),0)))","v":"00:00:00"},null,null,null,{"$f":"IF(BHC4=\"v\",0,IF(BHD1=\"Lauantai\",BHB11,IF(BHD1=\"Sunnuntai\",BHB11,IF(BHC2=\"h\",BHB11,IF(BHB10=\"\",0,IF(BGX10=\"\",0,IF(BGZ11<BHC11,BGZ11,BHC11)))))))+BHD11","v":"00:00:00"},null,{"$f":"IF(BHB10=\"\",0,IF(BGZ10=\"\",BHB11,BHB10-BGZ10))","v":"00:00:00"},null,{"$f":"IF(BHB10=\"\",0,BHB10-BGX10)","v":"00:00:00"},{"$f":"IF(BHB11<BHC10,0,IF(BHB10=\"\",0,IF(BGX10=\"\",0,BHB11-BHC10)))","v":"00:00:00"},{"$f":"IF(BGX4=\"\",0,IF(BGY4=\"ep\",BGZ4-BGX4,IF(BGY4=\"y\",IF(BGX4<BGX7,(BGX7-BGX4),0),0)+IF(BHA4=\"y\",IF(BGZ4>BGZ7,(BGZ4-BGZ7),0),0)))+IF(BGX5=\"\",0,IF(BGY5=\"ep\",BGZ5-BGX5,IF(BGY5=\"y\",IF(BGX5<BGX7,(BGX7-BGX5),0),0)+IF(BHA5=\"y\",IF(BGZ5>BGZ7,(BGZ5-BGZ7),0),0)))+IF(BGX6=\"\",0,IF(BGY6=\"ep\",BGZ6-BGX6,IF(BGY6=\"y\",IF(BGX6<BGX7,(BGX7-BGX6),0),0)+IF(BHA6=\"y\",IF(BGZ6>BGZ7,(BGZ6-BGZ7),0),0)))","v":"00:00:00"},null,null,null,{"$f":"IF(BHM4=\"v\",0,IF(BHN1=\"Lauantai\",BHL11,IF(BHN1=\"Sunnuntai\",BHL11,IF(BHM2=\"h\",BHL11,IF(BHL10=\"\",0,IF(BHH10=\"\",0,IF(BHJ11<BHM11,BHJ11,BHM11)))))))+BHN11","v":"00:00:00"},null,{"$f":"IF(BHL10=\"\",0,IF(BHJ10=\"\",BHL11,BHL10-BHJ10))","v":"00:00:00"},null,{"$f":"IF(BHL10=\"\",0,BHL10-BHH10)","v":"00:00:00"},{"$f":"IF(BHL11<BHM10,0,IF(BHL10=\"\",0,IF(BHH10=\"\",0,BHL11-BHM10)))","v":"00:00:00"},{"$f":"IF(BHH4=\"\",0,IF(BHI4=\"ep\",BHJ4-BHH4,IF(BHI4=\"y\",IF(BHH4<BHH7,(BHH7-BHH4),0),0)+IF(BHK4=\"y\",IF(BHJ4>BHJ7,(BHJ4-BHJ7),0),0)))+IF(BHH5=\"\",0,IF(BHI5=\"ep\",BHJ5-BHH5,IF(BHI5=\"y\",IF(BHH5<BHH7,(BHH7-BHH5),0),0)+IF(BHK5=\"y\",IF(BHJ5>BHJ7,(BHJ5-BHJ7),0),0)))+IF(BHH6=\"\",0,IF(BHI6=\"ep\",BHJ6-BHH6,IF(BHI6=\"y\",IF(BHH6<BHH7,(BHH7-BHH6),0),0)+IF(BHK6=\"y\",IF(BHJ6>BHJ7,(BHJ6-BHJ7),0),0)))","v":"00:00:00"},null,null,null,{"$f":"IF(BHW4=\"v\",0,IF(BHX1=\"Lauantai\",BHV11,IF(BHX1=\"Sunnuntai\",BHV11,IF(BHW2=\"h\",BHV11,IF(BHV10=\"\",0,IF(BHR10=\"\",0,IF(BHT11<BHW11,BHT11,BHW11)))))))+BHX11","v":"00:00:00"},null,{"$f":"IF(BHV10=\"\",0,IF(BHT10=\"\",BHV11,BHV10-BHT10))","v":"00:00:00"},null,{"$f":"IF(BHV10=\"\",0,BHV10-BHR10)","v":"00:00:00"},{"$f":"IF(BHV11<BHW10,0,IF(BHV10=\"\",0,IF(BHR10=\"\",0,BHV11-BHW10)))","v":"00:00:00"},{"$f":"IF(BHR4=\"\",0,IF(BHS4=\"ep\",BHT4-BHR4,IF(BHS4=\"y\",IF(BHR4<BHR7,(BHR7-BHR4),0),0)+IF(BHU4=\"y\",IF(BHT4>BHT7,(BHT4-BHT7),0),0)))+IF(BHR5=\"\",0,IF(BHS5=\"ep\",BHT5-BHR5,IF(BHS5=\"y\",IF(BHR5<BHR7,(BHR7-BHR5),0),0)+IF(BHU5=\"y\",IF(BHT5>BHT7,(BHT5-BHT7),0),0)))+IF(BHR6=\"\",0,IF(BHS6=\"ep\",BHT6-BHR6,IF(BHS6=\"y\",IF(BHR6<BHR7,(BHR7-BHR6),0),0)+IF(BHU6=\"y\",IF(BHT6>BHT7,(BHT6-BHT7),0),0)))","v":"00:00:00"},null,null,null,{"$f":"IF(BIG4=\"v\",0,IF(BIH1=\"Lauantai\",BIF11,IF(BIH1=\"Sunnuntai\",BIF11,IF(BIG2=\"h\",BIF11,IF(BIF10=\"\",0,IF(BIB10=\"\",0,IF(BID11<BIG11,BID11,BIG11)))))))+BIH11","v":"00:00:00"},null,{"$f":"IF(BIF10=\"\",0,IF(BID10=\"\",BIF11,BIF10-BID10))","v":"00:00:00"},null,{"$f":"IF(BIF10=\"\",0,BIF10-BIB10)","v":"00:00:00"},{"$f":"IF(BIF11<BIG10,0,IF(BIF10=\"\",0,IF(BIB10=\"\",0,BIF11-BIG10)))","v":"00:00:00"},{"$f":"IF(BIB4=\"\",0,IF(BIC4=\"ep\",BID4-BIB4,IF(BIC4=\"y\",IF(BIB4<BIB7,(BIB7-BIB4),0),0)+IF(BIE4=\"y\",IF(BID4>BID7,(BID4-BID7),0),0)))+IF(BIB5=\"\",0,IF(BIC5=\"ep\",BID5-BIB5,IF(BIC5=\"y\",IF(BIB5<BIB7,(BIB7-BIB5),0),0)+IF(BIE5=\"y\",IF(BID5>BID7,(BID5-BID7),0),0)))+IF(BIB6=\"\",0,IF(BIC6=\"ep\",BID6-BIB6,IF(BIC6=\"y\",IF(BIB6<BIB7,(BIB7-BIB6),0),0)+IF(BIE6=\"y\",IF(BID6>BID7,(BID6-BID7),0),0)))","v":"00:00:00"},null,null,null,{"$f":"IF(BIQ4=\"v\",0,IF(BIR1=\"Lauantai\",BIP11,IF(BIR1=\"Sunnuntai\",BIP11,IF(BIQ2=\"h\",BIP11,IF(BIP10=\"\",0,IF(BIL10=\"\",0,IF(BIN11<BIQ11,BIN11,BIQ11)))))))+BIR11","v":"00:00:00"},null,{"$f":"IF(BIP10=\"\",0,IF(BIN10=\"\",BIP11,BIP10-BIN10))","v":"00:00:00"},null,{"$f":"IF(BIP10=\"\",0,BIP10-BIL10)","v":"00:00:00"},{"$f":"IF(BIP11<BIQ10,0,IF(BIP10=\"\",0,IF(BIL10=\"\",0,BIP11-BIQ10)))","v":"00:00:00"},{"$f":"IF(BIL4=\"\",0,IF(BIM4=\"ep\",BIN4-BIL4,IF(BIM4=\"y\",IF(BIL4<BIL7,(BIL7-BIL4),0),0)+IF(BIO4=\"y\",IF(BIN4>BIN7,(BIN4-BIN7),0),0)))+IF(BIL5=\"\",0,IF(BIM5=\"ep\",BIN5-BIL5,IF(BIM5=\"y\",IF(BIL5<BIL7,(BIL7-BIL5),0),0)+IF(BIO5=\"y\",IF(BIN5>BIN7,(BIN5-BIN7),0),0)))+IF(BIL6=\"\",0,IF(BIM6=\"ep\",BIN6-BIL6,IF(BIM6=\"y\",IF(BIL6<BIL7,(BIL7-BIL6),0),0)+IF(BIO6=\"y\",IF(BIN6>BIN7,(BIN6-BIN7),0),0)))","v":"00:00:00"},null,null,null,{"$f":"IF(BJA4=\"v\",0,IF(BJB1=\"Lauantai\",BIZ11,IF(BJB1=\"Sunnuntai\",BIZ11,IF(BJA2=\"h\",BIZ11,IF(BIZ10=\"\",0,IF(BIV10=\"\",0,IF(BIX11<BJA11,BIX11,BJA11)))))))+BJB11","v":"00:00:00"},null,{"$f":"IF(BIZ10=\"\",0,IF(BIX10=\"\",BIZ11,BIZ10-BIX10))","v":"00:00:00"},null,{"$f":"IF(BIZ10=\"\",0,BIZ10-BIV10)","v":"00:00:00"},{"$f":"IF(BIZ11<BJA10,0,IF(BIZ10=\"\",0,IF(BIV10=\"\",0,BIZ11-BJA10)))","v":"00:00:00"},{"$f":"IF(BIV4=\"\",0,IF(BIW4=\"ep\",BIX4-BIV4,IF(BIW4=\"y\",IF(BIV4<BIV7,(BIV7-BIV4),0),0)+IF(BIY4=\"y\",IF(BIX4>BIX7,(BIX4-BIX7),0),0)))+IF(BIV5=\"\",0,IF(BIW5=\"ep\",BIX5-BIV5,IF(BIW5=\"y\",IF(BIV5<BIV7,(BIV7-BIV5),0),0)+IF(BIY5=\"y\",IF(BIX5>BIX7,(BIX5-BIX7),0),0)))+IF(BIV6=\"\",0,IF(BIW6=\"ep\",BIX6-BIV6,IF(BIW6=\"y\",IF(BIV6<BIV7,(BIV7-BIV6),0),0)+IF(BIY6=\"y\",IF(BIX6>BIX7,(BIX6-BIX7),0),0)))","v":"00:00:00"},null,null,null,{"$f":"IF(BJK4=\"v\",0,IF(BJL1=\"Lauantai\",BJJ11,IF(BJL1=\"Sunnuntai\",BJJ11,IF(BJK2=\"h\",BJJ11,IF(BJJ10=\"\",0,IF(BJF10=\"\",0,IF(BJH11<BJK11,BJH11,BJK11)))))))+BJL11","v":"00:00:00"},null,{"$f":"IF(BJJ10=\"\",0,IF(BJH10=\"\",BJJ11,BJJ10-BJH10))","v":"00:00:00"},null,{"$f":"IF(BJJ10=\"\",0,BJJ10-BJF10)","v":"00:00:00"},{"$f":"IF(BJJ11<BJK10,0,IF(BJJ10=\"\",0,IF(BJF10=\"\",0,BJJ11-BJK10)))","v":"00:00:00"},{"$f":"IF(BJF4=\"\",0,IF(BJG4=\"ep\",BJH4-BJF4,IF(BJG4=\"y\",IF(BJF4<BJF7,(BJF7-BJF4),0),0)+IF(BJI4=\"y\",IF(BJH4>BJH7,(BJH4-BJH7),0),0)))+IF(BJF5=\"\",0,IF(BJG5=\"ep\",BJH5-BJF5,IF(BJG5=\"y\",IF(BJF5<BJF7,(BJF7-BJF5),0),0)+IF(BJI5=\"y\",IF(BJH5>BJH7,(BJH5-BJH7),0),0)))+IF(BJF6=\"\",0,IF(BJG6=\"ep\",BJH6-BJF6,IF(BJG6=\"y\",IF(BJF6<BJF7,(BJF7-BJF6),0),0)+IF(BJI6=\"y\",IF(BJH6>BJH7,(BJH6-BJH7),0),0)))","v":"00:00:00"},null,null,null,{"$f":"IF(BJU4=\"v\",0,IF(BJV1=\"Lauantai\",BJT11,IF(BJV1=\"Sunnuntai\",BJT11,IF(BJU2=\"h\",BJT11,IF(BJT10=\"\",0,IF(BJP10=\"\",0,IF(BJR11<BJU11,BJR11,BJU11)))))))+BJV11","v":"00:00:00"},null,{"$f":"IF(BJT10=\"\",0,IF(BJR10=\"\",BJT11,BJT10-BJR10))","v":"00:00:00"},null,{"$f":"IF(BJT10=\"\",0,BJT10-BJP10)","v":"00:00:00"},{"$f":"IF(BJT11<BJU10,0,IF(BJT10=\"\",0,IF(BJP10=\"\",0,BJT11-BJU10)))","v":"00:00:00"},{"$f":"IF(BJP4=\"\",0,IF(BJQ4=\"ep\",BJR4-BJP4,IF(BJQ4=\"y\",IF(BJP4<BJP7,(BJP7-BJP4),0),0)+IF(BJS4=\"y\",IF(BJR4>BJR7,(BJR4-BJR7),0),0)))+IF(BJP5=\"\",0,IF(BJQ5=\"ep\",BJR5-BJP5,IF(BJQ5=\"y\",IF(BJP5<BJP7,(BJP7-BJP5),0),0)+IF(BJS5=\"y\",IF(BJR5>BJR7,(BJR5-BJR7),0),0)))+IF(BJP6=\"\",0,IF(BJQ6=\"ep\",BJR6-BJP6,IF(BJQ6=\"y\",IF(BJP6<BJP7,(BJP7-BJP6),0),0)+IF(BJS6=\"y\",IF(BJR6>BJR7,(BJR6-BJR7),0),0)))","v":"00:00:00"},null,null,null,{"$f":"IF(BKE4=\"v\",0,IF(BKF1=\"Lauantai\",BKD11,IF(BKF1=\"Sunnuntai\",BKD11,IF(BKE2=\"h\",BKD11,IF(BKD10=\"\",0,IF(BJZ10=\"\",0,IF(BKB11<BKE11,BKB11,BKE11)))))))+BKF11","v":"00:00:00"},null,{"$f":"IF(BKD10=\"\",0,IF(BKB10=\"\",BKD11,BKD10-BKB10))","v":"00:00:00"},null,{"$f":"IF(BKD10=\"\",0,BKD10-BJZ10)","v":"00:00:00"},{"$f":"IF(BKD11<BKE10,0,IF(BKD10=\"\",0,IF(BJZ10=\"\",0,BKD11-BKE10)))","v":"00:00:00"},{"$f":"IF(BJZ4=\"\",0,IF(BKA4=\"ep\",BKB4-BJZ4,IF(BKA4=\"y\",IF(BJZ4<BJZ7,(BJZ7-BJZ4),0),0)+IF(BKC4=\"y\",IF(BKB4>BKB7,(BKB4-BKB7),0),0)))+IF(BJZ5=\"\",0,IF(BKA5=\"ep\",BKB5-BJZ5,IF(BKA5=\"y\",IF(BJZ5<BJZ7,(BJZ7-BJZ5),0),0)+IF(BKC5=\"y\",IF(BKB5>BKB7,(BKB5-BKB7),0),0)))+IF(BJZ6=\"\",0,IF(BKA6=\"ep\",BKB6-BJZ6,IF(BKA6=\"y\",IF(BJZ6<BJZ7,(BJZ7-BJZ6),0),0)+IF(BKC6=\"y\",IF(BKB6>BKB7,(BKB6-BKB7),0),0)))","v":"00:00:00"},null,null,null,{"$f":"IF(BKO4=\"v\",0,IF(BKP1=\"Lauantai\",BKN11,IF(BKP1=\"Sunnuntai\",BKN11,IF(BKO2=\"h\",BKN11,IF(BKN10=\"\",0,IF(BKJ10=\"\",0,IF(BKL11<BKO11,BKL11,BKO11)))))))+BKP11","v":"00:00:00"},null,{"$f":"IF(BKN10=\"\",0,IF(BKL10=\"\",BKN11,BKN10-BKL10))","v":"00:00:00"},null,{"$f":"IF(BKN10=\"\",0,BKN10-BKJ10)","v":"00:00:00"},{"$f":"IF(BKN11<BKO10,0,IF(BKN10=\"\",0,IF(BKJ10=\"\",0,BKN11-BKO10)))","v":"00:00:00"},{"$f":"IF(BKJ4=\"\",0,IF(BKK4=\"ep\",BKL4-BKJ4,IF(BKK4=\"y\",IF(BKJ4<BKJ7,(BKJ7-BKJ4),0),0)+IF(BKM4=\"y\",IF(BKL4>BKL7,(BKL4-BKL7),0),0)))+IF(BKJ5=\"\",0,IF(BKK5=\"ep\",BKL5-BKJ5,IF(BKK5=\"y\",IF(BKJ5<BKJ7,(BKJ7-BKJ5),0),0)+IF(BKM5=\"y\",IF(BKL5>BKL7,(BKL5-BKL7),0),0)))+IF(BKJ6=\"\",0,IF(BKK6=\"ep\",BKL6-BKJ6,IF(BKK6=\"y\",IF(BKJ6<BKJ7,(BKJ7-BKJ6),0),0)+IF(BKM6=\"y\",IF(BKL6>BKL7,(BKL6-BKL7),0),0)))","v":"00:00:00"},null,null,null,{"$f":"IF(BKY4=\"v\",0,IF(BKZ1=\"Lauantai\",BKX11,IF(BKZ1=\"Sunnuntai\",BKX11,IF(BKY2=\"h\",BKX11,IF(BKX10=\"\",0,IF(BKT10=\"\",0,IF(BKV11<BKY11,BKV11,BKY11)))))))+BKZ11","v":"00:00:00"},null,{"$f":"IF(BKX10=\"\",0,IF(BKV10=\"\",BKX11,BKX10-BKV10))","v":"00:00:00"},null,{"$f":"IF(BKX10=\"\",0,BKX10-BKT10)","v":"00:00:00"},{"$f":"IF(BKX11<BKY10,0,IF(BKX10=\"\",0,IF(BKT10=\"\",0,BKX11-BKY10)))","v":"00:00:00"},{"$f":"IF(BKT4=\"\",0,IF(BKU4=\"ep\",BKV4-BKT4,IF(BKU4=\"y\",IF(BKT4<BKT7,(BKT7-BKT4),0),0)+IF(BKW4=\"y\",IF(BKV4>BKV7,(BKV4-BKV7),0),0)))+IF(BKT5=\"\",0,IF(BKU5=\"ep\",BKV5-BKT5,IF(BKU5=\"y\",IF(BKT5<BKT7,(BKT7-BKT5),0),0)+IF(BKW5=\"y\",IF(BKV5>BKV7,(BKV5-BKV7),0),0)))+IF(BKT6=\"\",0,IF(BKU6=\"ep\",BKV6-BKT6,IF(BKU6=\"y\",IF(BKT6<BKT7,(BKT7-BKT6),0),0)+IF(BKW6=\"y\",IF(BKV6>BKV7,(BKV6-BKV7),0),0)))","v":"00:00:00"},null,null,null,{"$f":"IF(BLI4=\"v\",0,IF(BLJ1=\"Lauantai\",BLH11,IF(BLJ1=\"Sunnuntai\",BLH11,IF(BLI2=\"h\",BLH11,IF(BLH10=\"\",0,IF(BLD10=\"\",0,IF(BLF11<BLI11,BLF11,BLI11)))))))+BLJ11","v":"00:00:00"},null,{"$f":"IF(BLH10=\"\",0,IF(BLF10=\"\",BLH11,BLH10-BLF10))","v":"00:00:00"},null,{"$f":"IF(BLH10=\"\",0,BLH10-BLD10)","v":"00:00:00"},{"$f":"IF(BLH11<BLI10,0,IF(BLH10=\"\",0,IF(BLD10=\"\",0,BLH11-BLI10)))","v":"00:00:00"},{"$f":"IF(BLD4=\"\",0,IF(BLE4=\"ep\",BLF4-BLD4,IF(BLE4=\"y\",IF(BLD4<BLD7,(BLD7-BLD4),0),0)+IF(BLG4=\"y\",IF(BLF4>BLF7,(BLF4-BLF7),0),0)))+IF(BLD5=\"\",0,IF(BLE5=\"ep\",BLF5-BLD5,IF(BLE5=\"y\",IF(BLD5<BLD7,(BLD7-BLD5),0),0)+IF(BLG5=\"y\",IF(BLF5>BLF7,(BLF5-BLF7),0),0)))+IF(BLD6=\"\",0,IF(BLE6=\"ep\",BLF6-BLD6,IF(BLE6=\"y\",IF(BLD6<BLD7,(BLD7-BLD6),0),0)+IF(BLG6=\"y\",IF(BLF6>BLF7,(BLF6-BLF7),0),0)))","v":"00:00:00"},null,null,null,{"$f":"IF(BLS4=\"v\",0,IF(BLT1=\"Lauantai\",BLR11,IF(BLT1=\"Sunnuntai\",BLR11,IF(BLS2=\"h\",BLR11,IF(BLR10=\"\",0,IF(BLN10=\"\",0,IF(BLP11<BLS11,BLP11,BLS11)))))))+BLT11","v":"00:00:00"},null,{"$f":"IF(BLR10=\"\",0,IF(BLP10=\"\",BLR11,BLR10-BLP10))","v":"00:00:00"},null,{"$f":"IF(BLR10=\"\",0,BLR10-BLN10)","v":"00:00:00"},{"$f":"IF(BLR11<BLS10,0,IF(BLR10=\"\",0,IF(BLN10=\"\",0,BLR11-BLS10)))","v":"00:00:00"},{"$f":"IF(BLN4=\"\",0,IF(BLO4=\"ep\",BLP4-BLN4,IF(BLO4=\"y\",IF(BLN4<BLN7,(BLN7-BLN4),0),0)+IF(BLQ4=\"y\",IF(BLP4>BLP7,(BLP4-BLP7),0),0)))+IF(BLN5=\"\",0,IF(BLO5=\"ep\",BLP5-BLN5,IF(BLO5=\"y\",IF(BLN5<BLN7,(BLN7-BLN5),0),0)+IF(BLQ5=\"y\",IF(BLP5>BLP7,(BLP5-BLP7),0),0)))+IF(BLN6=\"\",0,IF(BLO6=\"ep\",BLP6-BLN6,IF(BLO6=\"y\",IF(BLN6<BLN7,(BLN7-BLN6),0),0)+IF(BLQ6=\"y\",IF(BLP6>BLP7,(BLP6-BLP7),0),0)))","v":"00:00:00"},null,null,null,{"$f":"IF(BMC4=\"v\",0,IF(BMD1=\"Lauantai\",BMB11,IF(BMD1=\"Sunnuntai\",BMB11,IF(BMC2=\"h\",BMB11,IF(BMB10=\"\",0,IF(BLX10=\"\",0,IF(BLZ11<BMC11,BLZ11,BMC11)))))))+BMD11","v":"00:00:00"},null,{"$f":"IF(BMB10=\"\",0,IF(BLZ10=\"\",BMB11,BMB10-BLZ10))","v":"00:00:00"},null,{"$f":"IF(BMB10=\"\",0,BMB10-BLX10)","v":"00:00:00"},{"$f":"IF(BMB11<BMC10,0,IF(BMB10=\"\",0,IF(BLX10=\"\",0,BMB11-BMC10)))","v":"00:00:00"},{"$f":"IF(BLX4=\"\",0,IF(BLY4=\"ep\",BLZ4-BLX4,IF(BLY4=\"y\",IF(BLX4<BLX7,(BLX7-BLX4),0),0)+IF(BMA4=\"y\",IF(BLZ4>BLZ7,(BLZ4-BLZ7),0),0)))+IF(BLX5=\"\",0,IF(BLY5=\"ep\",BLZ5-BLX5,IF(BLY5=\"y\",IF(BLX5<BLX7,(BLX7-BLX5),0),0)+IF(BMA5=\"y\",IF(BLZ5>BLZ7,(BLZ5-BLZ7),0),0)))+IF(BLX6=\"\",0,IF(BLY6=\"ep\",BLZ6-BLX6,IF(BLY6=\"y\",IF(BLX6<BLX7,(BLX7-BLX6),0),0)+IF(BMA6=\"y\",IF(BLZ6>BLZ7,(BLZ6-BLZ7),0),0)))","v":"00:00:00"},null,null,null,{"$f":"IF(BMM4=\"v\",0,IF(BMN1=\"Lauantai\",BML11,IF(BMN1=\"Sunnuntai\",BML11,IF(BMM2=\"h\",BML11,IF(BML10=\"\",0,IF(BMH10=\"\",0,IF(BMJ11<BMM11,BMJ11,BMM11)))))))+BMN11","v":"00:00:00"},null,{"$f":"IF(BML10=\"\",0,IF(BMJ10=\"\",BML11,BML10-BMJ10))","v":"00:00:00"},null,{"$f":"IF(BML10=\"\",0,BML10-BMH10)","v":"00:00:00"},{"$f":"IF(BML11<BMM10,0,IF(BML10=\"\",0,IF(BMH10=\"\",0,BML11-BMM10)))","v":"00:00:00"},{"$f":"IF(BMH4=\"\",0,IF(BMI4=\"ep\",BMJ4-BMH4,IF(BMI4=\"y\",IF(BMH4<BMH7,(BMH7-BMH4),0),0)+IF(BMK4=\"y\",IF(BMJ4>BMJ7,(BMJ4-BMJ7),0),0)))+IF(BMH5=\"\",0,IF(BMI5=\"ep\",BMJ5-BMH5,IF(BMI5=\"y\",IF(BMH5<BMH7,(BMH7-BMH5),0),0)+IF(BMK5=\"y\",IF(BMJ5>BMJ7,(BMJ5-BMJ7),0),0)))+IF(BMH6=\"\",0,IF(BMI6=\"ep\",BMJ6-BMH6,IF(BMI6=\"y\",IF(BMH6<BMH7,(BMH7-BMH6),0),0)+IF(BMK6=\"y\",IF(BMJ6>BMJ7,(BMJ6-BMJ7),0),0)))","v":"00:00:00"},null,null,null,{"$f":"IF(BMW4=\"v\",0,IF(BMX1=\"Lauantai\",BMV11,IF(BMX1=\"Sunnuntai\",BMV11,IF(BMW2=\"h\",BMV11,IF(BMV10=\"\",0,IF(BMR10=\"\",0,IF(BMT11<BMW11,BMT11,BMW11)))))))+BMX11","v":"00:00:00"},null,{"$f":"IF(BMV10=\"\",0,IF(BMT10=\"\",BMV11,BMV10-BMT10))","v":"00:00:00"},null,{"$f":"IF(BMV10=\"\",0,BMV10-BMR10)","v":"00:00:00"},{"$f":"IF(BMV11<BMW10,0,IF(BMV10=\"\",0,IF(BMR10=\"\",0,BMV11-BMW10)))","v":"00:00:00"},{"$f":"IF(BMR4=\"\",0,IF(BMS4=\"ep\",BMT4-BMR4,IF(BMS4=\"y\",IF(BMR4<BMR7,(BMR7-BMR4),0),0)+IF(BMU4=\"y\",IF(BMT4>BMT7,(BMT4-BMT7),0),0)))+IF(BMR5=\"\",0,IF(BMS5=\"ep\",BMT5-BMR5,IF(BMS5=\"y\",IF(BMR5<BMR7,(BMR7-BMR5),0),0)+IF(BMU5=\"y\",IF(BMT5>BMT7,(BMT5-BMT7),0),0)))+IF(BMR6=\"\",0,IF(BMS6=\"ep\",BMT6-BMR6,IF(BMS6=\"y\",IF(BMR6<BMR7,(BMR7-BMR6),0),0)+IF(BMU6=\"y\",IF(BMT6>BMT7,(BMT6-BMT7),0),0)))","v":"00:00:00"},null,null,null,{"$f":"IF(BNG4=\"v\",0,IF(BNH1=\"Lauantai\",BNF11,IF(BNH1=\"Sunnuntai\",BNF11,IF(BNG2=\"h\",BNF11,IF(BNF10=\"\",0,IF(BNB10=\"\",0,IF(BND11<BNG11,BND11,BNG11)))))))+BNH11","v":"00:00:00"},null,{"$f":"IF(BNF10=\"\",0,IF(BND10=\"\",BNF11,BNF10-BND10))","v":"00:00:00"},null,{"$f":"IF(BNF10=\"\",0,BNF10-BNB10)","v":"00:00:00"},{"$f":"IF(BNF11<BNG10,0,IF(BNF10=\"\",0,IF(BNB10=\"\",0,BNF11-BNG10)))","v":"00:00:00"},{"$f":"IF(BNB4=\"\",0,IF(BNC4=\"ep\",BND4-BNB4,IF(BNC4=\"y\",IF(BNB4<BNB7,(BNB7-BNB4),0),0)+IF(BNE4=\"y\",IF(BND4>BND7,(BND4-BND7),0),0)))+IF(BNB5=\"\",0,IF(BNC5=\"ep\",BND5-BNB5,IF(BNC5=\"y\",IF(BNB5<BNB7,(BNB7-BNB5),0),0)+IF(BNE5=\"y\",IF(BND5>BND7,(BND5-BND7),0),0)))+IF(BNB6=\"\",0,IF(BNC6=\"ep\",BND6-BNB6,IF(BNC6=\"y\",IF(BNB6<BNB7,(BNB7-BNB6),0),0)+IF(BNE6=\"y\",IF(BND6>BND7,(BND6-BND7),0),0)))","v":"00:00:00"},null,null,null,{"$f":"IF(BNQ4=\"v\",0,IF(BNR1=\"Lauantai\",BNP11,IF(BNR1=\"Sunnuntai\",BNP11,IF(BNQ2=\"h\",BNP11,IF(BNP10=\"\",0,IF(BNL10=\"\",0,IF(BNN11<BNQ11,BNN11,BNQ11)))))))+BNR11","v":"00:00:00"},null,{"$f":"IF(BNP10=\"\",0,IF(BNN10=\"\",BNP11,BNP10-BNN10))","v":"00:00:00"},null,{"$f":"IF(BNP10=\"\",0,BNP10-BNL10)","v":"00:00:00"},{"$f":"IF(BNP11<BNQ10,0,IF(BNP10=\"\",0,IF(BNL10=\"\",0,BNP11-BNQ10)))","v":"00:00:00"},{"$f":"IF(BNL4=\"\",0,IF(BNM4=\"ep\",BNN4-BNL4,IF(BNM4=\"y\",IF(BNL4<BNL7,(BNL7-BNL4),0),0)+IF(BNO4=\"y\",IF(BNN4>BNN7,(BNN4-BNN7),0),0)))+IF(BNL5=\"\",0,IF(BNM5=\"ep\",BNN5-BNL5,IF(BNM5=\"y\",IF(BNL5<BNL7,(BNL7-BNL5),0),0)+IF(BNO5=\"y\",IF(BNN5>BNN7,(BNN5-BNN7),0),0)))+IF(BNL6=\"\",0,IF(BNM6=\"ep\",BNN6-BNL6,IF(BNM6=\"y\",IF(BNL6<BNL7,(BNL7-BNL6),0),0)+IF(BNO6=\"y\",IF(BNN6>BNN7,(BNN6-BNN7),0),0)))","v":"00:00:00"},null,null,null,{"$f":"IF(BOA4=\"v\",0,IF(BOB1=\"Lauantai\",BNZ11,IF(BOB1=\"Sunnuntai\",BNZ11,IF(BOA2=\"h\",BNZ11,IF(BNZ10=\"\",0,IF(BNV10=\"\",0,IF(BNX11<BOA11,BNX11,BOA11)))))))+BOB11","v":"00:00:00"},null,{"$f":"IF(BNZ10=\"\",0,IF(BNX10=\"\",BNZ11,BNZ10-BNX10))","v":"00:00:00"},null,{"$f":"IF(BNZ10=\"\",0,BNZ10-BNV10)","v":"00:00:00"},{"$f":"IF(BNZ11<BOA10,0,IF(BNZ10=\"\",0,IF(BNV10=\"\",0,BNZ11-BOA10)))","v":"00:00:00"},{"$f":"IF(BNV4=\"\",0,IF(BNW4=\"ep\",BNX4-BNV4,IF(BNW4=\"y\",IF(BNV4<BNV7,(BNV7-BNV4),0),0)+IF(BNY4=\"y\",IF(BNX4>BNX7,(BNX4-BNX7),0),0)))+IF(BNV5=\"\",0,IF(BNW5=\"ep\",BNX5-BNV5,IF(BNW5=\"y\",IF(BNV5<BNV7,(BNV7-BNV5),0),0)+IF(BNY5=\"y\",IF(BNX5>BNX7,(BNX5-BNX7),0),0)))+IF(BNV6=\"\",0,IF(BNW6=\"ep\",BNX6-BNV6,IF(BNW6=\"y\",IF(BNV6<BNV7,(BNV7-BNV6),0),0)+IF(BNY6=\"y\",IF(BNX6>BNX7,(BNX6-BNX7),0),0)))","v":"00:00:00"},null,null,null,{"$f":"IF(BOK4=\"v\",0,IF(BOL1=\"Lauantai\",BOJ11,IF(BOL1=\"Sunnuntai\",BOJ11,IF(BOK2=\"h\",BOJ11,IF(BOJ10=\"\",0,IF(BOF10=\"\",0,IF(BOH11<BOK11,BOH11,BOK11)))))))+BOL11","v":"00:00:00"},null,{"$f":"IF(BOJ10=\"\",0,IF(BOH10=\"\",BOJ11,BOJ10-BOH10))","v":"00:00:00"},null,{"$f":"IF(BOJ10=\"\",0,BOJ10-BOF10)","v":"00:00:00"},{"$f":"IF(BOJ11<BOK10,0,IF(BOJ10=\"\",0,IF(BOF10=\"\",0,BOJ11-BOK10)))","v":"00:00:00"},{"$f":"IF(BOF4=\"\",0,IF(BOG4=\"ep\",BOH4-BOF4,IF(BOG4=\"y\",IF(BOF4<BOF7,(BOF7-BOF4),0),0)+IF(BOI4=\"y\",IF(BOH4>BOH7,(BOH4-BOH7),0),0)))+IF(BOF5=\"\",0,IF(BOG5=\"ep\",BOH5-BOF5,IF(BOG5=\"y\",IF(BOF5<BOF7,(BOF7-BOF5),0),0)+IF(BOI5=\"y\",IF(BOH5>BOH7,(BOH5-BOH7),0),0)))+IF(BOF6=\"\",0,IF(BOG6=\"ep\",BOH6-BOF6,IF(BOG6=\"y\",IF(BOF6<BOF7,(BOF7-BOF6),0),0)+IF(BOI6=\"y\",IF(BOH6>BOH7,(BOH6-BOH7),0),0)))","v":"00:00:00"},null,null,null,{"$f":"IF(BOU4=\"v\",0,IF(BOV1=\"Lauantai\",BOT11,IF(BOV1=\"Sunnuntai\",BOT11,IF(BOU2=\"h\",BOT11,IF(BOT10=\"\",0,IF(BOP10=\"\",0,IF(BOR11<BOU11,BOR11,BOU11)))))))+BOV11","v":"00:00:00"},null,{"$f":"IF(BOT10=\"\",0,IF(BOR10=\"\",BOT11,BOT10-BOR10))","v":"00:00:00"},null,{"$f":"IF(BOT10=\"\",0,BOT10-BOP10)","v":"00:00:00"},{"$f":"IF(BOT11<BOU10,0,IF(BOT10=\"\",0,IF(BOP10=\"\",0,BOT11-BOU10)))","v":"00:00:00"},{"$f":"IF(BOP4=\"\",0,IF(BOQ4=\"ep\",BOR4-BOP4,IF(BOQ4=\"y\",IF(BOP4<BOP7,(BOP7-BOP4),0),0)+IF(BOS4=\"y\",IF(BOR4>BOR7,(BOR4-BOR7),0),0)))+IF(BOP5=\"\",0,IF(BOQ5=\"ep\",BOR5-BOP5,IF(BOQ5=\"y\",IF(BOP5<BOP7,(BOP7-BOP5),0),0)+IF(BOS5=\"y\",IF(BOR5>BOR7,(BOR5-BOR7),0),0)))+IF(BOP6=\"\",0,IF(BOQ6=\"ep\",BOR6-BOP6,IF(BOQ6=\"y\",IF(BOP6<BOP7,(BOP7-BOP6),0),0)+IF(BOS6=\"y\",IF(BOR6>BOR7,(BOR6-BOR7),0),0)))","v":"00:00:00"},null,null,null,{"$f":"IF(BPE4=\"v\",0,IF(BPF1=\"Lauantai\",BPD11,IF(BPF1=\"Sunnuntai\",BPD11,IF(BPE2=\"h\",BPD11,IF(BPD10=\"\",0,IF(BOZ10=\"\",0,IF(BPB11<BPE11,BPB11,BPE11)))))))+BPF11","v":"00:00:00"},null,{"$f":"IF(BPD10=\"\",0,IF(BPB10=\"\",BPD11,BPD10-BPB10))","v":"00:00:00"},null,{"$f":"IF(BPD10=\"\",0,BPD10-BOZ10)","v":"00:00:00"},{"$f":"IF(BPD11<BPE10,0,IF(BPD10=\"\",0,IF(BOZ10=\"\",0,BPD11-BPE10)))","v":"00:00:00"},{"$f":"IF(BOZ4=\"\",0,IF(BPA4=\"ep\",BPB4-BOZ4,IF(BPA4=\"y\",IF(BOZ4<BOZ7,(BOZ7-BOZ4),0),0)+IF(BPC4=\"y\",IF(BPB4>BPB7,(BPB4-BPB7),0),0)))+IF(BOZ5=\"\",0,IF(BPA5=\"ep\",BPB5-BOZ5,IF(BPA5=\"y\",IF(BOZ5<BOZ7,(BOZ7-BOZ5),0),0)+IF(BPC5=\"y\",IF(BPB5>BPB7,(BPB5-BPB7),0),0)))+IF(BOZ6=\"\",0,IF(BPA6=\"ep\",BPB6-BOZ6,IF(BPA6=\"y\",IF(BOZ6<BOZ7,(BOZ7-BOZ6),0),0)+IF(BPC6=\"y\",IF(BPB6>BPB7,(BPB6-BPB7),0),0)))","v":"00:00:00"},null,null,null,{"$f":"IF(BPO4=\"v\",0,IF(BPP1=\"Lauantai\",BPN11,IF(BPP1=\"Sunnuntai\",BPN11,IF(BPO2=\"h\",BPN11,IF(BPN10=\"\",0,IF(BPJ10=\"\",0,IF(BPL11<BPO11,BPL11,BPO11)))))))+BPP11","v":"00:00:00"},null,{"$f":"IF(BPN10=\"\",0,IF(BPL10=\"\",BPN11,BPN10-BPL10))","v":"00:00:00"},null,{"$f":"IF(BPN10=\"\",0,BPN10-BPJ10)","v":"00:00:00"},{"$f":"IF(BPN11<BPO10,0,IF(BPN10=\"\",0,IF(BPJ10=\"\",0,BPN11-BPO10)))","v":"00:00:00"},{"$f":"IF(BPJ4=\"\",0,IF(BPK4=\"ep\",BPL4-BPJ4,IF(BPK4=\"y\",IF(BPJ4<BPJ7,(BPJ7-BPJ4),0),0)+IF(BPM4=\"y\",IF(BPL4>BPL7,(BPL4-BPL7),0),0)))+IF(BPJ5=\"\",0,IF(BPK5=\"ep\",BPL5-BPJ5,IF(BPK5=\"y\",IF(BPJ5<BPJ7,(BPJ7-BPJ5),0),0)+IF(BPM5=\"y\",IF(BPL5>BPL7,(BPL5-BPL7),0),0)))+IF(BPJ6=\"\",0,IF(BPK6=\"ep\",BPL6-BPJ6,IF(BPK6=\"y\",IF(BPJ6<BPJ7,(BPJ7-BPJ6),0),0)+IF(BPM6=\"y\",IF(BPL6>BPL7,(BPL6-BPL7),0),0)))","v":"00:00:00"},null,null,null,{"$f":"IF(BPY4=\"v\",0,IF(BPZ1=\"Lauantai\",BPX11,IF(BPZ1=\"Sunnuntai\",BPX11,IF(BPY2=\"h\",BPX11,IF(BPX10=\"\",0,IF(BPT10=\"\",0,IF(BPV11<BPY11,BPV11,BPY11)))))))+BPZ11","v":"00:00:00"},null,{"$f":"IF(BPX10=\"\",0,IF(BPV10=\"\",BPX11,BPX10-BPV10))","v":"00:00:00"},null,{"$f":"IF(BPX10=\"\",0,BPX10-BPT10)","v":"00:00:00"},{"$f":"IF(BPX11<BPY10,0,IF(BPX10=\"\",0,IF(BPT10=\"\",0,BPX11-BPY10)))","v":"00:00:00"},{"$f":"IF(BPT4=\"\",0,IF(BPU4=\"ep\",BPV4-BPT4,IF(BPU4=\"y\",IF(BPT4<BPT7,(BPT7-BPT4),0),0)+IF(BPW4=\"y\",IF(BPV4>BPV7,(BPV4-BPV7),0),0)))+IF(BPT5=\"\",0,IF(BPU5=\"ep\",BPV5-BPT5,IF(BPU5=\"y\",IF(BPT5<BPT7,(BPT7-BPT5),0),0)+IF(BPW5=\"y\",IF(BPV5>BPV7,(BPV5-BPV7),0),0)))+IF(BPT6=\"\",0,IF(BPU6=\"ep\",BPV6-BPT6,IF(BPU6=\"y\",IF(BPT6<BPT7,(BPT7-BPT6),0),0)+IF(BPW6=\"y\",IF(BPV6>BPV7,(BPV6-BPV7),0),0)))","v":"00:00:00"},null,null,null,{"$f":"IF(BQI4=\"v\",0,IF(BQJ1=\"Lauantai\",BQH11,IF(BQJ1=\"Sunnuntai\",BQH11,IF(BQI2=\"h\",BQH11,IF(BQH10=\"\",0,IF(BQD10=\"\",0,IF(BQF11<BQI11,BQF11,BQI11)))))))+BQJ11","v":"00:00:00"},null,{"$f":"IF(BQH10=\"\",0,IF(BQF10=\"\",BQH11,BQH10-BQF10))","v":"00:00:00"},null,{"$f":"IF(BQH10=\"\",0,BQH10-BQD10)","v":"00:00:00"},{"$f":"IF(BQH11<BQI10,0,IF(BQH10=\"\",0,IF(BQD10=\"\",0,BQH11-BQI10)))","v":"00:00:00"},{"$f":"IF(BQD4=\"\",0,IF(BQE4=\"ep\",BQF4-BQD4,IF(BQE4=\"y\",IF(BQD4<BQD7,(BQD7-BQD4),0),0)+IF(BQG4=\"y\",IF(BQF4>BQF7,(BQF4-BQF7),0),0)))+IF(BQD5=\"\",0,IF(BQE5=\"ep\",BQF5-BQD5,IF(BQE5=\"y\",IF(BQD5<BQD7,(BQD7-BQD5),0),0)+IF(BQG5=\"y\",IF(BQF5>BQF7,(BQF5-BQF7),0),0)))+IF(BQD6=\"\",0,IF(BQE6=\"ep\",BQF6-BQD6,IF(BQE6=\"y\",IF(BQD6<BQD7,(BQD7-BQD6),0),0)+IF(BQG6=\"y\",IF(BQF6>BQF7,(BQF6-BQF7),0),0)))","v":"00:00:00"},null,null,null,{"$f":"IF(BQS4=\"v\",0,IF(BQT1=\"Lauantai\",BQR11,IF(BQT1=\"Sunnuntai\",BQR11,IF(BQS2=\"h\",BQR11,IF(BQR10=\"\",0,IF(BQN10=\"\",0,IF(BQP11<BQS11,BQP11,BQS11)))))))+BQT11","v":"00:00:00"},null,{"$f":"IF(BQR10=\"\",0,IF(BQP10=\"\",BQR11,BQR10-BQP10))","v":"00:00:00"},null,{"$f":"IF(BQR10=\"\",0,BQR10-BQN10)","v":"00:00:00"},{"$f":"IF(BQR11<BQS10,0,IF(BQR10=\"\",0,IF(BQN10=\"\",0,BQR11-BQS10)))","v":"00:00:00"},{"$f":"IF(BQN4=\"\",0,IF(BQO4=\"ep\",BQP4-BQN4,IF(BQO4=\"y\",IF(BQN4<BQN7,(BQN7-BQN4),0),0)+IF(BQQ4=\"y\",IF(BQP4>BQP7,(BQP4-BQP7),0),0)))+IF(BQN5=\"\",0,IF(BQO5=\"ep\",BQP5-BQN5,IF(BQO5=\"y\",IF(BQN5<BQN7,(BQN7-BQN5),0),0)+IF(BQQ5=\"y\",IF(BQP5>BQP7,(BQP5-BQP7),0),0)))+IF(BQN6=\"\",0,IF(BQO6=\"ep\",BQP6-BQN6,IF(BQO6=\"y\",IF(BQN6<BQN7,(BQN7-BQN6),0),0)+IF(BQQ6=\"y\",IF(BQP6>BQP7,(BQP6-BQP7),0),0)))","v":"00:00:00"},null,null,null,{"$f":"IF(BRC4=\"v\",0,IF(BRD1=\"Lauantai\",BRB11,IF(BRD1=\"Sunnuntai\",BRB11,IF(BRC2=\"h\",BRB11,IF(BRB10=\"\",0,IF(BQX10=\"\",0,IF(BQZ11<BRC11,BQZ11,BRC11)))))))+BRD11","v":"00:00:00"},null,{"$f":"IF(BRB10=\"\",0,IF(BQZ10=\"\",BRB11,BRB10-BQZ10))","v":"00:00:00"},null,{"$f":"IF(BRB10=\"\",0,BRB10-BQX10)","v":"00:00:00"},{"$f":"IF(BRB11<BRC10,0,IF(BRB10=\"\",0,IF(BQX10=\"\",0,BRB11-BRC10)))","v":"00:00:00"},{"$f":"IF(BQX4=\"\",0,IF(BQY4=\"ep\",BQZ4-BQX4,IF(BQY4=\"y\",IF(BQX4<BQX7,(BQX7-BQX4),0),0)+IF(BRA4=\"y\",IF(BQZ4>BQZ7,(BQZ4-BQZ7),0),0)))+IF(BQX5=\"\",0,IF(BQY5=\"ep\",BQZ5-BQX5,IF(BQY5=\"y\",IF(BQX5<BQX7,(BQX7-BQX5),0),0)+IF(BRA5=\"y\",IF(BQZ5>BQZ7,(BQZ5-BQZ7),0),0)))+IF(BQX6=\"\",0,IF(BQY6=\"ep\",BQZ6-BQX6,IF(BQY6=\"y\",IF(BQX6<BQX7,(BQX7-BQX6),0),0)+IF(BRA6=\"y\",IF(BQZ6>BQZ7,(BQZ6-BQZ7),0),0)))","v":"00:00:00"},null,null,null,{"$f":"IF(BRM4=\"v\",0,IF(BRN1=\"Lauantai\",BRL11,IF(BRN1=\"Sunnuntai\",BRL11,IF(BRM2=\"h\",BRL11,IF(BRL10=\"\",0,IF(BRH10=\"\",0,IF(BRJ11<BRM11,BRJ11,BRM11)))))))+BRN11","v":"00:00:00"},null,{"$f":"IF(BRL10=\"\",0,IF(BRJ10=\"\",BRL11,BRL10-BRJ10))","v":"00:00:00"},null,{"$f":"IF(BRL10=\"\",0,BRL10-BRH10)","v":"00:00:00"},{"$f":"IF(BRL11<BRM10,0,IF(BRL10=\"\",0,IF(BRH10=\"\",0,BRL11-BRM10)))","v":"00:00:00"},{"$f":"IF(BRH4=\"\",0,IF(BRI4=\"ep\",BRJ4-BRH4,IF(BRI4=\"y\",IF(BRH4<BRH7,(BRH7-BRH4),0),0)+IF(BRK4=\"y\",IF(BRJ4>BRJ7,(BRJ4-BRJ7),0),0)))+IF(BRH5=\"\",0,IF(BRI5=\"ep\",BRJ5-BRH5,IF(BRI5=\"y\",IF(BRH5<BRH7,(BRH7-BRH5),0),0)+IF(BRK5=\"y\",IF(BRJ5>BRJ7,(BRJ5-BRJ7),0),0)))+IF(BRH6=\"\",0,IF(BRI6=\"ep\",BRJ6-BRH6,IF(BRI6=\"y\",IF(BRH6<BRH7,(BRH7-BRH6),0),0)+IF(BRK6=\"y\",IF(BRJ6>BRJ7,(BRJ6-BRJ7),0),0)))","v":"00:00:00"},null,null,null,{"$f":"IF(BRW4=\"v\",0,IF(BRX1=\"Lauantai\",BRV11,IF(BRX1=\"Sunnuntai\",BRV11,IF(BRW2=\"h\",BRV11,IF(BRV10=\"\",0,IF(BRR10=\"\",0,IF(BRT11<BRW11,BRT11,BRW11)))))))+BRX11","v":"00:00:00"},null,{"$f":"IF(BRV10=\"\",0,IF(BRT10=\"\",BRV11,BRV10-BRT10))","v":"00:00:00"},null,{"$f":"IF(BRV10=\"\",0,BRV10-BRR10)","v":"00:00:00"},{"$f":"IF(BRV11<BRW10,0,IF(BRV10=\"\",0,IF(BRR10=\"\",0,BRV11-BRW10)))","v":"00:00:00"},{"$f":"IF(BRR4=\"\",0,IF(BRS4=\"ep\",BRT4-BRR4,IF(BRS4=\"y\",IF(BRR4<BRR7,(BRR7-BRR4),0),0)+IF(BRU4=\"y\",IF(BRT4>BRT7,(BRT4-BRT7),0),0)))+IF(BRR5=\"\",0,IF(BRS5=\"ep\",BRT5-BRR5,IF(BRS5=\"y\",IF(BRR5<BRR7,(BRR7-BRR5),0),0)+IF(BRU5=\"y\",IF(BRT5>BRT7,(BRT5-BRT7),0),0)))+IF(BRR6=\"\",0,IF(BRS6=\"ep\",BRT6-BRR6,IF(BRS6=\"y\",IF(BRR6<BRR7,(BRR7-BRR6),0),0)+IF(BRU6=\"y\",IF(BRT6>BRT7,(BRT6-BRT7),0),0)))","v":"00:00:00"},null,null,null,{"$f":"IF(BSG4=\"v\",0,IF(BSH1=\"Lauantai\",BSF11,IF(BSH1=\"Sunnuntai\",BSF11,IF(BSG2=\"h\",BSF11,IF(BSF10=\"\",0,IF(BSB10=\"\",0,IF(BSD11<BSG11,BSD11,BSG11)))))))+BSH11","v":"00:00:00"},null,{"$f":"IF(BSF10=\"\",0,IF(BSD10=\"\",BSF11,BSF10-BSD10))","v":"00:00:00"},null,{"$f":"IF(BSF10=\"\",0,BSF10-BSB10)","v":"00:00:00"},{"$f":"IF(BSF11<BSG10,0,IF(BSF10=\"\",0,IF(BSB10=\"\",0,BSF11-BSG10)))","v":"00:00:00"},{"$f":"IF(BSB4=\"\",0,IF(BSC4=\"ep\",BSD4-BSB4,IF(BSC4=\"y\",IF(BSB4<BSB7,(BSB7-BSB4),0),0)+IF(BSE4=\"y\",IF(BSD4>BSD7,(BSD4-BSD7),0),0)))+IF(BSB5=\"\",0,IF(BSC5=\"ep\",BSD5-BSB5,IF(BSC5=\"y\",IF(BSB5<BSB7,(BSB7-BSB5),0),0)+IF(BSE5=\"y\",IF(BSD5>BSD7,(BSD5-BSD7),0),0)))+IF(BSB6=\"\",0,IF(BSC6=\"ep\",BSD6-BSB6,IF(BSC6=\"y\",IF(BSB6<BSB7,(BSB7-BSB6),0),0)+IF(BSE6=\"y\",IF(BSD6>BSD7,(BSD6-BSD7),0),0)))","v":"00:00:00"},null,null,null,{"$f":"IF(BSQ4=\"v\",0,IF(BSR1=\"Lauantai\",BSP11,IF(BSR1=\"Sunnuntai\",BSP11,IF(BSQ2=\"h\",BSP11,IF(BSP10=\"\",0,IF(BSL10=\"\",0,IF(BSN11<BSQ11,BSN11,BSQ11)))))))+BSR11","v":"00:00:00"},null,{"$f":"IF(BSP10=\"\",0,IF(BSN10=\"\",BSP11,BSP10-BSN10))","v":"00:00:00"},null,{"$f":"IF(BSP10=\"\",0,BSP10-BSL10)","v":"00:00:00"},{"$f":"IF(BSP11<BSQ10,0,IF(BSP10=\"\",0,IF(BSL10=\"\",0,BSP11-BSQ10)))","v":"00:00:00"},{"$f":"IF(BSL4=\"\",0,IF(BSM4=\"ep\",BSN4-BSL4,IF(BSM4=\"y\",IF(BSL4<BSL7,(BSL7-BSL4),0),0)+IF(BSO4=\"y\",IF(BSN4>BSN7,(BSN4-BSN7),0),0)))+IF(BSL5=\"\",0,IF(BSM5=\"ep\",BSN5-BSL5,IF(BSM5=\"y\",IF(BSL5<BSL7,(BSL7-BSL5),0),0)+IF(BSO5=\"y\",IF(BSN5>BSN7,(BSN5-BSN7),0),0)))+IF(BSL6=\"\",0,IF(BSM6=\"ep\",BSN6-BSL6,IF(BSM6=\"y\",IF(BSL6<BSL7,(BSL7-BSL6),0),0)+IF(BSO6=\"y\",IF(BSN6>BSN7,(BSN6-BSN7),0),0)))","v":"00:00:00"},null,null,null,{"$f":"IF(BTA4=\"v\",0,IF(BTB1=\"Lauantai\",BSZ11,IF(BTB1=\"Sunnuntai\",BSZ11,IF(BTA2=\"h\",BSZ11,IF(BSZ10=\"\",0,IF(BSV10=\"\",0,IF(BSX11<BTA11,BSX11,BTA11)))))))+BTB11","v":"00:00:00"},null,{"$f":"IF(BSZ10=\"\",0,IF(BSX10=\"\",BSZ11,BSZ10-BSX10))","v":"00:00:00"},null,{"$f":"IF(BSZ10=\"\",0,BSZ10-BSV10)","v":"00:00:00"},{"$f":"IF(BSZ11<BTA10,0,IF(BSZ10=\"\",0,IF(BSV10=\"\",0,BSZ11-BTA10)))","v":"00:00:00"},{"$f":"IF(BSV4=\"\",0,IF(BSW4=\"ep\",BSX4-BSV4,IF(BSW4=\"y\",IF(BSV4<BSV7,(BSV7-BSV4),0),0)+IF(BSY4=\"y\",IF(BSX4>BSX7,(BSX4-BSX7),0),0)))+IF(BSV5=\"\",0,IF(BSW5=\"ep\",BSX5-BSV5,IF(BSW5=\"y\",IF(BSV5<BSV7,(BSV7-BSV5),0),0)+IF(BSY5=\"y\",IF(BSX5>BSX7,(BSX5-BSX7),0),0)))+IF(BSV6=\"\",0,IF(BSW6=\"ep\",BSX6-BSV6,IF(BSW6=\"y\",IF(BSV6<BSV7,(BSV7-BSV6),0),0)+IF(BSY6=\"y\",IF(BSX6>BSX7,(BSX6-BSX7),0),0)))","v":"00:00:00"},null,null,null,{"$f":"IF(BTK4=\"v\",0,IF(BTL1=\"Lauantai\",BTJ11,IF(BTL1=\"Sunnuntai\",BTJ11,IF(BTK2=\"h\",BTJ11,IF(BTJ10=\"\",0,IF(BTF10=\"\",0,IF(BTH11<BTK11,BTH11,BTK11)))))))+BTL11","v":"00:00:00"},null,{"$f":"IF(BTJ10=\"\",0,IF(BTH10=\"\",BTJ11,BTJ10-BTH10))","v":"00:00:00"},null,{"$f":"IF(BTJ10=\"\",0,BTJ10-BTF10)","v":"00:00:00"},{"$f":"IF(BTJ11<BTK10,0,IF(BTJ10=\"\",0,IF(BTF10=\"\",0,BTJ11-BTK10)))","v":"00:00:00"},{"$f":"IF(BTF4=\"\",0,IF(BTG4=\"ep\",BTH4-BTF4,IF(BTG4=\"y\",IF(BTF4<BTF7,(BTF7-BTF4),0),0)+IF(BTI4=\"y\",IF(BTH4>BTH7,(BTH4-BTH7),0),0)))+IF(BTF5=\"\",0,IF(BTG5=\"ep\",BTH5-BTF5,IF(BTG5=\"y\",IF(BTF5<BTF7,(BTF7-BTF5),0),0)+IF(BTI5=\"y\",IF(BTH5>BTH7,(BTH5-BTH7),0),0)))+IF(BTF6=\"\",0,IF(BTG6=\"ep\",BTH6-BTF6,IF(BTG6=\"y\",IF(BTF6<BTF7,(BTF7-BTF6),0),0)+IF(BTI6=\"y\",IF(BTH6>BTH7,(BTH6-BTH7),0),0)))","v":"00:00:00"},null,null,null,{"$f":"IF(BTU4=\"v\",0,IF(BTV1=\"Lauantai\",BTT11,IF(BTV1=\"Sunnuntai\",BTT11,IF(BTU2=\"h\",BTT11,IF(BTT10=\"\",0,IF(BTP10=\"\",0,IF(BTR11<BTU11,BTR11,BTU11)))))))+BTV11","v":"00:00:00"},null,{"$f":"IF(BTT10=\"\",0,IF(BTR10=\"\",BTT11,BTT10-BTR10))","v":"00:00:00"},null,{"$f":"IF(BTT10=\"\",0,BTT10-BTP10)","v":"00:00:00"},{"$f":"IF(BTT11<BTU10,0,IF(BTT10=\"\",0,IF(BTP10=\"\",0,BTT11-BTU10)))","v":"00:00:00"},{"$f":"IF(BTP4=\"\",0,IF(BTQ4=\"ep\",BTR4-BTP4,IF(BTQ4=\"y\",IF(BTP4<BTP7,(BTP7-BTP4),0),0)+IF(BTS4=\"y\",IF(BTR4>BTR7,(BTR4-BTR7),0),0)))+IF(BTP5=\"\",0,IF(BTQ5=\"ep\",BTR5-BTP5,IF(BTQ5=\"y\",IF(BTP5<BTP7,(BTP7-BTP5),0),0)+IF(BTS5=\"y\",IF(BTR5>BTR7,(BTR5-BTR7),0),0)))+IF(BTP6=\"\",0,IF(BTQ6=\"ep\",BTR6-BTP6,IF(BTQ6=\"y\",IF(BTP6<BTP7,(BTP7-BTP6),0),0)+IF(BTS6=\"y\",IF(BTR6>BTR7,(BTR6-BTR7),0),0)))","v":"00:00:00"},null,null,null,{"$f":"IF(BUE4=\"v\",0,IF(BUF1=\"Lauantai\",BUD11,IF(BUF1=\"Sunnuntai\",BUD11,IF(BUE2=\"h\",BUD11,IF(BUD10=\"\",0,IF(BTZ10=\"\",0,IF(BUB11<BUE11,BUB11,BUE11)))))))+BUF11","v":"00:00:00"},null,{"$f":"IF(BUD10=\"\",0,IF(BUB10=\"\",BUD11,BUD10-BUB10))","v":"00:00:00"},null,{"$f":"IF(BUD10=\"\",0,BUD10-BTZ10)","v":"00:00:00"},{"$f":"IF(BUD11<BUE10,0,IF(BUD10=\"\",0,IF(BTZ10=\"\",0,BUD11-BUE10)))","v":"00:00:00"},{"$f":"IF(BTZ4=\"\",0,IF(BUA4=\"ep\",BUB4-BTZ4,IF(BUA4=\"y\",IF(BTZ4<BTZ7,(BTZ7-BTZ4),0),0)+IF(BUC4=\"y\",IF(BUB4>BUB7,(BUB4-BUB7),0),0)))+IF(BTZ5=\"\",0,IF(BUA5=\"ep\",BUB5-BTZ5,IF(BUA5=\"y\",IF(BTZ5<BTZ7,(BTZ7-BTZ5),0),0)+IF(BUC5=\"y\",IF(BUB5>BUB7,(BUB5-BUB7),0),0)))+IF(BTZ6=\"\",0,IF(BUA6=\"ep\",BUB6-BTZ6,IF(BUA6=\"y\",IF(BTZ6<BTZ7,(BTZ7-BTZ6),0),0)+IF(BUC6=\"y\",IF(BUB6>BUB7,(BUB6-BUB7),0),0)))","v":"00:00:00"},null,null,null,{"$f":"IF(BUO4=\"v\",0,IF(BUP1=\"Lauantai\",BUN11,IF(BUP1=\"Sunnuntai\",BUN11,IF(BUO2=\"h\",BUN11,IF(BUN10=\"\",0,IF(BUJ10=\"\",0,IF(BUL11<BUO11,BUL11,BUO11)))))))+BUP11","v":"00:00:00"},null,{"$f":"IF(BUN10=\"\",0,IF(BUL10=\"\",BUN11,BUN10-BUL10))","v":"00:00:00"},null,{"$f":"IF(BUN10=\"\",0,BUN10-BUJ10)","v":"00:00:00"},{"$f":"IF(BUN11<BUO10,0,IF(BUN10=\"\",0,IF(BUJ10=\"\",0,BUN11-BUO10)))","v":"00:00:00"},{"$f":"IF(BUJ4=\"\",0,IF(BUK4=\"ep\",BUL4-BUJ4,IF(BUK4=\"y\",IF(BUJ4<BUJ7,(BUJ7-BUJ4),0),0)+IF(BUM4=\"y\",IF(BUL4>BUL7,(BUL4-BUL7),0),0)))+IF(BUJ5=\"\",0,IF(BUK5=\"ep\",BUL5-BUJ5,IF(BUK5=\"y\",IF(BUJ5<BUJ7,(BUJ7-BUJ5),0),0)+IF(BUM5=\"y\",IF(BUL5>BUL7,(BUL5-BUL7),0),0)))+IF(BUJ6=\"\",0,IF(BUK6=\"ep\",BUL6-BUJ6,IF(BUK6=\"y\",IF(BUJ6<BUJ7,(BUJ7-BUJ6),0),0)+IF(BUM6=\"y\",IF(BUL6>BUL7,(BUL6-BUL7),0),0)))","v":"00:00:00"},null,null,null,{"$f":"IF(BUY4=\"v\",0,IF(BUZ1=\"Lauantai\",BUX11,IF(BUZ1=\"Sunnuntai\",BUX11,IF(BUY2=\"h\",BUX11,IF(BUX10=\"\",0,IF(BUT10=\"\",0,IF(BUV11<BUY11,BUV11,BUY11)))))))+BUZ11","v":"00:00:00"},null,{"$f":"IF(BUX10=\"\",0,IF(BUV10=\"\",BUX11,BUX10-BUV10))","v":"00:00:00"},null,{"$f":"IF(BUX10=\"\",0,BUX10-BUT10)","v":"00:00:00"},{"$f":"IF(BUX11<BUY10,0,IF(BUX10=\"\",0,IF(BUT10=\"\",0,BUX11-BUY10)))","v":"00:00:00"},{"$f":"IF(BUT4=\"\",0,IF(BUU4=\"ep\",BUV4-BUT4,IF(BUU4=\"y\",IF(BUT4<BUT7,(BUT7-BUT4),0),0)+IF(BUW4=\"y\",IF(BUV4>BUV7,(BUV4-BUV7),0),0)))+IF(BUT5=\"\",0,IF(BUU5=\"ep\",BUV5-BUT5,IF(BUU5=\"y\",IF(BUT5<BUT7,(BUT7-BUT5),0),0)+IF(BUW5=\"y\",IF(BUV5>BUV7,(BUV5-BUV7),0),0)))+IF(BUT6=\"\",0,IF(BUU6=\"ep\",BUV6-BUT6,IF(BUU6=\"y\",IF(BUT6<BUT7,(BUT7-BUT6),0),0)+IF(BUW6=\"y\",IF(BUV6>BUV7,(BUV6-BUV7),0),0)))","v":"00:00:00"},null,null,null,{"$f":"IF(BVI4=\"v\",0,IF(BVJ1=\"Lauantai\",BVH11,IF(BVJ1=\"Sunnuntai\",BVH11,IF(BVI2=\"h\",BVH11,IF(BVH10=\"\",0,IF(BVD10=\"\",0,IF(BVF11<BVI11,BVF11,BVI11)))))))+BVJ11","v":"00:00:00"},null,{"$f":"IF(BVH10=\"\",0,IF(BVF10=\"\",BVH11,BVH10-BVF10))","v":"00:00:00"},null,{"$f":"IF(BVH10=\"\",0,BVH10-BVD10)","v":"00:00:00"},{"$f":"IF(BVH11<BVI10,0,IF(BVH10=\"\",0,IF(BVD10=\"\",0,BVH11-BVI10)))","v":"00:00:00"},{"$f":"IF(BVD4=\"\",0,IF(BVE4=\"ep\",BVF4-BVD4,IF(BVE4=\"y\",IF(BVD4<BVD7,(BVD7-BVD4),0),0)+IF(BVG4=\"y\",IF(BVF4>BVF7,(BVF4-BVF7),0),0)))+IF(BVD5=\"\",0,IF(BVE5=\"ep\",BVF5-BVD5,IF(BVE5=\"y\",IF(BVD5<BVD7,(BVD7-BVD5),0),0)+IF(BVG5=\"y\",IF(BVF5>BVF7,(BVF5-BVF7),0),0)))+IF(BVD6=\"\",0,IF(BVE6=\"ep\",BVF6-BVD6,IF(BVE6=\"y\",IF(BVD6<BVD7,(BVD7-BVD6),0),0)+IF(BVG6=\"y\",IF(BVF6>BVF7,(BVF6-BVF7),0),0)))","v":"00:00:00"},null,null,null,{"$f":"IF(BVS4=\"v\",0,IF(BVT1=\"Lauantai\",BVR11,IF(BVT1=\"Sunnuntai\",BVR11,IF(BVS2=\"h\",BVR11,IF(BVR10=\"\",0,IF(BVN10=\"\",0,IF(BVP11<BVS11,BVP11,BVS11)))))))+BVT11","v":"00:00:00"},null,{"$f":"IF(BVR10=\"\",0,IF(BVP10=\"\",BVR11,BVR10-BVP10))","v":"00:00:00"},null,{"$f":"IF(BVR10=\"\",0,BVR10-BVN10)","v":"00:00:00"},{"$f":"IF(BVR11<BVS10,0,IF(BVR10=\"\",0,IF(BVN10=\"\",0,BVR11-BVS10)))","v":"00:00:00"},{"$f":"IF(BVN4=\"\",0,IF(BVO4=\"ep\",BVP4-BVN4,IF(BVO4=\"y\",IF(BVN4<BVN7,(BVN7-BVN4),0),0)+IF(BVQ4=\"y\",IF(BVP4>BVP7,(BVP4-BVP7),0),0)))+IF(BVN5=\"\",0,IF(BVO5=\"ep\",BVP5-BVN5,IF(BVO5=\"y\",IF(BVN5<BVN7,(BVN7-BVN5),0),0)+IF(BVQ5=\"y\",IF(BVP5>BVP7,(BVP5-BVP7),0),0)))+IF(BVN6=\"\",0,IF(BVO6=\"ep\",BVP6-BVN6,IF(BVO6=\"y\",IF(BVN6<BVN7,(BVN7-BVN6),0),0)+IF(BVQ6=\"y\",IF(BVP6>BVP7,(BVP6-BVP7),0),0)))","v":"00:00:00"},null,null,null,{"$f":"IF(BWC4=\"v\",0,IF(BWD1=\"Lauantai\",BWB11,IF(BWD1=\"Sunnuntai\",BWB11,IF(BWC2=\"h\",BWB11,IF(BWB10=\"\",0,IF(BVX10=\"\",0,IF(BVZ11<BWC11,BVZ11,BWC11)))))))+BWD11","v":"00:00:00"},null,{"$f":"IF(BWB10=\"\",0,IF(BVZ10=\"\",BWB11,BWB10-BVZ10))","v":"00:00:00"},null,{"$f":"IF(BWB10=\"\",0,BWB10-BVX10)","v":"00:00:00"},{"$f":"IF(BWB11<BWC10,0,IF(BWB10=\"\",0,IF(BVX10=\"\",0,BWB11-BWC10)))","v":"00:00:00"},{"$f":"IF(BVX4=\"\",0,IF(BVY4=\"ep\",BVZ4-BVX4,IF(BVY4=\"y\",IF(BVX4<BVX7,(BVX7-BVX4),0),0)+IF(BWA4=\"y\",IF(BVZ4>BVZ7,(BVZ4-BVZ7),0),0)))+IF(BVX5=\"\",0,IF(BVY5=\"ep\",BVZ5-BVX5,IF(BVY5=\"y\",IF(BVX5<BVX7,(BVX7-BVX5),0),0)+IF(BWA5=\"y\",IF(BVZ5>BVZ7,(BVZ5-BVZ7),0),0)))+IF(BVX6=\"\",0,IF(BVY6=\"ep\",BVZ6-BVX6,IF(BVY6=\"y\",IF(BVX6<BVX7,(BVX7-BVX6),0),0)+IF(BWA6=\"y\",IF(BVZ6>BVZ7,(BVZ6-BVZ7),0),0)))","v":"00:00:00"},null,null,null,{"$f":"IF(BWM4=\"v\",0,IF(BWN1=\"Lauantai\",BWL11,IF(BWN1=\"Sunnuntai\",BWL11,IF(BWM2=\"h\",BWL11,IF(BWL10=\"\",0,IF(BWH10=\"\",0,IF(BWJ11<BWM11,BWJ11,BWM11)))))))+BWN11","v":"00:00:00"},null,{"$f":"IF(BWL10=\"\",0,IF(BWJ10=\"\",BWL11,BWL10-BWJ10))","v":"00:00:00"},null,{"$f":"IF(BWL10=\"\",0,BWL10-BWH10)","v":"00:00:00"},{"$f":"IF(BWL11<BWM10,0,IF(BWL10=\"\",0,IF(BWH10=\"\",0,BWL11-BWM10)))","v":"00:00:00"},{"$f":"IF(BWH4=\"\",0,IF(BWI4=\"ep\",BWJ4-BWH4,IF(BWI4=\"y\",IF(BWH4<BWH7,(BWH7-BWH4),0),0)+IF(BWK4=\"y\",IF(BWJ4>BWJ7,(BWJ4-BWJ7),0),0)))+IF(BWH5=\"\",0,IF(BWI5=\"ep\",BWJ5-BWH5,IF(BWI5=\"y\",IF(BWH5<BWH7,(BWH7-BWH5),0),0)+IF(BWK5=\"y\",IF(BWJ5>BWJ7,(BWJ5-BWJ7),0),0)))+IF(BWH6=\"\",0,IF(BWI6=\"ep\",BWJ6-BWH6,IF(BWI6=\"y\",IF(BWH6<BWH7,(BWH7-BWH6),0),0)+IF(BWK6=\"y\",IF(BWJ6>BWJ7,(BWJ6-BWJ7),0),0)))","v":"00:00:00"},null,null,null,{"$f":"IF(BWW4=\"v\",0,IF(BWX1=\"Lauantai\",BWV11,IF(BWX1=\"Sunnuntai\",BWV11,IF(BWW2=\"h\",BWV11,IF(BWV10=\"\",0,IF(BWR10=\"\",0,IF(BWT11<BWW11,BWT11,BWW11)))))))+BWX11","v":"00:00:00"},null,{"$f":"IF(BWV10=\"\",0,IF(BWT10=\"\",BWV11,BWV10-BWT10))","v":"00:00:00"},null,{"$f":"IF(BWV10=\"\",0,BWV10-BWR10)","v":"00:00:00"},{"$f":"IF(BWV11<BWW10,0,IF(BWV10=\"\",0,IF(BWR10=\"\",0,BWV11-BWW10)))","v":"00:00:00"},{"$f":"IF(BWR4=\"\",0,IF(BWS4=\"ep\",BWT4-BWR4,IF(BWS4=\"y\",IF(BWR4<BWR7,(BWR7-BWR4),0),0)+IF(BWU4=\"y\",IF(BWT4>BWT7,(BWT4-BWT7),0),0)))+IF(BWR5=\"\",0,IF(BWS5=\"ep\",BWT5-BWR5,IF(BWS5=\"y\",IF(BWR5<BWR7,(BWR7-BWR5),0),0)+IF(BWU5=\"y\",IF(BWT5>BWT7,(BWT5-BWT7),0),0)))+IF(BWR6=\"\",0,IF(BWS6=\"ep\",BWT6-BWR6,IF(BWS6=\"y\",IF(BWR6<BWR7,(BWR7-BWR6),0),0)+IF(BWU6=\"y\",IF(BWT6>BWT7,(BWT6-BWT7),0),0)))","v":"00:00:00"},null,null,null,{"$f":"IF(BXG4=\"v\",0,IF(BXH1=\"Lauantai\",BXF11,IF(BXH1=\"Sunnuntai\",BXF11,IF(BXG2=\"h\",BXF11,IF(BXF10=\"\",0,IF(BXB10=\"\",0,IF(BXD11<BXG11,BXD11,BXG11)))))))+BXH11","v":"00:00:00"},null,{"$f":"IF(BXF10=\"\",0,IF(BXD10=\"\",BXF11,BXF10-BXD10))","v":"00:00:00"},null,{"$f":"IF(BXF10=\"\",0,BXF10-BXB10)","v":"00:00:00"},{"$f":"IF(BXF11<BXG10,0,IF(BXF10=\"\",0,IF(BXB10=\"\",0,BXF11-BXG10)))","v":"00:00:00"},{"$f":"IF(BXB4=\"\",0,IF(BXC4=\"ep\",BXD4-BXB4,IF(BXC4=\"y\",IF(BXB4<BXB7,(BXB7-BXB4),0),0)+IF(BXE4=\"y\",IF(BXD4>BXD7,(BXD4-BXD7),0),0)))+IF(BXB5=\"\",0,IF(BXC5=\"ep\",BXD5-BXB5,IF(BXC5=\"y\",IF(BXB5<BXB7,(BXB7-BXB5),0),0)+IF(BXE5=\"y\",IF(BXD5>BXD7,(BXD5-BXD7),0),0)))+IF(BXB6=\"\",0,IF(BXC6=\"ep\",BXD6-BXB6,IF(BXC6=\"y\",IF(BXB6<BXB7,(BXB7-BXB6),0),0)+IF(BXE6=\"y\",IF(BXD6>BXD7,(BXD6-BXD7),0),0)))","v":"00:00:00"},null,null,null,{"$f":"IF(BXQ4=\"v\",0,IF(BXR1=\"Lauantai\",BXP11,IF(BXR1=\"Sunnuntai\",BXP11,IF(BXQ2=\"h\",BXP11,IF(BXP10=\"\",0,IF(BXL10=\"\",0,IF(BXN11<BXQ11,BXN11,BXQ11)))))))+BXR11","v":"00:00:00"},null,{"$f":"IF(BXP10=\"\",0,IF(BXN10=\"\",BXP11,BXP10-BXN10))","v":"00:00:00"},null,{"$f":"IF(BXP10=\"\",0,BXP10-BXL10)","v":"00:00:00"},{"$f":"IF(BXP11<BXQ10,0,IF(BXP10=\"\",0,IF(BXL10=\"\",0,BXP11-BXQ10)))","v":"00:00:00"},{"$f":"IF(BXL4=\"\",0,IF(BXM4=\"ep\",BXN4-BXL4,IF(BXM4=\"y\",IF(BXL4<BXL7,(BXL7-BXL4),0),0)+IF(BXO4=\"y\",IF(BXN4>BXN7,(BXN4-BXN7),0),0)))+IF(BXL5=\"\",0,IF(BXM5=\"ep\",BXN5-BXL5,IF(BXM5=\"y\",IF(BXL5<BXL7,(BXL7-BXL5),0),0)+IF(BXO5=\"y\",IF(BXN5>BXN7,(BXN5-BXN7),0),0)))+IF(BXL6=\"\",0,IF(BXM6=\"ep\",BXN6-BXL6,IF(BXM6=\"y\",IF(BXL6<BXL7,(BXL7-BXL6),0),0)+IF(BXO6=\"y\",IF(BXN6>BXN7,(BXN6-BXN7),0),0)))","v":"00:00:00"},null,null,null,{"$f":"IF(BYA4=\"v\",0,IF(BYB1=\"Lauantai\",BXZ11,IF(BYB1=\"Sunnuntai\",BXZ11,IF(BYA2=\"h\",BXZ11,IF(BXZ10=\"\",0,IF(BXV10=\"\",0,IF(BXX11<BYA11,BXX11,BYA11)))))))+BYB11","v":"00:00:00"},null,{"$f":"IF(BXZ10=\"\",0,IF(BXX10=\"\",BXZ11,BXZ10-BXX10))","v":"00:00:00"},null,{"$f":"IF(BXZ10=\"\",0,BXZ10-BXV10)","v":"00:00:00"},{"$f":"IF(BXZ11<BYA10,0,IF(BXZ10=\"\",0,IF(BXV10=\"\",0,BXZ11-BYA10)))","v":"00:00:00"},{"$f":"IF(BXV4=\"\",0,IF(BXW4=\"ep\",BXX4-BXV4,IF(BXW4=\"y\",IF(BXV4<BXV7,(BXV7-BXV4),0),0)+IF(BXY4=\"y\",IF(BXX4>BXX7,(BXX4-BXX7),0),0)))+IF(BXV5=\"\",0,IF(BXW5=\"ep\",BXX5-BXV5,IF(BXW5=\"y\",IF(BXV5<BXV7,(BXV7-BXV5),0),0)+IF(BXY5=\"y\",IF(BXX5>BXX7,(BXX5-BXX7),0),0)))+IF(BXV6=\"\",0,IF(BXW6=\"ep\",BXX6-BXV6,IF(BXW6=\"y\",IF(BXV6<BXV7,(BXV7-BXV6),0),0)+IF(BXY6=\"y\",IF(BXX6>BXX7,(BXX6-BXX7),0),0)))","v":"00:00:00"},null,null,null,{"$f":"IF(BYK4=\"v\",0,IF(BYL1=\"Lauantai\",BYJ11,IF(BYL1=\"Sunnuntai\",BYJ11,IF(BYK2=\"h\",BYJ11,IF(BYJ10=\"\",0,IF(BYF10=\"\",0,IF(BYH11<BYK11,BYH11,BYK11)))))))+BYL11","v":"00:00:00"},null,{"$f":"IF(BYJ10=\"\",0,IF(BYH10=\"\",BYJ11,BYJ10-BYH10))","v":"00:00:00"},null,{"$f":"IF(BYJ10=\"\",0,BYJ10-BYF10)","v":"00:00:00"},{"$f":"IF(BYJ11<BYK10,0,IF(BYJ10=\"\",0,IF(BYF10=\"\",0,BYJ11-BYK10)))","v":"00:00:00"},{"$f":"IF(BYF4=\"\",0,IF(BYG4=\"ep\",BYH4-BYF4,IF(BYG4=\"y\",IF(BYF4<BYF7,(BYF7-BYF4),0),0)+IF(BYI4=\"y\",IF(BYH4>BYH7,(BYH4-BYH7),0),0)))+IF(BYF5=\"\",0,IF(BYG5=\"ep\",BYH5-BYF5,IF(BYG5=\"y\",IF(BYF5<BYF7,(BYF7-BYF5),0),0)+IF(BYI5=\"y\",IF(BYH5>BYH7,(BYH5-BYH7),0),0)))+IF(BYF6=\"\",0,IF(BYG6=\"ep\",BYH6-BYF6,IF(BYG6=\"y\",IF(BYF6<BYF7,(BYF7-BYF6),0),0)+IF(BYI6=\"y\",IF(BYH6>BYH7,(BYH6-BYH7),0),0)))","v":"00:00:00"},null,null,null,{"$f":"IF(BYU4=\"v\",0,IF(BYV1=\"Lauantai\",BYT11,IF(BYV1=\"Sunnuntai\",BYT11,IF(BYU2=\"h\",BYT11,IF(BYT10=\"\",0,IF(BYP10=\"\",0,IF(BYR11<BYU11,BYR11,BYU11)))))))+BYV11","v":"00:00:00"},null,{"$f":"IF(BYT10=\"\",0,IF(BYR10=\"\",BYT11,BYT10-BYR10))","v":"00:00:00"},null,{"$f":"IF(BYT10=\"\",0,BYT10-BYP10)","v":"00:00:00"},{"$f":"IF(BYT11<BYU10,0,IF(BYT10=\"\",0,IF(BYP10=\"\",0,BYT11-BYU10)))","v":"00:00:00"},{"$f":"IF(BYP4=\"\",0,IF(BYQ4=\"ep\",BYR4-BYP4,IF(BYQ4=\"y\",IF(BYP4<BYP7,(BYP7-BYP4),0),0)+IF(BYS4=\"y\",IF(BYR4>BYR7,(BYR4-BYR7),0),0)))+IF(BYP5=\"\",0,IF(BYQ5=\"ep\",BYR5-BYP5,IF(BYQ5=\"y\",IF(BYP5<BYP7,(BYP7-BYP5),0),0)+IF(BYS5=\"y\",IF(BYR5>BYR7,(BYR5-BYR7),0),0)))+IF(BYP6=\"\",0,IF(BYQ6=\"ep\",BYR6-BYP6,IF(BYQ6=\"y\",IF(BYP6<BYP7,(BYP7-BYP6),0),0)+IF(BYS6=\"y\",IF(BYR6>BYR7,(BYR6-BYR7),0),0)))","v":"00:00:00"},null,null,null,{"$f":"IF(BZE4=\"v\",0,IF(BZF1=\"Lauantai\",BZD11,IF(BZF1=\"Sunnuntai\",BZD11,IF(BZE2=\"h\",BZD11,IF(BZD10=\"\",0,IF(BYZ10=\"\",0,IF(BZB11<BZE11,BZB11,BZE11)))))))+BZF11","v":"00:00:00"},null,{"$f":"IF(BZD10=\"\",0,IF(BZB10=\"\",BZD11,BZD10-BZB10))","v":"00:00:00"},null,{"$f":"IF(BZD10=\"\",0,BZD10-BYZ10)","v":"00:00:00"},{"$f":"IF(BZD11<BZE10,0,IF(BZD10=\"\",0,IF(BYZ10=\"\",0,BZD11-BZE10)))","v":"00:00:00"},{"$f":"IF(BYZ4=\"\",0,IF(BZA4=\"ep\",BZB4-BYZ4,IF(BZA4=\"y\",IF(BYZ4<BYZ7,(BYZ7-BYZ4),0),0)+IF(BZC4=\"y\",IF(BZB4>BZB7,(BZB4-BZB7),0),0)))+IF(BYZ5=\"\",0,IF(BZA5=\"ep\",BZB5-BYZ5,IF(BZA5=\"y\",IF(BYZ5<BYZ7,(BYZ7-BYZ5),0),0)+IF(BZC5=\"y\",IF(BZB5>BZB7,(BZB5-BZB7),0),0)))+IF(BYZ6=\"\",0,IF(BZA6=\"ep\",BZB6-BYZ6,IF(BZA6=\"y\",IF(BYZ6<BYZ7,(BYZ7-BYZ6),0),0)+IF(BZC6=\"y\",IF(BZB6>BZB7,(BZB6-BZB7),0),0)))","v":"00:00:00"},null,null,null,{"$f":"IF(BZO4=\"v\",0,IF(BZP1=\"Lauantai\",BZN11,IF(BZP1=\"Sunnuntai\",BZN11,IF(BZO2=\"h\",BZN11,IF(BZN10=\"\",0,IF(BZJ10=\"\",0,IF(BZL11<BZO11,BZL11,BZO11)))))))+BZP11","v":"00:00:00"},null,{"$f":"IF(BZN10=\"\",0,IF(BZL10=\"\",BZN11,BZN10-BZL10))","v":"00:00:00"},null,{"$f":"IF(BZN10=\"\",0,BZN10-BZJ10)","v":"00:00:00"},{"$f":"IF(BZN11<BZO10,0,IF(BZN10=\"\",0,IF(BZJ10=\"\",0,BZN11-BZO10)))","v":"00:00:00"},{"$f":"IF(BZJ4=\"\",0,IF(BZK4=\"ep\",BZL4-BZJ4,IF(BZK4=\"y\",IF(BZJ4<BZJ7,(BZJ7-BZJ4),0),0)+IF(BZM4=\"y\",IF(BZL4>BZL7,(BZL4-BZL7),0),0)))+IF(BZJ5=\"\",0,IF(BZK5=\"ep\",BZL5-BZJ5,IF(BZK5=\"y\",IF(BZJ5<BZJ7,(BZJ7-BZJ5),0),0)+IF(BZM5=\"y\",IF(BZL5>BZL7,(BZL5-BZL7),0),0)))+IF(BZJ6=\"\",0,IF(BZK6=\"ep\",BZL6-BZJ6,IF(BZK6=\"y\",IF(BZJ6<BZJ7,(BZJ7-BZJ6),0),0)+IF(BZM6=\"y\",IF(BZL6>BZL7,(BZL6-BZL7),0),0)))","v":"00:00:00"},null,null,null,{"$f":"IF(BZY4=\"v\",0,IF(BZZ1=\"Lauantai\",BZX11,IF(BZZ1=\"Sunnuntai\",BZX11,IF(BZY2=\"h\",BZX11,IF(BZX10=\"\",0,IF(BZT10=\"\",0,IF(BZV11<BZY11,BZV11,BZY11)))))))+BZZ11","v":"00:00:00"},null,{"$f":"IF(BZX10=\"\",0,IF(BZV10=\"\",BZX11,BZX10-BZV10))","v":"00:00:00"},null,{"$f":"IF(BZX10=\"\",0,BZX10-BZT10)","v":"00:00:00"},{"$f":"IF(BZX11<BZY10,0,IF(BZX10=\"\",0,IF(BZT10=\"\",0,BZX11-BZY10)))","v":"00:00:00"},{"$f":"IF(BZT4=\"\",0,IF(BZU4=\"ep\",BZV4-BZT4,IF(BZU4=\"y\",IF(BZT4<BZT7,(BZT7-BZT4),0),0)+IF(BZW4=\"y\",IF(BZV4>BZV7,(BZV4-BZV7),0),0)))+IF(BZT5=\"\",0,IF(BZU5=\"ep\",BZV5-BZT5,IF(BZU5=\"y\",IF(BZT5<BZT7,(BZT7-BZT5),0),0)+IF(BZW5=\"y\",IF(BZV5>BZV7,(BZV5-BZV7),0),0)))+IF(BZT6=\"\",0,IF(BZU6=\"ep\",BZV6-BZT6,IF(BZU6=\"y\",IF(BZT6<BZT7,(BZT7-BZT6),0),0)+IF(BZW6=\"y\",IF(BZV6>BZV7,(BZV6-BZV7),0),0)))","v":"00:00:00"},null,null,null,{"$f":"IF(CAI4=\"v\",0,IF(CAJ1=\"Lauantai\",CAH11,IF(CAJ1=\"Sunnuntai\",CAH11,IF(CAI2=\"h\",CAH11,IF(CAH10=\"\",0,IF(CAD10=\"\",0,IF(CAF11<CAI11,CAF11,CAI11)))))))+CAJ11","v":"00:00:00"},null,{"$f":"IF(CAH10=\"\",0,IF(CAF10=\"\",CAH11,CAH10-CAF10))","v":"00:00:00"},null,{"$f":"IF(CAH10=\"\",0,CAH10-CAD10)","v":"00:00:00"},{"$f":"IF(CAH11<CAI10,0,IF(CAH10=\"\",0,IF(CAD10=\"\",0,CAH11-CAI10)))","v":"00:00:00"},{"$f":"IF(CAD4=\"\",0,IF(CAE4=\"ep\",CAF4-CAD4,IF(CAE4=\"y\",IF(CAD4<CAD7,(CAD7-CAD4),0),0)+IF(CAG4=\"y\",IF(CAF4>CAF7,(CAF4-CAF7),0),0)))+IF(CAD5=\"\",0,IF(CAE5=\"ep\",CAF5-CAD5,IF(CAE5=\"y\",IF(CAD5<CAD7,(CAD7-CAD5),0),0)+IF(CAG5=\"y\",IF(CAF5>CAF7,(CAF5-CAF7),0),0)))+IF(CAD6=\"\",0,IF(CAE6=\"ep\",CAF6-CAD6,IF(CAE6=\"y\",IF(CAD6<CAD7,(CAD7-CAD6),0),0)+IF(CAG6=\"y\",IF(CAF6>CAF7,(CAF6-CAF7),0),0)))","v":"00:00:00"},null,null,null,{"$f":"IF(CAS4=\"v\",0,IF(CAT1=\"Lauantai\",CAR11,IF(CAT1=\"Sunnuntai\",CAR11,IF(CAS2=\"h\",CAR11,IF(CAR10=\"\",0,IF(CAN10=\"\",0,IF(CAP11<CAS11,CAP11,CAS11)))))))+CAT11","v":"00:00:00"},null,{"$f":"IF(CAR10=\"\",0,IF(CAP10=\"\",CAR11,CAR10-CAP10))","v":"00:00:00"},null,{"$f":"IF(CAR10=\"\",0,CAR10-CAN10)","v":"00:00:00"},{"$f":"IF(CAR11<CAS10,0,IF(CAR10=\"\",0,IF(CAN10=\"\",0,CAR11-CAS10)))","v":"00:00:00"},{"$f":"IF(CAN4=\"\",0,IF(CAO4=\"ep\",CAP4-CAN4,IF(CAO4=\"y\",IF(CAN4<CAN7,(CAN7-CAN4),0),0)+IF(CAQ4=\"y\",IF(CAP4>CAP7,(CAP4-CAP7),0),0)))+IF(CAN5=\"\",0,IF(CAO5=\"ep\",CAP5-CAN5,IF(CAO5=\"y\",IF(CAN5<CAN7,(CAN7-CAN5),0),0)+IF(CAQ5=\"y\",IF(CAP5>CAP7,(CAP5-CAP7),0),0)))+IF(CAN6=\"\",0,IF(CAO6=\"ep\",CAP6-CAN6,IF(CAO6=\"y\",IF(CAN6<CAN7,(CAN7-CAN6),0),0)+IF(CAQ6=\"y\",IF(CAP6>CAP7,(CAP6-CAP7),0),0)))","v":"00:00:00"},null,null,null,{"$f":"IF(CBC4=\"v\",0,IF(CBD1=\"Lauantai\",CBB11,IF(CBD1=\"Sunnuntai\",CBB11,IF(CBC2=\"h\",CBB11,IF(CBB10=\"\",0,IF(CAX10=\"\",0,IF(CAZ11<CBC11,CAZ11,CBC11)))))))+CBD11","v":"00:00:00"},null,{"$f":"IF(CBB10=\"\",0,IF(CAZ10=\"\",CBB11,CBB10-CAZ10))","v":"00:00:00"},null,{"$f":"IF(CBB10=\"\",0,CBB10-CAX10)","v":"00:00:00"},{"$f":"IF(CBB11<CBC10,0,IF(CBB10=\"\",0,IF(CAX10=\"\",0,CBB11-CBC10)))","v":"00:00:00"},{"$f":"IF(CAX4=\"\",0,IF(CAY4=\"ep\",CAZ4-CAX4,IF(CAY4=\"y\",IF(CAX4<CAX7,(CAX7-CAX4),0),0)+IF(CBA4=\"y\",IF(CAZ4>CAZ7,(CAZ4-CAZ7),0),0)))+IF(CAX5=\"\",0,IF(CAY5=\"ep\",CAZ5-CAX5,IF(CAY5=\"y\",IF(CAX5<CAX7,(CAX7-CAX5),0),0)+IF(CBA5=\"y\",IF(CAZ5>CAZ7,(CAZ5-CAZ7),0),0)))+IF(CAX6=\"\",0,IF(CAY6=\"ep\",CAZ6-CAX6,IF(CAY6=\"y\",IF(CAX6<CAX7,(CAX7-CAX6),0),0)+IF(CBA6=\"y\",IF(CAZ6>CAZ7,(CAZ6-CAZ7),0),0)))","v":"00:00:00"},null,null,null,{"$f":"IF(CBM4=\"v\",0,IF(CBN1=\"Lauantai\",CBL11,IF(CBN1=\"Sunnuntai\",CBL11,IF(CBM2=\"h\",CBL11,IF(CBL10=\"\",0,IF(CBH10=\"\",0,IF(CBJ11<CBM11,CBJ11,CBM11)))))))+CBN11","v":"00:00:00"},null,{"$f":"IF(CBL10=\"\",0,IF(CBJ10=\"\",CBL11,CBL10-CBJ10))","v":"00:00:00"},null,{"$f":"IF(CBL10=\"\",0,CBL10-CBH10)","v":"00:00:00"},{"$f":"IF(CBL11<CBM10,0,IF(CBL10=\"\",0,IF(CBH10=\"\",0,CBL11-CBM10)))","v":"00:00:00"},{"$f":"IF(CBH4=\"\",0,IF(CBI4=\"ep\",CBJ4-CBH4,IF(CBI4=\"y\",IF(CBH4<CBH7,(CBH7-CBH4),0),0)+IF(CBK4=\"y\",IF(CBJ4>CBJ7,(CBJ4-CBJ7),0),0)))+IF(CBH5=\"\",0,IF(CBI5=\"ep\",CBJ5-CBH5,IF(CBI5=\"y\",IF(CBH5<CBH7,(CBH7-CBH5),0),0)+IF(CBK5=\"y\",IF(CBJ5>CBJ7,(CBJ5-CBJ7),0),0)))+IF(CBH6=\"\",0,IF(CBI6=\"ep\",CBJ6-CBH6,IF(CBI6=\"y\",IF(CBH6<CBH7,(CBH7-CBH6),0),0)+IF(CBK6=\"y\",IF(CBJ6>CBJ7,(CBJ6-CBJ7),0),0)))","v":"00:00:00"},null,null,null,{"$f":"IF(CBW4=\"v\",0,IF(CBX1=\"Lauantai\",CBV11,IF(CBX1=\"Sunnuntai\",CBV11,IF(CBW2=\"h\",CBV11,IF(CBV10=\"\",0,IF(CBR10=\"\",0,IF(CBT11<CBW11,CBT11,CBW11)))))))+CBX11","v":"00:00:00"},null,{"$f":"IF(CBV10=\"\",0,IF(CBT10=\"\",CBV11,CBV10-CBT10))","v":"00:00:00"},null,{"$f":"IF(CBV10=\"\",0,CBV10-CBR10)","v":"00:00:00"},{"$f":"IF(CBV11<CBW10,0,IF(CBV10=\"\",0,IF(CBR10=\"\",0,CBV11-CBW10)))","v":"00:00:00"},{"$f":"IF(CBR4=\"\",0,IF(CBS4=\"ep\",CBT4-CBR4,IF(CBS4=\"y\",IF(CBR4<CBR7,(CBR7-CBR4),0),0)+IF(CBU4=\"y\",IF(CBT4>CBT7,(CBT4-CBT7),0),0)))+IF(CBR5=\"\",0,IF(CBS5=\"ep\",CBT5-CBR5,IF(CBS5=\"y\",IF(CBR5<CBR7,(CBR7-CBR5),0),0)+IF(CBU5=\"y\",IF(CBT5>CBT7,(CBT5-CBT7),0),0)))+IF(CBR6=\"\",0,IF(CBS6=\"ep\",CBT6-CBR6,IF(CBS6=\"y\",IF(CBR6<CBR7,(CBR7-CBR6),0),0)+IF(CBU6=\"y\",IF(CBT6>CBT7,(CBT6-CBT7),0),0)))","v":"00:00:00"},null,null,null,{"$f":"IF(CCG4=\"v\",0,IF(CCH1=\"Lauantai\",CCF11,IF(CCH1=\"Sunnuntai\",CCF11,IF(CCG2=\"h\",CCF11,IF(CCF10=\"\",0,IF(CCB10=\"\",0,IF(CCD11<CCG11,CCD11,CCG11)))))))+CCH11","v":"00:00:00"},null,{"$f":"IF(CCF10=\"\",0,IF(CCD10=\"\",CCF11,CCF10-CCD10))","v":"00:00:00"},null,{"$f":"IF(CCF10=\"\",0,CCF10-CCB10)","v":"00:00:00"},{"$f":"IF(CCF11<CCG10,0,IF(CCF10=\"\",0,IF(CCB10=\"\",0,CCF11-CCG10)))","v":"00:00:00"},{"$f":"IF(CCB4=\"\",0,IF(CCC4=\"ep\",CCD4-CCB4,IF(CCC4=\"y\",IF(CCB4<CCB7,(CCB7-CCB4),0),0)+IF(CCE4=\"y\",IF(CCD4>CCD7,(CCD4-CCD7),0),0)))+IF(CCB5=\"\",0,IF(CCC5=\"ep\",CCD5-CCB5,IF(CCC5=\"y\",IF(CCB5<CCB7,(CCB7-CCB5),0),0)+IF(CCE5=\"y\",IF(CCD5>CCD7,(CCD5-CCD7),0),0)))+IF(CCB6=\"\",0,IF(CCC6=\"ep\",CCD6-CCB6,IF(CCC6=\"y\",IF(CCB6<CCB7,(CCB7-CCB6),0),0)+IF(CCE6=\"y\",IF(CCD6>CCD7,(CCD6-CCD7),0),0)))","v":"00:00:00"},null,null,null,{"$f":"IF(CCQ4=\"v\",0,IF(CCR1=\"Lauantai\",CCP11,IF(CCR1=\"Sunnuntai\",CCP11,IF(CCQ2=\"h\",CCP11,IF(CCP10=\"\",0,IF(CCL10=\"\",0,IF(CCN11<CCQ11,CCN11,CCQ11)))))))+CCR11","v":"00:00:00"},null,{"$f":"IF(CCP10=\"\",0,IF(CCN10=\"\",CCP11,CCP10-CCN10))","v":"00:00:00"},null,{"$f":"IF(CCP10=\"\",0,CCP10-CCL10)","v":"00:00:00"},{"$f":"IF(CCP11<CCQ10,0,IF(CCP10=\"\",0,IF(CCL10=\"\",0,CCP11-CCQ10)))","v":"00:00:00"},{"$f":"IF(CCL4=\"\",0,IF(CCM4=\"ep\",CCN4-CCL4,IF(CCM4=\"y\",IF(CCL4<CCL7,(CCL7-CCL4),0),0)+IF(CCO4=\"y\",IF(CCN4>CCN7,(CCN4-CCN7),0),0)))+IF(CCL5=\"\",0,IF(CCM5=\"ep\",CCN5-CCL5,IF(CCM5=\"y\",IF(CCL5<CCL7,(CCL7-CCL5),0),0)+IF(CCO5=\"y\",IF(CCN5>CCN7,(CCN5-CCN7),0),0)))+IF(CCL6=\"\",0,IF(CCM6=\"ep\",CCN6-CCL6,IF(CCM6=\"y\",IF(CCL6<CCL7,(CCL7-CCL6),0),0)+IF(CCO6=\"y\",IF(CCN6>CCN7,(CCN6-CCN7),0),0)))","v":"00:00:00"},null,null,null,{"$f":"IF(CDA4=\"v\",0,IF(CDB1=\"Lauantai\",CCZ11,IF(CDB1=\"Sunnuntai\",CCZ11,IF(CDA2=\"h\",CCZ11,IF(CCZ10=\"\",0,IF(CCV10=\"\",0,IF(CCX11<CDA11,CCX11,CDA11)))))))+CDB11","v":"00:00:00"},null,{"$f":"IF(CCZ10=\"\",0,IF(CCX10=\"\",CCZ11,CCZ10-CCX10))","v":"00:00:00"},null,{"$f":"IF(CCZ10=\"\",0,CCZ10-CCV10)","v":"00:00:00"},{"$f":"IF(CCZ11<CDA10,0,IF(CCZ10=\"\",0,IF(CCV10=\"\",0,CCZ11-CDA10)))","v":"00:00:00"},{"$f":"IF(CCV4=\"\",0,IF(CCW4=\"ep\",CCX4-CCV4,IF(CCW4=\"y\",IF(CCV4<CCV7,(CCV7-CCV4),0),0)+IF(CCY4=\"y\",IF(CCX4>CCX7,(CCX4-CCX7),0),0)))+IF(CCV5=\"\",0,IF(CCW5=\"ep\",CCX5-CCV5,IF(CCW5=\"y\",IF(CCV5<CCV7,(CCV7-CCV5),0),0)+IF(CCY5=\"y\",IF(CCX5>CCX7,(CCX5-CCX7),0),0)))+IF(CCV6=\"\",0,IF(CCW6=\"ep\",CCX6-CCV6,IF(CCW6=\"y\",IF(CCV6<CCV7,(CCV7-CCV6),0),0)+IF(CCY6=\"y\",IF(CCX6>CCX7,(CCX6-CCX7),0),0)))","v":"00:00:00"},null,null,null,{"$f":"IF(CDK4=\"v\",0,IF(CDL1=\"Lauantai\",CDJ11,IF(CDL1=\"Sunnuntai\",CDJ11,IF(CDK2=\"h\",CDJ11,IF(CDJ10=\"\",0,IF(CDF10=\"\",0,IF(CDH11<CDK11,CDH11,CDK11)))))))+CDL11","v":"00:00:00"},null,{"$f":"IF(CDJ10=\"\",0,IF(CDH10=\"\",CDJ11,CDJ10-CDH10))","v":"00:00:00"},null,{"$f":"IF(CDJ10=\"\",0,CDJ10-CDF10)","v":"00:00:00"},{"$f":"IF(CDJ11<CDK10,0,IF(CDJ10=\"\",0,IF(CDF10=\"\",0,CDJ11-CDK10)))","v":"00:00:00"},{"$f":"IF(CDF4=\"\",0,IF(CDG4=\"ep\",CDH4-CDF4,IF(CDG4=\"y\",IF(CDF4<CDF7,(CDF7-CDF4),0),0)+IF(CDI4=\"y\",IF(CDH4>CDH7,(CDH4-CDH7),0),0)))+IF(CDF5=\"\",0,IF(CDG5=\"ep\",CDH5-CDF5,IF(CDG5=\"y\",IF(CDF5<CDF7,(CDF7-CDF5),0),0)+IF(CDI5=\"y\",IF(CDH5>CDH7,(CDH5-CDH7),0),0)))+IF(CDF6=\"\",0,IF(CDG6=\"ep\",CDH6-CDF6,IF(CDG6=\"y\",IF(CDF6<CDF7,(CDF7-CDF6),0),0)+IF(CDI6=\"y\",IF(CDH6>CDH7,(CDH6-CDH7),0),0)))","v":"00:00:00"},null,null,null,{"$f":"IF(CDU4=\"v\",0,IF(CDV1=\"Lauantai\",CDT11,IF(CDV1=\"Sunnuntai\",CDT11,IF(CDU2=\"h\",CDT11,IF(CDT10=\"\",0,IF(CDP10=\"\",0,IF(CDR11<CDU11,CDR11,CDU11)))))))+CDV11","v":"00:00:00"},null,{"$f":"IF(CDT10=\"\",0,IF(CDR10=\"\",CDT11,CDT10-CDR10))","v":"00:00:00"},null,{"$f":"IF(CDT10=\"\",0,CDT10-CDP10)","v":"00:00:00"},{"$f":"IF(CDT11<CDU10,0,IF(CDT10=\"\",0,IF(CDP10=\"\",0,CDT11-CDU10)))","v":"00:00:00"},{"$f":"IF(CDP4=\"\",0,IF(CDQ4=\"ep\",CDR4-CDP4,IF(CDQ4=\"y\",IF(CDP4<CDP7,(CDP7-CDP4),0),0)+IF(CDS4=\"y\",IF(CDR4>CDR7,(CDR4-CDR7),0),0)))+IF(CDP5=\"\",0,IF(CDQ5=\"ep\",CDR5-CDP5,IF(CDQ5=\"y\",IF(CDP5<CDP7,(CDP7-CDP5),0),0)+IF(CDS5=\"y\",IF(CDR5>CDR7,(CDR5-CDR7),0),0)))+IF(CDP6=\"\",0,IF(CDQ6=\"ep\",CDR6-CDP6,IF(CDQ6=\"y\",IF(CDP6<CDP7,(CDP7-CDP6),0),0)+IF(CDS6=\"y\",IF(CDR6>CDR7,(CDR6-CDR7),0),0)))","v":"00:00:00"},null,null,null,{"$f":"IF(CEE4=\"v\",0,IF(CEF1=\"Lauantai\",CED11,IF(CEF1=\"Sunnuntai\",CED11,IF(CEE2=\"h\",CED11,IF(CED10=\"\",0,IF(CDZ10=\"\",0,IF(CEB11<CEE11,CEB11,CEE11)))))))+CEF11","v":"00:00:00"},null,{"$f":"IF(CED10=\"\",0,IF(CEB10=\"\",CED11,CED10-CEB10))","v":"00:00:00"},null,{"$f":"IF(CED10=\"\",0,CED10-CDZ10)","v":"00:00:00"},{"$f":"IF(CED11<CEE10,0,IF(CED10=\"\",0,IF(CDZ10=\"\",0,CED11-CEE10)))","v":"00:00:00"},{"$f":"IF(CDZ4=\"\",0,IF(CEA4=\"ep\",CEB4-CDZ4,IF(CEA4=\"y\",IF(CDZ4<CDZ7,(CDZ7-CDZ4),0),0)+IF(CEC4=\"y\",IF(CEB4>CEB7,(CEB4-CEB7),0),0)))+IF(CDZ5=\"\",0,IF(CEA5=\"ep\",CEB5-CDZ5,IF(CEA5=\"y\",IF(CDZ5<CDZ7,(CDZ7-CDZ5),0),0)+IF(CEC5=\"y\",IF(CEB5>CEB7,(CEB5-CEB7),0),0)))+IF(CDZ6=\"\",0,IF(CEA6=\"ep\",CEB6-CDZ6,IF(CEA6=\"y\",IF(CDZ6<CDZ7,(CDZ7-CDZ6),0),0)+IF(CEC6=\"y\",IF(CEB6>CEB7,(CEB6-CEB7),0),0)))","v":"00:00:00"},null,null,null,{"$f":"IF(CEO4=\"v\",0,IF(CEP1=\"Lauantai\",CEN11,IF(CEP1=\"Sunnuntai\",CEN11,IF(CEO2=\"h\",CEN11,IF(CEN10=\"\",0,IF(CEJ10=\"\",0,IF(CEL11<CEO11,CEL11,CEO11)))))))+CEP11","v":"00:00:00"},null,{"$f":"IF(CEN10=\"\",0,IF(CEL10=\"\",CEN11,CEN10-CEL10))","v":"00:00:00"},null,{"$f":"IF(CEN10=\"\",0,CEN10-CEJ10)","v":"00:00:00"},{"$f":"IF(CEN11<CEO10,0,IF(CEN10=\"\",0,IF(CEJ10=\"\",0,CEN11-CEO10)))","v":"00:00:00"},{"$f":"IF(CEJ4=\"\",0,IF(CEK4=\"ep\",CEL4-CEJ4,IF(CEK4=\"y\",IF(CEJ4<CEJ7,(CEJ7-CEJ4),0),0)+IF(CEM4=\"y\",IF(CEL4>CEL7,(CEL4-CEL7),0),0)))+IF(CEJ5=\"\",0,IF(CEK5=\"ep\",CEL5-CEJ5,IF(CEK5=\"y\",IF(CEJ5<CEJ7,(CEJ7-CEJ5),0),0)+IF(CEM5=\"y\",IF(CEL5>CEL7,(CEL5-CEL7),0),0)))+IF(CEJ6=\"\",0,IF(CEK6=\"ep\",CEL6-CEJ6,IF(CEK6=\"y\",IF(CEJ6<CEJ7,(CEJ7-CEJ6),0),0)+IF(CEM6=\"y\",IF(CEL6>CEL7,(CEL6-CEL7),0),0)))","v":"00:00:00"},null,null,null,{"$f":"IF(CEY4=\"v\",0,IF(CEZ1=\"Lauantai\",CEX11,IF(CEZ1=\"Sunnuntai\",CEX11,IF(CEY2=\"h\",CEX11,IF(CEX10=\"\",0,IF(CET10=\"\",0,IF(CEV11<CEY11,CEV11,CEY11)))))))+CEZ11","v":"00:00:00"},null,{"$f":"IF(CEX10=\"\",0,IF(CEV10=\"\",CEX11,CEX10-CEV10))","v":"00:00:00"},null,{"$f":"IF(CEX10=\"\",0,CEX10-CET10)","v":"00:00:00"},{"$f":"IF(CEX11<CEY10,0,IF(CEX10=\"\",0,IF(CET10=\"\",0,CEX11-CEY10)))","v":"00:00:00"},{"$f":"IF(CET4=\"\",0,IF(CEU4=\"ep\",CEV4-CET4,IF(CEU4=\"y\",IF(CET4<CET7,(CET7-CET4),0),0)+IF(CEW4=\"y\",IF(CEV4>CEV7,(CEV4-CEV7),0),0)))+IF(CET5=\"\",0,IF(CEU5=\"ep\",CEV5-CET5,IF(CEU5=\"y\",IF(CET5<CET7,(CET7-CET5),0),0)+IF(CEW5=\"y\",IF(CEV5>CEV7,(CEV5-CEV7),0),0)))+IF(CET6=\"\",0,IF(CEU6=\"ep\",CEV6-CET6,IF(CEU6=\"y\",IF(CET6<CET7,(CET7-CET6),0),0)+IF(CEW6=\"y\",IF(CEV6>CEV7,(CEV6-CEV7),0),0)))","v":"00:00:00"},null,null,null,{"$f":"IF(CFI4=\"v\",0,IF(CFJ1=\"Lauantai\",CFH11,IF(CFJ1=\"Sunnuntai\",CFH11,IF(CFI2=\"h\",CFH11,IF(CFH10=\"\",0,IF(CFD10=\"\",0,IF(CFF11<CFI11,CFF11,CFI11)))))))+CFJ11","v":"00:00:00"},null,{"$f":"IF(CFH10=\"\",0,IF(CFF10=\"\",CFH11,CFH10-CFF10))","v":"00:00:00"},null,{"$f":"IF(CFH10=\"\",0,CFH10-CFD10)","v":"00:00:00"},{"$f":"IF(CFH11<CFI10,0,IF(CFH10=\"\",0,IF(CFD10=\"\",0,CFH11-CFI10)))","v":"00:00:00"},{"$f":"IF(CFD4=\"\",0,IF(CFE4=\"ep\",CFF4-CFD4,IF(CFE4=\"y\",IF(CFD4<CFD7,(CFD7-CFD4),0),0)+IF(CFG4=\"y\",IF(CFF4>CFF7,(CFF4-CFF7),0),0)))+IF(CFD5=\"\",0,IF(CFE5=\"ep\",CFF5-CFD5,IF(CFE5=\"y\",IF(CFD5<CFD7,(CFD7-CFD5),0),0)+IF(CFG5=\"y\",IF(CFF5>CFF7,(CFF5-CFF7),0),0)))+IF(CFD6=\"\",0,IF(CFE6=\"ep\",CFF6-CFD6,IF(CFE6=\"y\",IF(CFD6<CFD7,(CFD7-CFD6),0),0)+IF(CFG6=\"y\",IF(CFF6>CFF7,(CFF6-CFF7),0),0)))","v":"00:00:00"},null,null,null,{"$f":"IF(CFS4=\"v\",0,IF(CFT1=\"Lauantai\",CFR11,IF(CFT1=\"Sunnuntai\",CFR11,IF(CFS2=\"h\",CFR11,IF(CFR10=\"\",0,IF(CFN10=\"\",0,IF(CFP11<CFS11,CFP11,CFS11)))))))+CFT11","v":"00:00:00"},null,{"$f":"IF(CFR10=\"\",0,IF(CFP10=\"\",CFR11,CFR10-CFP10))","v":"00:00:00"},null,{"$f":"IF(CFR10=\"\",0,CFR10-CFN10)","v":"00:00:00"},{"$f":"IF(CFR11<CFS10,0,IF(CFR10=\"\",0,IF(CFN10=\"\",0,CFR11-CFS10)))","v":"00:00:00"},{"$f":"IF(CFN4=\"\",0,IF(CFO4=\"ep\",CFP4-CFN4,IF(CFO4=\"y\",IF(CFN4<CFN7,(CFN7-CFN4),0),0)+IF(CFQ4=\"y\",IF(CFP4>CFP7,(CFP4-CFP7),0),0)))+IF(CFN5=\"\",0,IF(CFO5=\"ep\",CFP5-CFN5,IF(CFO5=\"y\",IF(CFN5<CFN7,(CFN7-CFN5),0),0)+IF(CFQ5=\"y\",IF(CFP5>CFP7,(CFP5-CFP7),0),0)))+IF(CFN6=\"\",0,IF(CFO6=\"ep\",CFP6-CFN6,IF(CFO6=\"y\",IF(CFN6<CFN7,(CFN7-CFN6),0),0)+IF(CFQ6=\"y\",IF(CFP6>CFP7,(CFP6-CFP7),0),0)))","v":"00:00:00"},null,null,null,{"$f":"IF(CGC4=\"v\",0,IF(CGD1=\"Lauantai\",CGB11,IF(CGD1=\"Sunnuntai\",CGB11,IF(CGC2=\"h\",CGB11,IF(CGB10=\"\",0,IF(CFX10=\"\",0,IF(CFZ11<CGC11,CFZ11,CGC11)))))))+CGD11","v":"00:00:00"},null,{"$f":"IF(CGB10=\"\",0,IF(CFZ10=\"\",CGB11,CGB10-CFZ10))","v":"00:00:00"},null,{"$f":"IF(CGB10=\"\",0,CGB10-CFX10)","v":"00:00:00"},{"$f":"IF(CGB11<CGC10,0,IF(CGB10=\"\",0,IF(CFX10=\"\",0,CGB11-CGC10)))","v":"00:00:00"},{"$f":"IF(CFX4=\"\",0,IF(CFY4=\"ep\",CFZ4-CFX4,IF(CFY4=\"y\",IF(CFX4<CFX7,(CFX7-CFX4),0),0)+IF(CGA4=\"y\",IF(CFZ4>CFZ7,(CFZ4-CFZ7),0),0)))+IF(CFX5=\"\",0,IF(CFY5=\"ep\",CFZ5-CFX5,IF(CFY5=\"y\",IF(CFX5<CFX7,(CFX7-CFX5),0),0)+IF(CGA5=\"y\",IF(CFZ5>CFZ7,(CFZ5-CFZ7),0),0)))+IF(CFX6=\"\",0,IF(CFY6=\"ep\",CFZ6-CFX6,IF(CFY6=\"y\",IF(CFX6<CFX7,(CFX7-CFX6),0),0)+IF(CGA6=\"y\",IF(CFZ6>CFZ7,(CFZ6-CFZ7),0),0)))","v":"00:00:00"},null,null,null,{"$f":"IF(CGM4=\"v\",0,IF(CGN1=\"Lauantai\",CGL11,IF(CGN1=\"Sunnuntai\",CGL11,IF(CGM2=\"h\",CGL11,IF(CGL10=\"\",0,IF(CGH10=\"\",0,IF(CGJ11<CGM11,CGJ11,CGM11)))))))+CGN11","v":"00:00:00"},null,{"$f":"IF(CGL10=\"\",0,IF(CGJ10=\"\",CGL11,CGL10-CGJ10))","v":"00:00:00"},null,{"$f":"IF(CGL10=\"\",0,CGL10-CGH10)","v":"00:00:00"},{"$f":"IF(CGL11<CGM10,0,IF(CGL10=\"\",0,IF(CGH10=\"\",0,CGL11-CGM10)))","v":"00:00:00"},{"$f":"IF(CGH4=\"\",0,IF(CGI4=\"ep\",CGJ4-CGH4,IF(CGI4=\"y\",IF(CGH4<CGH7,(CGH7-CGH4),0),0)+IF(CGK4=\"y\",IF(CGJ4>CGJ7,(CGJ4-CGJ7),0),0)))+IF(CGH5=\"\",0,IF(CGI5=\"ep\",CGJ5-CGH5,IF(CGI5=\"y\",IF(CGH5<CGH7,(CGH7-CGH5),0),0)+IF(CGK5=\"y\",IF(CGJ5>CGJ7,(CGJ5-CGJ7),0),0)))+IF(CGH6=\"\",0,IF(CGI6=\"ep\",CGJ6-CGH6,IF(CGI6=\"y\",IF(CGH6<CGH7,(CGH7-CGH6),0),0)+IF(CGK6=\"y\",IF(CGJ6>CGJ7,(CGJ6-CGJ7),0),0)))","v":"00:00:00"},null,null,null,{"$f":"IF(CGW4=\"v\",0,IF(CGX1=\"Lauantai\",CGV11,IF(CGX1=\"Sunnuntai\",CGV11,IF(CGW2=\"h\",CGV11,IF(CGV10=\"\",0,IF(CGR10=\"\",0,IF(CGT11<CGW11,CGT11,CGW11)))))))+CGX11","v":"00:00:00"},null,{"$f":"IF(CGV10=\"\",0,IF(CGT10=\"\",CGV11,CGV10-CGT10))","v":"00:00:00"},null,{"$f":"IF(CGV10=\"\",0,CGV10-CGR10)","v":"00:00:00"},{"$f":"IF(CGV11<CGW10,0,IF(CGV10=\"\",0,IF(CGR10=\"\",0,CGV11-CGW10)))","v":"00:00:00"},{"$f":"IF(CGR4=\"\",0,IF(CGS4=\"ep\",CGT4-CGR4,IF(CGS4=\"y\",IF(CGR4<CGR7,(CGR7-CGR4),0),0)+IF(CGU4=\"y\",IF(CGT4>CGT7,(CGT4-CGT7),0),0)))+IF(CGR5=\"\",0,IF(CGS5=\"ep\",CGT5-CGR5,IF(CGS5=\"y\",IF(CGR5<CGR7,(CGR7-CGR5),0),0)+IF(CGU5=\"y\",IF(CGT5>CGT7,(CGT5-CGT7),0),0)))+IF(CGR6=\"\",0,IF(CGS6=\"ep\",CGT6-CGR6,IF(CGS6=\"y\",IF(CGR6<CGR7,(CGR7-CGR6),0),0)+IF(CGU6=\"y\",IF(CGT6>CGT7,(CGT6-CGT7),0),0)))","v":"00:00:00"},null,null,null,{"$f":"IF(CHG4=\"v\",0,IF(CHH1=\"Lauantai\",CHF11,IF(CHH1=\"Sunnuntai\",CHF11,IF(CHG2=\"h\",CHF11,IF(CHF10=\"\",0,IF(CHB10=\"\",0,IF(CHD11<CHG11,CHD11,CHG11)))))))+CHH11","v":"00:00:00"},null,{"$f":"IF(CHF10=\"\",0,IF(CHD10=\"\",CHF11,CHF10-CHD10))","v":"00:00:00"},null,{"$f":"IF(CHF10=\"\",0,CHF10-CHB10)","v":"00:00:00"},{"$f":"IF(CHF11<CHG10,0,IF(CHF10=\"\",0,IF(CHB10=\"\",0,CHF11-CHG10)))","v":"00:00:00"},{"$f":"IF(CHB4=\"\",0,IF(CHC4=\"ep\",CHD4-CHB4,IF(CHC4=\"y\",IF(CHB4<CHB7,(CHB7-CHB4),0),0)+IF(CHE4=\"y\",IF(CHD4>CHD7,(CHD4-CHD7),0),0)))+IF(CHB5=\"\",0,IF(CHC5=\"ep\",CHD5-CHB5,IF(CHC5=\"y\",IF(CHB5<CHB7,(CHB7-CHB5),0),0)+IF(CHE5=\"y\",IF(CHD5>CHD7,(CHD5-CHD7),0),0)))+IF(CHB6=\"\",0,IF(CHC6=\"ep\",CHD6-CHB6,IF(CHC6=\"y\",IF(CHB6<CHB7,(CHB7-CHB6),0),0)+IF(CHE6=\"y\",IF(CHD6>CHD7,(CHD6-CHD7),0),0)))","v":"00:00:00"},null,null,null,{"$f":"IF(CHQ4=\"v\",0,IF(CHR1=\"Lauantai\",CHP11,IF(CHR1=\"Sunnuntai\",CHP11,IF(CHQ2=\"h\",CHP11,IF(CHP10=\"\",0,IF(CHL10=\"\",0,IF(CHN11<CHQ11,CHN11,CHQ11)))))))+CHR11","v":"00:00:00"},null,{"$f":"IF(CHP10=\"\",0,IF(CHN10=\"\",CHP11,CHP10-CHN10))","v":"00:00:00"},null,{"$f":"IF(CHP10=\"\",0,CHP10-CHL10)","v":"00:00:00"},{"$f":"IF(CHP11<CHQ10,0,IF(CHP10=\"\",0,IF(CHL10=\"\",0,CHP11-CHQ10)))","v":"00:00:00"},{"$f":"IF(CHL4=\"\",0,IF(CHM4=\"ep\",CHN4-CHL4,IF(CHM4=\"y\",IF(CHL4<CHL7,(CHL7-CHL4),0),0)+IF(CHO4=\"y\",IF(CHN4>CHN7,(CHN4-CHN7),0),0)))+IF(CHL5=\"\",0,IF(CHM5=\"ep\",CHN5-CHL5,IF(CHM5=\"y\",IF(CHL5<CHL7,(CHL7-CHL5),0),0)+IF(CHO5=\"y\",IF(CHN5>CHN7,(CHN5-CHN7),0),0)))+IF(CHL6=\"\",0,IF(CHM6=\"ep\",CHN6-CHL6,IF(CHM6=\"y\",IF(CHL6<CHL7,(CHL7-CHL6),0),0)+IF(CHO6=\"y\",IF(CHN6>CHN7,(CHN6-CHN7),0),0)))","v":"00:00:00"},null,null,null,{"$f":"IF(CIA4=\"v\",0,IF(CIB1=\"Lauantai\",CHZ11,IF(CIB1=\"Sunnuntai\",CHZ11,IF(CIA2=\"h\",CHZ11,IF(CHZ10=\"\",0,IF(CHV10=\"\",0,IF(CHX11<CIA11,CHX11,CIA11)))))))+CIB11","v":"00:00:00"},null,{"$f":"IF(CHZ10=\"\",0,IF(CHX10=\"\",CHZ11,CHZ10-CHX10))","v":"00:00:00"},null,{"$f":"IF(CHZ10=\"\",0,CHZ10-CHV10)","v":"00:00:00"},{"$f":"IF(CHZ11<CIA10,0,IF(CHZ10=\"\",0,IF(CHV10=\"\",0,CHZ11-CIA10)))","v":"00:00:00"},{"$f":"IF(CHV4=\"\",0,IF(CHW4=\"ep\",CHX4-CHV4,IF(CHW4=\"y\",IF(CHV4<CHV7,(CHV7-CHV4),0),0)+IF(CHY4=\"y\",IF(CHX4>CHX7,(CHX4-CHX7),0),0)))+IF(CHV5=\"\",0,IF(CHW5=\"ep\",CHX5-CHV5,IF(CHW5=\"y\",IF(CHV5<CHV7,(CHV7-CHV5),0),0)+IF(CHY5=\"y\",IF(CHX5>CHX7,(CHX5-CHX7),0),0)))+IF(CHV6=\"\",0,IF(CHW6=\"ep\",CHX6-CHV6,IF(CHW6=\"y\",IF(CHV6<CHV7,(CHV7-CHV6),0),0)+IF(CHY6=\"y\",IF(CHX6>CHX7,(CHX6-CHX7),0),0)))","v":"00:00:00"},null,null,null,{"$f":"IF(CIK4=\"v\",0,IF(CIL1=\"Lauantai\",CIJ11,IF(CIL1=\"Sunnuntai\",CIJ11,IF(CIK2=\"h\",CIJ11,IF(CIJ10=\"\",0,IF(CIF10=\"\",0,IF(CIH11<CIK11,CIH11,CIK11)))))))+CIL11","v":"00:00:00"},null,{"$f":"IF(CIJ10=\"\",0,IF(CIH10=\"\",CIJ11,CIJ10-CIH10))","v":"00:00:00"},null,{"$f":"IF(CIJ10=\"\",0,CIJ10-CIF10)","v":"00:00:00"},{"$f":"IF(CIJ11<CIK10,0,IF(CIJ10=\"\",0,IF(CIF10=\"\",0,CIJ11-CIK10)))","v":"00:00:00"},{"$f":"IF(CIF4=\"\",0,IF(CIG4=\"ep\",CIH4-CIF4,IF(CIG4=\"y\",IF(CIF4<CIF7,(CIF7-CIF4),0),0)+IF(CII4=\"y\",IF(CIH4>CIH7,(CIH4-CIH7),0),0)))+IF(CIF5=\"\",0,IF(CIG5=\"ep\",CIH5-CIF5,IF(CIG5=\"y\",IF(CIF5<CIF7,(CIF7-CIF5),0),0)+IF(CII5=\"y\",IF(CIH5>CIH7,(CIH5-CIH7),0),0)))+IF(CIF6=\"\",0,IF(CIG6=\"ep\",CIH6-CIF6,IF(CIG6=\"y\",IF(CIF6<CIF7,(CIF7-CIF6),0),0)+IF(CII6=\"y\",IF(CIH6>CIH7,(CIH6-CIH7),0),0)))","v":"00:00:00"},null,null,null,{"$f":"IF(CIU4=\"v\",0,IF(CIV1=\"Lauantai\",CIT11,IF(CIV1=\"Sunnuntai\",CIT11,IF(CIU2=\"h\",CIT11,IF(CIT10=\"\",0,IF(CIP10=\"\",0,IF(CIR11<CIU11,CIR11,CIU11)))))))+CIV11","v":"00:00:00"},null,{"$f":"IF(CIT10=\"\",0,IF(CIR10=\"\",CIT11,CIT10-CIR10))","v":"00:00:00"},null,{"$f":"IF(CIT10=\"\",0,CIT10-CIP10)","v":"00:00:00"},{"$f":"IF(CIT11<CIU10,0,IF(CIT10=\"\",0,IF(CIP10=\"\",0,CIT11-CIU10)))","v":"00:00:00"},{"$f":"IF(CIP4=\"\",0,IF(CIQ4=\"ep\",CIR4-CIP4,IF(CIQ4=\"y\",IF(CIP4<CIP7,(CIP7-CIP4),0),0)+IF(CIS4=\"y\",IF(CIR4>CIR7,(CIR4-CIR7),0),0)))+IF(CIP5=\"\",0,IF(CIQ5=\"ep\",CIR5-CIP5,IF(CIQ5=\"y\",IF(CIP5<CIP7,(CIP7-CIP5),0),0)+IF(CIS5=\"y\",IF(CIR5>CIR7,(CIR5-CIR7),0),0)))+IF(CIP6=\"\",0,IF(CIQ6=\"ep\",CIR6-CIP6,IF(CIQ6=\"y\",IF(CIP6<CIP7,(CIP7-CIP6),0),0)+IF(CIS6=\"y\",IF(CIR6>CIR7,(CIR6-CIR7),0),0)))","v":"00:00:00"},null,null,null,{"$f":"IF(CJE4=\"v\",0,IF(CJF1=\"Lauantai\",CJD11,IF(CJF1=\"Sunnuntai\",CJD11,IF(CJE2=\"h\",CJD11,IF(CJD10=\"\",0,IF(CIZ10=\"\",0,IF(CJB11<CJE11,CJB11,CJE11)))))))+CJF11","v":"00:00:00"},null,{"$f":"IF(CJD10=\"\",0,IF(CJB10=\"\",CJD11,CJD10-CJB10))","v":"00:00:00"},null,{"$f":"IF(CJD10=\"\",0,CJD10-CIZ10)","v":"00:00:00"},{"$f":"IF(CJD11<CJE10,0,IF(CJD10=\"\",0,IF(CIZ10=\"\",0,CJD11-CJE10)))","v":"00:00:00"},{"$f":"IF(CIZ4=\"\",0,IF(CJA4=\"ep\",CJB4-CIZ4,IF(CJA4=\"y\",IF(CIZ4<CIZ7,(CIZ7-CIZ4),0),0)+IF(CJC4=\"y\",IF(CJB4>CJB7,(CJB4-CJB7),0),0)))+IF(CIZ5=\"\",0,IF(CJA5=\"ep\",CJB5-CIZ5,IF(CJA5=\"y\",IF(CIZ5<CIZ7,(CIZ7-CIZ5),0),0)+IF(CJC5=\"y\",IF(CJB5>CJB7,(CJB5-CJB7),0),0)))+IF(CIZ6=\"\",0,IF(CJA6=\"ep\",CJB6-CIZ6,IF(CJA6=\"y\",IF(CIZ6<CIZ7,(CIZ7-CIZ6),0),0)+IF(CJC6=\"y\",IF(CJB6>CJB7,(CJB6-CJB7),0),0)))","v":"00:00:00"},null,null,null,{"$f":"IF(CJO4=\"v\",0,IF(CJP1=\"Lauantai\",CJN11,IF(CJP1=\"Sunnuntai\",CJN11,IF(CJO2=\"h\",CJN11,IF(CJN10=\"\",0,IF(CJJ10=\"\",0,IF(CJL11<CJO11,CJL11,CJO11)))))))+CJP11","v":"00:00:00"},null,{"$f":"IF(CJN10=\"\",0,IF(CJL10=\"\",CJN11,CJN10-CJL10))","v":"00:00:00"},null,{"$f":"IF(CJN10=\"\",0,CJN10-CJJ10)","v":"00:00:00"},{"$f":"IF(CJN11<CJO10,0,IF(CJN10=\"\",0,IF(CJJ10=\"\",0,CJN11-CJO10)))","v":"00:00:00"},{"$f":"IF(CJJ4=\"\",0,IF(CJK4=\"ep\",CJL4-CJJ4,IF(CJK4=\"y\",IF(CJJ4<CJJ7,(CJJ7-CJJ4),0),0)+IF(CJM4=\"y\",IF(CJL4>CJL7,(CJL4-CJL7),0),0)))+IF(CJJ5=\"\",0,IF(CJK5=\"ep\",CJL5-CJJ5,IF(CJK5=\"y\",IF(CJJ5<CJJ7,(CJJ7-CJJ5),0),0)+IF(CJM5=\"y\",IF(CJL5>CJL7,(CJL5-CJL7),0),0)))+IF(CJJ6=\"\",0,IF(CJK6=\"ep\",CJL6-CJJ6,IF(CJK6=\"y\",IF(CJJ6<CJJ7,(CJJ7-CJJ6),0),0)+IF(CJM6=\"y\",IF(CJL6>CJL7,(CJL6-CJL7),0),0)))","v":"00:00:00"},null,null,null,{"$f":"IF(CJY4=\"v\",0,IF(CJZ1=\"Lauantai\",CJX11,IF(CJZ1=\"Sunnuntai\",CJX11,IF(CJY2=\"h\",CJX11,IF(CJX10=\"\",0,IF(CJT10=\"\",0,IF(CJV11<CJY11,CJV11,CJY11)))))))+CJZ11","v":"00:00:00"},null,{"$f":"IF(CJX10=\"\",0,IF(CJV10=\"\",CJX11,CJX10-CJV10))","v":"00:00:00"},null,{"$f":"IF(CJX10=\"\",0,CJX10-CJT10)","v":"00:00:00"},{"$f":"IF(CJX11<CJY10,0,IF(CJX10=\"\",0,IF(CJT10=\"\",0,CJX11-CJY10)))","v":"00:00:00"},{"$f":"IF(CJT4=\"\",0,IF(CJU4=\"ep\",CJV4-CJT4,IF(CJU4=\"y\",IF(CJT4<CJT7,(CJT7-CJT4),0),0)+IF(CJW4=\"y\",IF(CJV4>CJV7,(CJV4-CJV7),0),0)))+IF(CJT5=\"\",0,IF(CJU5=\"ep\",CJV5-CJT5,IF(CJU5=\"y\",IF(CJT5<CJT7,(CJT7-CJT5),0),0)+IF(CJW5=\"y\",IF(CJV5>CJV7,(CJV5-CJV7),0),0)))+IF(CJT6=\"\",0,IF(CJU6=\"ep\",CJV6-CJT6,IF(CJU6=\"y\",IF(CJT6<CJT7,(CJT7-CJT6),0),0)+IF(CJW6=\"y\",IF(CJV6>CJV7,(CJV6-CJV7),0),0)))","v":"00:00:00"},null,null,null,{"$f":"IF(CKI4=\"v\",0,IF(CKJ1=\"Lauantai\",CKH11,IF(CKJ1=\"Sunnuntai\",CKH11,IF(CKI2=\"h\",CKH11,IF(CKH10=\"\",0,IF(CKD10=\"\",0,IF(CKF11<CKI11,CKF11,CKI11)))))))+CKJ11","v":"00:00:00"},null,{"$f":"IF(CKH10=\"\",0,IF(CKF10=\"\",CKH11,CKH10-CKF10))","v":"00:00:00"},null,{"$f":"IF(CKH10=\"\",0,CKH10-CKD10)","v":"00:00:00"},{"$f":"IF(CKH11<CKI10,0,IF(CKH10=\"\",0,IF(CKD10=\"\",0,CKH11-CKI10)))","v":"00:00:00"},{"$f":"IF(CKD4=\"\",0,IF(CKE4=\"ep\",CKF4-CKD4,IF(CKE4=\"y\",IF(CKD4<CKD7,(CKD7-CKD4),0),0)+IF(CKG4=\"y\",IF(CKF4>CKF7,(CKF4-CKF7),0),0)))+IF(CKD5=\"\",0,IF(CKE5=\"ep\",CKF5-CKD5,IF(CKE5=\"y\",IF(CKD5<CKD7,(CKD7-CKD5),0),0)+IF(CKG5=\"y\",IF(CKF5>CKF7,(CKF5-CKF7),0),0)))+IF(CKD6=\"\",0,IF(CKE6=\"ep\",CKF6-CKD6,IF(CKE6=\"y\",IF(CKD6<CKD7,(CKD7-CKD6),0),0)+IF(CKG6=\"y\",IF(CKF6>CKF7,(CKF6-CKF7),0),0)))","v":"00:00:00"},null,null,null,{"$f":"IF(CKS4=\"v\",0,IF(CKT1=\"Lauantai\",CKR11,IF(CKT1=\"Sunnuntai\",CKR11,IF(CKS2=\"h\",CKR11,IF(CKR10=\"\",0,IF(CKN10=\"\",0,IF(CKP11<CKS11,CKP11,CKS11)))))))+CKT11","v":"00:00:00"},null,{"$f":"IF(CKR10=\"\",0,IF(CKP10=\"\",CKR11,CKR10-CKP10))","v":"00:00:00"},null,{"$f":"IF(CKR10=\"\",0,CKR10-CKN10)","v":"00:00:00"},{"$f":"IF(CKR11<CKS10,0,IF(CKR10=\"\",0,IF(CKN10=\"\",0,CKR11-CKS10)))","v":"00:00:00"},{"$f":"IF(CKN4=\"\",0,IF(CKO4=\"ep\",CKP4-CKN4,IF(CKO4=\"y\",IF(CKN4<CKN7,(CKN7-CKN4),0),0)+IF(CKQ4=\"y\",IF(CKP4>CKP7,(CKP4-CKP7),0),0)))+IF(CKN5=\"\",0,IF(CKO5=\"ep\",CKP5-CKN5,IF(CKO5=\"y\",IF(CKN5<CKN7,(CKN7-CKN5),0),0)+IF(CKQ5=\"y\",IF(CKP5>CKP7,(CKP5-CKP7),0),0)))+IF(CKN6=\"\",0,IF(CKO6=\"ep\",CKP6-CKN6,IF(CKO6=\"y\",IF(CKN6<CKN7,(CKN7-CKN6),0),0)+IF(CKQ6=\"y\",IF(CKP6>CKP7,(CKP6-CKP7),0),0)))","v":"00:00:00"},null,null,null,{"$f":"IF(CLC4=\"v\",0,IF(CLD1=\"Lauantai\",CLB11,IF(CLD1=\"Sunnuntai\",CLB11,IF(CLC2=\"h\",CLB11,IF(CLB10=\"\",0,IF(CKX10=\"\",0,IF(CKZ11<CLC11,CKZ11,CLC11)))))))+CLD11","v":"00:00:00"},null,{"$f":"IF(CLB10=\"\",0,IF(CKZ10=\"\",CLB11,CLB10-CKZ10))","v":"00:00:00"},null,{"$f":"IF(CLB10=\"\",0,CLB10-CKX10)","v":"00:00:00"},{"$f":"IF(CLB11<CLC10,0,IF(CLB10=\"\",0,IF(CKX10=\"\",0,CLB11-CLC10)))","v":"00:00:00"},{"$f":"IF(CKX4=\"\",0,IF(CKY4=\"ep\",CKZ4-CKX4,IF(CKY4=\"y\",IF(CKX4<CKX7,(CKX7-CKX4),0),0)+IF(CLA4=\"y\",IF(CKZ4>CKZ7,(CKZ4-CKZ7),0),0)))+IF(CKX5=\"\",0,IF(CKY5=\"ep\",CKZ5-CKX5,IF(CKY5=\"y\",IF(CKX5<CKX7,(CKX7-CKX5),0),0)+IF(CLA5=\"y\",IF(CKZ5>CKZ7,(CKZ5-CKZ7),0),0)))+IF(CKX6=\"\",0,IF(CKY6=\"ep\",CKZ6-CKX6,IF(CKY6=\"y\",IF(CKX6<CKX7,(CKX7-CKX6),0),0)+IF(CLA6=\"y\",IF(CKZ6>CKZ7,(CKZ6-CKZ7),0),0)))","v":"00:00:00"},null,null,null,{"$f":"IF(CLM4=\"v\",0,IF(CLN1=\"Lauantai\",CLL11,IF(CLN1=\"Sunnuntai\",CLL11,IF(CLM2=\"h\",CLL11,IF(CLL10=\"\",0,IF(CLH10=\"\",0,IF(CLJ11<CLM11,CLJ11,CLM11)))))))+CLN11","v":"00:00:00"},null,{"$f":"IF(CLL10=\"\",0,IF(CLJ10=\"\",CLL11,CLL10-CLJ10))","v":"00:00:00"},null,{"$f":"IF(CLL10=\"\",0,CLL10-CLH10)","v":"00:00:00"},{"$f":"IF(CLL11<CLM10,0,IF(CLL10=\"\",0,IF(CLH10=\"\",0,CLL11-CLM10)))","v":"00:00:00"},{"$f":"IF(CLH4=\"\",0,IF(CLI4=\"ep\",CLJ4-CLH4,IF(CLI4=\"y\",IF(CLH4<CLH7,(CLH7-CLH4),0),0)+IF(CLK4=\"y\",IF(CLJ4>CLJ7,(CLJ4-CLJ7),0),0)))+IF(CLH5=\"\",0,IF(CLI5=\"ep\",CLJ5-CLH5,IF(CLI5=\"y\",IF(CLH5<CLH7,(CLH7-CLH5),0),0)+IF(CLK5=\"y\",IF(CLJ5>CLJ7,(CLJ5-CLJ7),0),0)))+IF(CLH6=\"\",0,IF(CLI6=\"ep\",CLJ6-CLH6,IF(CLI6=\"y\",IF(CLH6<CLH7,(CLH7-CLH6),0),0)+IF(CLK6=\"y\",IF(CLJ6>CLJ7,(CLJ6-CLJ7),0),0)))","v":"00:00:00"},null,null,null,{"$f":"IF(CLW4=\"v\",0,IF(CLX1=\"Lauantai\",CLV11,IF(CLX1=\"Sunnuntai\",CLV11,IF(CLW2=\"h\",CLV11,IF(CLV10=\"\",0,IF(CLR10=\"\",0,IF(CLT11<CLW11,CLT11,CLW11)))))))+CLX11","v":"00:00:00"},null,{"$f":"IF(CLV10=\"\",0,IF(CLT10=\"\",CLV11,CLV10-CLT10))","v":"00:00:00"},null,{"$f":"IF(CLV10=\"\",0,CLV10-CLR10)","v":"00:00:00"},{"$f":"IF(CLV11<CLW10,0,IF(CLV10=\"\",0,IF(CLR10=\"\",0,CLV11-CLW10)))","v":"00:00:00"},{"$f":"IF(CLR4=\"\",0,IF(CLS4=\"ep\",CLT4-CLR4,IF(CLS4=\"y\",IF(CLR4<CLR7,(CLR7-CLR4),0),0)+IF(CLU4=\"y\",IF(CLT4>CLT7,(CLT4-CLT7),0),0)))+IF(CLR5=\"\",0,IF(CLS5=\"ep\",CLT5-CLR5,IF(CLS5=\"y\",IF(CLR5<CLR7,(CLR7-CLR5),0),0)+IF(CLU5=\"y\",IF(CLT5>CLT7,(CLT5-CLT7),0),0)))+IF(CLR6=\"\",0,IF(CLS6=\"ep\",CLT6-CLR6,IF(CLS6=\"y\",IF(CLR6<CLR7,(CLR7-CLR6),0),0)+IF(CLU6=\"y\",IF(CLT6>CLT7,(CLT6-CLT7),0),0)))","v":"00:00:00"},null,null,null,{"$f":"IF(CMG4=\"v\",0,IF(CMH1=\"Lauantai\",CMF11,IF(CMH1=\"Sunnuntai\",CMF11,IF(CMG2=\"h\",CMF11,IF(CMF10=\"\",0,IF(CMB10=\"\",0,IF(CMD11<CMG11,CMD11,CMG11)))))))+CMH11","v":"00:00:00"},null,{"$f":"IF(CMF10=\"\",0,IF(CMD10=\"\",CMF11,CMF10-CMD10))","v":"00:00:00"},null,{"$f":"IF(CMF10=\"\",0,CMF10-CMB10)","v":"00:00:00"},{"$f":"IF(CMF11<CMG10,0,IF(CMF10=\"\",0,IF(CMB10=\"\",0,CMF11-CMG10)))","v":"00:00:00"},{"$f":"IF(CMB4=\"\",0,IF(CMC4=\"ep\",CMD4-CMB4,IF(CMC4=\"y\",IF(CMB4<CMB7,(CMB7-CMB4),0),0)+IF(CME4=\"y\",IF(CMD4>CMD7,(CMD4-CMD7),0),0)))+IF(CMB5=\"\",0,IF(CMC5=\"ep\",CMD5-CMB5,IF(CMC5=\"y\",IF(CMB5<CMB7,(CMB7-CMB5),0),0)+IF(CME5=\"y\",IF(CMD5>CMD7,(CMD5-CMD7),0),0)))+IF(CMB6=\"\",0,IF(CMC6=\"ep\",CMD6-CMB6,IF(CMC6=\"y\",IF(CMB6<CMB7,(CMB7-CMB6),0),0)+IF(CME6=\"y\",IF(CMD6>CMD7,(CMD6-CMD7),0),0)))","v":"00:00:00"},null,null,null,{"$f":"IF(CMQ4=\"v\",0,IF(CMR1=\"Lauantai\",CMP11,IF(CMR1=\"Sunnuntai\",CMP11,IF(CMQ2=\"h\",CMP11,IF(CMP10=\"\",0,IF(CML10=\"\",0,IF(CMN11<CMQ11,CMN11,CMQ11)))))))+CMR11","v":"00:00:00"},null,{"$f":"IF(CMP10=\"\",0,IF(CMN10=\"\",CMP11,CMP10-CMN10))","v":"00:00:00"},null,{"$f":"IF(CMP10=\"\",0,CMP10-CML10)","v":"00:00:00"},{"$f":"IF(CMP11<CMQ10,0,IF(CMP10=\"\",0,IF(CML10=\"\",0,CMP11-CMQ10)))","v":"00:00:00"},{"$f":"IF(CML4=\"\",0,IF(CMM4=\"ep\",CMN4-CML4,IF(CMM4=\"y\",IF(CML4<CML7,(CML7-CML4),0),0)+IF(CMO4=\"y\",IF(CMN4>CMN7,(CMN4-CMN7),0),0)))+IF(CML5=\"\",0,IF(CMM5=\"ep\",CMN5-CML5,IF(CMM5=\"y\",IF(CML5<CML7,(CML7-CML5),0),0)+IF(CMO5=\"y\",IF(CMN5>CMN7,(CMN5-CMN7),0),0)))+IF(CML6=\"\",0,IF(CMM6=\"ep\",CMN6-CML6,IF(CMM6=\"y\",IF(CML6<CML7,(CML7-CML6),0),0)+IF(CMO6=\"y\",IF(CMN6>CMN7,(CMN6-CMN7),0),0)))","v":"00:00:00"},null,null,null,{"$f":"IF(CNA4=\"v\",0,IF(CNB1=\"Lauantai\",CMZ11,IF(CNB1=\"Sunnuntai\",CMZ11,IF(CNA2=\"h\",CMZ11,IF(CMZ10=\"\",0,IF(CMV10=\"\",0,IF(CMX11<CNA11,CMX11,CNA11)))))))+CNB11","v":"00:00:00"},null,{"$f":"IF(CMZ10=\"\",0,IF(CMX10=\"\",CMZ11,CMZ10-CMX10))","v":"00:00:00"},null,{"$f":"IF(CMZ10=\"\",0,CMZ10-CMV10)","v":"00:00:00"},{"$f":"IF(CMZ11<CNA10,0,IF(CMZ10=\"\",0,IF(CMV10=\"\",0,CMZ11-CNA10)))","v":"00:00:00"},{"$f":"IF(CMV4=\"\",0,IF(CMW4=\"ep\",CMX4-CMV4,IF(CMW4=\"y\",IF(CMV4<CMV7,(CMV7-CMV4),0),0)+IF(CMY4=\"y\",IF(CMX4>CMX7,(CMX4-CMX7),0),0)))+IF(CMV5=\"\",0,IF(CMW5=\"ep\",CMX5-CMV5,IF(CMW5=\"y\",IF(CMV5<CMV7,(CMV7-CMV5),0),0)+IF(CMY5=\"y\",IF(CMX5>CMX7,(CMX5-CMX7),0),0)))+IF(CMV6=\"\",0,IF(CMW6=\"ep\",CMX6-CMV6,IF(CMW6=\"y\",IF(CMV6<CMV7,(CMV7-CMV6),0),0)+IF(CMY6=\"y\",IF(CMX6>CMX7,(CMX6-CMX7),0),0)))","v":"00:00:00"},null,null,null,{"$f":"IF(CNK4=\"v\",0,IF(CNL1=\"Lauantai\",CNJ11,IF(CNL1=\"Sunnuntai\",CNJ11,IF(CNK2=\"h\",CNJ11,IF(CNJ10=\"\",0,IF(CNF10=\"\",0,IF(CNH11<CNK11,CNH11,CNK11)))))))+CNL11","v":"00:00:00"},null,{"$f":"IF(CNJ10=\"\",0,IF(CNH10=\"\",CNJ11,CNJ10-CNH10))","v":"00:00:00"},null,{"$f":"IF(CNJ10=\"\",0,CNJ10-CNF10)","v":"00:00:00"},{"$f":"IF(CNJ11<CNK10,0,IF(CNJ10=\"\",0,IF(CNF10=\"\",0,CNJ11-CNK10)))","v":"00:00:00"},{"$f":"IF(CNF4=\"\",0,IF(CNG4=\"ep\",CNH4-CNF4,IF(CNG4=\"y\",IF(CNF4<CNF7,(CNF7-CNF4),0),0)+IF(CNI4=\"y\",IF(CNH4>CNH7,(CNH4-CNH7),0),0)))+IF(CNF5=\"\",0,IF(CNG5=\"ep\",CNH5-CNF5,IF(CNG5=\"y\",IF(CNF5<CNF7,(CNF7-CNF5),0),0)+IF(CNI5=\"y\",IF(CNH5>CNH7,(CNH5-CNH7),0),0)))+IF(CNF6=\"\",0,IF(CNG6=\"ep\",CNH6-CNF6,IF(CNG6=\"y\",IF(CNF6<CNF7,(CNF7-CNF6),0),0)+IF(CNI6=\"y\",IF(CNH6>CNH7,(CNH6-CNH7),0),0)))","v":"00:00:00"},null,null,null,{"$f":"IF(CNU4=\"v\",0,IF(CNV1=\"Lauantai\",CNT11,IF(CNV1=\"Sunnuntai\",CNT11,IF(CNU2=\"h\",CNT11,IF(CNT10=\"\",0,IF(CNP10=\"\",0,IF(CNR11<CNU11,CNR11,CNU11)))))))+CNV11","v":"00:00:00"},null,{"$f":"IF(CNT10=\"\",0,IF(CNR10=\"\",CNT11,CNT10-CNR10))","v":"00:00:00"},null,{"$f":"IF(CNT10=\"\",0,CNT10-CNP10)","v":"00:00:00"},{"$f":"IF(CNT11<CNU10,0,IF(CNT10=\"\",0,IF(CNP10=\"\",0,CNT11-CNU10)))","v":"00:00:00"},{"$f":"IF(CNP4=\"\",0,IF(CNQ4=\"ep\",CNR4-CNP4,IF(CNQ4=\"y\",IF(CNP4<CNP7,(CNP7-CNP4),0),0)+IF(CNS4=\"y\",IF(CNR4>CNR7,(CNR4-CNR7),0),0)))+IF(CNP5=\"\",0,IF(CNQ5=\"ep\",CNR5-CNP5,IF(CNQ5=\"y\",IF(CNP5<CNP7,(CNP7-CNP5),0),0)+IF(CNS5=\"y\",IF(CNR5>CNR7,(CNR5-CNR7),0),0)))+IF(CNP6=\"\",0,IF(CNQ6=\"ep\",CNR6-CNP6,IF(CNQ6=\"y\",IF(CNP6<CNP7,(CNP7-CNP6),0),0)+IF(CNS6=\"y\",IF(CNR6>CNR7,(CNR6-CNR7),0),0)))","v":"00:00:00"},null,null,null,{"$f":"IF(COE4=\"v\",0,IF(COF1=\"Lauantai\",COD11,IF(COF1=\"Sunnuntai\",COD11,IF(COE2=\"h\",COD11,IF(COD10=\"\",0,IF(CNZ10=\"\",0,IF(COB11<COE11,COB11,COE11)))))))+COF11","v":"00:00:00"},null,{"$f":"IF(COD10=\"\",0,IF(COB10=\"\",COD11,COD10-COB10))","v":"00:00:00"},null,{"$f":"IF(COD10=\"\",0,COD10-CNZ10)","v":"00:00:00"},{"$f":"IF(COD11<COE10,0,IF(COD10=\"\",0,IF(CNZ10=\"\",0,COD11-COE10)))","v":"00:00:00"},{"$f":"IF(CNZ4=\"\",0,IF(COA4=\"ep\",COB4-CNZ4,IF(COA4=\"y\",IF(CNZ4<CNZ7,(CNZ7-CNZ4),0),0)+IF(COC4=\"y\",IF(COB4>COB7,(COB4-COB7),0),0)))+IF(CNZ5=\"\",0,IF(COA5=\"ep\",COB5-CNZ5,IF(COA5=\"y\",IF(CNZ5<CNZ7,(CNZ7-CNZ5),0),0)+IF(COC5=\"y\",IF(COB5>COB7,(COB5-COB7),0),0)))+IF(CNZ6=\"\",0,IF(COA6=\"ep\",COB6-CNZ6,IF(COA6=\"y\",IF(CNZ6<CNZ7,(CNZ7-CNZ6),0),0)+IF(COC6=\"y\",IF(COB6>COB7,(COB6-COB7),0),0)))","v":"00:00:00"},null,null,null,{"$f":"IF(COO4=\"v\",0,IF(COP1=\"Lauantai\",CON11,IF(COP1=\"Sunnuntai\",CON11,IF(COO2=\"h\",CON11,IF(CON10=\"\",0,IF(COJ10=\"\",0,IF(COL11<COO11,COL11,COO11)))))))+COP11","v":"00:00:00"},null,{"$f":"IF(CON10=\"\",0,IF(COL10=\"\",CON11,CON10-COL10))","v":"00:00:00"},null,{"$f":"IF(CON10=\"\",0,CON10-COJ10)","v":"00:00:00"},{"$f":"IF(CON11<COO10,0,IF(CON10=\"\",0,IF(COJ10=\"\",0,CON11-COO10)))","v":"00:00:00"},{"$f":"IF(COJ4=\"\",0,IF(COK4=\"ep\",COL4-COJ4,IF(COK4=\"y\",IF(COJ4<COJ7,(COJ7-COJ4),0),0)+IF(COM4=\"y\",IF(COL4>COL7,(COL4-COL7),0),0)))+IF(COJ5=\"\",0,IF(COK5=\"ep\",COL5-COJ5,IF(COK5=\"y\",IF(COJ5<COJ7,(COJ7-COJ5),0),0)+IF(COM5=\"y\",IF(COL5>COL7,(COL5-COL7),0),0)))+IF(COJ6=\"\",0,IF(COK6=\"ep\",COL6-COJ6,IF(COK6=\"y\",IF(COJ6<COJ7,(COJ7-COJ6),0),0)+IF(COM6=\"y\",IF(COL6>COL7,(COL6-COL7),0),0)))","v":"00:00:00"},null,null,null,{"$f":"IF(COY4=\"v\",0,IF(COZ1=\"Lauantai\",COX11,IF(COZ1=\"Sunnuntai\",COX11,IF(COY2=\"h\",COX11,IF(COX10=\"\",0,IF(COT10=\"\",0,IF(COV11<COY11,COV11,COY11)))))))+COZ11","v":"00:00:00"},null,{"$f":"IF(COX10=\"\",0,IF(COV10=\"\",COX11,COX10-COV10))","v":"00:00:00"},null,{"$f":"IF(COX10=\"\",0,COX10-COT10)","v":"00:00:00"},{"$f":"IF(COX11<COY10,0,IF(COX10=\"\",0,IF(COT10=\"\",0,COX11-COY10)))","v":"00:00:00"},{"$f":"IF(COT4=\"\",0,IF(COU4=\"ep\",COV4-COT4,IF(COU4=\"y\",IF(COT4<COT7,(COT7-COT4),0),0)+IF(COW4=\"y\",IF(COV4>COV7,(COV4-COV7),0),0)))+IF(COT5=\"\",0,IF(COU5=\"ep\",COV5-COT5,IF(COU5=\"y\",IF(COT5<COT7,(COT7-COT5),0),0)+IF(COW5=\"y\",IF(COV5>COV7,(COV5-COV7),0),0)))+IF(COT6=\"\",0,IF(COU6=\"ep\",COV6-COT6,IF(COU6=\"y\",IF(COT6<COT7,(COT7-COT6),0),0)+IF(COW6=\"y\",IF(COV6>COV7,(COV6-COV7),0),0)))","v":"00:00:00"},null,null,null,{"$f":"IF(CPI4=\"v\",0,IF(CPJ1=\"Lauantai\",CPH11,IF(CPJ1=\"Sunnuntai\",CPH11,IF(CPI2=\"h\",CPH11,IF(CPH10=\"\",0,IF(CPD10=\"\",0,IF(CPF11<CPI11,CPF11,CPI11)))))))+CPJ11","v":"00:00:00"},null,{"$f":"IF(CPH10=\"\",0,IF(CPF10=\"\",CPH11,CPH10-CPF10))","v":"00:00:00"},null,{"$f":"IF(CPH10=\"\",0,CPH10-CPD10)","v":"00:00:00"},{"$f":"IF(CPH11<CPI10,0,IF(CPH10=\"\",0,IF(CPD10=\"\",0,CPH11-CPI10)))","v":"00:00:00"},{"$f":"IF(CPD4=\"\",0,IF(CPE4=\"ep\",CPF4-CPD4,IF(CPE4=\"y\",IF(CPD4<CPD7,(CPD7-CPD4),0),0)+IF(CPG4=\"y\",IF(CPF4>CPF7,(CPF4-CPF7),0),0)))+IF(CPD5=\"\",0,IF(CPE5=\"ep\",CPF5-CPD5,IF(CPE5=\"y\",IF(CPD5<CPD7,(CPD7-CPD5),0),0)+IF(CPG5=\"y\",IF(CPF5>CPF7,(CPF5-CPF7),0),0)))+IF(CPD6=\"\",0,IF(CPE6=\"ep\",CPF6-CPD6,IF(CPE6=\"y\",IF(CPD6<CPD7,(CPD7-CPD6),0),0)+IF(CPG6=\"y\",IF(CPF6>CPF7,(CPF6-CPF7),0),0)))","v":"00:00:00"},null,null,null,{"$f":"IF(CPS4=\"v\",0,IF(CPT1=\"Lauantai\",CPR11,IF(CPT1=\"Sunnuntai\",CPR11,IF(CPS2=\"h\",CPR11,IF(CPR10=\"\",0,IF(CPN10=\"\",0,IF(CPP11<CPS11,CPP11,CPS11)))))))+CPT11","v":"00:00:00"},null,{"$f":"IF(CPR10=\"\",0,IF(CPP10=\"\",CPR11,CPR10-CPP10))","v":"00:00:00"},null,{"$f":"IF(CPR10=\"\",0,CPR10-CPN10)","v":"00:00:00"},{"$f":"IF(CPR11<CPS10,0,IF(CPR10=\"\",0,IF(CPN10=\"\",0,CPR11-CPS10)))","v":"00:00:00"},{"$f":"IF(CPN4=\"\",0,IF(CPO4=\"ep\",CPP4-CPN4,IF(CPO4=\"y\",IF(CPN4<CPN7,(CPN7-CPN4),0),0)+IF(CPQ4=\"y\",IF(CPP4>CPP7,(CPP4-CPP7),0),0)))+IF(CPN5=\"\",0,IF(CPO5=\"ep\",CPP5-CPN5,IF(CPO5=\"y\",IF(CPN5<CPN7,(CPN7-CPN5),0),0)+IF(CPQ5=\"y\",IF(CPP5>CPP7,(CPP5-CPP7),0),0)))+IF(CPN6=\"\",0,IF(CPO6=\"ep\",CPP6-CPN6,IF(CPO6=\"y\",IF(CPN6<CPN7,(CPN7-CPN6),0),0)+IF(CPQ6=\"y\",IF(CPP6>CPP7,(CPP6-CPP7),0),0)))","v":"00:00:00"},null,null,null,{"$f":"IF(CQC4=\"v\",0,IF(CQD1=\"Lauantai\",CQB11,IF(CQD1=\"Sunnuntai\",CQB11,IF(CQC2=\"h\",CQB11,IF(CQB10=\"\",0,IF(CPX10=\"\",0,IF(CPZ11<CQC11,CPZ11,CQC11)))))))+CQD11","v":"00:00:00"},null,{"$f":"IF(CQB10=\"\",0,IF(CPZ10=\"\",CQB11,CQB10-CPZ10))","v":"00:00:00"},null,{"$f":"IF(CQB10=\"\",0,CQB10-CPX10)","v":"00:00:00"},{"$f":"IF(CQB11<CQC10,0,IF(CQB10=\"\",0,IF(CPX10=\"\",0,CQB11-CQC10)))","v":"00:00:00"},{"$f":"IF(CPX4=\"\",0,IF(CPY4=\"ep\",CPZ4-CPX4,IF(CPY4=\"y\",IF(CPX4<CPX7,(CPX7-CPX4),0),0)+IF(CQA4=\"y\",IF(CPZ4>CPZ7,(CPZ4-CPZ7),0),0)))+IF(CPX5=\"\",0,IF(CPY5=\"ep\",CPZ5-CPX5,IF(CPY5=\"y\",IF(CPX5<CPX7,(CPX7-CPX5),0),0)+IF(CQA5=\"y\",IF(CPZ5>CPZ7,(CPZ5-CPZ7),0),0)))+IF(CPX6=\"\",0,IF(CPY6=\"ep\",CPZ6-CPX6,IF(CPY6=\"y\",IF(CPX6<CPX7,(CPX7-CPX6),0),0)+IF(CQA6=\"y\",IF(CPZ6>CPZ7,(CPZ6-CPZ7),0),0)))","v":"00:00:00"},null,null,null,{"$f":"IF(CQM4=\"v\",0,IF(CQN1=\"Lauantai\",CQL11,IF(CQN1=\"Sunnuntai\",CQL11,IF(CQM2=\"h\",CQL11,IF(CQL10=\"\",0,IF(CQH10=\"\",0,IF(CQJ11<CQM11,CQJ11,CQM11)))))))+CQN11","v":"00:00:00"},null,{"$f":"IF(CQL10=\"\",0,IF(CQJ10=\"\",CQL11,CQL10-CQJ10))","v":"00:00:00"},null,{"$f":"IF(CQL10=\"\",0,CQL10-CQH10)","v":"00:00:00"},{"$f":"IF(CQL11<CQM10,0,IF(CQL10=\"\",0,IF(CQH10=\"\",0,CQL11-CQM10)))","v":"00:00:00"},{"$f":"IF(CQH4=\"\",0,IF(CQI4=\"ep\",CQJ4-CQH4,IF(CQI4=\"y\",IF(CQH4<CQH7,(CQH7-CQH4),0),0)+IF(CQK4=\"y\",IF(CQJ4>CQJ7,(CQJ4-CQJ7),0),0)))+IF(CQH5=\"\",0,IF(CQI5=\"ep\",CQJ5-CQH5,IF(CQI5=\"y\",IF(CQH5<CQH7,(CQH7-CQH5),0),0)+IF(CQK5=\"y\",IF(CQJ5>CQJ7,(CQJ5-CQJ7),0),0)))+IF(CQH6=\"\",0,IF(CQI6=\"ep\",CQJ6-CQH6,IF(CQI6=\"y\",IF(CQH6<CQH7,(CQH7-CQH6),0),0)+IF(CQK6=\"y\",IF(CQJ6>CQJ7,(CQJ6-CQJ7),0),0)))","v":"00:00:00"},null,null,null,{"$f":"IF(CQW4=\"v\",0,IF(CQX1=\"Lauantai\",CQV11,IF(CQX1=\"Sunnuntai\",CQV11,IF(CQW2=\"h\",CQV11,IF(CQV10=\"\",0,IF(CQR10=\"\",0,IF(CQT11<CQW11,CQT11,CQW11)))))))+CQX11","v":"00:00:00"},null,{"$f":"IF(CQV10=\"\",0,IF(CQT10=\"\",CQV11,CQV10-CQT10))","v":"00:00:00"},null,{"$f":"IF(CQV10=\"\",0,CQV10-CQR10)","v":"00:00:00"},{"$f":"IF(CQV11<CQW10,0,IF(CQV10=\"\",0,IF(CQR10=\"\",0,CQV11-CQW10)))","v":"00:00:00"},{"$f":"IF(CQR4=\"\",0,IF(CQS4=\"ep\",CQT4-CQR4,IF(CQS4=\"y\",IF(CQR4<CQR7,(CQR7-CQR4),0),0)+IF(CQU4=\"y\",IF(CQT4>CQT7,(CQT4-CQT7),0),0)))+IF(CQR5=\"\",0,IF(CQS5=\"ep\",CQT5-CQR5,IF(CQS5=\"y\",IF(CQR5<CQR7,(CQR7-CQR5),0),0)+IF(CQU5=\"y\",IF(CQT5>CQT7,(CQT5-CQT7),0),0)))+IF(CQR6=\"\",0,IF(CQS6=\"ep\",CQT6-CQR6,IF(CQS6=\"y\",IF(CQR6<CQR7,(CQR7-CQR6),0),0)+IF(CQU6=\"y\",IF(CQT6>CQT7,(CQT6-CQT7),0),0)))","v":"00:00:00"},null,null,null,{"$f":"IF(CRG4=\"v\",0,IF(CRH1=\"Lauantai\",CRF11,IF(CRH1=\"Sunnuntai\",CRF11,IF(CRG2=\"h\",CRF11,IF(CRF10=\"\",0,IF(CRB10=\"\",0,IF(CRD11<CRG11,CRD11,CRG11)))))))+CRH11","v":"00:00:00"},null,{"$f":"IF(CRF10=\"\",0,IF(CRD10=\"\",CRF11,CRF10-CRD10))","v":"00:00:00"},null,{"$f":"IF(CRF10=\"\",0,CRF10-CRB10)","v":"00:00:00"},{"$f":"IF(CRF11<CRG10,0,IF(CRF10=\"\",0,IF(CRB10=\"\",0,CRF11-CRG10)))","v":"00:00:00"},{"$f":"IF(CRB4=\"\",0,IF(CRC4=\"ep\",CRD4-CRB4,IF(CRC4=\"y\",IF(CRB4<CRB7,(CRB7-CRB4),0),0)+IF(CRE4=\"y\",IF(CRD4>CRD7,(CRD4-CRD7),0),0)))+IF(CRB5=\"\",0,IF(CRC5=\"ep\",CRD5-CRB5,IF(CRC5=\"y\",IF(CRB5<CRB7,(CRB7-CRB5),0),0)+IF(CRE5=\"y\",IF(CRD5>CRD7,(CRD5-CRD7),0),0)))+IF(CRB6=\"\",0,IF(CRC6=\"ep\",CRD6-CRB6,IF(CRC6=\"y\",IF(CRB6<CRB7,(CRB7-CRB6),0),0)+IF(CRE6=\"y\",IF(CRD6>CRD7,(CRD6-CRD7),0),0)))","v":"00:00:00"},null,null,null,{"$f":"IF(CRQ4=\"v\",0,IF(CRR1=\"Lauantai\",CRP11,IF(CRR1=\"Sunnuntai\",CRP11,IF(CRQ2=\"h\",CRP11,IF(CRP10=\"\",0,IF(CRL10=\"\",0,IF(CRN11<CRQ11,CRN11,CRQ11)))))))+CRR11","v":"00:00:00"},null,{"$f":"IF(CRP10=\"\",0,IF(CRN10=\"\",CRP11,CRP10-CRN10))","v":"00:00:00"},null,{"$f":"IF(CRP10=\"\",0,CRP10-CRL10)","v":"00:00:00"},{"$f":"IF(CRP11<CRQ10,0,IF(CRP10=\"\",0,IF(CRL10=\"\",0,CRP11-CRQ10)))","v":"00:00:00"},{"$f":"IF(CRL4=\"\",0,IF(CRM4=\"ep\",CRN4-CRL4,IF(CRM4=\"y\",IF(CRL4<CRL7,(CRL7-CRL4),0),0)+IF(CRO4=\"y\",IF(CRN4>CRN7,(CRN4-CRN7),0),0)))+IF(CRL5=\"\",0,IF(CRM5=\"ep\",CRN5-CRL5,IF(CRM5=\"y\",IF(CRL5<CRL7,(CRL7-CRL5),0),0)+IF(CRO5=\"y\",IF(CRN5>CRN7,(CRN5-CRN7),0),0)))+IF(CRL6=\"\",0,IF(CRM6=\"ep\",CRN6-CRL6,IF(CRM6=\"y\",IF(CRL6<CRL7,(CRL7-CRL6),0),0)+IF(CRO6=\"y\",IF(CRN6>CRN7,(CRN6-CRN7),0),0)))","v":"00:00:00"},null,null,null,{"$f":"IF(CSA4=\"v\",0,IF(CSB1=\"Lauantai\",CRZ11,IF(CSB1=\"Sunnuntai\",CRZ11,IF(CSA2=\"h\",CRZ11,IF(CRZ10=\"\",0,IF(CRV10=\"\",0,IF(CRX11<CSA11,CRX11,CSA11)))))))+CSB11","v":"00:00:00"},null,{"$f":"IF(CRZ10=\"\",0,IF(CRX10=\"\",CRZ11,CRZ10-CRX10))","v":"00:00:00"},null,{"$f":"IF(CRZ10=\"\",0,CRZ10-CRV10)","v":"00:00:00"},{"$f":"IF(CRZ11<CSA10,0,IF(CRZ10=\"\",0,IF(CRV10=\"\",0,CRZ11-CSA10)))","v":"00:00:00"},{"$f":"IF(CRV4=\"\",0,IF(CRW4=\"ep\",CRX4-CRV4,IF(CRW4=\"y\",IF(CRV4<CRV7,(CRV7-CRV4),0),0)+IF(CRY4=\"y\",IF(CRX4>CRX7,(CRX4-CRX7),0),0)))+IF(CRV5=\"\",0,IF(CRW5=\"ep\",CRX5-CRV5,IF(CRW5=\"y\",IF(CRV5<CRV7,(CRV7-CRV5),0),0)+IF(CRY5=\"y\",IF(CRX5>CRX7,(CRX5-CRX7),0),0)))+IF(CRV6=\"\",0,IF(CRW6=\"ep\",CRX6-CRV6,IF(CRW6=\"y\",IF(CRV6<CRV7,(CRV7-CRV6),0),0)+IF(CRY6=\"y\",IF(CRX6>CRX7,(CRX6-CRX7),0),0)))","v":"00:00:00"},null,null,null,{"$f":"IF(CSK4=\"v\",0,IF(CSL1=\"Lauantai\",CSJ11,IF(CSL1=\"Sunnuntai\",CSJ11,IF(CSK2=\"h\",CSJ11,IF(CSJ10=\"\",0,IF(CSF10=\"\",0,IF(CSH11<CSK11,CSH11,CSK11)))))))+CSL11","v":"00:00:00"},null,{"$f":"IF(CSJ10=\"\",0,IF(CSH10=\"\",CSJ11,CSJ10-CSH10))","v":"00:00:00"},null,{"$f":"IF(CSJ10=\"\",0,CSJ10-CSF10)","v":"00:00:00"},{"$f":"IF(CSJ11<CSK10,0,IF(CSJ10=\"\",0,IF(CSF10=\"\",0,CSJ11-CSK10)))","v":"00:00:00"},{"$f":"IF(CSF4=\"\",0,IF(CSG4=\"ep\",CSH4-CSF4,IF(CSG4=\"y\",IF(CSF4<CSF7,(CSF7-CSF4),0),0)+IF(CSI4=\"y\",IF(CSH4>CSH7,(CSH4-CSH7),0),0)))+IF(CSF5=\"\",0,IF(CSG5=\"ep\",CSH5-CSF5,IF(CSG5=\"y\",IF(CSF5<CSF7,(CSF7-CSF5),0),0)+IF(CSI5=\"y\",IF(CSH5>CSH7,(CSH5-CSH7),0),0)))+IF(CSF6=\"\",0,IF(CSG6=\"ep\",CSH6-CSF6,IF(CSG6=\"y\",IF(CSF6<CSF7,(CSF7-CSF6),0),0)+IF(CSI6=\"y\",IF(CSH6>CSH7,(CSH6-CSH7),0),0)))","v":"00:00:00"},null,null,null,{"$f":"IF(CSU4=\"v\",0,IF(CSV1=\"Lauantai\",CST11,IF(CSV1=\"Sunnuntai\",CST11,IF(CSU2=\"h\",CST11,IF(CST10=\"\",0,IF(CSP10=\"\",0,IF(CSR11<CSU11,CSR11,CSU11)))))))+CSV11","v":"00:00:00"},null,{"$f":"IF(CST10=\"\",0,IF(CSR10=\"\",CST11,CST10-CSR10))","v":"00:00:00"},null,{"$f":"IF(CST10=\"\",0,CST10-CSP10)","v":"00:00:00"},{"$f":"IF(CST11<CSU10,0,IF(CST10=\"\",0,IF(CSP10=\"\",0,CST11-CSU10)))","v":"00:00:00"},{"$f":"IF(CSP4=\"\",0,IF(CSQ4=\"ep\",CSR4-CSP4,IF(CSQ4=\"y\",IF(CSP4<CSP7,(CSP7-CSP4),0),0)+IF(CSS4=\"y\",IF(CSR4>CSR7,(CSR4-CSR7),0),0)))+IF(CSP5=\"\",0,IF(CSQ5=\"ep\",CSR5-CSP5,IF(CSQ5=\"y\",IF(CSP5<CSP7,(CSP7-CSP5),0),0)+IF(CSS5=\"y\",IF(CSR5>CSR7,(CSR5-CSR7),0),0)))+IF(CSP6=\"\",0,IF(CSQ6=\"ep\",CSR6-CSP6,IF(CSQ6=\"y\",IF(CSP6<CSP7,(CSP7-CSP6),0),0)+IF(CSS6=\"y\",IF(CSR6>CSR7,(CSR6-CSR7),0),0)))","v":"00:00:00"},null,null,null,{"$f":"IF(CTE4=\"v\",0,IF(CTF1=\"Lauantai\",CTD11,IF(CTF1=\"Sunnuntai\",CTD11,IF(CTE2=\"h\",CTD11,IF(CTD10=\"\",0,IF(CSZ10=\"\",0,IF(CTB11<CTE11,CTB11,CTE11)))))))+CTF11","v":"00:00:00"},null,{"$f":"IF(CTD10=\"\",0,IF(CTB10=\"\",CTD11,CTD10-CTB10))","v":"00:00:00"},null,{"$f":"IF(CTD10=\"\",0,CTD10-CSZ10)","v":"00:00:00"},{"$f":"IF(CTD11<CTE10,0,IF(CTD10=\"\",0,IF(CSZ10=\"\",0,CTD11-CTE10)))","v":"00:00:00"},{"$f":"IF(CSZ4=\"\",0,IF(CTA4=\"ep\",CTB4-CSZ4,IF(CTA4=\"y\",IF(CSZ4<CSZ7,(CSZ7-CSZ4),0),0)+IF(CTC4=\"y\",IF(CTB4>CTB7,(CTB4-CTB7),0),0)))+IF(CSZ5=\"\",0,IF(CTA5=\"ep\",CTB5-CSZ5,IF(CTA5=\"y\",IF(CSZ5<CSZ7,(CSZ7-CSZ5),0),0)+IF(CTC5=\"y\",IF(CTB5>CTB7,(CTB5-CTB7),0),0)))+IF(CSZ6=\"\",0,IF(CTA6=\"ep\",CTB6-CSZ6,IF(CTA6=\"y\",IF(CSZ6<CSZ7,(CSZ7-CSZ6),0),0)+IF(CTC6=\"y\",IF(CTB6>CTB7,(CTB6-CTB7),0),0)))","v":"00:00:00"},null,null,null,{"$f":"IF(CTO4=\"v\",0,IF(CTP1=\"Lauantai\",CTN11,IF(CTP1=\"Sunnuntai\",CTN11,IF(CTO2=\"h\",CTN11,IF(CTN10=\"\",0,IF(CTJ10=\"\",0,IF(CTL11<CTO11,CTL11,CTO11)))))))+CTP11","v":"00:00:00"},null,{"$f":"IF(CTN10=\"\",0,IF(CTL10=\"\",CTN11,CTN10-CTL10))","v":"00:00:00"},null,{"$f":"IF(CTN10=\"\",0,CTN10-CTJ10)","v":"00:00:00"},{"$f":"IF(CTN11<CTO10,0,IF(CTN10=\"\",0,IF(CTJ10=\"\",0,CTN11-CTO10)))","v":"00:00:00"},{"$f":"IF(CTJ4=\"\",0,IF(CTK4=\"ep\",CTL4-CTJ4,IF(CTK4=\"y\",IF(CTJ4<CTJ7,(CTJ7-CTJ4),0),0)+IF(CTM4=\"y\",IF(CTL4>CTL7,(CTL4-CTL7),0),0)))+IF(CTJ5=\"\",0,IF(CTK5=\"ep\",CTL5-CTJ5,IF(CTK5=\"y\",IF(CTJ5<CTJ7,(CTJ7-CTJ5),0),0)+IF(CTM5=\"y\",IF(CTL5>CTL7,(CTL5-CTL7),0),0)))+IF(CTJ6=\"\",0,IF(CTK6=\"ep\",CTL6-CTJ6,IF(CTK6=\"y\",IF(CTJ6<CTJ7,(CTJ7-CTJ6),0),0)+IF(CTM6=\"y\",IF(CTL6>CTL7,(CTL6-CTL7),0),0)))","v":"00:00:00"},null,null,null,{"$f":"IF(CTY4=\"v\",0,IF(CTZ1=\"Lauantai\",CTX11,IF(CTZ1=\"Sunnuntai\",CTX11,IF(CTY2=\"h\",CTX11,IF(CTX10=\"\",0,IF(CTT10=\"\",0,IF(CTV11<CTY11,CTV11,CTY11)))))))+CTZ11","v":"00:00:00"},null,{"$f":"IF(CTX10=\"\",0,IF(CTV10=\"\",CTX11,CTX10-CTV10))","v":"00:00:00"},null,{"$f":"IF(CTX10=\"\",0,CTX10-CTT10)","v":"00:00:00"},{"$f":"IF(CTX11<CTY10,0,IF(CTX10=\"\",0,IF(CTT10=\"\",0,CTX11-CTY10)))","v":"00:00:00"},{"$f":"IF(CTT4=\"\",0,IF(CTU4=\"ep\",CTV4-CTT4,IF(CTU4=\"y\",IF(CTT4<CTT7,(CTT7-CTT4),0),0)+IF(CTW4=\"y\",IF(CTV4>CTV7,(CTV4-CTV7),0),0)))+IF(CTT5=\"\",0,IF(CTU5=\"ep\",CTV5-CTT5,IF(CTU5=\"y\",IF(CTT5<CTT7,(CTT7-CTT5),0),0)+IF(CTW5=\"y\",IF(CTV5>CTV7,(CTV5-CTV7),0),0)))+IF(CTT6=\"\",0,IF(CTU6=\"ep\",CTV6-CTT6,IF(CTU6=\"y\",IF(CTT6<CTT7,(CTT7-CTT6),0),0)+IF(CTW6=\"y\",IF(CTV6>CTV7,(CTV6-CTV7),0),0)))","v":"00:00:00"},null,null,null,{"$f":"IF(CUI4=\"v\",0,IF(CUJ1=\"Lauantai\",CUH11,IF(CUJ1=\"Sunnuntai\",CUH11,IF(CUI2=\"h\",CUH11,IF(CUH10=\"\",0,IF(CUD10=\"\",0,IF(CUF11<CUI11,CUF11,CUI11)))))))+CUJ11","v":"00:00:00"},null,{"$f":"IF(CUH10=\"\",0,IF(CUF10=\"\",CUH11,CUH10-CUF10))","v":"00:00:00"},null,{"$f":"IF(CUH10=\"\",0,CUH10-CUD10)","v":"00:00:00"},{"$f":"IF(CUH11<CUI10,0,IF(CUH10=\"\",0,IF(CUD10=\"\",0,CUH11-CUI10)))","v":"00:00:00"},{"$f":"IF(CUD4=\"\",0,IF(CUE4=\"ep\",CUF4-CUD4,IF(CUE4=\"y\",IF(CUD4<CUD7,(CUD7-CUD4),0),0)+IF(CUG4=\"y\",IF(CUF4>CUF7,(CUF4-CUF7),0),0)))+IF(CUD5=\"\",0,IF(CUE5=\"ep\",CUF5-CUD5,IF(CUE5=\"y\",IF(CUD5<CUD7,(CUD7-CUD5),0),0)+IF(CUG5=\"y\",IF(CUF5>CUF7,(CUF5-CUF7),0),0)))+IF(CUD6=\"\",0,IF(CUE6=\"ep\",CUF6-CUD6,IF(CUE6=\"y\",IF(CUD6<CUD7,(CUD7-CUD6),0),0)+IF(CUG6=\"y\",IF(CUF6>CUF7,(CUF6-CUF7),0),0)))","v":"00:00:00"},null,null,null,{"$f":"IF(CUS4=\"v\",0,IF(CUT1=\"Lauantai\",CUR11,IF(CUT1=\"Sunnuntai\",CUR11,IF(CUS2=\"h\",CUR11,IF(CUR10=\"\",0,IF(CUN10=\"\",0,IF(CUP11<CUS11,CUP11,CUS11)))))))+CUT11","v":"00:00:00"},null,{"$f":"IF(CUR10=\"\",0,IF(CUP10=\"\",CUR11,CUR10-CUP10))","v":"00:00:00"},null,{"$f":"IF(CUR10=\"\",0,CUR10-CUN10)","v":"00:00:00"},{"$f":"IF(CUR11<CUS10,0,IF(CUR10=\"\",0,IF(CUN10=\"\",0,CUR11-CUS10)))","v":"00:00:00"},{"$f":"IF(CUN4=\"\",0,IF(CUO4=\"ep\",CUP4-CUN4,IF(CUO4=\"y\",IF(CUN4<CUN7,(CUN7-CUN4),0),0)+IF(CUQ4=\"y\",IF(CUP4>CUP7,(CUP4-CUP7),0),0)))+IF(CUN5=\"\",0,IF(CUO5=\"ep\",CUP5-CUN5,IF(CUO5=\"y\",IF(CUN5<CUN7,(CUN7-CUN5),0),0)+IF(CUQ5=\"y\",IF(CUP5>CUP7,(CUP5-CUP7),0),0)))+IF(CUN6=\"\",0,IF(CUO6=\"ep\",CUP6-CUN6,IF(CUO6=\"y\",IF(CUN6<CUN7,(CUN7-CUN6),0),0)+IF(CUQ6=\"y\",IF(CUP6>CUP7,(CUP6-CUP7),0),0)))","v":"00:00:00"},null,null,null,{"$f":"IF(CVC4=\"v\",0,IF(CVD1=\"Lauantai\",CVB11,IF(CVD1=\"Sunnuntai\",CVB11,IF(CVC2=\"h\",CVB11,IF(CVB10=\"\",0,IF(CUX10=\"\",0,IF(CUZ11<CVC11,CUZ11,CVC11)))))))+CVD11","v":"00:00:00"},null,{"$f":"IF(CVB10=\"\",0,IF(CUZ10=\"\",CVB11,CVB10-CUZ10))","v":"00:00:00"},null,{"$f":"IF(CVB10=\"\",0,CVB10-CUX10)","v":"00:00:00"},{"$f":"IF(CVB11<CVC10,0,IF(CVB10=\"\",0,IF(CUX10=\"\",0,CVB11-CVC10)))","v":"00:00:00"},{"$f":"IF(CUX4=\"\",0,IF(CUY4=\"ep\",CUZ4-CUX4,IF(CUY4=\"y\",IF(CUX4<CUX7,(CUX7-CUX4),0),0)+IF(CVA4=\"y\",IF(CUZ4>CUZ7,(CUZ4-CUZ7),0),0)))+IF(CUX5=\"\",0,IF(CUY5=\"ep\",CUZ5-CUX5,IF(CUY5=\"y\",IF(CUX5<CUX7,(CUX7-CUX5),0),0)+IF(CVA5=\"y\",IF(CUZ5>CUZ7,(CUZ5-CUZ7),0),0)))+IF(CUX6=\"\",0,IF(CUY6=\"ep\",CUZ6-CUX6,IF(CUY6=\"y\",IF(CUX6<CUX7,(CUX7-CUX6),0),0)+IF(CVA6=\"y\",IF(CUZ6>CUZ7,(CUZ6-CUZ7),0),0)))","v":"00:00:00"},null,null,null,{"$f":"IF(CVM4=\"v\",0,IF(CVN1=\"Lauantai\",CVL11,IF(CVN1=\"Sunnuntai\",CVL11,IF(CVM2=\"h\",CVL11,IF(CVL10=\"\",0,IF(CVH10=\"\",0,IF(CVJ11<CVM11,CVJ11,CVM11)))))))+CVN11","v":"00:00:00"},null,{"$f":"IF(CVL10=\"\",0,IF(CVJ10=\"\",CVL11,CVL10-CVJ10))","v":"00:00:00"},null,{"$f":"IF(CVL10=\"\",0,CVL10-CVH10)","v":"00:00:00"},{"$f":"IF(CVL11<CVM10,0,IF(CVL10=\"\",0,IF(CVH10=\"\",0,CVL11-CVM10)))","v":"00:00:00"},{"$f":"IF(CVH4=\"\",0,IF(CVI4=\"ep\",CVJ4-CVH4,IF(CVI4=\"y\",IF(CVH4<CVH7,(CVH7-CVH4),0),0)+IF(CVK4=\"y\",IF(CVJ4>CVJ7,(CVJ4-CVJ7),0),0)))+IF(CVH5=\"\",0,IF(CVI5=\"ep\",CVJ5-CVH5,IF(CVI5=\"y\",IF(CVH5<CVH7,(CVH7-CVH5),0),0)+IF(CVK5=\"y\",IF(CVJ5>CVJ7,(CVJ5-CVJ7),0),0)))+IF(CVH6=\"\",0,IF(CVI6=\"ep\",CVJ6-CVH6,IF(CVI6=\"y\",IF(CVH6<CVH7,(CVH7-CVH6),0),0)+IF(CVK6=\"y\",IF(CVJ6>CVJ7,(CVJ6-CVJ7),0),0)))","v":"00:00:00"},null,null,null,{"$f":"IF(CVW4=\"v\",0,IF(CVX1=\"Lauantai\",CVV11,IF(CVX1=\"Sunnuntai\",CVV11,IF(CVW2=\"h\",CVV11,IF(CVV10=\"\",0,IF(CVR10=\"\",0,IF(CVT11<CVW11,CVT11,CVW11)))))))+CVX11","v":"00:00:00"},null,{"$f":"IF(CVV10=\"\",0,IF(CVT10=\"\",CVV11,CVV10-CVT10))","v":"00:00:00"},null,{"$f":"IF(CVV10=\"\",0,CVV10-CVR10)","v":"00:00:00"},{"$f":"IF(CVV11<CVW10,0,IF(CVV10=\"\",0,IF(CVR10=\"\",0,CVV11-CVW10)))","v":"00:00:00"},{"$f":"IF(CVR4=\"\",0,IF(CVS4=\"ep\",CVT4-CVR4,IF(CVS4=\"y\",IF(CVR4<CVR7,(CVR7-CVR4),0),0)+IF(CVU4=\"y\",IF(CVT4>CVT7,(CVT4-CVT7),0),0)))+IF(CVR5=\"\",0,IF(CVS5=\"ep\",CVT5-CVR5,IF(CVS5=\"y\",IF(CVR5<CVR7,(CVR7-CVR5),0),0)+IF(CVU5=\"y\",IF(CVT5>CVT7,(CVT5-CVT7),0),0)))+IF(CVR6=\"\",0,IF(CVS6=\"ep\",CVT6-CVR6,IF(CVS6=\"y\",IF(CVR6<CVR7,(CVR7-CVR6),0),0)+IF(CVU6=\"y\",IF(CVT6>CVT7,(CVT6-CVT7),0),0)))","v":"00:00:00"},null,null,null,{"$f":"IF(CWG4=\"v\",0,IF(CWH1=\"Lauantai\",CWF11,IF(CWH1=\"Sunnuntai\",CWF11,IF(CWG2=\"h\",CWF11,IF(CWF10=\"\",0,IF(CWB10=\"\",0,IF(CWD11<CWG11,CWD11,CWG11)))))))+CWH11","v":"00:00:00"},null,{"$f":"IF(CWF10=\"\",0,IF(CWD10=\"\",CWF11,CWF10-CWD10))","v":"00:00:00"},null,{"$f":"IF(CWF10=\"\",0,CWF10-CWB10)","v":"00:00:00"},{"$f":"IF(CWF11<CWG10,0,IF(CWF10=\"\",0,IF(CWB10=\"\",0,CWF11-CWG10)))","v":"00:00:00"},{"$f":"IF(CWB4=\"\",0,IF(CWC4=\"ep\",CWD4-CWB4,IF(CWC4=\"y\",IF(CWB4<CWB7,(CWB7-CWB4),0),0)+IF(CWE4=\"y\",IF(CWD4>CWD7,(CWD4-CWD7),0),0)))+IF(CWB5=\"\",0,IF(CWC5=\"ep\",CWD5-CWB5,IF(CWC5=\"y\",IF(CWB5<CWB7,(CWB7-CWB5),0),0)+IF(CWE5=\"y\",IF(CWD5>CWD7,(CWD5-CWD7),0),0)))+IF(CWB6=\"\",0,IF(CWC6=\"ep\",CWD6-CWB6,IF(CWC6=\"y\",IF(CWB6<CWB7,(CWB7-CWB6),0),0)+IF(CWE6=\"y\",IF(CWD6>CWD7,(CWD6-CWD7),0),0)))","v":"00:00:00"},null,null,null,{"$f":"IF(CWQ4=\"v\",0,IF(CWR1=\"Lauantai\",CWP11,IF(CWR1=\"Sunnuntai\",CWP11,IF(CWQ2=\"h\",CWP11,IF(CWP10=\"\",0,IF(CWL10=\"\",0,IF(CWN11<CWQ11,CWN11,CWQ11)))))))+CWR11","v":"00:00:00"},null,{"$f":"IF(CWP10=\"\",0,IF(CWN10=\"\",CWP11,CWP10-CWN10))","v":"00:00:00"},null,{"$f":"IF(CWP10=\"\",0,CWP10-CWL10)","v":"00:00:00"},{"$f":"IF(CWP11<CWQ10,0,IF(CWP10=\"\",0,IF(CWL10=\"\",0,CWP11-CWQ10)))","v":"00:00:00"},{"$f":"IF(CWL4=\"\",0,IF(CWM4=\"ep\",CWN4-CWL4,IF(CWM4=\"y\",IF(CWL4<CWL7,(CWL7-CWL4),0),0)+IF(CWO4=\"y\",IF(CWN4>CWN7,(CWN4-CWN7),0),0)))+IF(CWL5=\"\",0,IF(CWM5=\"ep\",CWN5-CWL5,IF(CWM5=\"y\",IF(CWL5<CWL7,(CWL7-CWL5),0),0)+IF(CWO5=\"y\",IF(CWN5>CWN7,(CWN5-CWN7),0),0)))+IF(CWL6=\"\",0,IF(CWM6=\"ep\",CWN6-CWL6,IF(CWM6=\"y\",IF(CWL6<CWL7,(CWL7-CWL6),0),0)+IF(CWO6=\"y\",IF(CWN6>CWN7,(CWN6-CWN7),0),0)))","v":"00:00:00"},null,null,null,{"$f":"IF(CXA4=\"v\",0,IF(CXB1=\"Lauantai\",CWZ11,IF(CXB1=\"Sunnuntai\",CWZ11,IF(CXA2=\"h\",CWZ11,IF(CWZ10=\"\",0,IF(CWV10=\"\",0,IF(CWX11<CXA11,CWX11,CXA11)))))))+CXB11","v":"00:00:00"},null,{"$f":"IF(CWZ10=\"\",0,IF(CWX10=\"\",CWZ11,CWZ10-CWX10))","v":"00:00:00"},null,{"$f":"IF(CWZ10=\"\",0,CWZ10-CWV10)","v":"00:00:00"},{"$f":"IF(CWZ11<CXA10,0,IF(CWZ10=\"\",0,IF(CWV10=\"\",0,CWZ11-CXA10)))","v":"00:00:00"},{"$f":"IF(CWV4=\"\",0,IF(CWW4=\"ep\",CWX4-CWV4,IF(CWW4=\"y\",IF(CWV4<CWV7,(CWV7-CWV4),0),0)+IF(CWY4=\"y\",IF(CWX4>CWX7,(CWX4-CWX7),0),0)))+IF(CWV5=\"\",0,IF(CWW5=\"ep\",CWX5-CWV5,IF(CWW5=\"y\",IF(CWV5<CWV7,(CWV7-CWV5),0),0)+IF(CWY5=\"y\",IF(CWX5>CWX7,(CWX5-CWX7),0),0)))+IF(CWV6=\"\",0,IF(CWW6=\"ep\",CWX6-CWV6,IF(CWW6=\"y\",IF(CWV6<CWV7,(CWV7-CWV6),0),0)+IF(CWY6=\"y\",IF(CWX6>CWX7,(CWX6-CWX7),0),0)))","v":"00:00:00"},null,null,null,{"$f":"IF(CXK4=\"v\",0,IF(CXL1=\"Lauantai\",CXJ11,IF(CXL1=\"Sunnuntai\",CXJ11,IF(CXK2=\"h\",CXJ11,IF(CXJ10=\"\",0,IF(CXF10=\"\",0,IF(CXH11<CXK11,CXH11,CXK11)))))))+CXL11","v":"00:00:00"},null,{"$f":"IF(CXJ10=\"\",0,IF(CXH10=\"\",CXJ11,CXJ10-CXH10))","v":"00:00:00"},null,{"$f":"IF(CXJ10=\"\",0,CXJ10-CXF10)","v":"00:00:00"},{"$f":"IF(CXJ11<CXK10,0,IF(CXJ10=\"\",0,IF(CXF10=\"\",0,CXJ11-CXK10)))","v":"00:00:00"},{"$f":"IF(CXF4=\"\",0,IF(CXG4=\"ep\",CXH4-CXF4,IF(CXG4=\"y\",IF(CXF4<CXF7,(CXF7-CXF4),0),0)+IF(CXI4=\"y\",IF(CXH4>CXH7,(CXH4-CXH7),0),0)))+IF(CXF5=\"\",0,IF(CXG5=\"ep\",CXH5-CXF5,IF(CXG5=\"y\",IF(CXF5<CXF7,(CXF7-CXF5),0),0)+IF(CXI5=\"y\",IF(CXH5>CXH7,(CXH5-CXH7),0),0)))+IF(CXF6=\"\",0,IF(CXG6=\"ep\",CXH6-CXF6,IF(CXG6=\"y\",IF(CXF6<CXF7,(CXF7-CXF6),0),0)+IF(CXI6=\"y\",IF(CXH6>CXH7,(CXH6-CXH7),0),0)))","v":"00:00:00"},null,null,null,{"$f":"IF(CXU4=\"v\",0,IF(CXV1=\"Lauantai\",CXT11,IF(CXV1=\"Sunnuntai\",CXT11,IF(CXU2=\"h\",CXT11,IF(CXT10=\"\",0,IF(CXP10=\"\",0,IF(CXR11<CXU11,CXR11,CXU11)))))))+CXV11","v":"00:00:00"},null,{"$f":"IF(CXT10=\"\",0,IF(CXR10=\"\",CXT11,CXT10-CXR10))","v":"00:00:00"},null,{"$f":"IF(CXT10=\"\",0,CXT10-CXP10)","v":"00:00:00"},{"$f":"IF(CXT11<CXU10,0,IF(CXT10=\"\",0,IF(CXP10=\"\",0,CXT11-CXU10)))","v":"00:00:00"},{"$f":"IF(CXP4=\"\",0,IF(CXQ4=\"ep\",CXR4-CXP4,IF(CXQ4=\"y\",IF(CXP4<CXP7,(CXP7-CXP4),0),0)+IF(CXS4=\"y\",IF(CXR4>CXR7,(CXR4-CXR7),0),0)))+IF(CXP5=\"\",0,IF(CXQ5=\"ep\",CXR5-CXP5,IF(CXQ5=\"y\",IF(CXP5<CXP7,(CXP7-CXP5),0),0)+IF(CXS5=\"y\",IF(CXR5>CXR7,(CXR5-CXR7),0),0)))+IF(CXP6=\"\",0,IF(CXQ6=\"ep\",CXR6-CXP6,IF(CXQ6=\"y\",IF(CXP6<CXP7,(CXP7-CXP6),0),0)+IF(CXS6=\"y\",IF(CXR6>CXR7,(CXR6-CXR7),0),0)))","v":"00:00:00"},null,null,null,{"$f":"IF(CYE4=\"v\",0,IF(CYF1=\"Lauantai\",CYD11,IF(CYF1=\"Sunnuntai\",CYD11,IF(CYE2=\"h\",CYD11,IF(CYD10=\"\",0,IF(CXZ10=\"\",0,IF(CYB11<CYE11,CYB11,CYE11)))))))+CYF11","v":"00:00:00"},null,{"$f":"IF(CYD10=\"\",0,IF(CYB10=\"\",CYD11,CYD10-CYB10))","v":"00:00:00"},null,{"$f":"IF(CYD10=\"\",0,CYD10-CXZ10)","v":"00:00:00"},{"$f":"IF(CYD11<CYE10,0,IF(CYD10=\"\",0,IF(CXZ10=\"\",0,CYD11-CYE10)))","v":"00:00:00"},{"$f":"IF(CXZ4=\"\",0,IF(CYA4=\"ep\",CYB4-CXZ4,IF(CYA4=\"y\",IF(CXZ4<CXZ7,(CXZ7-CXZ4),0),0)+IF(CYC4=\"y\",IF(CYB4>CYB7,(CYB4-CYB7),0),0)))+IF(CXZ5=\"\",0,IF(CYA5=\"ep\",CYB5-CXZ5,IF(CYA5=\"y\",IF(CXZ5<CXZ7,(CXZ7-CXZ5),0),0)+IF(CYC5=\"y\",IF(CYB5>CYB7,(CYB5-CYB7),0),0)))+IF(CXZ6=\"\",0,IF(CYA6=\"ep\",CYB6-CXZ6,IF(CYA6=\"y\",IF(CXZ6<CXZ7,(CXZ7-CXZ6),0),0)+IF(CYC6=\"y\",IF(CYB6>CYB7,(CYB6-CYB7),0),0)))","v":"00:00:00"},null,null,null,{"$f":"IF(CYO4=\"v\",0,IF(CYP1=\"Lauantai\",CYN11,IF(CYP1=\"Sunnuntai\",CYN11,IF(CYO2=\"h\",CYN11,IF(CYN10=\"\",0,IF(CYJ10=\"\",0,IF(CYL11<CYO11,CYL11,CYO11)))))))+CYP11","v":"00:00:00"},null,{"$f":"IF(CYN10=\"\",0,IF(CYL10=\"\",CYN11,CYN10-CYL10))","v":"00:00:00"},null,{"$f":"IF(CYN10=\"\",0,CYN10-CYJ10)","v":"00:00:00"},{"$f":"IF(CYN11<CYO10,0,IF(CYN10=\"\",0,IF(CYJ10=\"\",0,CYN11-CYO10)))","v":"00:00:00"},{"$f":"IF(CYJ4=\"\",0,IF(CYK4=\"ep\",CYL4-CYJ4,IF(CYK4=\"y\",IF(CYJ4<CYJ7,(CYJ7-CYJ4),0),0)+IF(CYM4=\"y\",IF(CYL4>CYL7,(CYL4-CYL7),0),0)))+IF(CYJ5=\"\",0,IF(CYK5=\"ep\",CYL5-CYJ5,IF(CYK5=\"y\",IF(CYJ5<CYJ7,(CYJ7-CYJ5),0),0)+IF(CYM5=\"y\",IF(CYL5>CYL7,(CYL5-CYL7),0),0)))+IF(CYJ6=\"\",0,IF(CYK6=\"ep\",CYL6-CYJ6,IF(CYK6=\"y\",IF(CYJ6<CYJ7,(CYJ7-CYJ6),0),0)+IF(CYM6=\"y\",IF(CYL6>CYL7,(CYL6-CYL7),0),0)))","v":"00:00:00"},null,null,null,{"$f":"IF(CYY4=\"v\",0,IF(CYZ1=\"Lauantai\",CYX11,IF(CYZ1=\"Sunnuntai\",CYX11,IF(CYY2=\"h\",CYX11,IF(CYX10=\"\",0,IF(CYT10=\"\",0,IF(CYV11<CYY11,CYV11,CYY11)))))))+CYZ11","v":"00:00:00"},null,{"$f":"IF(CYX10=\"\",0,IF(CYV10=\"\",CYX11,CYX10-CYV10))","v":"00:00:00"},null,{"$f":"IF(CYX10=\"\",0,CYX10-CYT10)","v":"00:00:00"},{"$f":"IF(CYX11<CYY10,0,IF(CYX10=\"\",0,IF(CYT10=\"\",0,CYX11-CYY10)))","v":"00:00:00"},{"$f":"IF(CYT4=\"\",0,IF(CYU4=\"ep\",CYV4-CYT4,IF(CYU4=\"y\",IF(CYT4<CYT7,(CYT7-CYT4),0),0)+IF(CYW4=\"y\",IF(CYV4>CYV7,(CYV4-CYV7),0),0)))+IF(CYT5=\"\",0,IF(CYU5=\"ep\",CYV5-CYT5,IF(CYU5=\"y\",IF(CYT5<CYT7,(CYT7-CYT5),0),0)+IF(CYW5=\"y\",IF(CYV5>CYV7,(CYV5-CYV7),0),0)))+IF(CYT6=\"\",0,IF(CYU6=\"ep\",CYV6-CYT6,IF(CYU6=\"y\",IF(CYT6<CYT7,(CYT7-CYT6),0),0)+IF(CYW6=\"y\",IF(CYV6>CYV7,(CYV6-CYV7),0),0)))","v":"00:00:00"},null,null,null,{"$f":"IF(CZI4=\"v\",0,IF(CZJ1=\"Lauantai\",CZH11,IF(CZJ1=\"Sunnuntai\",CZH11,IF(CZI2=\"h\",CZH11,IF(CZH10=\"\",0,IF(CZD10=\"\",0,IF(CZF11<CZI11,CZF11,CZI11)))))))+CZJ11","v":"00:00:00"},null,{"$f":"IF(CZH10=\"\",0,IF(CZF10=\"\",CZH11,CZH10-CZF10))","v":"00:00:00"},null,{"$f":"IF(CZH10=\"\",0,CZH10-CZD10)","v":"00:00:00"},{"$f":"IF(CZH11<CZI10,0,IF(CZH10=\"\",0,IF(CZD10=\"\",0,CZH11-CZI10)))","v":"00:00:00"},{"$f":"IF(CZD4=\"\",0,IF(CZE4=\"ep\",CZF4-CZD4,IF(CZE4=\"y\",IF(CZD4<CZD7,(CZD7-CZD4),0),0)+IF(CZG4=\"y\",IF(CZF4>CZF7,(CZF4-CZF7),0),0)))+IF(CZD5=\"\",0,IF(CZE5=\"ep\",CZF5-CZD5,IF(CZE5=\"y\",IF(CZD5<CZD7,(CZD7-CZD5),0),0)+IF(CZG5=\"y\",IF(CZF5>CZF7,(CZF5-CZF7),0),0)))+IF(CZD6=\"\",0,IF(CZE6=\"ep\",CZF6-CZD6,IF(CZE6=\"y\",IF(CZD6<CZD7,(CZD7-CZD6),0),0)+IF(CZG6=\"y\",IF(CZF6>CZF7,(CZF6-CZF7),0),0)))","v":"00:00:00"},null,null,null,{"$f":"IF(CZS4=\"v\",0,IF(CZT1=\"Lauantai\",CZR11,IF(CZT1=\"Sunnuntai\",CZR11,IF(CZS2=\"h\",CZR11,IF(CZR10=\"\",0,IF(CZN10=\"\",0,IF(CZP11<CZS11,CZP11,CZS11)))))))+CZT11","v":"00:00:00"},null,{"$f":"IF(CZR10=\"\",0,IF(CZP10=\"\",CZR11,CZR10-CZP10))","v":"00:00:00"},null,{"$f":"IF(CZR10=\"\",0,CZR10-CZN10)","v":"00:00:00"},{"$f":"IF(CZR11<CZS10,0,IF(CZR10=\"\",0,IF(CZN10=\"\",0,CZR11-CZS10)))","v":"00:00:00"},{"$f":"IF(CZN4=\"\",0,IF(CZO4=\"ep\",CZP4-CZN4,IF(CZO4=\"y\",IF(CZN4<CZN7,(CZN7-CZN4),0),0)+IF(CZQ4=\"y\",IF(CZP4>CZP7,(CZP4-CZP7),0),0)))+IF(CZN5=\"\",0,IF(CZO5=\"ep\",CZP5-CZN5,IF(CZO5=\"y\",IF(CZN5<CZN7,(CZN7-CZN5),0),0)+IF(CZQ5=\"y\",IF(CZP5>CZP7,(CZP5-CZP7),0),0)))+IF(CZN6=\"\",0,IF(CZO6=\"ep\",CZP6-CZN6,IF(CZO6=\"y\",IF(CZN6<CZN7,(CZN7-CZN6),0),0)+IF(CZQ6=\"y\",IF(CZP6>CZP7,(CZP6-CZP7),0),0)))","v":"00:00:00"},null,null,null,{"$f":"IF(DAC4=\"v\",0,IF(DAD1=\"Lauantai\",DAB11,IF(DAD1=\"Sunnuntai\",DAB11,IF(DAC2=\"h\",DAB11,IF(DAB10=\"\",0,IF(CZX10=\"\",0,IF(CZZ11<DAC11,CZZ11,DAC11)))))))+DAD11","v":"00:00:00"},null,{"$f":"IF(DAB10=\"\",0,IF(CZZ10=\"\",DAB11,DAB10-CZZ10))","v":"00:00:00"},null,{"$f":"IF(DAB10=\"\",0,DAB10-CZX10)","v":"00:00:00"},{"$f":"IF(DAB11<DAC10,0,IF(DAB10=\"\",0,IF(CZX10=\"\",0,DAB11-DAC10)))","v":"00:00:00"},{"$f":"IF(CZX4=\"\",0,IF(CZY4=\"ep\",CZZ4-CZX4,IF(CZY4=\"y\",IF(CZX4<CZX7,(CZX7-CZX4),0),0)+IF(DAA4=\"y\",IF(CZZ4>CZZ7,(CZZ4-CZZ7),0),0)))+IF(CZX5=\"\",0,IF(CZY5=\"ep\",CZZ5-CZX5,IF(CZY5=\"y\",IF(CZX5<CZX7,(CZX7-CZX5),0),0)+IF(DAA5=\"y\",IF(CZZ5>CZZ7,(CZZ5-CZZ7),0),0)))+IF(CZX6=\"\",0,IF(CZY6=\"ep\",CZZ6-CZX6,IF(CZY6=\"y\",IF(CZX6<CZX7,(CZX7-CZX6),0),0)+IF(DAA6=\"y\",IF(CZZ6>CZZ7,(CZZ6-CZZ7),0),0)))","v":"00:00:00"},null,null,null,{"$f":"IF(DAM4=\"v\",0,IF(DAN1=\"Lauantai\",DAL11,IF(DAN1=\"Sunnuntai\",DAL11,IF(DAM2=\"h\",DAL11,IF(DAL10=\"\",0,IF(DAH10=\"\",0,IF(DAJ11<DAM11,DAJ11,DAM11)))))))+DAN11","v":"00:00:00"},null,{"$f":"IF(DAL10=\"\",0,IF(DAJ10=\"\",DAL11,DAL10-DAJ10))","v":"00:00:00"},null,{"$f":"IF(DAL10=\"\",0,DAL10-DAH10)","v":"00:00:00"},{"$f":"IF(DAL11<DAM10,0,IF(DAL10=\"\",0,IF(DAH10=\"\",0,DAL11-DAM10)))","v":"00:00:00"},{"$f":"IF(DAH4=\"\",0,IF(DAI4=\"ep\",DAJ4-DAH4,IF(DAI4=\"y\",IF(DAH4<DAH7,(DAH7-DAH4),0),0)+IF(DAK4=\"y\",IF(DAJ4>DAJ7,(DAJ4-DAJ7),0),0)))+IF(DAH5=\"\",0,IF(DAI5=\"ep\",DAJ5-DAH5,IF(DAI5=\"y\",IF(DAH5<DAH7,(DAH7-DAH5),0),0)+IF(DAK5=\"y\",IF(DAJ5>DAJ7,(DAJ5-DAJ7),0),0)))+IF(DAH6=\"\",0,IF(DAI6=\"ep\",DAJ6-DAH6,IF(DAI6=\"y\",IF(DAH6<DAH7,(DAH7-DAH6),0),0)+IF(DAK6=\"y\",IF(DAJ6>DAJ7,(DAJ6-DAJ7),0),0)))","v":"00:00:00"},null,null,null,{"$f":"IF(DAW4=\"v\",0,IF(DAX1=\"Lauantai\",DAV11,IF(DAX1=\"Sunnuntai\",DAV11,IF(DAW2=\"h\",DAV11,IF(DAV10=\"\",0,IF(DAR10=\"\",0,IF(DAT11<DAW11,DAT11,DAW11)))))))+DAX11","v":"00:00:00"},null,{"$f":"IF(DAV10=\"\",0,IF(DAT10=\"\",DAV11,DAV10-DAT10))","v":"00:00:00"},null,{"$f":"IF(DAV10=\"\",0,DAV10-DAR10)","v":"00:00:00"},{"$f":"IF(DAV11<DAW10,0,IF(DAV10=\"\",0,IF(DAR10=\"\",0,DAV11-DAW10)))","v":"00:00:00"},{"$f":"IF(DAR4=\"\",0,IF(DAS4=\"ep\",DAT4-DAR4,IF(DAS4=\"y\",IF(DAR4<DAR7,(DAR7-DAR4),0),0)+IF(DAU4=\"y\",IF(DAT4>DAT7,(DAT4-DAT7),0),0)))+IF(DAR5=\"\",0,IF(DAS5=\"ep\",DAT5-DAR5,IF(DAS5=\"y\",IF(DAR5<DAR7,(DAR7-DAR5),0),0)+IF(DAU5=\"y\",IF(DAT5>DAT7,(DAT5-DAT7),0),0)))+IF(DAR6=\"\",0,IF(DAS6=\"ep\",DAT6-DAR6,IF(DAS6=\"y\",IF(DAR6<DAR7,(DAR7-DAR6),0),0)+IF(DAU6=\"y\",IF(DAT6>DAT7,(DAT6-DAT7),0),0)))","v":"00:00:00"},null,null,null,{"$f":"IF(DBG4=\"v\",0,IF(DBH1=\"Lauantai\",DBF11,IF(DBH1=\"Sunnuntai\",DBF11,IF(DBG2=\"h\",DBF11,IF(DBF10=\"\",0,IF(DBB10=\"\",0,IF(DBD11<DBG11,DBD11,DBG11)))))))+DBH11","v":"00:00:00"},null,{"$f":"IF(DBF10=\"\",0,IF(DBD10=\"\",DBF11,DBF10-DBD10))","v":"00:00:00"},null,{"$f":"IF(DBF10=\"\",0,DBF10-DBB10)","v":"00:00:00"},{"$f":"IF(DBF11<DBG10,0,IF(DBF10=\"\",0,IF(DBB10=\"\",0,DBF11-DBG10)))","v":"00:00:00"},{"$f":"IF(DBB4=\"\",0,IF(DBC4=\"ep\",DBD4-DBB4,IF(DBC4=\"y\",IF(DBB4<DBB7,(DBB7-DBB4),0),0)+IF(DBE4=\"y\",IF(DBD4>DBD7,(DBD4-DBD7),0),0)))+IF(DBB5=\"\",0,IF(DBC5=\"ep\",DBD5-DBB5,IF(DBC5=\"y\",IF(DBB5<DBB7,(DBB7-DBB5),0),0)+IF(DBE5=\"y\",IF(DBD5>DBD7,(DBD5-DBD7),0),0)))+IF(DBB6=\"\",0,IF(DBC6=\"ep\",DBD6-DBB6,IF(DBC6=\"y\",IF(DBB6<DBB7,(DBB7-DBB6),0),0)+IF(DBE6=\"y\",IF(DBD6>DBD7,(DBD6-DBD7),0),0)))","v":"00:00:00"},null,null,null,{"$f":"IF(DBQ4=\"v\",0,IF(DBR1=\"Lauantai\",DBP11,IF(DBR1=\"Sunnuntai\",DBP11,IF(DBQ2=\"h\",DBP11,IF(DBP10=\"\",0,IF(DBL10=\"\",0,IF(DBN11<DBQ11,DBN11,DBQ11)))))))+DBR11","v":"00:00:00"},null,{"$f":"IF(DBP10=\"\",0,IF(DBN10=\"\",DBP11,DBP10-DBN10))","v":"00:00:00"},null,{"$f":"IF(DBP10=\"\",0,DBP10-DBL10)","v":"00:00:00"},{"$f":"IF(DBP11<DBQ10,0,IF(DBP10=\"\",0,IF(DBL10=\"\",0,DBP11-DBQ10)))","v":"00:00:00"},{"$f":"IF(DBL4=\"\",0,IF(DBM4=\"ep\",DBN4-DBL4,IF(DBM4=\"y\",IF(DBL4<DBL7,(DBL7-DBL4),0),0)+IF(DBO4=\"y\",IF(DBN4>DBN7,(DBN4-DBN7),0),0)))+IF(DBL5=\"\",0,IF(DBM5=\"ep\",DBN5-DBL5,IF(DBM5=\"y\",IF(DBL5<DBL7,(DBL7-DBL5),0),0)+IF(DBO5=\"y\",IF(DBN5>DBN7,(DBN5-DBN7),0),0)))+IF(DBL6=\"\",0,IF(DBM6=\"ep\",DBN6-DBL6,IF(DBM6=\"y\",IF(DBL6<DBL7,(DBL7-DBL6),0),0)+IF(DBO6=\"y\",IF(DBN6>DBN7,(DBN6-DBN7),0),0)))","v":"00:00:00"},null,null,null,{"$f":"IF(DCA4=\"v\",0,IF(DCB1=\"Lauantai\",DBZ11,IF(DCB1=\"Sunnuntai\",DBZ11,IF(DCA2=\"h\",DBZ11,IF(DBZ10=\"\",0,IF(DBV10=\"\",0,IF(DBX11<DCA11,DBX11,DCA11)))))))+DCB11","v":"00:00:00"},null,{"$f":"IF(DBZ10=\"\",0,IF(DBX10=\"\",DBZ11,DBZ10-DBX10))","v":"00:00:00"},null,{"$f":"IF(DBZ10=\"\",0,DBZ10-DBV10)","v":"00:00:00"},{"$f":"IF(DBZ11<DCA10,0,IF(DBZ10=\"\",0,IF(DBV10=\"\",0,DBZ11-DCA10)))","v":"00:00:00"},{"$f":"IF(DBV4=\"\",0,IF(DBW4=\"ep\",DBX4-DBV4,IF(DBW4=\"y\",IF(DBV4<DBV7,(DBV7-DBV4),0),0)+IF(DBY4=\"y\",IF(DBX4>DBX7,(DBX4-DBX7),0),0)))+IF(DBV5=\"\",0,IF(DBW5=\"ep\",DBX5-DBV5,IF(DBW5=\"y\",IF(DBV5<DBV7,(DBV7-DBV5),0),0)+IF(DBY5=\"y\",IF(DBX5>DBX7,(DBX5-DBX7),0),0)))+IF(DBV6=\"\",0,IF(DBW6=\"ep\",DBX6-DBV6,IF(DBW6=\"y\",IF(DBV6<DBV7,(DBV7-DBV6),0),0)+IF(DBY6=\"y\",IF(DBX6>DBX7,(DBX6-DBX7),0),0)))","v":"00:00:00"},null,null,null,{"$f":"IF(DCK4=\"v\",0,IF(DCL1=\"Lauantai\",DCJ11,IF(DCL1=\"Sunnuntai\",DCJ11,IF(DCK2=\"h\",DCJ11,IF(DCJ10=\"\",0,IF(DCF10=\"\",0,IF(DCH11<DCK11,DCH11,DCK11)))))))+DCL11","v":"00:00:00"},null,{"$f":"IF(DCJ10=\"\",0,IF(DCH10=\"\",DCJ11,DCJ10-DCH10))","v":"00:00:00"},null,{"$f":"IF(DCJ10=\"\",0,DCJ10-DCF10)","v":"00:00:00"},{"$f":"IF(DCJ11<DCK10,0,IF(DCJ10=\"\",0,IF(DCF10=\"\",0,DCJ11-DCK10)))","v":"00:00:00"},{"$f":"IF(DCF4=\"\",0,IF(DCG4=\"ep\",DCH4-DCF4,IF(DCG4=\"y\",IF(DCF4<DCF7,(DCF7-DCF4),0),0)+IF(DCI4=\"y\",IF(DCH4>DCH7,(DCH4-DCH7),0),0)))+IF(DCF5=\"\",0,IF(DCG5=\"ep\",DCH5-DCF5,IF(DCG5=\"y\",IF(DCF5<DCF7,(DCF7-DCF5),0),0)+IF(DCI5=\"y\",IF(DCH5>DCH7,(DCH5-DCH7),0),0)))+IF(DCF6=\"\",0,IF(DCG6=\"ep\",DCH6-DCF6,IF(DCG6=\"y\",IF(DCF6<DCF7,(DCF7-DCF6),0),0)+IF(DCI6=\"y\",IF(DCH6>DCH7,(DCH6-DCH7),0),0)))","v":"00:00:00"},null,null,null,{"$f":"IF(DCU4=\"v\",0,IF(DCV1=\"Lauantai\",DCT11,IF(DCV1=\"Sunnuntai\",DCT11,IF(DCU2=\"h\",DCT11,IF(DCT10=\"\",0,IF(DCP10=\"\",0,IF(DCR11<DCU11,DCR11,DCU11)))))))+DCV11","v":"00:00:00"},null,{"$f":"IF(DCT10=\"\",0,IF(DCR10=\"\",DCT11,DCT10-DCR10))","v":"00:00:00"},null,{"$f":"IF(DCT10=\"\",0,DCT10-DCP10)","v":"00:00:00"},{"$f":"IF(DCT11<DCU10,0,IF(DCT10=\"\",0,IF(DCP10=\"\",0,DCT11-DCU10)))","v":"00:00:00"},{"$f":"IF(DCP4=\"\",0,IF(DCQ4=\"ep\",DCR4-DCP4,IF(DCQ4=\"y\",IF(DCP4<DCP7,(DCP7-DCP4),0),0)+IF(DCS4=\"y\",IF(DCR4>DCR7,(DCR4-DCR7),0),0)))+IF(DCP5=\"\",0,IF(DCQ5=\"ep\",DCR5-DCP5,IF(DCQ5=\"y\",IF(DCP5<DCP7,(DCP7-DCP5),0),0)+IF(DCS5=\"y\",IF(DCR5>DCR7,(DCR5-DCR7),0),0)))+IF(DCP6=\"\",0,IF(DCQ6=\"ep\",DCR6-DCP6,IF(DCQ6=\"y\",IF(DCP6<DCP7,(DCP7-DCP6),0),0)+IF(DCS6=\"y\",IF(DCR6>DCR7,(DCR6-DCR7),0),0)))","v":"00:00:00"},null,null,null,{"$f":"IF(DDE4=\"v\",0,IF(DDF1=\"Lauantai\",DDD11,IF(DDF1=\"Sunnuntai\",DDD11,IF(DDE2=\"h\",DDD11,IF(DDD10=\"\",0,IF(DCZ10=\"\",0,IF(DDB11<DDE11,DDB11,DDE11)))))))+DDF11","v":"00:00:00"},null,{"$f":"IF(DDD10=\"\",0,IF(DDB10=\"\",DDD11,DDD10-DDB10))","v":"00:00:00"},null,{"$f":"IF(DDD10=\"\",0,DDD10-DCZ10)","v":"00:00:00"},{"$f":"IF(DDD11<DDE10,0,IF(DDD10=\"\",0,IF(DCZ10=\"\",0,DDD11-DDE10)))","v":"00:00:00"},{"$f":"IF(DCZ4=\"\",0,IF(DDA4=\"ep\",DDB4-DCZ4,IF(DDA4=\"y\",IF(DCZ4<DCZ7,(DCZ7-DCZ4),0),0)+IF(DDC4=\"y\",IF(DDB4>DDB7,(DDB4-DDB7),0),0)))+IF(DCZ5=\"\",0,IF(DDA5=\"ep\",DDB5-DCZ5,IF(DDA5=\"y\",IF(DCZ5<DCZ7,(DCZ7-DCZ5),0),0)+IF(DDC5=\"y\",IF(DDB5>DDB7,(DDB5-DDB7),0),0)))+IF(DCZ6=\"\",0,IF(DDA6=\"ep\",DDB6-DCZ6,IF(DDA6=\"y\",IF(DCZ6<DCZ7,(DCZ7-DCZ6),0),0)+IF(DDC6=\"y\",IF(DDB6>DDB7,(DDB6-DDB7),0),0)))","v":"00:00:00"},null,null,null,{"$f":"IF(DDO4=\"v\",0,IF(DDP1=\"Lauantai\",DDN11,IF(DDP1=\"Sunnuntai\",DDN11,IF(DDO2=\"h\",DDN11,IF(DDN10=\"\",0,IF(DDJ10=\"\",0,IF(DDL11<DDO11,DDL11,DDO11)))))))+DDP11","v":"00:00:00"},null,{"$f":"IF(DDN10=\"\",0,IF(DDL10=\"\",DDN11,DDN10-DDL10))","v":"00:00:00"},null,{"$f":"IF(DDN10=\"\",0,DDN10-DDJ10)","v":"00:00:00"},{"$f":"IF(DDN11<DDO10,0,IF(DDN10=\"\",0,IF(DDJ10=\"\",0,DDN11-DDO10)))","v":"00:00:00"},{"$f":"IF(DDJ4=\"\",0,IF(DDK4=\"ep\",DDL4-DDJ4,IF(DDK4=\"y\",IF(DDJ4<DDJ7,(DDJ7-DDJ4),0),0)+IF(DDM4=\"y\",IF(DDL4>DDL7,(DDL4-DDL7),0),0)))+IF(DDJ5=\"\",0,IF(DDK5=\"ep\",DDL5-DDJ5,IF(DDK5=\"y\",IF(DDJ5<DDJ7,(DDJ7-DDJ5),0),0)+IF(DDM5=\"y\",IF(DDL5>DDL7,(DDL5-DDL7),0),0)))+IF(DDJ6=\"\",0,IF(DDK6=\"ep\",DDL6-DDJ6,IF(DDK6=\"y\",IF(DDJ6<DDJ7,(DDJ7-DDJ6),0),0)+IF(DDM6=\"y\",IF(DDL6>DDL7,(DDL6-DDL7),0),0)))","v":"00:00:00"},null,null,null,{"$f":"IF(DDY4=\"v\",0,IF(DDZ1=\"Lauantai\",DDX11,IF(DDZ1=\"Sunnuntai\",DDX11,IF(DDY2=\"h\",DDX11,IF(DDX10=\"\",0,IF(DDT10=\"\",0,IF(DDV11<DDY11,DDV11,DDY11)))))))+DDZ11","v":"00:00:00"},null,{"$f":"IF(DDX10=\"\",0,IF(DDV10=\"\",DDX11,DDX10-DDV10))","v":"00:00:00"},null,{"$f":"IF(DDX10=\"\",0,DDX10-DDT10)","v":"00:00:00"},{"$f":"IF(DDX11<DDY10,0,IF(DDX10=\"\",0,IF(DDT10=\"\",0,DDX11-DDY10)))","v":"00:00:00"},{"$f":"IF(DDT4=\"\",0,IF(DDU4=\"ep\",DDV4-DDT4,IF(DDU4=\"y\",IF(DDT4<DDT7,(DDT7-DDT4),0),0)+IF(DDW4=\"y\",IF(DDV4>DDV7,(DDV4-DDV7),0),0)))+IF(DDT5=\"\",0,IF(DDU5=\"ep\",DDV5-DDT5,IF(DDU5=\"y\",IF(DDT5<DDT7,(DDT7-DDT5),0),0)+IF(DDW5=\"y\",IF(DDV5>DDV7,(DDV5-DDV7),0),0)))+IF(DDT6=\"\",0,IF(DDU6=\"ep\",DDV6-DDT6,IF(DDU6=\"y\",IF(DDT6<DDT7,(DDT7-DDT6),0),0)+IF(DDW6=\"y\",IF(DDV6>DDV7,(DDV6-DDV7),0),0)))","v":"00:00:00"},null,null,null,{"$f":"IF(DEI4=\"v\",0,IF(DEJ1=\"Lauantai\",DEH11,IF(DEJ1=\"Sunnuntai\",DEH11,IF(DEI2=\"h\",DEH11,IF(DEH10=\"\",0,IF(DED10=\"\",0,IF(DEF11<DEI11,DEF11,DEI11)))))))+DEJ11","v":"00:00:00"},null,{"$f":"IF(DEH10=\"\",0,IF(DEF10=\"\",DEH11,DEH10-DEF10))","v":"00:00:00"},null,{"$f":"IF(DEH10=\"\",0,DEH10-DED10)","v":"00:00:00"},{"$f":"IF(DEH11<DEI10,0,IF(DEH10=\"\",0,IF(DED10=\"\",0,DEH11-DEI10)))","v":"00:00:00"},{"$f":"IF(DED4=\"\",0,IF(DEE4=\"ep\",DEF4-DED4,IF(DEE4=\"y\",IF(DED4<DED7,(DED7-DED4),0),0)+IF(DEG4=\"y\",IF(DEF4>DEF7,(DEF4-DEF7),0),0)))+IF(DED5=\"\",0,IF(DEE5=\"ep\",DEF5-DED5,IF(DEE5=\"y\",IF(DED5<DED7,(DED7-DED5),0),0)+IF(DEG5=\"y\",IF(DEF5>DEF7,(DEF5-DEF7),0),0)))+IF(DED6=\"\",0,IF(DEE6=\"ep\",DEF6-DED6,IF(DEE6=\"y\",IF(DED6<DED7,(DED7-DED6),0),0)+IF(DEG6=\"y\",IF(DEF6>DEF7,(DEF6-DEF7),0),0)))","v":"00:00:00"},null,null,null,{"$f":"IF(DES4=\"v\",0,IF(DET1=\"Lauantai\",DER11,IF(DET1=\"Sunnuntai\",DER11,IF(DES2=\"h\",DER11,IF(DER10=\"\",0,IF(DEN10=\"\",0,IF(DEP11<DES11,DEP11,DES11)))))))+DET11","v":"00:00:00"},null,{"$f":"IF(DER10=\"\",0,IF(DEP10=\"\",DER11,DER10-DEP10))","v":"00:00:00"},null,{"$f":"IF(DER10=\"\",0,DER10-DEN10)","v":"00:00:00"},{"$f":"IF(DER11<DES10,0,IF(DER10=\"\",0,IF(DEN10=\"\",0,DER11-DES10)))","v":"00:00:00"},{"$f":"IF(DEN4=\"\",0,IF(DEO4=\"ep\",DEP4-DEN4,IF(DEO4=\"y\",IF(DEN4<DEN7,(DEN7-DEN4),0),0)+IF(DEQ4=\"y\",IF(DEP4>DEP7,(DEP4-DEP7),0),0)))+IF(DEN5=\"\",0,IF(DEO5=\"ep\",DEP5-DEN5,IF(DEO5=\"y\",IF(DEN5<DEN7,(DEN7-DEN5),0),0)+IF(DEQ5=\"y\",IF(DEP5>DEP7,(DEP5-DEP7),0),0)))+IF(DEN6=\"\",0,IF(DEO6=\"ep\",DEP6-DEN6,IF(DEO6=\"y\",IF(DEN6<DEN7,(DEN7-DEN6),0),0)+IF(DEQ6=\"y\",IF(DEP6>DEP7,(DEP6-DEP7),0),0)))","v":"00:00:00"},null,null,null,{"$f":"IF(DFC4=\"v\",0,IF(DFD1=\"Lauantai\",DFB11,IF(DFD1=\"Sunnuntai\",DFB11,IF(DFC2=\"h\",DFB11,IF(DFB10=\"\",0,IF(DEX10=\"\",0,IF(DEZ11<DFC11,DEZ11,DFC11)))))))+DFD11","v":"00:00:00"},null,{"$f":"IF(DFB10=\"\",0,IF(DEZ10=\"\",DFB11,DFB10-DEZ10))","v":"00:00:00"},null,{"$f":"IF(DFB10=\"\",0,DFB10-DEX10)","v":"00:00:00"},{"$f":"IF(DFB11<DFC10,0,IF(DFB10=\"\",0,IF(DEX10=\"\",0,DFB11-DFC10)))","v":"00:00:00"},{"$f":"IF(DEX4=\"\",0,IF(DEY4=\"ep\",DEZ4-DEX4,IF(DEY4=\"y\",IF(DEX4<DEX7,(DEX7-DEX4),0),0)+IF(DFA4=\"y\",IF(DEZ4>DEZ7,(DEZ4-DEZ7),0),0)))+IF(DEX5=\"\",0,IF(DEY5=\"ep\",DEZ5-DEX5,IF(DEY5=\"y\",IF(DEX5<DEX7,(DEX7-DEX5),0),0)+IF(DFA5=\"y\",IF(DEZ5>DEZ7,(DEZ5-DEZ7),0),0)))+IF(DEX6=\"\",0,IF(DEY6=\"ep\",DEZ6-DEX6,IF(DEY6=\"y\",IF(DEX6<DEX7,(DEX7-DEX6),0),0)+IF(DFA6=\"y\",IF(DEZ6>DEZ7,(DEZ6-DEZ7),0),0)))","v":"00:00:00"},null,null,null,{"$f":"IF(DFM4=\"v\",0,IF(DFN1=\"Lauantai\",DFL11,IF(DFN1=\"Sunnuntai\",DFL11,IF(DFM2=\"h\",DFL11,IF(DFL10=\"\",0,IF(DFH10=\"\",0,IF(DFJ11<DFM11,DFJ11,DFM11)))))))+DFN11","v":"00:00:00"},null,{"$f":"IF(DFL10=\"\",0,IF(DFJ10=\"\",DFL11,DFL10-DFJ10))","v":"00:00:00"},null,{"$f":"IF(DFL10=\"\",0,DFL10-DFH10)","v":"00:00:00"},{"$f":"IF(DFL11<DFM10,0,IF(DFL10=\"\",0,IF(DFH10=\"\",0,DFL11-DFM10)))","v":"00:00:00"},{"$f":"IF(DFH4=\"\",0,IF(DFI4=\"ep\",DFJ4-DFH4,IF(DFI4=\"y\",IF(DFH4<DFH7,(DFH7-DFH4),0),0)+IF(DFK4=\"y\",IF(DFJ4>DFJ7,(DFJ4-DFJ7),0),0)))+IF(DFH5=\"\",0,IF(DFI5=\"ep\",DFJ5-DFH5,IF(DFI5=\"y\",IF(DFH5<DFH7,(DFH7-DFH5),0),0)+IF(DFK5=\"y\",IF(DFJ5>DFJ7,(DFJ5-DFJ7),0),0)))+IF(DFH6=\"\",0,IF(DFI6=\"ep\",DFJ6-DFH6,IF(DFI6=\"y\",IF(DFH6<DFH7,(DFH7-DFH6),0),0)+IF(DFK6=\"y\",IF(DFJ6>DFJ7,(DFJ6-DFJ7),0),0)))","v":"00:00:00"},null,null,null,{"$f":"IF(DFW4=\"v\",0,IF(DFX1=\"Lauantai\",DFV11,IF(DFX1=\"Sunnuntai\",DFV11,IF(DFW2=\"h\",DFV11,IF(DFV10=\"\",0,IF(DFR10=\"\",0,IF(DFT11<DFW11,DFT11,DFW11)))))))+DFX11","v":"00:00:00"},null,{"$f":"IF(DFV10=\"\",0,IF(DFT10=\"\",DFV11,DFV10-DFT10))","v":"00:00:00"},null,{"$f":"IF(DFV10=\"\",0,DFV10-DFR10)","v":"00:00:00"},{"$f":"IF(DFV11<DFW10,0,IF(DFV10=\"\",0,IF(DFR10=\"\",0,DFV11-DFW10)))","v":"00:00:00"},{"$f":"IF(DFR4=\"\",0,IF(DFS4=\"ep\",DFT4-DFR4,IF(DFS4=\"y\",IF(DFR4<DFR7,(DFR7-DFR4),0),0)+IF(DFU4=\"y\",IF(DFT4>DFT7,(DFT4-DFT7),0),0)))+IF(DFR5=\"\",0,IF(DFS5=\"ep\",DFT5-DFR5,IF(DFS5=\"y\",IF(DFR5<DFR7,(DFR7-DFR5),0),0)+IF(DFU5=\"y\",IF(DFT5>DFT7,(DFT5-DFT7),0),0)))+IF(DFR6=\"\",0,IF(DFS6=\"ep\",DFT6-DFR6,IF(DFS6=\"y\",IF(DFR6<DFR7,(DFR7-DFR6),0),0)+IF(DFU6=\"y\",IF(DFT6>DFT7,(DFT6-DFT7),0),0)))","v":"00:00:00"},null,null,null,{"$f":"IF(DGG4=\"v\",0,IF(DGH1=\"Lauantai\",DGF11,IF(DGH1=\"Sunnuntai\",DGF11,IF(DGG2=\"h\",DGF11,IF(DGF10=\"\",0,IF(DGB10=\"\",0,IF(DGD11<DGG11,DGD11,DGG11)))))))+DGH11","v":"00:00:00"},null,{"$f":"IF(DGF10=\"\",0,IF(DGD10=\"\",DGF11,DGF10-DGD10))","v":"00:00:00"},null,{"$f":"IF(DGF10=\"\",0,DGF10-DGB10)","v":"00:00:00"},{"$f":"IF(DGF11<DGG10,0,IF(DGF10=\"\",0,IF(DGB10=\"\",0,DGF11-DGG10)))","v":"00:00:00"},{"$f":"IF(DGB4=\"\",0,IF(DGC4=\"ep\",DGD4-DGB4,IF(DGC4=\"y\",IF(DGB4<DGB7,(DGB7-DGB4),0),0)+IF(DGE4=\"y\",IF(DGD4>DGD7,(DGD4-DGD7),0),0)))+IF(DGB5=\"\",0,IF(DGC5=\"ep\",DGD5-DGB5,IF(DGC5=\"y\",IF(DGB5<DGB7,(DGB7-DGB5),0),0)+IF(DGE5=\"y\",IF(DGD5>DGD7,(DGD5-DGD7),0),0)))+IF(DGB6=\"\",0,IF(DGC6=\"ep\",DGD6-DGB6,IF(DGC6=\"y\",IF(DGB6<DGB7,(DGB7-DGB6),0),0)+IF(DGE6=\"y\",IF(DGD6>DGD7,(DGD6-DGD7),0),0)))","v":"00:00:00"},null,null,null,{"$f":"IF(DGQ4=\"v\",0,IF(DGR1=\"Lauantai\",DGP11,IF(DGR1=\"Sunnuntai\",DGP11,IF(DGQ2=\"h\",DGP11,IF(DGP10=\"\",0,IF(DGL10=\"\",0,IF(DGN11<DGQ11,DGN11,DGQ11)))))))+DGR11","v":"00:00:00"},null,{"$f":"IF(DGP10=\"\",0,IF(DGN10=\"\",DGP11,DGP10-DGN10))","v":"00:00:00"},null,{"$f":"IF(DGP10=\"\",0,DGP10-DGL10)","v":"00:00:00"},{"$f":"IF(DGP11<DGQ10,0,IF(DGP10=\"\",0,IF(DGL10=\"\",0,DGP11-DGQ10)))","v":"00:00:00"},{"$f":"IF(DGL4=\"\",0,IF(DGM4=\"ep\",DGN4-DGL4,IF(DGM4=\"y\",IF(DGL4<DGL7,(DGL7-DGL4),0),0)+IF(DGO4=\"y\",IF(DGN4>DGN7,(DGN4-DGN7),0),0)))+IF(DGL5=\"\",0,IF(DGM5=\"ep\",DGN5-DGL5,IF(DGM5=\"y\",IF(DGL5<DGL7,(DGL7-DGL5),0),0)+IF(DGO5=\"y\",IF(DGN5>DGN7,(DGN5-DGN7),0),0)))+IF(DGL6=\"\",0,IF(DGM6=\"ep\",DGN6-DGL6,IF(DGM6=\"y\",IF(DGL6<DGL7,(DGL7-DGL6),0),0)+IF(DGO6=\"y\",IF(DGN6>DGN7,(DGN6-DGN7),0),0)))","v":"00:00:00"},null,null,null,{"$f":"IF(DHA4=\"v\",0,IF(DHB1=\"Lauantai\",DGZ11,IF(DHB1=\"Sunnuntai\",DGZ11,IF(DHA2=\"h\",DGZ11,IF(DGZ10=\"\",0,IF(DGV10=\"\",0,IF(DGX11<DHA11,DGX11,DHA11)))))))+DHB11","v":"00:00:00"},null,{"$f":"IF(DGZ10=\"\",0,IF(DGX10=\"\",DGZ11,DGZ10-DGX10))","v":"00:00:00"},null,{"$f":"IF(DGZ10=\"\",0,DGZ10-DGV10)","v":"00:00:00"},{"$f":"IF(DGZ11<DHA10,0,IF(DGZ10=\"\",0,IF(DGV10=\"\",0,DGZ11-DHA10)))","v":"00:00:00"},{"$f":"IF(DGV4=\"\",0,IF(DGW4=\"ep\",DGX4-DGV4,IF(DGW4=\"y\",IF(DGV4<DGV7,(DGV7-DGV4),0),0)+IF(DGY4=\"y\",IF(DGX4>DGX7,(DGX4-DGX7),0),0)))+IF(DGV5=\"\",0,IF(DGW5=\"ep\",DGX5-DGV5,IF(DGW5=\"y\",IF(DGV5<DGV7,(DGV7-DGV5),0),0)+IF(DGY5=\"y\",IF(DGX5>DGX7,(DGX5-DGX7),0),0)))+IF(DGV6=\"\",0,IF(DGW6=\"ep\",DGX6-DGV6,IF(DGW6=\"y\",IF(DGV6<DGV7,(DGV7-DGV6),0),0)+IF(DGY6=\"y\",IF(DGX6>DGX7,(DGX6-DGX7),0),0)))","v":"00:00:00"},null,null,null,{"$f":"IF(DHK4=\"v\",0,IF(DHL1=\"Lauantai\",DHJ11,IF(DHL1=\"Sunnuntai\",DHJ11,IF(DHK2=\"h\",DHJ11,IF(DHJ10=\"\",0,IF(DHF10=\"\",0,IF(DHH11<DHK11,DHH11,DHK11)))))))+DHL11","v":"00:00:00"},null,{"$f":"IF(DHJ10=\"\",0,IF(DHH10=\"\",DHJ11,DHJ10-DHH10))","v":"00:00:00"},null,{"$f":"IF(DHJ10=\"\",0,DHJ10-DHF10)","v":"00:00:00"},{"$f":"IF(DHJ11<DHK10,0,IF(DHJ10=\"\",0,IF(DHF10=\"\",0,DHJ11-DHK10)))","v":"00:00:00"},{"$f":"IF(DHF4=\"\",0,IF(DHG4=\"ep\",DHH4-DHF4,IF(DHG4=\"y\",IF(DHF4<DHF7,(DHF7-DHF4),0),0)+IF(DHI4=\"y\",IF(DHH4>DHH7,(DHH4-DHH7),0),0)))+IF(DHF5=\"\",0,IF(DHG5=\"ep\",DHH5-DHF5,IF(DHG5=\"y\",IF(DHF5<DHF7,(DHF7-DHF5),0),0)+IF(DHI5=\"y\",IF(DHH5>DHH7,(DHH5-DHH7),0),0)))+IF(DHF6=\"\",0,IF(DHG6=\"ep\",DHH6-DHF6,IF(DHG6=\"y\",IF(DHF6<DHF7,(DHF7-DHF6),0),0)+IF(DHI6=\"y\",IF(DHH6>DHH7,(DHH6-DHH7),0),0)))","v":"00:00:00"},null,null,null,{"$f":"IF(DHU4=\"v\",0,IF(DHV1=\"Lauantai\",DHT11,IF(DHV1=\"Sunnuntai\",DHT11,IF(DHU2=\"h\",DHT11,IF(DHT10=\"\",0,IF(DHP10=\"\",0,IF(DHR11<DHU11,DHR11,DHU11)))))))+DHV11","v":"00:00:00"},null,{"$f":"IF(DHT10=\"\",0,IF(DHR10=\"\",DHT11,DHT10-DHR10))","v":"00:00:00"},null,{"$f":"IF(DHT10=\"\",0,DHT10-DHP10)","v":"00:00:00"},{"$f":"IF(DHT11<DHU10,0,IF(DHT10=\"\",0,IF(DHP10=\"\",0,DHT11-DHU10)))","v":"00:00:00"},{"$f":"IF(DHP4=\"\",0,IF(DHQ4=\"ep\",DHR4-DHP4,IF(DHQ4=\"y\",IF(DHP4<DHP7,(DHP7-DHP4),0),0)+IF(DHS4=\"y\",IF(DHR4>DHR7,(DHR4-DHR7),0),0)))+IF(DHP5=\"\",0,IF(DHQ5=\"ep\",DHR5-DHP5,IF(DHQ5=\"y\",IF(DHP5<DHP7,(DHP7-DHP5),0),0)+IF(DHS5=\"y\",IF(DHR5>DHR7,(DHR5-DHR7),0),0)))+IF(DHP6=\"\",0,IF(DHQ6=\"ep\",DHR6-DHP6,IF(DHQ6=\"y\",IF(DHP6<DHP7,(DHP7-DHP6),0),0)+IF(DHS6=\"y\",IF(DHR6>DHR7,(DHR6-DHR7),0),0)))","v":"00:00:00"},null,null,null,{"$f":"IF(DIE4=\"v\",0,IF(DIF1=\"Lauantai\",DID11,IF(DIF1=\"Sunnuntai\",DID11,IF(DIE2=\"h\",DID11,IF(DID10=\"\",0,IF(DHZ10=\"\",0,IF(DIB11<DIE11,DIB11,DIE11)))))))+DIF11","v":"00:00:00"},null,{"$f":"IF(DID10=\"\",0,IF(DIB10=\"\",DID11,DID10-DIB10))","v":"00:00:00"},null,{"$f":"IF(DID10=\"\",0,DID10-DHZ10)","v":"00:00:00"},{"$f":"IF(DID11<DIE10,0,IF(DID10=\"\",0,IF(DHZ10=\"\",0,DID11-DIE10)))","v":"00:00:00"},{"$f":"IF(DHZ4=\"\",0,IF(DIA4=\"ep\",DIB4-DHZ4,IF(DIA4=\"y\",IF(DHZ4<DHZ7,(DHZ7-DHZ4),0),0)+IF(DIC4=\"y\",IF(DIB4>DIB7,(DIB4-DIB7),0),0)))+IF(DHZ5=\"\",0,IF(DIA5=\"ep\",DIB5-DHZ5,IF(DIA5=\"y\",IF(DHZ5<DHZ7,(DHZ7-DHZ5),0),0)+IF(DIC5=\"y\",IF(DIB5>DIB7,(DIB5-DIB7),0),0)))+IF(DHZ6=\"\",0,IF(DIA6=\"ep\",DIB6-DHZ6,IF(DIA6=\"y\",IF(DHZ6<DHZ7,(DHZ7-DHZ6),0),0)+IF(DIC6=\"y\",IF(DIB6>DIB7,(DIB6-DIB7),0),0)))","v":"00:00:00"},null,null,null,{"$f":"IF(DIO4=\"v\",0,IF(DIP1=\"Lauantai\",DIN11,IF(DIP1=\"Sunnuntai\",DIN11,IF(DIO2=\"h\",DIN11,IF(DIN10=\"\",0,IF(DIJ10=\"\",0,IF(DIL11<DIO11,DIL11,DIO11)))))))+DIP11","v":"00:00:00"},null,{"$f":"IF(DIN10=\"\",0,IF(DIL10=\"\",DIN11,DIN10-DIL10))","v":"00:00:00"},null,{"$f":"IF(DIN10=\"\",0,DIN10-DIJ10)","v":"00:00:00"},{"$f":"IF(DIN11<DIO10,0,IF(DIN10=\"\",0,IF(DIJ10=\"\",0,DIN11-DIO10)))","v":"00:00:00"},{"$f":"IF(DIJ4=\"\",0,IF(DIK4=\"ep\",DIL4-DIJ4,IF(DIK4=\"y\",IF(DIJ4<DIJ7,(DIJ7-DIJ4),0),0)+IF(DIM4=\"y\",IF(DIL4>DIL7,(DIL4-DIL7),0),0)))+IF(DIJ5=\"\",0,IF(DIK5=\"ep\",DIL5-DIJ5,IF(DIK5=\"y\",IF(DIJ5<DIJ7,(DIJ7-DIJ5),0),0)+IF(DIM5=\"y\",IF(DIL5>DIL7,(DIL5-DIL7),0),0)))+IF(DIJ6=\"\",0,IF(DIK6=\"ep\",DIL6-DIJ6,IF(DIK6=\"y\",IF(DIJ6<DIJ7,(DIJ7-DIJ6),0),0)+IF(DIM6=\"y\",IF(DIL6>DIL7,(DIL6-DIL7),0),0)))","v":"00:00:00"},null,null,null,{"$f":"IF(DIY4=\"v\",0,IF(DIZ1=\"Lauantai\",DIX11,IF(DIZ1=\"Sunnuntai\",DIX11,IF(DIY2=\"h\",DIX11,IF(DIX10=\"\",0,IF(DIT10=\"\",0,IF(DIV11<DIY11,DIV11,DIY11)))))))+DIZ11","v":"00:00:00"},null,{"$f":"IF(DIX10=\"\",0,IF(DIV10=\"\",DIX11,DIX10-DIV10))","v":"00:00:00"},null,{"$f":"IF(DIX10=\"\",0,DIX10-DIT10)","v":"00:00:00"},{"$f":"IF(DIX11<DIY10,0,IF(DIX10=\"\",0,IF(DIT10=\"\",0,DIX11-DIY10)))","v":"00:00:00"},{"$f":"IF(DIT4=\"\",0,IF(DIU4=\"ep\",DIV4-DIT4,IF(DIU4=\"y\",IF(DIT4<DIT7,(DIT7-DIT4),0),0)+IF(DIW4=\"y\",IF(DIV4>DIV7,(DIV4-DIV7),0),0)))+IF(DIT5=\"\",0,IF(DIU5=\"ep\",DIV5-DIT5,IF(DIU5=\"y\",IF(DIT5<DIT7,(DIT7-DIT5),0),0)+IF(DIW5=\"y\",IF(DIV5>DIV7,(DIV5-DIV7),0),0)))+IF(DIT6=\"\",0,IF(DIU6=\"ep\",DIV6-DIT6,IF(DIU6=\"y\",IF(DIT6<DIT7,(DIT7-DIT6),0),0)+IF(DIW6=\"y\",IF(DIV6>DIV7,(DIV6-DIV7),0),0)))","v":"00:00:00"},null,null,null,{"$f":"IF(DJI4=\"v\",0,IF(DJJ1=\"Lauantai\",DJH11,IF(DJJ1=\"Sunnuntai\",DJH11,IF(DJI2=\"h\",DJH11,IF(DJH10=\"\",0,IF(DJD10=\"\",0,IF(DJF11<DJI11,DJF11,DJI11)))))))+DJJ11","v":"00:00:00"},null,{"$f":"IF(DJH10=\"\",0,IF(DJF10=\"\",DJH11,DJH10-DJF10))","v":"00:00:00"},null,{"$f":"IF(DJH10=\"\",0,DJH10-DJD10)","v":"00:00:00"},{"$f":"IF(DJH11<DJI10,0,IF(DJH10=\"\",0,IF(DJD10=\"\",0,DJH11-DJI10)))","v":"00:00:00"},{"$f":"IF(DJD4=\"\",0,IF(DJE4=\"ep\",DJF4-DJD4,IF(DJE4=\"y\",IF(DJD4<DJD7,(DJD7-DJD4),0),0)+IF(DJG4=\"y\",IF(DJF4>DJF7,(DJF4-DJF7),0),0)))+IF(DJD5=\"\",0,IF(DJE5=\"ep\",DJF5-DJD5,IF(DJE5=\"y\",IF(DJD5<DJD7,(DJD7-DJD5),0),0)+IF(DJG5=\"y\",IF(DJF5>DJF7,(DJF5-DJF7),0),0)))+IF(DJD6=\"\",0,IF(DJE6=\"ep\",DJF6-DJD6,IF(DJE6=\"y\",IF(DJD6<DJD7,(DJD7-DJD6),0),0)+IF(DJG6=\"y\",IF(DJF6>DJF7,(DJF6-DJF7),0),0)))","v":"00:00:00"},null,null,null,{"$f":"IF(DJS4=\"v\",0,IF(DJT1=\"Lauantai\",DJR11,IF(DJT1=\"Sunnuntai\",DJR11,IF(DJS2=\"h\",DJR11,IF(DJR10=\"\",0,IF(DJN10=\"\",0,IF(DJP11<DJS11,DJP11,DJS11)))))))+DJT11","v":"00:00:00"},null,{"$f":"IF(DJR10=\"\",0,IF(DJP10=\"\",DJR11,DJR10-DJP10))","v":"00:00:00"},null,{"$f":"IF(DJR10=\"\",0,DJR10-DJN10)","v":"00:00:00"},{"$f":"IF(DJR11<DJS10,0,IF(DJR10=\"\",0,IF(DJN10=\"\",0,DJR11-DJS10)))","v":"00:00:00"},{"$f":"IF(DJN4=\"\",0,IF(DJO4=\"ep\",DJP4-DJN4,IF(DJO4=\"y\",IF(DJN4<DJN7,(DJN7-DJN4),0),0)+IF(DJQ4=\"y\",IF(DJP4>DJP7,(DJP4-DJP7),0),0)))+IF(DJN5=\"\",0,IF(DJO5=\"ep\",DJP5-DJN5,IF(DJO5=\"y\",IF(DJN5<DJN7,(DJN7-DJN5),0),0)+IF(DJQ5=\"y\",IF(DJP5>DJP7,(DJP5-DJP7),0),0)))+IF(DJN6=\"\",0,IF(DJO6=\"ep\",DJP6-DJN6,IF(DJO6=\"y\",IF(DJN6<DJN7,(DJN7-DJN6),0),0)+IF(DJQ6=\"y\",IF(DJP6>DJP7,(DJP6-DJP7),0),0)))","v":"00:00:00"},null,null,null,{"$f":"IF(DKC4=\"v\",0,IF(DKD1=\"Lauantai\",DKB11,IF(DKD1=\"Sunnuntai\",DKB11,IF(DKC2=\"h\",DKB11,IF(DKB10=\"\",0,IF(DJX10=\"\",0,IF(DJZ11<DKC11,DJZ11,DKC11)))))))+DKD11","v":"00:00:00"},null,{"$f":"IF(DKB10=\"\",0,IF(DJZ10=\"\",DKB11,DKB10-DJZ10))","v":"00:00:00"},null,{"$f":"IF(DKB10=\"\",0,DKB10-DJX10)","v":"00:00:00"},{"$f":"IF(DKB11<DKC10,0,IF(DKB10=\"\",0,IF(DJX10=\"\",0,DKB11-DKC10)))","v":"00:00:00"},{"$f":"IF(DJX4=\"\",0,IF(DJY4=\"ep\",DJZ4-DJX4,IF(DJY4=\"y\",IF(DJX4<DJX7,(DJX7-DJX4),0),0)+IF(DKA4=\"y\",IF(DJZ4>DJZ7,(DJZ4-DJZ7),0),0)))+IF(DJX5=\"\",0,IF(DJY5=\"ep\",DJZ5-DJX5,IF(DJY5=\"y\",IF(DJX5<DJX7,(DJX7-DJX5),0),0)+IF(DKA5=\"y\",IF(DJZ5>DJZ7,(DJZ5-DJZ7),0),0)))+IF(DJX6=\"\",0,IF(DJY6=\"ep\",DJZ6-DJX6,IF(DJY6=\"y\",IF(DJX6<DJX7,(DJX7-DJX6),0),0)+IF(DKA6=\"y\",IF(DJZ6>DJZ7,(DJZ6-DJZ7),0),0)))","v":"00:00:00"},null,null,null,{"$f":"IF(DKM4=\"v\",0,IF(DKN1=\"Lauantai\",DKL11,IF(DKN1=\"Sunnuntai\",DKL11,IF(DKM2=\"h\",DKL11,IF(DKL10=\"\",0,IF(DKH10=\"\",0,IF(DKJ11<DKM11,DKJ11,DKM11)))))))+DKN11","v":"00:00:00"},null,{"$f":"IF(DKL10=\"\",0,IF(DKJ10=\"\",DKL11,DKL10-DKJ10))","v":"00:00:00"},null,{"$f":"IF(DKL10=\"\",0,DKL10-DKH10)","v":"00:00:00"},{"$f":"IF(DKL11<DKM10,0,IF(DKL10=\"\",0,IF(DKH10=\"\",0,DKL11-DKM10)))","v":"00:00:00"},{"$f":"IF(DKH4=\"\",0,IF(DKI4=\"ep\",DKJ4-DKH4,IF(DKI4=\"y\",IF(DKH4<DKH7,(DKH7-DKH4),0),0)+IF(DKK4=\"y\",IF(DKJ4>DKJ7,(DKJ4-DKJ7),0),0)))+IF(DKH5=\"\",0,IF(DKI5=\"ep\",DKJ5-DKH5,IF(DKI5=\"y\",IF(DKH5<DKH7,(DKH7-DKH5),0),0)+IF(DKK5=\"y\",IF(DKJ5>DKJ7,(DKJ5-DKJ7),0),0)))+IF(DKH6=\"\",0,IF(DKI6=\"ep\",DKJ6-DKH6,IF(DKI6=\"y\",IF(DKH6<DKH7,(DKH7-DKH6),0),0)+IF(DKK6=\"y\",IF(DKJ6>DKJ7,(DKJ6-DKJ7),0),0)))","v":"00:00:00"},null,null,null,{"$f":"IF(DKW4=\"v\",0,IF(DKX1=\"Lauantai\",DKV11,IF(DKX1=\"Sunnuntai\",DKV11,IF(DKW2=\"h\",DKV11,IF(DKV10=\"\",0,IF(DKR10=\"\",0,IF(DKT11<DKW11,DKT11,DKW11)))))))+DKX11","v":"00:00:00"},null,{"$f":"IF(DKV10=\"\",0,IF(DKT10=\"\",DKV11,DKV10-DKT10))","v":"00:00:00"},null,{"$f":"IF(DKV10=\"\",0,DKV10-DKR10)","v":"00:00:00"},{"$f":"IF(DKV11<DKW10,0,IF(DKV10=\"\",0,IF(DKR10=\"\",0,DKV11-DKW10)))","v":"00:00:00"},{"$f":"IF(DKR4=\"\",0,IF(DKS4=\"ep\",DKT4-DKR4,IF(DKS4=\"y\",IF(DKR4<DKR7,(DKR7-DKR4),0),0)+IF(DKU4=\"y\",IF(DKT4>DKT7,(DKT4-DKT7),0),0)))+IF(DKR5=\"\",0,IF(DKS5=\"ep\",DKT5-DKR5,IF(DKS5=\"y\",IF(DKR5<DKR7,(DKR7-DKR5),0),0)+IF(DKU5=\"y\",IF(DKT5>DKT7,(DKT5-DKT7),0),0)))+IF(DKR6=\"\",0,IF(DKS6=\"ep\",DKT6-DKR6,IF(DKS6=\"y\",IF(DKR6<DKR7,(DKR7-DKR6),0),0)+IF(DKU6=\"y\",IF(DKT6>DKT7,(DKT6-DKT7),0),0)))","v":"00:00:00"},null,null,null,{"$f":"IF(DLG4=\"v\",0,IF(DLH1=\"Lauantai\",DLF11,IF(DLH1=\"Sunnuntai\",DLF11,IF(DLG2=\"h\",DLF11,IF(DLF10=\"\",0,IF(DLB10=\"\",0,IF(DLD11<DLG11,DLD11,DLG11)))))))+DLH11","v":"00:00:00"},null,{"$f":"IF(DLF10=\"\",0,IF(DLD10=\"\",DLF11,DLF10-DLD10))","v":"00:00:00"},null,{"$f":"IF(DLF10=\"\",0,DLF10-DLB10)","v":"00:00:00"},{"$f":"IF(DLF11<DLG10,0,IF(DLF10=\"\",0,IF(DLB10=\"\",0,DLF11-DLG10)))","v":"00:00:00"},{"$f":"IF(DLB4=\"\",0,IF(DLC4=\"ep\",DLD4-DLB4,IF(DLC4=\"y\",IF(DLB4<DLB7,(DLB7-DLB4),0),0)+IF(DLE4=\"y\",IF(DLD4>DLD7,(DLD4-DLD7),0),0)))+IF(DLB5=\"\",0,IF(DLC5=\"ep\",DLD5-DLB5,IF(DLC5=\"y\",IF(DLB5<DLB7,(DLB7-DLB5),0),0)+IF(DLE5=\"y\",IF(DLD5>DLD7,(DLD5-DLD7),0),0)))+IF(DLB6=\"\",0,IF(DLC6=\"ep\",DLD6-DLB6,IF(DLC6=\"y\",IF(DLB6<DLB7,(DLB7-DLB6),0),0)+IF(DLE6=\"y\",IF(DLD6>DLD7,(DLD6-DLD7),0),0)))","v":"00:00:00"},null,null,null,{"$f":"IF(DLQ4=\"v\",0,IF(DLR1=\"Lauantai\",DLP11,IF(DLR1=\"Sunnuntai\",DLP11,IF(DLQ2=\"h\",DLP11,IF(DLP10=\"\",0,IF(DLL10=\"\",0,IF(DLN11<DLQ11,DLN11,DLQ11)))))))+DLR11","v":"00:00:00"},null,{"$f":"IF(DLP10=\"\",0,IF(DLN10=\"\",DLP11,DLP10-DLN10))","v":"00:00:00"},null,{"$f":"IF(DLP10=\"\",0,DLP10-DLL10)","v":"00:00:00"},{"$f":"IF(DLP11<DLQ10,0,IF(DLP10=\"\",0,IF(DLL10=\"\",0,DLP11-DLQ10)))","v":"00:00:00"},{"$f":"IF(DLL4=\"\",0,IF(DLM4=\"ep\",DLN4-DLL4,IF(DLM4=\"y\",IF(DLL4<DLL7,(DLL7-DLL4),0),0)+IF(DLO4=\"y\",IF(DLN4>DLN7,(DLN4-DLN7),0),0)))+IF(DLL5=\"\",0,IF(DLM5=\"ep\",DLN5-DLL5,IF(DLM5=\"y\",IF(DLL5<DLL7,(DLL7-DLL5),0),0)+IF(DLO5=\"y\",IF(DLN5>DLN7,(DLN5-DLN7),0),0)))+IF(DLL6=\"\",0,IF(DLM6=\"ep\",DLN6-DLL6,IF(DLM6=\"y\",IF(DLL6<DLL7,(DLL7-DLL6),0),0)+IF(DLO6=\"y\",IF(DLN6>DLN7,(DLN6-DLN7),0),0)))","v":"00:00:00"},null,null,null,{"$f":"IF(DMA4=\"v\",0,IF(DMB1=\"Lauantai\",DLZ11,IF(DMB1=\"Sunnuntai\",DLZ11,IF(DMA2=\"h\",DLZ11,IF(DLZ10=\"\",0,IF(DLV10=\"\",0,IF(DLX11<DMA11,DLX11,DMA11)))))))+DMB11","v":"00:00:00"},null,{"$f":"IF(DLZ10=\"\",0,IF(DLX10=\"\",DLZ11,DLZ10-DLX10))","v":"00:00:00"},null,{"$f":"IF(DLZ10=\"\",0,DLZ10-DLV10)","v":"00:00:00"},{"$f":"IF(DLZ11<DMA10,0,IF(DLZ10=\"\",0,IF(DLV10=\"\",0,DLZ11-DMA10)))","v":"00:00:00"},{"$f":"IF(DLV4=\"\",0,IF(DLW4=\"ep\",DLX4-DLV4,IF(DLW4=\"y\",IF(DLV4<DLV7,(DLV7-DLV4),0),0)+IF(DLY4=\"y\",IF(DLX4>DLX7,(DLX4-DLX7),0),0)))+IF(DLV5=\"\",0,IF(DLW5=\"ep\",DLX5-DLV5,IF(DLW5=\"y\",IF(DLV5<DLV7,(DLV7-DLV5),0),0)+IF(DLY5=\"y\",IF(DLX5>DLX7,(DLX5-DLX7),0),0)))+IF(DLV6=\"\",0,IF(DLW6=\"ep\",DLX6-DLV6,IF(DLW6=\"y\",IF(DLV6<DLV7,(DLV7-DLV6),0),0)+IF(DLY6=\"y\",IF(DLX6>DLX7,(DLX6-DLX7),0),0)))","v":"00:00:00"},null,null,null,{"$f":"IF(DMK4=\"v\",0,IF(DML1=\"Lauantai\",DMJ11,IF(DML1=\"Sunnuntai\",DMJ11,IF(DMK2=\"h\",DMJ11,IF(DMJ10=\"\",0,IF(DMF10=\"\",0,IF(DMH11<DMK11,DMH11,DMK11)))))))+DML11","v":"00:00:00"},null,{"$f":"IF(DMJ10=\"\",0,IF(DMH10=\"\",DMJ11,DMJ10-DMH10))","v":"00:00:00"},null,{"$f":"IF(DMJ10=\"\",0,DMJ10-DMF10)","v":"00:00:00"},{"$f":"IF(DMJ11<DMK10,0,IF(DMJ10=\"\",0,IF(DMF10=\"\",0,DMJ11-DMK10)))","v":"00:00:00"},{"$f":"IF(DMF4=\"\",0,IF(DMG4=\"ep\",DMH4-DMF4,IF(DMG4=\"y\",IF(DMF4<DMF7,(DMF7-DMF4),0),0)+IF(DMI4=\"y\",IF(DMH4>DMH7,(DMH4-DMH7),0),0)))+IF(DMF5=\"\",0,IF(DMG5=\"ep\",DMH5-DMF5,IF(DMG5=\"y\",IF(DMF5<DMF7,(DMF7-DMF5),0),0)+IF(DMI5=\"y\",IF(DMH5>DMH7,(DMH5-DMH7),0),0)))+IF(DMF6=\"\",0,IF(DMG6=\"ep\",DMH6-DMF6,IF(DMG6=\"y\",IF(DMF6<DMF7,(DMF7-DMF6),0),0)+IF(DMI6=\"y\",IF(DMH6>DMH7,(DMH6-DMH7),0),0)))","v":"00:00:00"},null,null,null,{"$f":"IF(DMU4=\"v\",0,IF(DMV1=\"Lauantai\",DMT11,IF(DMV1=\"Sunnuntai\",DMT11,IF(DMU2=\"h\",DMT11,IF(DMT10=\"\",0,IF(DMP10=\"\",0,IF(DMR11<DMU11,DMR11,DMU11)))))))+DMV11","v":"00:00:00"},null,{"$f":"IF(DMT10=\"\",0,IF(DMR10=\"\",DMT11,DMT10-DMR10))","v":"00:00:00"},null,{"$f":"IF(DMT10=\"\",0,DMT10-DMP10)","v":"00:00:00"},{"$f":"IF(DMT11<DMU10,0,IF(DMT10=\"\",0,IF(DMP10=\"\",0,DMT11-DMU10)))","v":"00:00:00"},{"$f":"IF(DMP4=\"\",0,IF(DMQ4=\"ep\",DMR4-DMP4,IF(DMQ4=\"y\",IF(DMP4<DMP7,(DMP7-DMP4),0),0)+IF(DMS4=\"y\",IF(DMR4>DMR7,(DMR4-DMR7),0),0)))+IF(DMP5=\"\",0,IF(DMQ5=\"ep\",DMR5-DMP5,IF(DMQ5=\"y\",IF(DMP5<DMP7,(DMP7-DMP5),0),0)+IF(DMS5=\"y\",IF(DMR5>DMR7,(DMR5-DMR7),0),0)))+IF(DMP6=\"\",0,IF(DMQ6=\"ep\",DMR6-DMP6,IF(DMQ6=\"y\",IF(DMP6<DMP7,(DMP7-DMP6),0),0)+IF(DMS6=\"y\",IF(DMR6>DMR7,(DMR6-DMR7),0),0)))","v":"00:00:00"},null,null,null,{"$f":"IF(DNE4=\"v\",0,IF(DNF1=\"Lauantai\",DND11,IF(DNF1=\"Sunnuntai\",DND11,IF(DNE2=\"h\",DND11,IF(DND10=\"\",0,IF(DMZ10=\"\",0,IF(DNB11<DNE11,DNB11,DNE11)))))))+DNF11","v":"00:00:00"},null,{"$f":"IF(DND10=\"\",0,IF(DNB10=\"\",DND11,DND10-DNB10))","v":"00:00:00"},null,{"$f":"IF(DND10=\"\",0,DND10-DMZ10)","v":"00:00:00"},{"$f":"IF(DND11<DNE10,0,IF(DND10=\"\",0,IF(DMZ10=\"\",0,DND11-DNE10)))","v":"00:00:00"},{"$f":"IF(DMZ4=\"\",0,IF(DNA4=\"ep\",DNB4-DMZ4,IF(DNA4=\"y\",IF(DMZ4<DMZ7,(DMZ7-DMZ4),0),0)+IF(DNC4=\"y\",IF(DNB4>DNB7,(DNB4-DNB7),0),0)))+IF(DMZ5=\"\",0,IF(DNA5=\"ep\",DNB5-DMZ5,IF(DNA5=\"y\",IF(DMZ5<DMZ7,(DMZ7-DMZ5),0),0)+IF(DNC5=\"y\",IF(DNB5>DNB7,(DNB5-DNB7),0),0)))+IF(DMZ6=\"\",0,IF(DNA6=\"ep\",DNB6-DMZ6,IF(DNA6=\"y\",IF(DMZ6<DMZ7,(DMZ7-DMZ6),0),0)+IF(DNC6=\"y\",IF(DNB6>DNB7,(DNB6-DNB7),0),0)))","v":"00:00:00"},null,null,null,{"$f":"IF(DNO4=\"v\",0,IF(DNP1=\"Lauantai\",DNN11,IF(DNP1=\"Sunnuntai\",DNN11,IF(DNO2=\"h\",DNN11,IF(DNN10=\"\",0,IF(DNJ10=\"\",0,IF(DNL11<DNO11,DNL11,DNO11)))))))+DNP11","v":"00:00:00"},null,{"$f":"IF(DNN10=\"\",0,IF(DNL10=\"\",DNN11,DNN10-DNL10))","v":"00:00:00"},null,{"$f":"IF(DNN10=\"\",0,DNN10-DNJ10)","v":"00:00:00"},{"$f":"IF(DNN11<DNO10,0,IF(DNN10=\"\",0,IF(DNJ10=\"\",0,DNN11-DNO10)))","v":"00:00:00"},{"$f":"IF(DNJ4=\"\",0,IF(DNK4=\"ep\",DNL4-DNJ4,IF(DNK4=\"y\",IF(DNJ4<DNJ7,(DNJ7-DNJ4),0),0)+IF(DNM4=\"y\",IF(DNL4>DNL7,(DNL4-DNL7),0),0)))+IF(DNJ5=\"\",0,IF(DNK5=\"ep\",DNL5-DNJ5,IF(DNK5=\"y\",IF(DNJ5<DNJ7,(DNJ7-DNJ5),0),0)+IF(DNM5=\"y\",IF(DNL5>DNL7,(DNL5-DNL7),0),0)))+IF(DNJ6=\"\",0,IF(DNK6=\"ep\",DNL6-DNJ6,IF(DNK6=\"y\",IF(DNJ6<DNJ7,(DNJ7-DNJ6),0),0)+IF(DNM6=\"y\",IF(DNL6>DNL7,(DNL6-DNL7),0),0)))","v":"00:00:00"},null,null,null,{"$f":"IF(DNY4=\"v\",0,IF(DNZ1=\"Lauantai\",DNX11,IF(DNZ1=\"Sunnuntai\",DNX11,IF(DNY2=\"h\",DNX11,IF(DNX10=\"\",0,IF(DNT10=\"\",0,IF(DNV11<DNY11,DNV11,DNY11)))))))+DNZ11","v":"00:00:00"},null,{"$f":"IF(DNX10=\"\",0,IF(DNV10=\"\",DNX11,DNX10-DNV10))","v":"00:00:00"},null,{"$f":"IF(DNX10=\"\",0,DNX10-DNT10)","v":"00:00:00"},{"$f":"IF(DNX11<DNY10,0,IF(DNX10=\"\",0,IF(DNT10=\"\",0,DNX11-DNY10)))","v":"00:00:00"},{"$f":"IF(DNT4=\"\",0,IF(DNU4=\"ep\",DNV4-DNT4,IF(DNU4=\"y\",IF(DNT4<DNT7,(DNT7-DNT4),0),0)+IF(DNW4=\"y\",IF(DNV4>DNV7,(DNV4-DNV7),0),0)))+IF(DNT5=\"\",0,IF(DNU5=\"ep\",DNV5-DNT5,IF(DNU5=\"y\",IF(DNT5<DNT7,(DNT7-DNT5),0),0)+IF(DNW5=\"y\",IF(DNV5>DNV7,(DNV5-DNV7),0),0)))+IF(DNT6=\"\",0,IF(DNU6=\"ep\",DNV6-DNT6,IF(DNU6=\"y\",IF(DNT6<DNT7,(DNT7-DNT6),0),0)+IF(DNW6=\"y\",IF(DNV6>DNV7,(DNV6-DNV7),0),0)))","v":"00:00:00"},null,null,null,{"$f":"IF(DOI4=\"v\",0,IF(DOJ1=\"Lauantai\",DOH11,IF(DOJ1=\"Sunnuntai\",DOH11,IF(DOI2=\"h\",DOH11,IF(DOH10=\"\",0,IF(DOD10=\"\",0,IF(DOF11<DOI11,DOF11,DOI11)))))))+DOJ11","v":"00:00:00"},null,{"$f":"IF(DOH10=\"\",0,IF(DOF10=\"\",DOH11,DOH10-DOF10))","v":"00:00:00"},null,{"$f":"IF(DOH10=\"\",0,DOH10-DOD10)","v":"00:00:00"},{"$f":"IF(DOH11<DOI10,0,IF(DOH10=\"\",0,IF(DOD10=\"\",0,DOH11-DOI10)))","v":"00:00:00"},{"$f":"IF(DOD4=\"\",0,IF(DOE4=\"ep\",DOF4-DOD4,IF(DOE4=\"y\",IF(DOD4<DOD7,(DOD7-DOD4),0),0)+IF(DOG4=\"y\",IF(DOF4>DOF7,(DOF4-DOF7),0),0)))+IF(DOD5=\"\",0,IF(DOE5=\"ep\",DOF5-DOD5,IF(DOE5=\"y\",IF(DOD5<DOD7,(DOD7-DOD5),0),0)+IF(DOG5=\"y\",IF(DOF5>DOF7,(DOF5-DOF7),0),0)))+IF(DOD6=\"\",0,IF(DOE6=\"ep\",DOF6-DOD6,IF(DOE6=\"y\",IF(DOD6<DOD7,(DOD7-DOD6),0),0)+IF(DOG6=\"y\",IF(DOF6>DOF7,(DOF6-DOF7),0),0)))","v":"00:00:00"},null,null,null,{"$f":"IF(DOS4=\"v\",0,IF(DOT1=\"Lauantai\",DOR11,IF(DOT1=\"Sunnuntai\",DOR11,IF(DOS2=\"h\",DOR11,IF(DOR10=\"\",0,IF(DON10=\"\",0,IF(DOP11<DOS11,DOP11,DOS11)))))))+DOT11","v":"00:00:00"},null,{"$f":"IF(DOR10=\"\",0,IF(DOP10=\"\",DOR11,DOR10-DOP10))","v":"00:00:00"},null,{"$f":"IF(DOR10=\"\",0,DOR10-DON10)","v":"00:00:00"},{"$f":"IF(DOR11<DOS10,0,IF(DOR10=\"\",0,IF(DON10=\"\",0,DOR11-DOS10)))","v":"00:00:00"},{"$f":"IF(DON4=\"\",0,IF(DOO4=\"ep\",DOP4-DON4,IF(DOO4=\"y\",IF(DON4<DON7,(DON7-DON4),0),0)+IF(DOQ4=\"y\",IF(DOP4>DOP7,(DOP4-DOP7),0),0)))+IF(DON5=\"\",0,IF(DOO5=\"ep\",DOP5-DON5,IF(DOO5=\"y\",IF(DON5<DON7,(DON7-DON5),0),0)+IF(DOQ5=\"y\",IF(DOP5>DOP7,(DOP5-DOP7),0),0)))+IF(DON6=\"\",0,IF(DOO6=\"ep\",DOP6-DON6,IF(DOO6=\"y\",IF(DON6<DON7,(DON7-DON6),0),0)+IF(DOQ6=\"y\",IF(DOP6>DOP7,(DOP6-DOP7),0),0)))","v":"00:00:00"},null,null,null,{"$f":"IF(DPC4=\"v\",0,IF(DPD1=\"Lauantai\",DPB11,IF(DPD1=\"Sunnuntai\",DPB11,IF(DPC2=\"h\",DPB11,IF(DPB10=\"\",0,IF(DOX10=\"\",0,IF(DOZ11<DPC11,DOZ11,DPC11)))))))+DPD11","v":"00:00:00"},null,{"$f":"IF(DPB10=\"\",0,IF(DOZ10=\"\",DPB11,DPB10-DOZ10))","v":"00:00:00"},null,{"$f":"IF(DPB10=\"\",0,DPB10-DOX10)","v":"00:00:00"},{"$f":"IF(DPB11<DPC10,0,IF(DPB10=\"\",0,IF(DOX10=\"\",0,DPB11-DPC10)))","v":"00:00:00"},{"$f":"IF(DOX4=\"\",0,IF(DOY4=\"ep\",DOZ4-DOX4,IF(DOY4=\"y\",IF(DOX4<DOX7,(DOX7-DOX4),0),0)+IF(DPA4=\"y\",IF(DOZ4>DOZ7,(DOZ4-DOZ7),0),0)))+IF(DOX5=\"\",0,IF(DOY5=\"ep\",DOZ5-DOX5,IF(DOY5=\"y\",IF(DOX5<DOX7,(DOX7-DOX5),0),0)+IF(DPA5=\"y\",IF(DOZ5>DOZ7,(DOZ5-DOZ7),0),0)))+IF(DOX6=\"\",0,IF(DOY6=\"ep\",DOZ6-DOX6,IF(DOY6=\"y\",IF(DOX6<DOX7,(DOX7-DOX6),0),0)+IF(DPA6=\"y\",IF(DOZ6>DOZ7,(DOZ6-DOZ7),0),0)))","v":"00:00:00"},null,null,null,{"$f":"IF(DPM4=\"v\",0,IF(DPN1=\"Lauantai\",DPL11,IF(DPN1=\"Sunnuntai\",DPL11,IF(DPM2=\"h\",DPL11,IF(DPL10=\"\",0,IF(DPH10=\"\",0,IF(DPJ11<DPM11,DPJ11,DPM11)))))))+DPN11","v":"00:00:00"},null,{"$f":"IF(DPL10=\"\",0,IF(DPJ10=\"\",DPL11,DPL10-DPJ10))","v":"00:00:00"},null,{"$f":"IF(DPL10=\"\",0,DPL10-DPH10)","v":"00:00:00"},{"$f":"IF(DPL11<DPM10,0,IF(DPL10=\"\",0,IF(DPH10=\"\",0,DPL11-DPM10)))","v":"00:00:00"},{"$f":"IF(DPH4=\"\",0,IF(DPI4=\"ep\",DPJ4-DPH4,IF(DPI4=\"y\",IF(DPH4<DPH7,(DPH7-DPH4),0),0)+IF(DPK4=\"y\",IF(DPJ4>DPJ7,(DPJ4-DPJ7),0),0)))+IF(DPH5=\"\",0,IF(DPI5=\"ep\",DPJ5-DPH5,IF(DPI5=\"y\",IF(DPH5<DPH7,(DPH7-DPH5),0),0)+IF(DPK5=\"y\",IF(DPJ5>DPJ7,(DPJ5-DPJ7),0),0)))+IF(DPH6=\"\",0,IF(DPI6=\"ep\",DPJ6-DPH6,IF(DPI6=\"y\",IF(DPH6<DPH7,(DPH7-DPH6),0),0)+IF(DPK6=\"y\",IF(DPJ6>DPJ7,(DPJ6-DPJ7),0),0)))","v":"00:00:00"},null,null,null,{"$f":"IF(DPW4=\"v\",0,IF(DPX1=\"Lauantai\",DPV11,IF(DPX1=\"Sunnuntai\",DPV11,IF(DPW2=\"h\",DPV11,IF(DPV10=\"\",0,IF(DPR10=\"\",0,IF(DPT11<DPW11,DPT11,DPW11)))))))+DPX11","v":"00:00:00"},null,{"$f":"IF(DPV10=\"\",0,IF(DPT10=\"\",DPV11,DPV10-DPT10))","v":"00:00:00"},null,{"$f":"IF(DPV10=\"\",0,DPV10-DPR10)","v":"00:00:00"},{"$f":"IF(DPV11<DPW10,0,IF(DPV10=\"\",0,IF(DPR10=\"\",0,DPV11-DPW10)))","v":"00:00:00"},{"$f":"IF(DPR4=\"\",0,IF(DPS4=\"ep\",DPT4-DPR4,IF(DPS4=\"y\",IF(DPR4<DPR7,(DPR7-DPR4),0),0)+IF(DPU4=\"y\",IF(DPT4>DPT7,(DPT4-DPT7),0),0)))+IF(DPR5=\"\",0,IF(DPS5=\"ep\",DPT5-DPR5,IF(DPS5=\"y\",IF(DPR5<DPR7,(DPR7-DPR5),0),0)+IF(DPU5=\"y\",IF(DPT5>DPT7,(DPT5-DPT7),0),0)))+IF(DPR6=\"\",0,IF(DPS6=\"ep\",DPT6-DPR6,IF(DPS6=\"y\",IF(DPR6<DPR7,(DPR7-DPR6),0),0)+IF(DPU6=\"y\",IF(DPT6>DPT7,(DPT6-DPT7),0),0)))","v":"00:00:00"},null,null,null,{"$f":"IF(DQG4=\"v\",0,IF(DQH1=\"Lauantai\",DQF11,IF(DQH1=\"Sunnuntai\",DQF11,IF(DQG2=\"h\",DQF11,IF(DQF10=\"\",0,IF(DQB10=\"\",0,IF(DQD11<DQG11,DQD11,DQG11)))))))+DQH11","v":"00:00:00"},null,{"$f":"IF(DQF10=\"\",0,IF(DQD10=\"\",DQF11,DQF10-DQD10))","v":"00:00:00"},null,{"$f":"IF(DQF10=\"\",0,DQF10-DQB10)","v":"00:00:00"},{"$f":"IF(DQF11<DQG10,0,IF(DQF10=\"\",0,IF(DQB10=\"\",0,DQF11-DQG10)))","v":"00:00:00"},{"$f":"IF(DQB4=\"\",0,IF(DQC4=\"ep\",DQD4-DQB4,IF(DQC4=\"y\",IF(DQB4<DQB7,(DQB7-DQB4),0),0)+IF(DQE4=\"y\",IF(DQD4>DQD7,(DQD4-DQD7),0),0)))+IF(DQB5=\"\",0,IF(DQC5=\"ep\",DQD5-DQB5,IF(DQC5=\"y\",IF(DQB5<DQB7,(DQB7-DQB5),0),0)+IF(DQE5=\"y\",IF(DQD5>DQD7,(DQD5-DQD7),0),0)))+IF(DQB6=\"\",0,IF(DQC6=\"ep\",DQD6-DQB6,IF(DQC6=\"y\",IF(DQB6<DQB7,(DQB7-DQB6),0),0)+IF(DQE6=\"y\",IF(DQD6>DQD7,(DQD6-DQD7),0),0)))","v":"00:00:00"},null,null,null,{"$f":"IF(DQQ4=\"v\",0,IF(DQR1=\"Lauantai\",DQP11,IF(DQR1=\"Sunnuntai\",DQP11,IF(DQQ2=\"h\",DQP11,IF(DQP10=\"\",0,IF(DQL10=\"\",0,IF(DQN11<DQQ11,DQN11,DQQ11)))))))+DQR11","v":"00:00:00"},null,{"$f":"IF(DQP10=\"\",0,IF(DQN10=\"\",DQP11,DQP10-DQN10))","v":"00:00:00"},null,{"$f":"IF(DQP10=\"\",0,DQP10-DQL10)","v":"00:00:00"},{"$f":"IF(DQP11<DQQ10,0,IF(DQP10=\"\",0,IF(DQL10=\"\",0,DQP11-DQQ10)))","v":"00:00:00"},{"$f":"IF(DQL4=\"\",0,IF(DQM4=\"ep\",DQN4-DQL4,IF(DQM4=\"y\",IF(DQL4<DQL7,(DQL7-DQL4),0),0)+IF(DQO4=\"y\",IF(DQN4>DQN7,(DQN4-DQN7),0),0)))+IF(DQL5=\"\",0,IF(DQM5=\"ep\",DQN5-DQL5,IF(DQM5=\"y\",IF(DQL5<DQL7,(DQL7-DQL5),0),0)+IF(DQO5=\"y\",IF(DQN5>DQN7,(DQN5-DQN7),0),0)))+IF(DQL6=\"\",0,IF(DQM6=\"ep\",DQN6-DQL6,IF(DQM6=\"y\",IF(DQL6<DQL7,(DQL7-DQL6),0),0)+IF(DQO6=\"y\",IF(DQN6>DQN7,(DQN6-DQN7),0),0)))","v":"00:00:00"},null,null,null,{"$f":"IF(DRA4=\"v\",0,IF(DRB1=\"Lauantai\",DQZ11,IF(DRB1=\"Sunnuntai\",DQZ11,IF(DRA2=\"h\",DQZ11,IF(DQZ10=\"\",0,IF(DQV10=\"\",0,IF(DQX11<DRA11,DQX11,DRA11)))))))+DRB11","v":"00:00:00"},null,{"$f":"IF(DQZ10=\"\",0,IF(DQX10=\"\",DQZ11,DQZ10-DQX10))","v":"00:00:00"},null,{"$f":"IF(DQZ10=\"\",0,DQZ10-DQV10)","v":"00:00:00"},{"$f":"IF(DQZ11<DRA10,0,IF(DQZ10=\"\",0,IF(DQV10=\"\",0,DQZ11-DRA10)))","v":"00:00:00"},{"$f":"IF(DQV4=\"\",0,IF(DQW4=\"ep\",DQX4-DQV4,IF(DQW4=\"y\",IF(DQV4<DQV7,(DQV7-DQV4),0),0)+IF(DQY4=\"y\",IF(DQX4>DQX7,(DQX4-DQX7),0),0)))+IF(DQV5=\"\",0,IF(DQW5=\"ep\",DQX5-DQV5,IF(DQW5=\"y\",IF(DQV5<DQV7,(DQV7-DQV5),0),0)+IF(DQY5=\"y\",IF(DQX5>DQX7,(DQX5-DQX7),0),0)))+IF(DQV6=\"\",0,IF(DQW6=\"ep\",DQX6-DQV6,IF(DQW6=\"y\",IF(DQV6<DQV7,(DQV7-DQV6),0),0)+IF(DQY6=\"y\",IF(DQX6>DQX7,(DQX6-DQX7),0),0)))","v":"00:00:00"},null,null,null,{"$f":"IF(DRK4=\"v\",0,IF(DRL1=\"Lauantai\",DRJ11,IF(DRL1=\"Sunnuntai\",DRJ11,IF(DRK2=\"h\",DRJ11,IF(DRJ10=\"\",0,IF(DRF10=\"\",0,IF(DRH11<DRK11,DRH11,DRK11)))))))+DRL11","v":"00:00:00"},null,{"$f":"IF(DRJ10=\"\",0,IF(DRH10=\"\",DRJ11,DRJ10-DRH10))","v":"00:00:00"},null,{"$f":"IF(DRJ10=\"\",0,DRJ10-DRF10)","v":"00:00:00"},{"$f":"IF(DRJ11<DRK10,0,IF(DRJ10=\"\",0,IF(DRF10=\"\",0,DRJ11-DRK10)))","v":"00:00:00"},{"$f":"IF(DRF4=\"\",0,IF(DRG4=\"ep\",DRH4-DRF4,IF(DRG4=\"y\",IF(DRF4<DRF7,(DRF7-DRF4),0),0)+IF(DRI4=\"y\",IF(DRH4>DRH7,(DRH4-DRH7),0),0)))+IF(DRF5=\"\",0,IF(DRG5=\"ep\",DRH5-DRF5,IF(DRG5=\"y\",IF(DRF5<DRF7,(DRF7-DRF5),0),0)+IF(DRI5=\"y\",IF(DRH5>DRH7,(DRH5-DRH7),0),0)))+IF(DRF6=\"\",0,IF(DRG6=\"ep\",DRH6-DRF6,IF(DRG6=\"y\",IF(DRF6<DRF7,(DRF7-DRF6),0),0)+IF(DRI6=\"y\",IF(DRH6>DRH7,(DRH6-DRH7),0),0)))","v":"00:00:00"},null,null,null,{"$f":"IF(DRU4=\"v\",0,IF(DRV1=\"Lauantai\",DRT11,IF(DRV1=\"Sunnuntai\",DRT11,IF(DRU2=\"h\",DRT11,IF(DRT10=\"\",0,IF(DRP10=\"\",0,IF(DRR11<DRU11,DRR11,DRU11)))))))+DRV11","v":"00:00:00"},null,{"$f":"IF(DRT10=\"\",0,IF(DRR10=\"\",DRT11,DRT10-DRR10))","v":"00:00:00"},null,{"$f":"IF(DRT10=\"\",0,DRT10-DRP10)","v":"00:00:00"},{"$f":"IF(DRT11<DRU10,0,IF(DRT10=\"\",0,IF(DRP10=\"\",0,DRT11-DRU10)))","v":"00:00:00"},{"$f":"IF(DRP4=\"\",0,IF(DRQ4=\"ep\",DRR4-DRP4,IF(DRQ4=\"y\",IF(DRP4<DRP7,(DRP7-DRP4),0),0)+IF(DRS4=\"y\",IF(DRR4>DRR7,(DRR4-DRR7),0),0)))+IF(DRP5=\"\",0,IF(DRQ5=\"ep\",DRR5-DRP5,IF(DRQ5=\"y\",IF(DRP5<DRP7,(DRP7-DRP5),0),0)+IF(DRS5=\"y\",IF(DRR5>DRR7,(DRR5-DRR7),0),0)))+IF(DRP6=\"\",0,IF(DRQ6=\"ep\",DRR6-DRP6,IF(DRQ6=\"y\",IF(DRP6<DRP7,(DRP7-DRP6),0),0)+IF(DRS6=\"y\",IF(DRR6>DRR7,(DRR6-DRR7),0),0)))","v":"00:00:00"},null,null,null,{"$f":"IF(DSE4=\"v\",0,IF(DSF1=\"Lauantai\",DSD11,IF(DSF1=\"Sunnuntai\",DSD11,IF(DSE2=\"h\",DSD11,IF(DSD10=\"\",0,IF(DRZ10=\"\",0,IF(DSB11<DSE11,DSB11,DSE11)))))))+DSF11","v":"00:00:00"},null,{"$f":"IF(DSD10=\"\",0,IF(DSB10=\"\",DSD11,DSD10-DSB10))","v":"00:00:00"},null,{"$f":"IF(DSD10=\"\",0,DSD10-DRZ10)","v":"00:00:00"},{"$f":"IF(DSD11<DSE10,0,IF(DSD10=\"\",0,IF(DRZ10=\"\",0,DSD11-DSE10)))","v":"00:00:00"},{"$f":"IF(DRZ4=\"\",0,IF(DSA4=\"ep\",DSB4-DRZ4,IF(DSA4=\"y\",IF(DRZ4<DRZ7,(DRZ7-DRZ4),0),0)+IF(DSC4=\"y\",IF(DSB4>DSB7,(DSB4-DSB7),0),0)))+IF(DRZ5=\"\",0,IF(DSA5=\"ep\",DSB5-DRZ5,IF(DSA5=\"y\",IF(DRZ5<DRZ7,(DRZ7-DRZ5),0),0)+IF(DSC5=\"y\",IF(DSB5>DSB7,(DSB5-DSB7),0),0)))+IF(DRZ6=\"\",0,IF(DSA6=\"ep\",DSB6-DRZ6,IF(DSA6=\"y\",IF(DRZ6<DRZ7,(DRZ7-DRZ6),0),0)+IF(DSC6=\"y\",IF(DSB6>DSB7,(DSB6-DSB7),0),0)))","v":"00:00:00"},null,null,null,{"$f":"IF(DSO4=\"v\",0,IF(DSP1=\"Lauantai\",DSN11,IF(DSP1=\"Sunnuntai\",DSN11,IF(DSO2=\"h\",DSN11,IF(DSN10=\"\",0,IF(DSJ10=\"\",0,IF(DSL11<DSO11,DSL11,DSO11)))))))+DSP11","v":"00:00:00"},null,{"$f":"IF(DSN10=\"\",0,IF(DSL10=\"\",DSN11,DSN10-DSL10))","v":"00:00:00"},null,{"$f":"IF(DSN10=\"\",0,DSN10-DSJ10)","v":"00:00:00"},{"$f":"IF(DSN11<DSO10,0,IF(DSN10=\"\",0,IF(DSJ10=\"\",0,DSN11-DSO10)))","v":"00:00:00"},{"$f":"IF(DSJ4=\"\",0,IF(DSK4=\"ep\",DSL4-DSJ4,IF(DSK4=\"y\",IF(DSJ4<DSJ7,(DSJ7-DSJ4),0),0)+IF(DSM4=\"y\",IF(DSL4>DSL7,(DSL4-DSL7),0),0)))+IF(DSJ5=\"\",0,IF(DSK5=\"ep\",DSL5-DSJ5,IF(DSK5=\"y\",IF(DSJ5<DSJ7,(DSJ7-DSJ5),0),0)+IF(DSM5=\"y\",IF(DSL5>DSL7,(DSL5-DSL7),0),0)))+IF(DSJ6=\"\",0,IF(DSK6=\"ep\",DSL6-DSJ6,IF(DSK6=\"y\",IF(DSJ6<DSJ7,(DSJ7-DSJ6),0),0)+IF(DSM6=\"y\",IF(DSL6>DSL7,(DSL6-DSL7),0),0)))","v":"00:00:00"},null,null,null,{"$f":"IF(DSY4=\"v\",0,IF(DSZ1=\"Lauantai\",DSX11,IF(DSZ1=\"Sunnuntai\",DSX11,IF(DSY2=\"h\",DSX11,IF(DSX10=\"\",0,IF(DST10=\"\",0,IF(DSV11<DSY11,DSV11,DSY11)))))))+DSZ11","v":"00:00:00"},null,{"$f":"IF(DSX10=\"\",0,IF(DSV10=\"\",DSX11,DSX10-DSV10))","v":"00:00:00"},null,{"$f":"IF(DSX10=\"\",0,DSX10-DST10)","v":"00:00:00"},{"$f":"IF(DSX11<DSY10,0,IF(DSX10=\"\",0,IF(DST10=\"\",0,DSX11-DSY10)))","v":"00:00:00"},{"$f":"IF(DST4=\"\",0,IF(DSU4=\"ep\",DSV4-DST4,IF(DSU4=\"y\",IF(DST4<DST7,(DST7-DST4),0),0)+IF(DSW4=\"y\",IF(DSV4>DSV7,(DSV4-DSV7),0),0)))+IF(DST5=\"\",0,IF(DSU5=\"ep\",DSV5-DST5,IF(DSU5=\"y\",IF(DST5<DST7,(DST7-DST5),0),0)+IF(DSW5=\"y\",IF(DSV5>DSV7,(DSV5-DSV7),0),0)))+IF(DST6=\"\",0,IF(DSU6=\"ep\",DSV6-DST6,IF(DSU6=\"y\",IF(DST6<DST7,(DST7-DST6),0),0)+IF(DSW6=\"y\",IF(DSV6>DSV7,(DSV6-DSV7),0),0)))","v":"00:00:00"},null,null,null,{"$f":"IF(DTI4=\"v\",0,IF(DTJ1=\"Lauantai\",DTH11,IF(DTJ1=\"Sunnuntai\",DTH11,IF(DTI2=\"h\",DTH11,IF(DTH10=\"\",0,IF(DTD10=\"\",0,IF(DTF11<DTI11,DTF11,DTI11)))))))+DTJ11","v":"00:00:00"},null,{"$f":"IF(DTH10=\"\",0,IF(DTF10=\"\",DTH11,DTH10-DTF10))","v":"00:00:00"},null,{"$f":"IF(DTH10=\"\",0,DTH10-DTD10)","v":"00:00:00"},{"$f":"IF(DTH11<DTI10,0,IF(DTH10=\"\",0,IF(DTD10=\"\",0,DTH11-DTI10)))","v":"00:00:00"},{"$f":"IF(DTD4=\"\",0,IF(DTE4=\"ep\",DTF4-DTD4,IF(DTE4=\"y\",IF(DTD4<DTD7,(DTD7-DTD4),0),0)+IF(DTG4=\"y\",IF(DTF4>DTF7,(DTF4-DTF7),0),0)))+IF(DTD5=\"\",0,IF(DTE5=\"ep\",DTF5-DTD5,IF(DTE5=\"y\",IF(DTD5<DTD7,(DTD7-DTD5),0),0)+IF(DTG5=\"y\",IF(DTF5>DTF7,(DTF5-DTF7),0),0)))+IF(DTD6=\"\",0,IF(DTE6=\"ep\",DTF6-DTD6,IF(DTE6=\"y\",IF(DTD6<DTD7,(DTD7-DTD6),0),0)+IF(DTG6=\"y\",IF(DTF6>DTF7,(DTF6-DTF7),0),0)))","v":"00:00:00"},null,null,null,{"$f":"IF(DTS4=\"v\",0,IF(DTT1=\"Lauantai\",DTR11,IF(DTT1=\"Sunnuntai\",DTR11,IF(DTS2=\"h\",DTR11,IF(DTR10=\"\",0,IF(DTN10=\"\",0,IF(DTP11<DTS11,DTP11,DTS11)))))))+DTT11","v":"00:00:00"},null,{"$f":"IF(DTR10=\"\",0,IF(DTP10=\"\",DTR11,DTR10-DTP10))","v":"00:00:00"},null,{"$f":"IF(DTR10=\"\",0,DTR10-DTN10)","v":"00:00:00"},{"$f":"IF(DTR11<DTS10,0,IF(DTR10=\"\",0,IF(DTN10=\"\",0,DTR11-DTS10)))","v":"00:00:00"},{"$f":"IF(DTN4=\"\",0,IF(DTO4=\"ep\",DTP4-DTN4,IF(DTO4=\"y\",IF(DTN4<DTN7,(DTN7-DTN4),0),0)+IF(DTQ4=\"y\",IF(DTP4>DTP7,(DTP4-DTP7),0),0)))+IF(DTN5=\"\",0,IF(DTO5=\"ep\",DTP5-DTN5,IF(DTO5=\"y\",IF(DTN5<DTN7,(DTN7-DTN5),0),0)+IF(DTQ5=\"y\",IF(DTP5>DTP7,(DTP5-DTP7),0),0)))+IF(DTN6=\"\",0,IF(DTO6=\"ep\",DTP6-DTN6,IF(DTO6=\"y\",IF(DTN6<DTN7,(DTN7-DTN6),0),0)+IF(DTQ6=\"y\",IF(DTP6>DTP7,(DTP6-DTP7),0),0)))","v":"00:00:00"},null,null,null,{"$f":"IF(DUC4=\"v\",0,IF(DUD1=\"Lauantai\",DUB11,IF(DUD1=\"Sunnuntai\",DUB11,IF(DUC2=\"h\",DUB11,IF(DUB10=\"\",0,IF(DTX10=\"\",0,IF(DTZ11<DUC11,DTZ11,DUC11)))))))+DUD11","v":"00:00:00"},null,{"$f":"IF(DUB10=\"\",0,IF(DTZ10=\"\",DUB11,DUB10-DTZ10))","v":"00:00:00"},null,{"$f":"IF(DUB10=\"\",0,DUB10-DTX10)","v":"00:00:00"},{"$f":"IF(DUB11<DUC10,0,IF(DUB10=\"\",0,IF(DTX10=\"\",0,DUB11-DUC10)))","v":"00:00:00"},{"$f":"IF(DTX4=\"\",0,IF(DTY4=\"ep\",DTZ4-DTX4,IF(DTY4=\"y\",IF(DTX4<DTX7,(DTX7-DTX4),0),0)+IF(DUA4=\"y\",IF(DTZ4>DTZ7,(DTZ4-DTZ7),0),0)))+IF(DTX5=\"\",0,IF(DTY5=\"ep\",DTZ5-DTX5,IF(DTY5=\"y\",IF(DTX5<DTX7,(DTX7-DTX5),0),0)+IF(DUA5=\"y\",IF(DTZ5>DTZ7,(DTZ5-DTZ7),0),0)))+IF(DTX6=\"\",0,IF(DTY6=\"ep\",DTZ6-DTX6,IF(DTY6=\"y\",IF(DTX6<DTX7,(DTX7-DTX6),0),0)+IF(DUA6=\"y\",IF(DTZ6>DTZ7,(DTZ6-DTZ7),0),0)))","v":"00:00:00"},null,null,null,{"$f":"IF(DUM4=\"v\",0,IF(DUN1=\"Lauantai\",DUL11,IF(DUN1=\"Sunnuntai\",DUL11,IF(DUM2=\"h\",DUL11,IF(DUL10=\"\",0,IF(DUH10=\"\",0,IF(DUJ11<DUM11,DUJ11,DUM11)))))))+DUN11","v":"00:00:00"},null,{"$f":"IF(DUL10=\"\",0,IF(DUJ10=\"\",DUL11,DUL10-DUJ10))","v":"00:00:00"},null,{"$f":"IF(DUL10=\"\",0,DUL10-DUH10)","v":"00:00:00"},{"$f":"IF(DUL11<DUM10,0,IF(DUL10=\"\",0,IF(DUH10=\"\",0,DUL11-DUM10)))","v":"00:00:00"},{"$f":"IF(DUH4=\"\",0,IF(DUI4=\"ep\",DUJ4-DUH4,IF(DUI4=\"y\",IF(DUH4<DUH7,(DUH7-DUH4),0),0)+IF(DUK4=\"y\",IF(DUJ4>DUJ7,(DUJ4-DUJ7),0),0)))+IF(DUH5=\"\",0,IF(DUI5=\"ep\",DUJ5-DUH5,IF(DUI5=\"y\",IF(DUH5<DUH7,(DUH7-DUH5),0),0)+IF(DUK5=\"y\",IF(DUJ5>DUJ7,(DUJ5-DUJ7),0),0)))+IF(DUH6=\"\",0,IF(DUI6=\"ep\",DUJ6-DUH6,IF(DUI6=\"y\",IF(DUH6<DUH7,(DUH7-DUH6),0),0)+IF(DUK6=\"y\",IF(DUJ6>DUJ7,(DUJ6-DUJ7),0),0)))","v":"00:00:00"},null,null,null,{"$f":"IF(DUW4=\"v\",0,IF(DUX1=\"Lauantai\",DUV11,IF(DUX1=\"Sunnuntai\",DUV11,IF(DUW2=\"h\",DUV11,IF(DUV10=\"\",0,IF(DUR10=\"\",0,IF(DUT11<DUW11,DUT11,DUW11)))))))+DUX11","v":"00:00:00"},null,{"$f":"IF(DUV10=\"\",0,IF(DUT10=\"\",DUV11,DUV10-DUT10))","v":"00:00:00"},null,{"$f":"IF(DUV10=\"\",0,DUV10-DUR10)","v":"00:00:00"},{"$f":"IF(DUV11<DUW10,0,IF(DUV10=\"\",0,IF(DUR10=\"\",0,DUV11-DUW10)))","v":"00:00:00"},{"$f":"IF(DUR4=\"\",0,IF(DUS4=\"ep\",DUT4-DUR4,IF(DUS4=\"y\",IF(DUR4<DUR7,(DUR7-DUR4),0),0)+IF(DUU4=\"y\",IF(DUT4>DUT7,(DUT4-DUT7),0),0)))+IF(DUR5=\"\",0,IF(DUS5=\"ep\",DUT5-DUR5,IF(DUS5=\"y\",IF(DUR5<DUR7,(DUR7-DUR5),0),0)+IF(DUU5=\"y\",IF(DUT5>DUT7,(DUT5-DUT7),0),0)))+IF(DUR6=\"\",0,IF(DUS6=\"ep\",DUT6-DUR6,IF(DUS6=\"y\",IF(DUR6<DUR7,(DUR7-DUR6),0),0)+IF(DUU6=\"y\",IF(DUT6>DUT7,(DUT6-DUT7),0),0)))","v":"00:00:00"},null,null,null,{"$f":"IF(DVG4=\"v\",0,IF(DVH1=\"Lauantai\",DVF11,IF(DVH1=\"Sunnuntai\",DVF11,IF(DVG2=\"h\",DVF11,IF(DVF10=\"\",0,IF(DVB10=\"\",0,IF(DVD11<DVG11,DVD11,DVG11)))))))+DVH11","v":"00:00:00"},null,{"$f":"IF(DVF10=\"\",0,IF(DVD10=\"\",DVF11,DVF10-DVD10))","v":"00:00:00"},null,{"$f":"IF(DVF10=\"\",0,DVF10-DVB10)","v":"00:00:00"},{"$f":"IF(DVF11<DVG10,0,IF(DVF10=\"\",0,IF(DVB10=\"\",0,DVF11-DVG10)))","v":"00:00:00"},{"$f":"IF(DVB4=\"\",0,IF(DVC4=\"ep\",DVD4-DVB4,IF(DVC4=\"y\",IF(DVB4<DVB7,(DVB7-DVB4),0),0)+IF(DVE4=\"y\",IF(DVD4>DVD7,(DVD4-DVD7),0),0)))+IF(DVB5=\"\",0,IF(DVC5=\"ep\",DVD5-DVB5,IF(DVC5=\"y\",IF(DVB5<DVB7,(DVB7-DVB5),0),0)+IF(DVE5=\"y\",IF(DVD5>DVD7,(DVD5-DVD7),0),0)))+IF(DVB6=\"\",0,IF(DVC6=\"ep\",DVD6-DVB6,IF(DVC6=\"y\",IF(DVB6<DVB7,(DVB7-DVB6),0),0)+IF(DVE6=\"y\",IF(DVD6>DVD7,(DVD6-DVD7),0),0)))","v":"00:00:00"},null,null,null,{"$f":"IF(DVQ4=\"v\",0,IF(DVR1=\"Lauantai\",DVP11,IF(DVR1=\"Sunnuntai\",DVP11,IF(DVQ2=\"h\",DVP11,IF(DVP10=\"\",0,IF(DVL10=\"\",0,IF(DVN11<DVQ11,DVN11,DVQ11)))))))+DVR11","v":"00:00:00"},null,{"$f":"IF(DVP10=\"\",0,IF(DVN10=\"\",DVP11,DVP10-DVN10))","v":"00:00:00"},null,{"$f":"IF(DVP10=\"\",0,DVP10-DVL10)","v":"00:00:00"},{"$f":"IF(DVP11<DVQ10,0,IF(DVP10=\"\",0,IF(DVL10=\"\",0,DVP11-DVQ10)))","v":"00:00:00"},{"$f":"IF(DVL4=\"\",0,IF(DVM4=\"ep\",DVN4-DVL4,IF(DVM4=\"y\",IF(DVL4<DVL7,(DVL7-DVL4),0),0)+IF(DVO4=\"y\",IF(DVN4>DVN7,(DVN4-DVN7),0),0)))+IF(DVL5=\"\",0,IF(DVM5=\"ep\",DVN5-DVL5,IF(DVM5=\"y\",IF(DVL5<DVL7,(DVL7-DVL5),0),0)+IF(DVO5=\"y\",IF(DVN5>DVN7,(DVN5-DVN7),0),0)))+IF(DVL6=\"\",0,IF(DVM6=\"ep\",DVN6-DVL6,IF(DVM6=\"y\",IF(DVL6<DVL7,(DVL7-DVL6),0),0)+IF(DVO6=\"y\",IF(DVN6>DVN7,(DVN6-DVN7),0),0)))","v":"00:00:00"},null,null,null,{"$f":"IF(DWA4=\"v\",0,IF(DWB1=\"Lauantai\",DVZ11,IF(DWB1=\"Sunnuntai\",DVZ11,IF(DWA2=\"h\",DVZ11,IF(DVZ10=\"\",0,IF(DVV10=\"\",0,IF(DVX11<DWA11,DVX11,DWA11)))))))+DWB11","v":"00:00:00"},null,{"$f":"IF(DVZ10=\"\",0,IF(DVX10=\"\",DVZ11,DVZ10-DVX10))","v":"00:00:00"},null,{"$f":"IF(DVZ10=\"\",0,DVZ10-DVV10)","v":"00:00:00"},{"$f":"IF(DVZ11<DWA10,0,IF(DVZ10=\"\",0,IF(DVV10=\"\",0,DVZ11-DWA10)))","v":"00:00:00"},{"$f":"IF(DVV4=\"\",0,IF(DVW4=\"ep\",DVX4-DVV4,IF(DVW4=\"y\",IF(DVV4<DVV7,(DVV7-DVV4),0),0)+IF(DVY4=\"y\",IF(DVX4>DVX7,(DVX4-DVX7),0),0)))+IF(DVV5=\"\",0,IF(DVW5=\"ep\",DVX5-DVV5,IF(DVW5=\"y\",IF(DVV5<DVV7,(DVV7-DVV5),0),0)+IF(DVY5=\"y\",IF(DVX5>DVX7,(DVX5-DVX7),0),0)))+IF(DVV6=\"\",0,IF(DVW6=\"ep\",DVX6-DVV6,IF(DVW6=\"y\",IF(DVV6<DVV7,(DVV7-DVV6),0),0)+IF(DVY6=\"y\",IF(DVX6>DVX7,(DVX6-DVX7),0),0)))","v":"00:00:00"},null,null,null,{"$f":"IF(DWK4=\"v\",0,IF(DWL1=\"Lauantai\",DWJ11,IF(DWL1=\"Sunnuntai\",DWJ11,IF(DWK2=\"h\",DWJ11,IF(DWJ10=\"\",0,IF(DWF10=\"\",0,IF(DWH11<DWK11,DWH11,DWK11)))))))+DWL11","v":"00:00:00"},null,{"$f":"IF(DWJ10=\"\",0,IF(DWH10=\"\",DWJ11,DWJ10-DWH10))","v":"00:00:00"},null,{"$f":"IF(DWJ10=\"\",0,DWJ10-DWF10)","v":"00:00:00"},{"$f":"IF(DWJ11<DWK10,0,IF(DWJ10=\"\",0,IF(DWF10=\"\",0,DWJ11-DWK10)))","v":"00:00:00"},{"$f":"IF(DWF4=\"\",0,IF(DWG4=\"ep\",DWH4-DWF4,IF(DWG4=\"y\",IF(DWF4<DWF7,(DWF7-DWF4),0),0)+IF(DWI4=\"y\",IF(DWH4>DWH7,(DWH4-DWH7),0),0)))+IF(DWF5=\"\",0,IF(DWG5=\"ep\",DWH5-DWF5,IF(DWG5=\"y\",IF(DWF5<DWF7,(DWF7-DWF5),0),0)+IF(DWI5=\"y\",IF(DWH5>DWH7,(DWH5-DWH7),0),0)))+IF(DWF6=\"\",0,IF(DWG6=\"ep\",DWH6-DWF6,IF(DWG6=\"y\",IF(DWF6<DWF7,(DWF7-DWF6),0),0)+IF(DWI6=\"y\",IF(DWH6>DWH7,(DWH6-DWH7),0),0)))","v":"00:00:00"},null,null,null,{"$f":"IF(DWU4=\"v\",0,IF(DWV1=\"Lauantai\",DWT11,IF(DWV1=\"Sunnuntai\",DWT11,IF(DWU2=\"h\",DWT11,IF(DWT10=\"\",0,IF(DWP10=\"\",0,IF(DWR11<DWU11,DWR11,DWU11)))))))+DWV11","v":"00:00:00"},null,{"$f":"IF(DWT10=\"\",0,IF(DWR10=\"\",DWT11,DWT10-DWR10))","v":"00:00:00"},null,{"$f":"IF(DWT10=\"\",0,DWT10-DWP10)","v":"00:00:00"},{"$f":"IF(DWT11<DWU10,0,IF(DWT10=\"\",0,IF(DWP10=\"\",0,DWT11-DWU10)))","v":"00:00:00"},{"$f":"IF(DWP4=\"\",0,IF(DWQ4=\"ep\",DWR4-DWP4,IF(DWQ4=\"y\",IF(DWP4<DWP7,(DWP7-DWP4),0),0)+IF(DWS4=\"y\",IF(DWR4>DWR7,(DWR4-DWR7),0),0)))+IF(DWP5=\"\",0,IF(DWQ5=\"ep\",DWR5-DWP5,IF(DWQ5=\"y\",IF(DWP5<DWP7,(DWP7-DWP5),0),0)+IF(DWS5=\"y\",IF(DWR5>DWR7,(DWR5-DWR7),0),0)))+IF(DWP6=\"\",0,IF(DWQ6=\"ep\",DWR6-DWP6,IF(DWQ6=\"y\",IF(DWP6<DWP7,(DWP7-DWP6),0),0)+IF(DWS6=\"y\",IF(DWR6>DWR7,(DWR6-DWR7),0),0)))","v":"00:00:00"},null,null,null,{"$f":"IF(DXE4=\"v\",0,IF(DXF1=\"Lauantai\",DXD11,IF(DXF1=\"Sunnuntai\",DXD11,IF(DXE2=\"h\",DXD11,IF(DXD10=\"\",0,IF(DWZ10=\"\",0,IF(DXB11<DXE11,DXB11,DXE11)))))))+DXF11","v":"00:00:00"},null,{"$f":"IF(DXD10=\"\",0,IF(DXB10=\"\",DXD11,DXD10-DXB10))","v":"00:00:00"},null,{"$f":"IF(DXD10=\"\",0,DXD10-DWZ10)","v":"00:00:00"},{"$f":"IF(DXD11<DXE10,0,IF(DXD10=\"\",0,IF(DWZ10=\"\",0,DXD11-DXE10)))","v":"00:00:00"},{"$f":"IF(DWZ4=\"\",0,IF(DXA4=\"ep\",DXB4-DWZ4,IF(DXA4=\"y\",IF(DWZ4<DWZ7,(DWZ7-DWZ4),0),0)+IF(DXC4=\"y\",IF(DXB4>DXB7,(DXB4-DXB7),0),0)))+IF(DWZ5=\"\",0,IF(DXA5=\"ep\",DXB5-DWZ5,IF(DXA5=\"y\",IF(DWZ5<DWZ7,(DWZ7-DWZ5),0),0)+IF(DXC5=\"y\",IF(DXB5>DXB7,(DXB5-DXB7),0),0)))+IF(DWZ6=\"\",0,IF(DXA6=\"ep\",DXB6-DWZ6,IF(DXA6=\"y\",IF(DWZ6<DWZ7,(DWZ7-DWZ6),0),0)+IF(DXC6=\"y\",IF(DXB6>DXB7,(DXB6-DXB7),0),0)))","v":"00:00:00"},null,null,null,{"$f":"IF(DXO4=\"v\",0,IF(DXP1=\"Lauantai\",DXN11,IF(DXP1=\"Sunnuntai\",DXN11,IF(DXO2=\"h\",DXN11,IF(DXN10=\"\",0,IF(DXJ10=\"\",0,IF(DXL11<DXO11,DXL11,DXO11)))))))+DXP11","v":"00:00:00"},null,{"$f":"IF(DXN10=\"\",0,IF(DXL10=\"\",DXN11,DXN10-DXL10))","v":"00:00:00"},null,{"$f":"IF(DXN10=\"\",0,DXN10-DXJ10)","v":"00:00:00"},{"$f":"IF(DXN11<DXO10,0,IF(DXN10=\"\",0,IF(DXJ10=\"\",0,DXN11-DXO10)))","v":"00:00:00"},{"$f":"IF(DXJ4=\"\",0,IF(DXK4=\"ep\",DXL4-DXJ4,IF(DXK4=\"y\",IF(DXJ4<DXJ7,(DXJ7-DXJ4),0),0)+IF(DXM4=\"y\",IF(DXL4>DXL7,(DXL4-DXL7),0),0)))+IF(DXJ5=\"\",0,IF(DXK5=\"ep\",DXL5-DXJ5,IF(DXK5=\"y\",IF(DXJ5<DXJ7,(DXJ7-DXJ5),0),0)+IF(DXM5=\"y\",IF(DXL5>DXL7,(DXL5-DXL7),0),0)))+IF(DXJ6=\"\",0,IF(DXK6=\"ep\",DXL6-DXJ6,IF(DXK6=\"y\",IF(DXJ6<DXJ7,(DXJ7-DXJ6),0),0)+IF(DXM6=\"y\",IF(DXL6>DXL7,(DXL6-DXL7),0),0)))","v":"00:00:00"},null,null,null,{"$f":"IF(DXY4=\"v\",0,IF(DXZ1=\"Lauantai\",DXX11,IF(DXZ1=\"Sunnuntai\",DXX11,IF(DXY2=\"h\",DXX11,IF(DXX10=\"\",0,IF(DXT10=\"\",0,IF(DXV11<DXY11,DXV11,DXY11)))))))+DXZ11","v":"00:00:00"},null,{"$f":"IF(DXX10=\"\",0,IF(DXV10=\"\",DXX11,DXX10-DXV10))","v":"00:00:00"},null,{"$f":"IF(DXX10=\"\",0,DXX10-DXT10)","v":"00:00:00"},{"$f":"IF(DXX11<DXY10,0,IF(DXX10=\"\",0,IF(DXT10=\"\",0,DXX11-DXY10)))","v":"00:00:00"},{"$f":"IF(DXT4=\"\",0,IF(DXU4=\"ep\",DXV4-DXT4,IF(DXU4=\"y\",IF(DXT4<DXT7,(DXT7-DXT4),0),0)+IF(DXW4=\"y\",IF(DXV4>DXV7,(DXV4-DXV7),0),0)))+IF(DXT5=\"\",0,IF(DXU5=\"ep\",DXV5-DXT5,IF(DXU5=\"y\",IF(DXT5<DXT7,(DXT7-DXT5),0),0)+IF(DXW5=\"y\",IF(DXV5>DXV7,(DXV5-DXV7),0),0)))+IF(DXT6=\"\",0,IF(DXU6=\"ep\",DXV6-DXT6,IF(DXU6=\"y\",IF(DXT6<DXT7,(DXT7-DXT6),0),0)+IF(DXW6=\"y\",IF(DXV6>DXV7,(DXV6-DXV7),0),0)))","v":"00:00:00"},null,null,null,{"$f":"IF(DYI4=\"v\",0,IF(DYJ1=\"Lauantai\",DYH11,IF(DYJ1=\"Sunnuntai\",DYH11,IF(DYI2=\"h\",DYH11,IF(DYH10=\"\",0,IF(DYD10=\"\",0,IF(DYF11<DYI11,DYF11,DYI11)))))))+DYJ11","v":"00:00:00"},null,{"$f":"IF(DYH10=\"\",0,IF(DYF10=\"\",DYH11,DYH10-DYF10))","v":"00:00:00"},null,{"$f":"IF(DYH10=\"\",0,DYH10-DYD10)","v":"00:00:00"},{"$f":"IF(DYH11<DYI10,0,IF(DYH10=\"\",0,IF(DYD10=\"\",0,DYH11-DYI10)))","v":"00:00:00"},{"$f":"IF(DYD4=\"\",0,IF(DYE4=\"ep\",DYF4-DYD4,IF(DYE4=\"y\",IF(DYD4<DYD7,(DYD7-DYD4),0),0)+IF(DYG4=\"y\",IF(DYF4>DYF7,(DYF4-DYF7),0),0)))+IF(DYD5=\"\",0,IF(DYE5=\"ep\",DYF5-DYD5,IF(DYE5=\"y\",IF(DYD5<DYD7,(DYD7-DYD5),0),0)+IF(DYG5=\"y\",IF(DYF5>DYF7,(DYF5-DYF7),0),0)))+IF(DYD6=\"\",0,IF(DYE6=\"ep\",DYF6-DYD6,IF(DYE6=\"y\",IF(DYD6<DYD7,(DYD7-DYD6),0),0)+IF(DYG6=\"y\",IF(DYF6>DYF7,(DYF6-DYF7),0),0)))","v":"00:00:00"},null,null,null,{"$f":"IF(DYS4=\"v\",0,IF(DYT1=\"Lauantai\",DYR11,IF(DYT1=\"Sunnuntai\",DYR11,IF(DYS2=\"h\",DYR11,IF(DYR10=\"\",0,IF(DYN10=\"\",0,IF(DYP11<DYS11,DYP11,DYS11)))))))+DYT11","v":"00:00:00"},null,{"$f":"IF(DYR10=\"\",0,IF(DYP10=\"\",DYR11,DYR10-DYP10))","v":"00:00:00"},null,{"$f":"IF(DYR10=\"\",0,DYR10-DYN10)","v":"00:00:00"},{"$f":"IF(DYR11<DYS10,0,IF(DYR10=\"\",0,IF(DYN10=\"\",0,DYR11-DYS10)))","v":"00:00:00"},{"$f":"IF(DYN4=\"\",0,IF(DYO4=\"ep\",DYP4-DYN4,IF(DYO4=\"y\",IF(DYN4<DYN7,(DYN7-DYN4),0),0)+IF(DYQ4=\"y\",IF(DYP4>DYP7,(DYP4-DYP7),0),0)))+IF(DYN5=\"\",0,IF(DYO5=\"ep\",DYP5-DYN5,IF(DYO5=\"y\",IF(DYN5<DYN7,(DYN7-DYN5),0),0)+IF(DYQ5=\"y\",IF(DYP5>DYP7,(DYP5-DYP7),0),0)))+IF(DYN6=\"\",0,IF(DYO6=\"ep\",DYP6-DYN6,IF(DYO6=\"y\",IF(DYN6<DYN7,(DYN7-DYN6),0),0)+IF(DYQ6=\"y\",IF(DYP6>DYP7,(DYP6-DYP7),0),0)))","v":"00:00:00"},null,null,null,{"$f":"IF(DZC4=\"v\",0,IF(DZD1=\"Lauantai\",DZB11,IF(DZD1=\"Sunnuntai\",DZB11,IF(DZC2=\"h\",DZB11,IF(DZB10=\"\",0,IF(DYX10=\"\",0,IF(DYZ11<DZC11,DYZ11,DZC11)))))))+DZD11","v":"00:00:00"},null,{"$f":"IF(DZB10=\"\",0,IF(DYZ10=\"\",DZB11,DZB10-DYZ10))","v":"00:00:00"},null,{"$f":"IF(DZB10=\"\",0,DZB10-DYX10)","v":"00:00:00"},{"$f":"IF(DZB11<DZC10,0,IF(DZB10=\"\",0,IF(DYX10=\"\",0,DZB11-DZC10)))","v":"00:00:00"},{"$f":"IF(DYX4=\"\",0,IF(DYY4=\"ep\",DYZ4-DYX4,IF(DYY4=\"y\",IF(DYX4<DYX7,(DYX7-DYX4),0),0)+IF(DZA4=\"y\",IF(DYZ4>DYZ7,(DYZ4-DYZ7),0),0)))+IF(DYX5=\"\",0,IF(DYY5=\"ep\",DYZ5-DYX5,IF(DYY5=\"y\",IF(DYX5<DYX7,(DYX7-DYX5),0),0)+IF(DZA5=\"y\",IF(DYZ5>DYZ7,(DYZ5-DYZ7),0),0)))+IF(DYX6=\"\",0,IF(DYY6=\"ep\",DYZ6-DYX6,IF(DYY6=\"y\",IF(DYX6<DYX7,(DYX7-DYX6),0),0)+IF(DZA6=\"y\",IF(DYZ6>DYZ7,(DYZ6-DYZ7),0),0)))","v":"00:00:00"},null,null,null,{"$f":"IF(DZM4=\"v\",0,IF(DZN1=\"Lauantai\",DZL11,IF(DZN1=\"Sunnuntai\",DZL11,IF(DZM2=\"h\",DZL11,IF(DZL10=\"\",0,IF(DZH10=\"\",0,IF(DZJ11<DZM11,DZJ11,DZM11)))))))+DZN11","v":"00:00:00"},null,{"$f":"IF(DZL10=\"\",0,IF(DZJ10=\"\",DZL11,DZL10-DZJ10))","v":"00:00:00"},null,{"$f":"IF(DZL10=\"\",0,DZL10-DZH10)","v":"00:00:00"},{"$f":"IF(DZL11<DZM10,0,IF(DZL10=\"\",0,IF(DZH10=\"\",0,DZL11-DZM10)))","v":"00:00:00"},{"$f":"IF(DZH4=\"\",0,IF(DZI4=\"ep\",DZJ4-DZH4,IF(DZI4=\"y\",IF(DZH4<DZH7,(DZH7-DZH4),0),0)+IF(DZK4=\"y\",IF(DZJ4>DZJ7,(DZJ4-DZJ7),0),0)))+IF(DZH5=\"\",0,IF(DZI5=\"ep\",DZJ5-DZH5,IF(DZI5=\"y\",IF(DZH5<DZH7,(DZH7-DZH5),0),0)+IF(DZK5=\"y\",IF(DZJ5>DZJ7,(DZJ5-DZJ7),0),0)))+IF(DZH6=\"\",0,IF(DZI6=\"ep\",DZJ6-DZH6,IF(DZI6=\"y\",IF(DZH6<DZH7,(DZH7-DZH6),0),0)+IF(DZK6=\"y\",IF(DZJ6>DZJ7,(DZJ6-DZJ7),0),0)))","v":"00:00:00"},null,null,null,{"$f":"IF(DZW4=\"v\",0,IF(DZX1=\"Lauantai\",DZV11,IF(DZX1=\"Sunnuntai\",DZV11,IF(DZW2=\"h\",DZV11,IF(DZV10=\"\",0,IF(DZR10=\"\",0,IF(DZT11<DZW11,DZT11,DZW11)))))))+DZX11","v":"00:00:00"},null,{"$f":"IF(DZV10=\"\",0,IF(DZT10=\"\",DZV11,DZV10-DZT10))","v":"00:00:00"},null,{"$f":"IF(DZV10=\"\",0,DZV10-DZR10)","v":"00:00:00"},{"$f":"IF(DZV11<DZW10,0,IF(DZV10=\"\",0,IF(DZR10=\"\",0,DZV11-DZW10)))","v":"00:00:00"},{"$f":"IF(DZR4=\"\",0,IF(DZS4=\"ep\",DZT4-DZR4,IF(DZS4=\"y\",IF(DZR4<DZR7,(DZR7-DZR4),0),0)+IF(DZU4=\"y\",IF(DZT4>DZT7,(DZT4-DZT7),0),0)))+IF(DZR5=\"\",0,IF(DZS5=\"ep\",DZT5-DZR5,IF(DZS5=\"y\",IF(DZR5<DZR7,(DZR7-DZR5),0),0)+IF(DZU5=\"y\",IF(DZT5>DZT7,(DZT5-DZT7),0),0)))+IF(DZR6=\"\",0,IF(DZS6=\"ep\",DZT6-DZR6,IF(DZS6=\"y\",IF(DZR6<DZR7,(DZR7-DZR6),0),0)+IF(DZU6=\"y\",IF(DZT6>DZT7,(DZT6-DZT7),0),0)))","v":"00:00:00"},null,null,null,{"$f":"IF(EAG4=\"v\",0,IF(EAH1=\"Lauantai\",EAF11,IF(EAH1=\"Sunnuntai\",EAF11,IF(EAG2=\"h\",EAF11,IF(EAF10=\"\",0,IF(EAB10=\"\",0,IF(EAD11<EAG11,EAD11,EAG11)))))))+EAH11","v":"00:00:00"},null,{"$f":"IF(EAF10=\"\",0,IF(EAD10=\"\",EAF11,EAF10-EAD10))","v":"00:00:00"},null,{"$f":"IF(EAF10=\"\",0,EAF10-EAB10)","v":"00:00:00"},{"$f":"IF(EAF11<EAG10,0,IF(EAF10=\"\",0,IF(EAB10=\"\",0,EAF11-EAG10)))","v":"00:00:00"},{"$f":"IF(EAB4=\"\",0,IF(EAC4=\"ep\",EAD4-EAB4,IF(EAC4=\"y\",IF(EAB4<EAB7,(EAB7-EAB4),0),0)+IF(EAE4=\"y\",IF(EAD4>EAD7,(EAD4-EAD7),0),0)))+IF(EAB5=\"\",0,IF(EAC5=\"ep\",EAD5-EAB5,IF(EAC5=\"y\",IF(EAB5<EAB7,(EAB7-EAB5),0),0)+IF(EAE5=\"y\",IF(EAD5>EAD7,(EAD5-EAD7),0),0)))+IF(EAB6=\"\",0,IF(EAC6=\"ep\",EAD6-EAB6,IF(EAC6=\"y\",IF(EAB6<EAB7,(EAB7-EAB6),0),0)+IF(EAE6=\"y\",IF(EAD6>EAD7,(EAD6-EAD7),0),0)))","v":"00:00:00"},null,null,null,{"$f":"IF(EAQ4=\"v\",0,IF(EAR1=\"Lauantai\",EAP11,IF(EAR1=\"Sunnuntai\",EAP11,IF(EAQ2=\"h\",EAP11,IF(EAP10=\"\",0,IF(EAL10=\"\",0,IF(EAN11<EAQ11,EAN11,EAQ11)))))))+EAR11","v":"00:00:00"},null,{"$f":"IF(EAP10=\"\",0,IF(EAN10=\"\",EAP11,EAP10-EAN10))","v":"00:00:00"},null,{"$f":"IF(EAP10=\"\",0,EAP10-EAL10)","v":"00:00:00"},{"$f":"IF(EAP11<EAQ10,0,IF(EAP10=\"\",0,IF(EAL10=\"\",0,EAP11-EAQ10)))","v":"00:00:00"},{"$f":"IF(EAL4=\"\",0,IF(EAM4=\"ep\",EAN4-EAL4,IF(EAM4=\"y\",IF(EAL4<EAL7,(EAL7-EAL4),0),0)+IF(EAO4=\"y\",IF(EAN4>EAN7,(EAN4-EAN7),0),0)))+IF(EAL5=\"\",0,IF(EAM5=\"ep\",EAN5-EAL5,IF(EAM5=\"y\",IF(EAL5<EAL7,(EAL7-EAL5),0),0)+IF(EAO5=\"y\",IF(EAN5>EAN7,(EAN5-EAN7),0),0)))+IF(EAL6=\"\",0,IF(EAM6=\"ep\",EAN6-EAL6,IF(EAM6=\"y\",IF(EAL6<EAL7,(EAL7-EAL6),0),0)+IF(EAO6=\"y\",IF(EAN6>EAN7,(EAN6-EAN7),0),0)))","v":"00:00:00"},null,null,null,{"$f":"IF(EBA4=\"v\",0,IF(EBB1=\"Lauantai\",EAZ11,IF(EBB1=\"Sunnuntai\",EAZ11,IF(EBA2=\"h\",EAZ11,IF(EAZ10=\"\",0,IF(EAV10=\"\",0,IF(EAX11<EBA11,EAX11,EBA11)))))))+EBB11","v":"00:00:00"},null,{"$f":"IF(EAZ10=\"\",0,IF(EAX10=\"\",EAZ11,EAZ10-EAX10))","v":"00:00:00"},null,{"$f":"IF(EAZ10=\"\",0,EAZ10-EAV10)","v":"00:00:00"},{"$f":"IF(EAZ11<EBA10,0,IF(EAZ10=\"\",0,IF(EAV10=\"\",0,EAZ11-EBA10)))","v":"00:00:00"},{"$f":"IF(EAV4=\"\",0,IF(EAW4=\"ep\",EAX4-EAV4,IF(EAW4=\"y\",IF(EAV4<EAV7,(EAV7-EAV4),0),0)+IF(EAY4=\"y\",IF(EAX4>EAX7,(EAX4-EAX7),0),0)))+IF(EAV5=\"\",0,IF(EAW5=\"ep\",EAX5-EAV5,IF(EAW5=\"y\",IF(EAV5<EAV7,(EAV7-EAV5),0),0)+IF(EAY5=\"y\",IF(EAX5>EAX7,(EAX5-EAX7),0),0)))+IF(EAV6=\"\",0,IF(EAW6=\"ep\",EAX6-EAV6,IF(EAW6=\"y\",IF(EAV6<EAV7,(EAV7-EAV6),0),0)+IF(EAY6=\"y\",IF(EAX6>EAX7,(EAX6-EAX7),0),0)))","v":"00:00:00"},null,null,null,{"$f":"IF(EBK4=\"v\",0,IF(EBL1=\"Lauantai\",EBJ11,IF(EBL1=\"Sunnuntai\",EBJ11,IF(EBK2=\"h\",EBJ11,IF(EBJ10=\"\",0,IF(EBF10=\"\",0,IF(EBH11<EBK11,EBH11,EBK11)))))))+EBL11","v":"00:00:00"},null,{"$f":"IF(EBJ10=\"\",0,IF(EBH10=\"\",EBJ11,EBJ10-EBH10))","v":"00:00:00"},null,{"$f":"IF(EBJ10=\"\",0,EBJ10-EBF10)","v":"00:00:00"},{"$f":"IF(EBJ11<EBK10,0,IF(EBJ10=\"\",0,IF(EBF10=\"\",0,EBJ11-EBK10)))","v":"00:00:00"},{"$f":"IF(EBF4=\"\",0,IF(EBG4=\"ep\",EBH4-EBF4,IF(EBG4=\"y\",IF(EBF4<EBF7,(EBF7-EBF4),0),0)+IF(EBI4=\"y\",IF(EBH4>EBH7,(EBH4-EBH7),0),0)))+IF(EBF5=\"\",0,IF(EBG5=\"ep\",EBH5-EBF5,IF(EBG5=\"y\",IF(EBF5<EBF7,(EBF7-EBF5),0),0)+IF(EBI5=\"y\",IF(EBH5>EBH7,(EBH5-EBH7),0),0)))+IF(EBF6=\"\",0,IF(EBG6=\"ep\",EBH6-EBF6,IF(EBG6=\"y\",IF(EBF6<EBF7,(EBF7-EBF6),0),0)+IF(EBI6=\"y\",IF(EBH6>EBH7,(EBH6-EBH7),0),0)))","v":"00:00:00"},null,null,null,{"$f":"IF(EBU4=\"v\",0,IF(EBV1=\"Lauantai\",EBT11,IF(EBV1=\"Sunnuntai\",EBT11,IF(EBU2=\"h\",EBT11,IF(EBT10=\"\",0,IF(EBP10=\"\",0,IF(EBR11<EBU11,EBR11,EBU11)))))))+EBV11","v":"00:00:00"},null,{"$f":"IF(EBT10=\"\",0,IF(EBR10=\"\",EBT11,EBT10-EBR10))","v":"00:00:00"},null,{"$f":"IF(EBT10=\"\",0,EBT10-EBP10)","v":"00:00:00"},{"$f":"IF(EBT11<EBU10,0,IF(EBT10=\"\",0,IF(EBP10=\"\",0,EBT11-EBU10)))","v":"00:00:00"},{"$f":"IF(EBP4=\"\",0,IF(EBQ4=\"ep\",EBR4-EBP4,IF(EBQ4=\"y\",IF(EBP4<EBP7,(EBP7-EBP4),0),0)+IF(EBS4=\"y\",IF(EBR4>EBR7,(EBR4-EBR7),0),0)))+IF(EBP5=\"\",0,IF(EBQ5=\"ep\",EBR5-EBP5,IF(EBQ5=\"y\",IF(EBP5<EBP7,(EBP7-EBP5),0),0)+IF(EBS5=\"y\",IF(EBR5>EBR7,(EBR5-EBR7),0),0)))+IF(EBP6=\"\",0,IF(EBQ6=\"ep\",EBR6-EBP6,IF(EBQ6=\"y\",IF(EBP6<EBP7,(EBP7-EBP6),0),0)+IF(EBS6=\"y\",IF(EBR6>EBR7,(EBR6-EBR7),0),0)))","v":"00:00:00"},null,null,null,{"$f":"IF(ECE4=\"v\",0,IF(ECF1=\"Lauantai\",ECD11,IF(ECF1=\"Sunnuntai\",ECD11,IF(ECE2=\"h\",ECD11,IF(ECD10=\"\",0,IF(EBZ10=\"\",0,IF(ECB11<ECE11,ECB11,ECE11)))))))+ECF11","v":"00:00:00"},null,{"$f":"IF(ECD10=\"\",0,IF(ECB10=\"\",ECD11,ECD10-ECB10))","v":"00:00:00"},null,{"$f":"IF(ECD10=\"\",0,ECD10-EBZ10)","v":"00:00:00"},{"$f":"IF(ECD11<ECE10,0,IF(ECD10=\"\",0,IF(EBZ10=\"\",0,ECD11-ECE10)))","v":"00:00:00"},{"$f":"IF(EBZ4=\"\",0,IF(ECA4=\"ep\",ECB4-EBZ4,IF(ECA4=\"y\",IF(EBZ4<EBZ7,(EBZ7-EBZ4),0),0)+IF(ECC4=\"y\",IF(ECB4>ECB7,(ECB4-ECB7),0),0)))+IF(EBZ5=\"\",0,IF(ECA5=\"ep\",ECB5-EBZ5,IF(ECA5=\"y\",IF(EBZ5<EBZ7,(EBZ7-EBZ5),0),0)+IF(ECC5=\"y\",IF(ECB5>ECB7,(ECB5-ECB7),0),0)))+IF(EBZ6=\"\",0,IF(ECA6=\"ep\",ECB6-EBZ6,IF(ECA6=\"y\",IF(EBZ6<EBZ7,(EBZ7-EBZ6),0),0)+IF(ECC6=\"y\",IF(ECB6>ECB7,(ECB6-ECB7),0),0)))","v":"00:00:00"},null,null,null,{"$f":"IF(ECO4=\"v\",0,IF(ECP1=\"Lauantai\",ECN11,IF(ECP1=\"Sunnuntai\",ECN11,IF(ECO2=\"h\",ECN11,IF(ECN10=\"\",0,IF(ECJ10=\"\",0,IF(ECL11<ECO11,ECL11,ECO11)))))))+ECP11","v":"00:00:00"},null,{"$f":"IF(ECN10=\"\",0,IF(ECL10=\"\",ECN11,ECN10-ECL10))","v":"00:00:00"},null,{"$f":"IF(ECN10=\"\",0,ECN10-ECJ10)","v":"00:00:00"},{"$f":"IF(ECN11<ECO10,0,IF(ECN10=\"\",0,IF(ECJ10=\"\",0,ECN11-ECO10)))","v":"00:00:00"},{"$f":"IF(ECJ4=\"\",0,IF(ECK4=\"ep\",ECL4-ECJ4,IF(ECK4=\"y\",IF(ECJ4<ECJ7,(ECJ7-ECJ4),0),0)+IF(ECM4=\"y\",IF(ECL4>ECL7,(ECL4-ECL7),0),0)))+IF(ECJ5=\"\",0,IF(ECK5=\"ep\",ECL5-ECJ5,IF(ECK5=\"y\",IF(ECJ5<ECJ7,(ECJ7-ECJ5),0),0)+IF(ECM5=\"y\",IF(ECL5>ECL7,(ECL5-ECL7),0),0)))+IF(ECJ6=\"\",0,IF(ECK6=\"ep\",ECL6-ECJ6,IF(ECK6=\"y\",IF(ECJ6<ECJ7,(ECJ7-ECJ6),0),0)+IF(ECM6=\"y\",IF(ECL6>ECL7,(ECL6-ECL7),0),0)))","v":"00:00:00"},null,null,null,{"$f":"IF(ECY4=\"v\",0,IF(ECZ1=\"Lauantai\",ECX11,IF(ECZ1=\"Sunnuntai\",ECX11,IF(ECY2=\"h\",ECX11,IF(ECX10=\"\",0,IF(ECT10=\"\",0,IF(ECV11<ECY11,ECV11,ECY11)))))))+ECZ11","v":"00:00:00"},null,{"$f":"IF(ECX10=\"\",0,IF(ECV10=\"\",ECX11,ECX10-ECV10))","v":"00:00:00"},null,{"$f":"IF(ECX10=\"\",0,ECX10-ECT10)","v":"00:00:00"},{"$f":"IF(ECX11<ECY10,0,IF(ECX10=\"\",0,IF(ECT10=\"\",0,ECX11-ECY10)))","v":"00:00:00"},{"$f":"IF(ECT4=\"\",0,IF(ECU4=\"ep\",ECV4-ECT4,IF(ECU4=\"y\",IF(ECT4<ECT7,(ECT7-ECT4),0),0)+IF(ECW4=\"y\",IF(ECV4>ECV7,(ECV4-ECV7),0),0)))+IF(ECT5=\"\",0,IF(ECU5=\"ep\",ECV5-ECT5,IF(ECU5=\"y\",IF(ECT5<ECT7,(ECT7-ECT5),0),0)+IF(ECW5=\"y\",IF(ECV5>ECV7,(ECV5-ECV7),0),0)))+IF(ECT6=\"\",0,IF(ECU6=\"ep\",ECV6-ECT6,IF(ECU6=\"y\",IF(ECT6<ECT7,(ECT7-ECT6),0),0)+IF(ECW6=\"y\",IF(ECV6>ECV7,(ECV6-ECV7),0),0)))","v":"00:00:00"},null,null,null,{"$f":"IF(EDI4=\"v\",0,IF(EDJ1=\"Lauantai\",EDH11,IF(EDJ1=\"Sunnuntai\",EDH11,IF(EDI2=\"h\",EDH11,IF(EDH10=\"\",0,IF(EDD10=\"\",0,IF(EDF11<EDI11,EDF11,EDI11)))))))+EDJ11","v":"00:00:00"},null,{"$f":"IF(EDH10=\"\",0,IF(EDF10=\"\",EDH11,EDH10-EDF10))","v":"00:00:00"},null,{"$f":"IF(EDH10=\"\",0,EDH10-EDD10)","v":"00:00:00"},{"$f":"IF(EDH11<EDI10,0,IF(EDH10=\"\",0,IF(EDD10=\"\",0,EDH11-EDI10)))","v":"00:00:00"},{"$f":"IF(EDD4=\"\",0,IF(EDE4=\"ep\",EDF4-EDD4,IF(EDE4=\"y\",IF(EDD4<EDD7,(EDD7-EDD4),0),0)+IF(EDG4=\"y\",IF(EDF4>EDF7,(EDF4-EDF7),0),0)))+IF(EDD5=\"\",0,IF(EDE5=\"ep\",EDF5-EDD5,IF(EDE5=\"y\",IF(EDD5<EDD7,(EDD7-EDD5),0),0)+IF(EDG5=\"y\",IF(EDF5>EDF7,(EDF5-EDF7),0),0)))+IF(EDD6=\"\",0,IF(EDE6=\"ep\",EDF6-EDD6,IF(EDE6=\"y\",IF(EDD6<EDD7,(EDD7-EDD6),0),0)+IF(EDG6=\"y\",IF(EDF6>EDF7,(EDF6-EDF7),0),0)))","v":"00:00:00"},null,null,null,{"$f":"IF(EDS4=\"v\",0,IF(EDT1=\"Lauantai\",EDR11,IF(EDT1=\"Sunnuntai\",EDR11,IF(EDS2=\"h\",EDR11,IF(EDR10=\"\",0,IF(EDN10=\"\",0,IF(EDP11<EDS11,EDP11,EDS11)))))))+EDT11","v":"00:00:00"},null,{"$f":"IF(EDR10=\"\",0,IF(EDP10=\"\",EDR11,EDR10-EDP10))","v":"00:00:00"},null,{"$f":"IF(EDR10=\"\",0,EDR10-EDN10)","v":"00:00:00"},{"$f":"IF(EDR11<EDS10,0,IF(EDR10=\"\",0,IF(EDN10=\"\",0,EDR11-EDS10)))","v":"00:00:00"},{"$f":"IF(EDN4=\"\",0,IF(EDO4=\"ep\",EDP4-EDN4,IF(EDO4=\"y\",IF(EDN4<EDN7,(EDN7-EDN4),0),0)+IF(EDQ4=\"y\",IF(EDP4>EDP7,(EDP4-EDP7),0),0)))+IF(EDN5=\"\",0,IF(EDO5=\"ep\",EDP5-EDN5,IF(EDO5=\"y\",IF(EDN5<EDN7,(EDN7-EDN5),0),0)+IF(EDQ5=\"y\",IF(EDP5>EDP7,(EDP5-EDP7),0),0)))+IF(EDN6=\"\",0,IF(EDO6=\"ep\",EDP6-EDN6,IF(EDO6=\"y\",IF(EDN6<EDN7,(EDN7-EDN6),0),0)+IF(EDQ6=\"y\",IF(EDP6>EDP7,(EDP6-EDP7),0),0)))","v":"00:00:00"},null,null,null,{"$f":"IF(EEC4=\"v\",0,IF(EED1=\"Lauantai\",EEB11,IF(EED1=\"Sunnuntai\",EEB11,IF(EEC2=\"h\",EEB11,IF(EEB10=\"\",0,IF(EDX10=\"\",0,IF(EDZ11<EEC11,EDZ11,EEC11)))))))+EED11","v":"00:00:00"},null,{"$f":"IF(EEB10=\"\",0,IF(EDZ10=\"\",EEB11,EEB10-EDZ10))","v":"00:00:00"},null,{"$f":"IF(EEB10=\"\",0,EEB10-EDX10)","v":"00:00:00"},{"$f":"IF(EEB11<EEC10,0,IF(EEB10=\"\",0,IF(EDX10=\"\",0,EEB11-EEC10)))","v":"00:00:00"},{"$f":"IF(EDX4=\"\",0,IF(EDY4=\"ep\",EDZ4-EDX4,IF(EDY4=\"y\",IF(EDX4<EDX7,(EDX7-EDX4),0),0)+IF(EEA4=\"y\",IF(EDZ4>EDZ7,(EDZ4-EDZ7),0),0)))+IF(EDX5=\"\",0,IF(EDY5=\"ep\",EDZ5-EDX5,IF(EDY5=\"y\",IF(EDX5<EDX7,(EDX7-EDX5),0),0)+IF(EEA5=\"y\",IF(EDZ5>EDZ7,(EDZ5-EDZ7),0),0)))+IF(EDX6=\"\",0,IF(EDY6=\"ep\",EDZ6-EDX6,IF(EDY6=\"y\",IF(EDX6<EDX7,(EDX7-EDX6),0),0)+IF(EEA6=\"y\",IF(EDZ6>EDZ7,(EDZ6-EDZ7),0),0)))","v":"00:00:00"},null,null,null,{"$f":"IF(EEM4=\"v\",0,IF(EEN1=\"Lauantai\",EEL11,IF(EEN1=\"Sunnuntai\",EEL11,IF(EEM2=\"h\",EEL11,IF(EEL10=\"\",0,IF(EEH10=\"\",0,IF(EEJ11<EEM11,EEJ11,EEM11)))))))+EEN11","v":"00:00:00"},null,{"$f":"IF(EEL10=\"\",0,IF(EEJ10=\"\",EEL11,EEL10-EEJ10))","v":"00:00:00"},null,{"$f":"IF(EEL10=\"\",0,EEL10-EEH10)","v":"00:00:00"},{"$f":"IF(EEL11<EEM10,0,IF(EEL10=\"\",0,IF(EEH10=\"\",0,EEL11-EEM10)))","v":"00:00:00"},{"$f":"IF(EEH4=\"\",0,IF(EEI4=\"ep\",EEJ4-EEH4,IF(EEI4=\"y\",IF(EEH4<EEH7,(EEH7-EEH4),0),0)+IF(EEK4=\"y\",IF(EEJ4>EEJ7,(EEJ4-EEJ7),0),0)))+IF(EEH5=\"\",0,IF(EEI5=\"ep\",EEJ5-EEH5,IF(EEI5=\"y\",IF(EEH5<EEH7,(EEH7-EEH5),0),0)+IF(EEK5=\"y\",IF(EEJ5>EEJ7,(EEJ5-EEJ7),0),0)))+IF(EEH6=\"\",0,IF(EEI6=\"ep\",EEJ6-EEH6,IF(EEI6=\"y\",IF(EEH6<EEH7,(EEH7-EEH6),0),0)+IF(EEK6=\"y\",IF(EEJ6>EEJ7,(EEJ6-EEJ7),0),0)))","v":"00:00:00"},null,null,null,{"$f":"IF(EEW4=\"v\",0,IF(EEX1=\"Lauantai\",EEV11,IF(EEX1=\"Sunnuntai\",EEV11,IF(EEW2=\"h\",EEV11,IF(EEV10=\"\",0,IF(EER10=\"\",0,IF(EET11<EEW11,EET11,EEW11)))))))+EEX11","v":"00:00:00"},null,{"$f":"IF(EEV10=\"\",0,IF(EET10=\"\",EEV11,EEV10-EET10))","v":"00:00:00"},null,{"$f":"IF(EEV10=\"\",0,EEV10-EER10)","v":"00:00:00"},{"$f":"IF(EEV11<EEW10,0,IF(EEV10=\"\",0,IF(EER10=\"\",0,EEV11-EEW10)))","v":"00:00:00"},{"$f":"IF(EER4=\"\",0,IF(EES4=\"ep\",EET4-EER4,IF(EES4=\"y\",IF(EER4<EER7,(EER7-EER4),0),0)+IF(EEU4=\"y\",IF(EET4>EET7,(EET4-EET7),0),0)))+IF(EER5=\"\",0,IF(EES5=\"ep\",EET5-EER5,IF(EES5=\"y\",IF(EER5<EER7,(EER7-EER5),0),0)+IF(EEU5=\"y\",IF(EET5>EET7,(EET5-EET7),0),0)))+IF(EER6=\"\",0,IF(EES6=\"ep\",EET6-EER6,IF(EES6=\"y\",IF(EER6<EER7,(EER7-EER6),0),0)+IF(EEU6=\"y\",IF(EET6>EET7,(EET6-EET7),0),0)))","v":"00:00:00"},null,null,null,{"$f":"IF(EFG4=\"v\",0,IF(EFH1=\"Lauantai\",EFF11,IF(EFH1=\"Sunnuntai\",EFF11,IF(EFG2=\"h\",EFF11,IF(EFF10=\"\",0,IF(EFB10=\"\",0,IF(EFD11<EFG11,EFD11,EFG11)))))))+EFH11","v":"00:00:00"},null,{"$f":"IF(EFF10=\"\",0,IF(EFD10=\"\",EFF11,EFF10-EFD10))","v":"00:00:00"},null,{"$f":"IF(EFF10=\"\",0,EFF10-EFB10)","v":"00:00:00"},{"$f":"IF(EFF11<EFG10,0,IF(EFF10=\"\",0,IF(EFB10=\"\",0,EFF11-EFG10)))","v":"00:00:00"},{"$f":"IF(EFB4=\"\",0,IF(EFC4=\"ep\",EFD4-EFB4,IF(EFC4=\"y\",IF(EFB4<EFB7,(EFB7-EFB4),0),0)+IF(EFE4=\"y\",IF(EFD4>EFD7,(EFD4-EFD7),0),0)))+IF(EFB5=\"\",0,IF(EFC5=\"ep\",EFD5-EFB5,IF(EFC5=\"y\",IF(EFB5<EFB7,(EFB7-EFB5),0),0)+IF(EFE5=\"y\",IF(EFD5>EFD7,(EFD5-EFD7),0),0)))+IF(EFB6=\"\",0,IF(EFC6=\"ep\",EFD6-EFB6,IF(EFC6=\"y\",IF(EFB6<EFB7,(EFB7-EFB6),0),0)+IF(EFE6=\"y\",IF(EFD6>EFD7,(EFD6-EFD7),0),0)))","v":"00:00:00"},null,null,null,{"$f":"IF(EFQ4=\"v\",0,IF(EFR1=\"Lauantai\",EFP11,IF(EFR1=\"Sunnuntai\",EFP11,IF(EFQ2=\"h\",EFP11,IF(EFP10=\"\",0,IF(EFL10=\"\",0,IF(EFN11<EFQ11,EFN11,EFQ11)))))))+EFR11","v":"00:00:00"},null,{"$f":"IF(EFP10=\"\",0,IF(EFN10=\"\",EFP11,EFP10-EFN10))","v":"00:00:00"},null,{"$f":"IF(EFP10=\"\",0,EFP10-EFL10)","v":"00:00:00"},{"$f":"IF(EFP11<EFQ10,0,IF(EFP10=\"\",0,IF(EFL10=\"\",0,EFP11-EFQ10)))","v":"00:00:00"},{"$f":"IF(EFL4=\"\",0,IF(EFM4=\"ep\",EFN4-EFL4,IF(EFM4=\"y\",IF(EFL4<EFL7,(EFL7-EFL4),0),0)+IF(EFO4=\"y\",IF(EFN4>EFN7,(EFN4-EFN7),0),0)))+IF(EFL5=\"\",0,IF(EFM5=\"ep\",EFN5-EFL5,IF(EFM5=\"y\",IF(EFL5<EFL7,(EFL7-EFL5),0),0)+IF(EFO5=\"y\",IF(EFN5>EFN7,(EFN5-EFN7),0),0)))+IF(EFL6=\"\",0,IF(EFM6=\"ep\",EFN6-EFL6,IF(EFM6=\"y\",IF(EFL6<EFL7,(EFL7-EFL6),0),0)+IF(EFO6=\"y\",IF(EFN6>EFN7,(EFN6-EFN7),0),0)))","v":"00:00:00"},null,null,null,{"$f":"IF(EGA4=\"v\",0,IF(EGB1=\"Lauantai\",EFZ11,IF(EGB1=\"Sunnuntai\",EFZ11,IF(EGA2=\"h\",EFZ11,IF(EFZ10=\"\",0,IF(EFV10=\"\",0,IF(EFX11<EGA11,EFX11,EGA11)))))))+EGB11","v":"00:00:00"},null,{"$f":"IF(EFZ10=\"\",0,IF(EFX10=\"\",EFZ11,EFZ10-EFX10))","v":"00:00:00"},null,{"$f":"IF(EFZ10=\"\",0,EFZ10-EFV10)","v":"00:00:00"},{"$f":"IF(EFZ11<EGA10,0,IF(EFZ10=\"\",0,IF(EFV10=\"\",0,EFZ11-EGA10)))","v":"00:00:00"},{"$f":"IF(EFV4=\"\",0,IF(EFW4=\"ep\",EFX4-EFV4,IF(EFW4=\"y\",IF(EFV4<EFV7,(EFV7-EFV4),0),0)+IF(EFY4=\"y\",IF(EFX4>EFX7,(EFX4-EFX7),0),0)))+IF(EFV5=\"\",0,IF(EFW5=\"ep\",EFX5-EFV5,IF(EFW5=\"y\",IF(EFV5<EFV7,(EFV7-EFV5),0),0)+IF(EFY5=\"y\",IF(EFX5>EFX7,(EFX5-EFX7),0),0)))+IF(EFV6=\"\",0,IF(EFW6=\"ep\",EFX6-EFV6,IF(EFW6=\"y\",IF(EFV6<EFV7,(EFV7-EFV6),0),0)+IF(EFY6=\"y\",IF(EFX6>EFX7,(EFX6-EFX7),0),0)))","v":"00:00:00"},null,null,null,{"$f":"IF(EGK4=\"v\",0,IF(EGL1=\"Lauantai\",EGJ11,IF(EGL1=\"Sunnuntai\",EGJ11,IF(EGK2=\"h\",EGJ11,IF(EGJ10=\"\",0,IF(EGF10=\"\",0,IF(EGH11<EGK11,EGH11,EGK11)))))))+EGL11","v":"00:00:00"},null,{"$f":"IF(EGJ10=\"\",0,IF(EGH10=\"\",EGJ11,EGJ10-EGH10))","v":"00:00:00"},null,{"$f":"IF(EGJ10=\"\",0,EGJ10-EGF10)","v":"00:00:00"},{"$f":"IF(EGJ11<EGK10,0,IF(EGJ10=\"\",0,IF(EGF10=\"\",0,EGJ11-EGK10)))","v":"00:00:00"},{"$f":"IF(EGF4=\"\",0,IF(EGG4=\"ep\",EGH4-EGF4,IF(EGG4=\"y\",IF(EGF4<EGF7,(EGF7-EGF4),0),0)+IF(EGI4=\"y\",IF(EGH4>EGH7,(EGH4-EGH7),0),0)))+IF(EGF5=\"\",0,IF(EGG5=\"ep\",EGH5-EGF5,IF(EGG5=\"y\",IF(EGF5<EGF7,(EGF7-EGF5),0),0)+IF(EGI5=\"y\",IF(EGH5>EGH7,(EGH5-EGH7),0),0)))+IF(EGF6=\"\",0,IF(EGG6=\"ep\",EGH6-EGF6,IF(EGG6=\"y\",IF(EGF6<EGF7,(EGF7-EGF6),0),0)+IF(EGI6=\"y\",IF(EGH6>EGH7,(EGH6-EGH7),0),0)))","v":"00:00:00"},null,null,null,{"$f":"IF(EGU4=\"v\",0,IF(EGV1=\"Lauantai\",EGT11,IF(EGV1=\"Sunnuntai\",EGT11,IF(EGU2=\"h\",EGT11,IF(EGT10=\"\",0,IF(EGP10=\"\",0,IF(EGR11<EGU11,EGR11,EGU11)))))))+EGV11","v":"00:00:00"},null,{"$f":"IF(EGT10=\"\",0,IF(EGR10=\"\",EGT11,EGT10-EGR10))","v":"00:00:00"},null,{"$f":"IF(EGT10=\"\",0,EGT10-EGP10)","v":"00:00:00"},{"$f":"IF(EGT11<EGU10,0,IF(EGT10=\"\",0,IF(EGP10=\"\",0,EGT11-EGU10)))","v":"00:00:00"},{"$f":"IF(EGP4=\"\",0,IF(EGQ4=\"ep\",EGR4-EGP4,IF(EGQ4=\"y\",IF(EGP4<EGP7,(EGP7-EGP4),0),0)+IF(EGS4=\"y\",IF(EGR4>EGR7,(EGR4-EGR7),0),0)))+IF(EGP5=\"\",0,IF(EGQ5=\"ep\",EGR5-EGP5,IF(EGQ5=\"y\",IF(EGP5<EGP7,(EGP7-EGP5),0),0)+IF(EGS5=\"y\",IF(EGR5>EGR7,(EGR5-EGR7),0),0)))+IF(EGP6=\"\",0,IF(EGQ6=\"ep\",EGR6-EGP6,IF(EGQ6=\"y\",IF(EGP6<EGP7,(EGP7-EGP6),0),0)+IF(EGS6=\"y\",IF(EGR6>EGR7,(EGR6-EGR7),0),0)))","v":"00:00:00"},null,null,null,{"$f":"IF(EHE4=\"v\",0,IF(EHF1=\"Lauantai\",EHD11,IF(EHF1=\"Sunnuntai\",EHD11,IF(EHE2=\"h\",EHD11,IF(EHD10=\"\",0,IF(EGZ10=\"\",0,IF(EHB11<EHE11,EHB11,EHE11)))))))+EHF11","v":"00:00:00"},null,{"$f":"IF(EHD10=\"\",0,IF(EHB10=\"\",EHD11,EHD10-EHB10))","v":"00:00:00"},null,{"$f":"IF(EHD10=\"\",0,EHD10-EGZ10)","v":"00:00:00"},{"$f":"IF(EHD11<EHE10,0,IF(EHD10=\"\",0,IF(EGZ10=\"\",0,EHD11-EHE10)))","v":"00:00:00"},{"$f":"IF(EGZ4=\"\",0,IF(EHA4=\"ep\",EHB4-EGZ4,IF(EHA4=\"y\",IF(EGZ4<EGZ7,(EGZ7-EGZ4),0),0)+IF(EHC4=\"y\",IF(EHB4>EHB7,(EHB4-EHB7),0),0)))+IF(EGZ5=\"\",0,IF(EHA5=\"ep\",EHB5-EGZ5,IF(EHA5=\"y\",IF(EGZ5<EGZ7,(EGZ7-EGZ5),0),0)+IF(EHC5=\"y\",IF(EHB5>EHB7,(EHB5-EHB7),0),0)))+IF(EGZ6=\"\",0,IF(EHA6=\"ep\",EHB6-EGZ6,IF(EHA6=\"y\",IF(EGZ6<EGZ7,(EGZ7-EGZ6),0),0)+IF(EHC6=\"y\",IF(EHB6>EHB7,(EHB6-EHB7),0),0)))","v":"00:00:00"},null,null,null,{"$f":"IF(EHO4=\"v\",0,IF(EHP1=\"Lauantai\",EHN11,IF(EHP1=\"Sunnuntai\",EHN11,IF(EHO2=\"h\",EHN11,IF(EHN10=\"\",0,IF(EHJ10=\"\",0,IF(EHL11<EHO11,EHL11,EHO11)))))))+EHP11","v":"00:00:00"},null,{"$f":"IF(EHN10=\"\",0,IF(EHL10=\"\",EHN11,EHN10-EHL10))","v":"00:00:00"},null,{"$f":"IF(EHN10=\"\",0,EHN10-EHJ10)","v":"00:00:00"},{"$f":"IF(EHN11<EHO10,0,IF(EHN10=\"\",0,IF(EHJ10=\"\",0,EHN11-EHO10)))","v":"00:00:00"},{"$f":"IF(EHJ4=\"\",0,IF(EHK4=\"ep\",EHL4-EHJ4,IF(EHK4=\"y\",IF(EHJ4<EHJ7,(EHJ7-EHJ4),0),0)+IF(EHM4=\"y\",IF(EHL4>EHL7,(EHL4-EHL7),0),0)))+IF(EHJ5=\"\",0,IF(EHK5=\"ep\",EHL5-EHJ5,IF(EHK5=\"y\",IF(EHJ5<EHJ7,(EHJ7-EHJ5),0),0)+IF(EHM5=\"y\",IF(EHL5>EHL7,(EHL5-EHL7),0),0)))+IF(EHJ6=\"\",0,IF(EHK6=\"ep\",EHL6-EHJ6,IF(EHK6=\"y\",IF(EHJ6<EHJ7,(EHJ7-EHJ6),0),0)+IF(EHM6=\"y\",IF(EHL6>EHL7,(EHL6-EHL7),0),0)))","v":"00:00:00"},null,null,null,{"$f":"IF(EHY4=\"v\",0,IF(EHZ1=\"Lauantai\",EHX11,IF(EHZ1=\"Sunnuntai\",EHX11,IF(EHY2=\"h\",EHX11,IF(EHX10=\"\",0,IF(EHT10=\"\",0,IF(EHV11<EHY11,EHV11,EHY11)))))))+EHZ11","v":"00:00:00"},null,{"$f":"IF(EHX10=\"\",0,IF(EHV10=\"\",EHX11,EHX10-EHV10))","v":"00:00:00"},null,{"$f":"IF(EHX10=\"\",0,EHX10-EHT10)","v":"00:00:00"},{"$f":"IF(EHX11<EHY10,0,IF(EHX10=\"\",0,IF(EHT10=\"\",0,EHX11-EHY10)))","v":"00:00:00"},{"$f":"IF(EHT4=\"\",0,IF(EHU4=\"ep\",EHV4-EHT4,IF(EHU4=\"y\",IF(EHT4<EHT7,(EHT7-EHT4),0),0)+IF(EHW4=\"y\",IF(EHV4>EHV7,(EHV4-EHV7),0),0)))+IF(EHT5=\"\",0,IF(EHU5=\"ep\",EHV5-EHT5,IF(EHU5=\"y\",IF(EHT5<EHT7,(EHT7-EHT5),0),0)+IF(EHW5=\"y\",IF(EHV5>EHV7,(EHV5-EHV7),0),0)))+IF(EHT6=\"\",0,IF(EHU6=\"ep\",EHV6-EHT6,IF(EHU6=\"y\",IF(EHT6<EHT7,(EHT7-EHT6),0),0)+IF(EHW6=\"y\",IF(EHV6>EHV7,(EHV6-EHV7),0),0)))","v":"00:00:00"},null,null,null,{"$f":"IF(EII4=\"v\",0,IF(EIJ1=\"Lauantai\",EIH11,IF(EIJ1=\"Sunnuntai\",EIH11,IF(EII2=\"h\",EIH11,IF(EIH10=\"\",0,IF(EID10=\"\",0,IF(EIF11<EII11,EIF11,EII11)))))))+EIJ11","v":"00:00:00"},null,{"$f":"IF(EIH10=\"\",0,IF(EIF10=\"\",EIH11,EIH10-EIF10))","v":"00:00:00"},null,{"$f":"IF(EIH10=\"\",0,EIH10-EID10)","v":"00:00:00"},{"$f":"IF(EIH11<EII10,0,IF(EIH10=\"\",0,IF(EID10=\"\",0,EIH11-EII10)))","v":"00:00:00"},{"$f":"IF(EID4=\"\",0,IF(EIE4=\"ep\",EIF4-EID4,IF(EIE4=\"y\",IF(EID4<EID7,(EID7-EID4),0),0)+IF(EIG4=\"y\",IF(EIF4>EIF7,(EIF4-EIF7),0),0)))+IF(EID5=\"\",0,IF(EIE5=\"ep\",EIF5-EID5,IF(EIE5=\"y\",IF(EID5<EID7,(EID7-EID5),0),0)+IF(EIG5=\"y\",IF(EIF5>EIF7,(EIF5-EIF7),0),0)))+IF(EID6=\"\",0,IF(EIE6=\"ep\",EIF6-EID6,IF(EIE6=\"y\",IF(EID6<EID7,(EID7-EID6),0),0)+IF(EIG6=\"y\",IF(EIF6>EIF7,(EIF6-EIF7),0),0)))","v":"00:00:00"},null,null,null,{"$f":"IF(EIS4=\"v\",0,IF(EIT1=\"Lauantai\",EIR11,IF(EIT1=\"Sunnuntai\",EIR11,IF(EIS2=\"h\",EIR11,IF(EIR10=\"\",0,IF(EIN10=\"\",0,IF(EIP11<EIS11,EIP11,EIS11)))))))+EIT11","v":"00:00:00"},null,{"$f":"IF(EIR10=\"\",0,IF(EIP10=\"\",EIR11,EIR10-EIP10))","v":"00:00:00"},null,{"$f":"IF(EIR10=\"\",0,EIR10-EIN10)","v":"00:00:00"},{"$f":"IF(EIR11<EIS10,0,IF(EIR10=\"\",0,IF(EIN10=\"\",0,EIR11-EIS10)))","v":"00:00:00"},{"$f":"IF(EIN4=\"\",0,IF(EIO4=\"ep\",EIP4-EIN4,IF(EIO4=\"y\",IF(EIN4<EIN7,(EIN7-EIN4),0),0)+IF(EIQ4=\"y\",IF(EIP4>EIP7,(EIP4-EIP7),0),0)))+IF(EIN5=\"\",0,IF(EIO5=\"ep\",EIP5-EIN5,IF(EIO5=\"y\",IF(EIN5<EIN7,(EIN7-EIN5),0),0)+IF(EIQ5=\"y\",IF(EIP5>EIP7,(EIP5-EIP7),0),0)))+IF(EIN6=\"\",0,IF(EIO6=\"ep\",EIP6-EIN6,IF(EIO6=\"y\",IF(EIN6<EIN7,(EIN7-EIN6),0),0)+IF(EIQ6=\"y\",IF(EIP6>EIP7,(EIP6-EIP7),0),0)))","v":"00:00:00"},null,null,null,{"$f":"IF(EJC4=\"v\",0,IF(EJD1=\"Lauantai\",EJB11,IF(EJD1=\"Sunnuntai\",EJB11,IF(EJC2=\"h\",EJB11,IF(EJB10=\"\",0,IF(EIX10=\"\",0,IF(EIZ11<EJC11,EIZ11,EJC11)))))))+EJD11","v":"00:00:00"},null,{"$f":"IF(EJB10=\"\",0,IF(EIZ10=\"\",EJB11,EJB10-EIZ10))","v":"00:00:00"},null,{"$f":"IF(EJB10=\"\",0,EJB10-EIX10)","v":"00:00:00"},{"$f":"IF(EJB11<EJC10,0,IF(EJB10=\"\",0,IF(EIX10=\"\",0,EJB11-EJC10)))","v":"00:00:00"},{"$f":"IF(EIX4=\"\",0,IF(EIY4=\"ep\",EIZ4-EIX4,IF(EIY4=\"y\",IF(EIX4<EIX7,(EIX7-EIX4),0),0)+IF(EJA4=\"y\",IF(EIZ4>EIZ7,(EIZ4-EIZ7),0),0)))+IF(EIX5=\"\",0,IF(EIY5=\"ep\",EIZ5-EIX5,IF(EIY5=\"y\",IF(EIX5<EIX7,(EIX7-EIX5),0),0)+IF(EJA5=\"y\",IF(EIZ5>EIZ7,(EIZ5-EIZ7),0),0)))+IF(EIX6=\"\",0,IF(EIY6=\"ep\",EIZ6-EIX6,IF(EIY6=\"y\",IF(EIX6<EIX7,(EIX7-EIX6),0),0)+IF(EJA6=\"y\",IF(EIZ6>EIZ7,(EIZ6-EIZ7),0),0)))","v":"00:00:00"},null,null,null,{"$f":"IF(EJM4=\"v\",0,IF(EJN1=\"Lauantai\",EJL11,IF(EJN1=\"Sunnuntai\",EJL11,IF(EJM2=\"h\",EJL11,IF(EJL10=\"\",0,IF(EJH10=\"\",0,IF(EJJ11<EJM11,EJJ11,EJM11)))))))+EJN11","v":"00:00:00"},null,{"$f":"IF(EJL10=\"\",0,IF(EJJ10=\"\",EJL11,EJL10-EJJ10))","v":"00:00:00"},null,{"$f":"IF(EJL10=\"\",0,EJL10-EJH10)","v":"00:00:00"},{"$f":"IF(EJL11<EJM10,0,IF(EJL10=\"\",0,IF(EJH10=\"\",0,EJL11-EJM10)))","v":"00:00:00"},{"$f":"IF(EJH4=\"\",0,IF(EJI4=\"ep\",EJJ4-EJH4,IF(EJI4=\"y\",IF(EJH4<EJH7,(EJH7-EJH4),0),0)+IF(EJK4=\"y\",IF(EJJ4>EJJ7,(EJJ4-EJJ7),0),0)))+IF(EJH5=\"\",0,IF(EJI5=\"ep\",EJJ5-EJH5,IF(EJI5=\"y\",IF(EJH5<EJH7,(EJH7-EJH5),0),0)+IF(EJK5=\"y\",IF(EJJ5>EJJ7,(EJJ5-EJJ7),0),0)))+IF(EJH6=\"\",0,IF(EJI6=\"ep\",EJJ6-EJH6,IF(EJI6=\"y\",IF(EJH6<EJH7,(EJH7-EJH6),0),0)+IF(EJK6=\"y\",IF(EJJ6>EJJ7,(EJJ6-EJJ7),0),0)))","v":"00:00:00"},null,null,null,{"$f":"IF(EJW4=\"v\",0,IF(EJX1=\"Lauantai\",EJV11,IF(EJX1=\"Sunnuntai\",EJV11,IF(EJW2=\"h\",EJV11,IF(EJV10=\"\",0,IF(EJR10=\"\",0,IF(EJT11<EJW11,EJT11,EJW11)))))))+EJX11","v":"00:00:00"},null,{"$f":"IF(EJV10=\"\",0,IF(EJT10=\"\",EJV11,EJV10-EJT10))","v":"00:00:00"},null,{"$f":"IF(EJV10=\"\",0,EJV10-EJR10)","v":"00:00:00"},{"$f":"IF(EJV11<EJW10,0,IF(EJV10=\"\",0,IF(EJR10=\"\",0,EJV11-EJW10)))","v":"00:00:00"},{"$f":"IF(EJR4=\"\",0,IF(EJS4=\"ep\",EJT4-EJR4,IF(EJS4=\"y\",IF(EJR4<EJR7,(EJR7-EJR4),0),0)+IF(EJU4=\"y\",IF(EJT4>EJT7,(EJT4-EJT7),0),0)))+IF(EJR5=\"\",0,IF(EJS5=\"ep\",EJT5-EJR5,IF(EJS5=\"y\",IF(EJR5<EJR7,(EJR7-EJR5),0),0)+IF(EJU5=\"y\",IF(EJT5>EJT7,(EJT5-EJT7),0),0)))+IF(EJR6=\"\",0,IF(EJS6=\"ep\",EJT6-EJR6,IF(EJS6=\"y\",IF(EJR6<EJR7,(EJR7-EJR6),0),0)+IF(EJU6=\"y\",IF(EJT6>EJT7,(EJT6-EJT7),0),0)))","v":"00:00:00"},null,null,null,{"$f":"IF(EKG4=\"v\",0,IF(EKG2=\"h\",EKF11,IF(EKF10=\"\",0,IF(EKB10=\"\",0,IF(EKD11<EKG11,EKD11,EKG11)))))","v":"00:00:00"},null,{"$f":"IF(EKF10=\"\",0,IF(EKD10=\"\",EKF11,EKF10-EKD10))","v":"00:00:00"},null,{"$f":"IF(EKF10=\"\",0,EKF10-EKB10)","v":"00:00:00"},{"$f":"IF(EKF11<EKG10,0,IF(EKF10=\"\",0,IF(EKB10=\"\",0,EKF11-EKG10)))","v":"00:00:00"},null,null,null,null,{"$f":"IF(EKQ4=\"v\",0,IF(EKQ2=\"h\",EKP11,IF(EKP10=\"\",0,IF(EKL10=\"\",0,IF(EKN11<EKQ11,EKN11,EKQ11)))))","v":"00:00:00"},null,{"$f":"IF(EKP10=\"\",0,IF(EKN10=\"\",EKP11,EKP10-EKN10))","v":"00:00:00"},null,{"$f":"IF(EKP10=\"\",0,EKP10-EKL10)","v":"00:00:00"},{"$f":"IF(EKP11<EKQ10,0,IF(EKP10=\"\",0,IF(EKL10=\"\",0,EKP11-EKQ10)))","v":"00:00:00"}]
[null,null,"Toteutunut",null,null,null,"Suunniteltu",null,null,null,"% suunnitellusta"]
[null,null,"Sitom","Sidot","Säänt",null,"Sitom","Sidot","Säänt",null,"Sitom","Sidot","Säänt",null,null,null,{"$f":"Suunnitelma!$B$13","v":"Työajan jakautuminen"},"Sitomaton",null,"Sidottu",null,"Sääntelemätön",null,"Huomautus",null,null,null,"Sitomaton",null,"Sidottu",null,"Sääntelemätön",null,"Huomautus",null,null,null,"Sitomaton",null,"Sidottu",null,"Sääntelemätön",null,"Huomautus",null,null,null,"Sitomaton",null,"Sidottu",null,"Sääntelemätön",null,"Huomautus",null,null,null,"Sitomaton",null,"Sidottu",null,"Sääntelemätön",null,"Huomautus",null,null,null,"Sitomaton",null,"Sidottu",null,"Sääntelemätön",null,"Huomautus",null,null,null,"Sitomaton",null,"Sidottu",null,"Sääntelemätön",null,"Huomautus",null,null,null,"Sitomaton",null,"Sidottu",null,"Sääntelemätön",null,"Huomautus",null,null,null,"Sitomaton",null,"Sidottu",null,"Sääntelemätön",null,"Huomautus",null,null,null,"Sitomaton",null,"Sidottu",null,"Sääntelemätön",null,"Huomautus",null,null,null,"Sitomaton",null,"Sidottu",null,"Sääntelemätön",null,"Huomautus",null,null,null,"Sitomaton",null,"Sidottu",null,"Sääntelemätön",null,"Huomautus",null,null,null,"Sitomaton",null,"Sidottu",null,"Sääntelemätön",null,"Huomautus",null,null,null,"Sitomaton",null,"Sidottu",null,"Sääntelemätön",null,"Huomautus",null,null,null,"Sitomaton",null,"Sidottu",null,"Sääntelemätön",null,"Huomautus",null,null,null,"Sitomaton",null,"Sidottu",null,"Sääntelemätön",null,"Huomautus",null,null,null,"Sitomaton",null,"Sidottu",null,"Sääntelemätön",null,"Huomautus",null,null,null,"Sitomaton",null,"Sidottu",null,"Sääntelemätön",null,"Huomautus",null,null,null,"Sitomaton",null,"Sidottu",null,"Sääntelemätön",null,"Huomautus",null,null,null,"Sitomaton",null,"Sidottu",null,"Sääntelemätön",null,"Huomautus",null,null,null,"Sitomaton",null,"Sidottu",null,"Sääntelemätön",null,"Huomautus",null,null,null,"Sitomaton",null,"Sidottu",null,"Sääntelemätön",null,"Huomautus",null,null,null,"Sitomaton",null,"Sidottu",null,"Sääntelemätön",null,"Huomautus",null,null,null,"Sitomaton",null,"Sidottu",null,"Sääntelemätön",null,"Huomautus",null,null,null,"Sitomaton",null,"Sidottu",null,"Sääntelemätön",null,"Huomautus",null,null,null,"Sitomaton",null,"Sidottu",null,"Sääntelemätön",null,"Huomautus",null,null,null,"Sitomaton",null,"Sidottu",null,"Sääntelemätön",null,"Huomautus",null,null,null,"Sitomaton",null,"Sidottu",null,"Sääntelemätön",null,"Huomautus",null,null,null,"Sitomaton",null,"Sidottu",null,"Sääntelemätön",null,"Huomautus",null,null,null,"Sitomaton",null,"Sidottu",null,"Sääntelemätön",null,"Huomautus",null,null,null,"Sitomaton",null,"Sidottu",null,"Sääntelemätön",null,"Huomautus",null,null,null,"Sitomaton",null,"Sidottu",null,"Sääntelemätön",null,"Huomautus",null,null,null,"Sitomaton",null,"Sidottu",null,"Sääntelemätön",null,"Huomautus",null,null,null,"Sitomaton",null,"Sidottu",null,"Sääntelemätön",null,"Huomautus",null,null,null,"Sitomaton",null,"Sidottu",null,"Sääntelemätön",null,"Huomautus",null,null,null,"Sitomaton",null,"Sidottu",null,"Sääntelemätön",null,"Huomautus",null,null,null,"Sitomaton",null,"Sidottu",null,"Sääntelemätön",null,"Huomautus",null,null,null,"Sitomaton",null,"Sidottu",null,"Sääntelemätön",null,"Huomautus",null,null,null,"Sitomaton",null,"Sidottu",null,"Sääntelemätön",null,"Huomautus",null,null,null,"Sitomaton",null,"Sidottu",null,"Sääntelemätön",null,"Huomautus",null,null,null,"Sitomaton",null,"Sidottu",null,"Sääntelemätön",null,"Huomautus",null,null,null,"Sitomaton",null,"Sidottu",null,"Sääntelemätön",null,"Huomautus",null,null,null,"Sitomaton",null,"Sidottu",null,"Sääntelemätön",null,"Huomautus",null,null,null,"Sitomaton",null,"Sidottu",null,"Sääntelemätön",null,"Huomautus",null,null,null,"Sitomaton",null,"Sidottu",null,"Sääntelemätön",null,"Huomautus",null,null,null,"Sitomaton",null,"Sidottu",null,"Sääntelemätön",null,"Huomautus",null,null,null,"Sitomaton",null,"Sidottu",null,"Sääntelemätön",null,"Huomautus",null,null,null,"Sitomaton",null,"Sidottu",null,"Sääntelemätön",null,"Huomautus",null,null,null,"Sitomaton",null,"Sidottu",null,"Sääntelemätön",null,"Huomautus",null,null,null,"Sitomaton",null,"Sidottu",null,"Sääntelemätön",null,"Huomautus",null,null,null,"Sitomaton",null,"Sidottu",null,"Sääntelemätön",null,"Huomautus",null,null,null,"Sitomaton",null,"Sidottu",null,"Sääntelemätön",null,"Huomautus",null,null,null,"Sitomaton",null,"Sidottu",null,"Sääntelemätön",null,"Huomautus",null,null,null,"Sitomaton",null,"Sidottu",null,"Sääntelemätön",null,"Huomautus",null,null,null,"Sitomaton",null,"Sidottu",null,"Sääntelemätön",null,"Huomautus",null,null,null,"Sitomaton",null,"Sidottu",null,"Sääntelemätön",null,"Huomautus",null,null,null,"Sitomaton",null,"Sidottu",null,"Sääntelemätön",null,"Huomautus",null,null,null,"Sitomaton",null,"Sidottu",null,"Sääntelemätön",null,"Huomautus",null,null,null,"Sitomaton",null,"Sidottu",null,"Sääntelemätön",null,"Huomautus",null,null,null,"Sitomaton",null,"Sidottu",null,"Sääntelemätön",null,"Huomautus",null,null,null,"Sitomaton",null,"Sidottu",null,"Sääntelemätön",null,"Huomautus",null,null,null,"Sitomaton",null,"Sidottu",null,"Sääntelemätön",null,"Huomautus",null,null,null,"Sitomaton",null,"Sidottu",null,"Sääntelemätön",null,"Huomautus",null,null,null,"Sitomaton",null,"Sidottu",null,"Sääntelemätön",null,"Huomautus",null,null,null,"Sitomaton",null,"Sidottu",null,"Sääntelemätön",null,"Huomautus",null,null,null,"Sitomaton",null,"Sidottu",null,"Sääntelemätön",null,"Huomautus",null,null,null,"Sitomaton",null,"Sidottu",null,"Sääntelemätön",null,"Huomautus",null,null,null,"Sitomaton",null,"Sidottu",null,"Sääntelemätön",null,"Huomautus",null,null,null,"Sitomaton",null,"Sidottu",null,"Sääntelemätön",null,"Huomautus",null,null,null,"Sitomaton",null,"Sidottu",null,"Sääntelemätön",null,"Huomautus",null,null,null,"Sitomaton",null,"Sidottu",null,"Sääntelemätön",null,"Huomautus",null,null,null,"Sitomaton",null,"Sidottu",null,"Sääntelemätön",null,"Huomautus",null,null,null,"Sitomaton",null,"Sidottu",null,"Sääntelemätön",null,"Huomautus",null,null,null,"Sitomaton",null,"Sidottu",null,"Sääntelemätön",null,"Huomautus",null,null,null,"Sitomaton",null,"Sidottu",null,"Sääntelemätön",null,"Huomautus",null,null,null,"Sitomaton",null,"Sidottu",null,"Sääntelemätön",null,"Huomautus",null,null,null,"Sitomaton",null,"Sidottu",null,"Sääntelemätön",null,"Huomautus",null,null,null,"Sitomaton",null,"Sidottu",null,"Sääntelemätön",null,"Huomautus",null,null,null,"Sitomaton",null,"Sidottu",null,"Sääntelemätön",null,"Huomautus",null,null,null,"Sitomaton",null,"Sidottu",null,"Sääntelemätön",null,"Huomautus",null,null,null,"Sitomaton",null,"Sidottu",null,"Sääntelemätön",null,"Huomautus",null,null,null,"Sitomaton",null,"Sidottu",null,"Sääntelemätön",null,"Huomautus",null,null,null,"Sitomaton",null,"Sidottu",null,"Sääntelemätön",null,"Huomautus",null,null,null,"Sitomaton",null,"Sidottu",null,"Sääntelemätön",null,"Huomautus",null,null,null,"Sitomaton",null,"Sidottu",null,"Sääntelemätön",null,"Huomautus",null,null,null,"Sitomaton",null,"Sidottu",null,"Sääntelemätön",null,"Huomautus",null,null,null,"Sitomaton",null,"Sidottu",null,"Sääntelemätön",null,"Huomautus",null,null,null,"Sitomaton",null,"Sidottu",null,"Sääntelemätön",null,"Huomautus",null,null,null,"Sitomaton",null,"Sidottu",null,"Sääntelemätön",null,"Huomautus",null,null,null,"Sitomaton",null,"Sidottu",null,"Sääntelemätön",null,"Huomautus",null,null,null,"Sitomaton",null,"Sidottu",null,"Sääntelemätön",null,"Huomautus",null,null,null,"Sitomaton",null,"Sidottu",null,"Sääntelemätön",null,"Huomautus",null,null,null,"Sitomaton",null,"Sidottu",null,"Sääntelemätön",null,"Huomautus",null,null,null,"Sitomaton",null,"Sidottu",null,"Sääntelemätön",null,"Huomautus",null,null,null,"Sitomaton",null,"Sidottu",null,"Sääntelemätön",null,"Huomautus",null,null,null,"Sitomaton",null,"Sidottu",null,"Sääntelemätön",null,"Huomautus",null,null,null,"Sitomaton",null,"Sidottu",null,"Sääntelemätön",null,"Huomautus",null,null,null,"Sitomaton",null,"Sidottu",null,"Sääntelemätön",null,"Huomautus",null,null,null,"Sitomaton",null,"Sidottu",null,"Sääntelemätön",null,"Huomautus",null,null,null,"Sitomaton",null,"Sidottu",null,"Sääntelemätön",null,"Huomautus",null,null,null,"Sitomaton",null,"Sidottu",null,"Sääntelemätön",null,"Huomautus",null,null,null,"Sitomaton",null,"Sidottu",null,"Sääntelemätön",null,"Huomautus",null,null,null,"Sitomaton",null,"Sidottu",null,"Sääntelemätön",null,"Huomautus",null,null,null,"Sitomaton",null,"Sidottu",null,"Sääntelemätön",null,"Huomautus",null,null,null,"Sitomaton",null,"Sidottu",null,"Sääntelemätön",null,"Huomautus",null,null,null,"Sitomaton",null,"Sidottu",null,"Sääntelemätön",null,"Huomautus",null,null,null,"Sitomaton",null,"Sidottu",null,"Sääntelemätön",null,"Huomautus",null,null,null,"Sitomaton",null,"Sidottu",null,"Sääntelemätön",null,"Huomautus",null,null,null,"Sitomaton",null,"Sidottu",null,"Sääntelemätön",null,"Huomautus",null,null,null,"Sitomaton",null,"Sidottu",null,"Sääntelemätön",null,"Huomautus",null,null,null,"Sitomaton",null,"Sidottu",null,"Sääntelemätön",null,"Huomautus",null,null,null,"Sitomaton",null,"Sidottu",null,"Sääntelemätön",null,"Huomautus",null,null,null,"Sitomaton",null,"Sidottu",null,"Sääntelemätön",null,"Huomautus",null,null,null,"Sitomaton",null,"Sidottu",null,"Sääntelemätön",null,"Huomautus",null,null,null,"Sitomaton",null,"Sidottu",null,"Sääntelemätön",null,"Huomautus",null,null,null,"Sitomaton",null,"Sidottu",null,"Sääntelemätön",null,"Huomautus",null,null,null,"Sitomaton",null,"Sidottu",null,"Sääntelemätön",null,"Huomautus",null,null,null,"Sitomaton",null,"Sidottu",null,"Sääntelemätön",null,"Huomautus",null,null,null,"Sitomaton",null,"Sidottu",null,"Sääntelemätön",null,"Huomautus",null,null,null,"Sitomaton",null,"Sidottu",null,"Sääntelemätön",null,"Huomautus",null,null,null,"Sitomaton",null,"Sidottu",null,"Sääntelemätön",null,"Huomautus",null,null,null,"Sitomaton",null,"Sidottu",null,"Sääntelemätön",null,"Huomautus",null,null,null,"Sitomaton",null,"Sidottu",null,"Sääntelemätön",null,"Huomautus",null,null,null,"Sitomaton",null,"Sidottu",null,"Sääntelemätön",null,"Huomautus",null,null,null,"Sitomaton",null,"Sidottu",null,"Sääntelemätön",null,"Huomautus",null,null,null,"Sitomaton",null,"Sidottu",null,"Sääntelemätön",null,"Huomautus",null,null,null,"Sitomaton",null,"Sidottu",null,"Sääntelemätön",null,"Huomautus",null,null,null,"Sitomaton",null,"Sidottu",null,"Sääntelemätön",null,"Huomautus",null,null,null,"Sitomaton",null,"Sidottu",null,"Sääntelemätön",null,"Huomautus",null,null,null,"Sitomaton",null,"Sidottu",null,"Sääntelemätön",null,"Huomautus",null,null,null,"Sitomaton",null,"Sidottu",null,"Sääntelemätön",null,"Huomautus",null,null,null,"Sitomaton",null,"Sidottu",null,"Sääntelemätön",null,"Huomautus",null,null,null,"Sitomaton",null,"Sidottu",null,"Sääntelemätön",null,"Huomautus",null,null,null,"Sitomaton",null,"Sidottu",null,"Sääntelemätön",null,"Huomautus",null,null,null,"Sitomaton",null,"Sidottu",null,"Sääntelemätön",null,"Huomautus",null,null,null,"Sitomaton",null,"Sidottu",null,"Sääntelemätön",null,"Huomautus",null,null,null,"Sitomaton",null,"Sidottu",null,"Sääntelemätön",null,"Huomautus",null,null,null,"Sitomaton",null,"Sidottu",null,"Sääntelemätön",null,"Huomautus",null,null,null,"Sitomaton",null,"Sidottu",null,"Sääntelemätön",null,"Huomautus",null,null,null,"Sitomaton",null,"Sidottu",null,"Sääntelemätön",null,"Huomautus",null,null,null,"Sitomaton",null,"Sidottu",null,"Sääntelemätön",null,"Huomautus",null,null,null,"Sitomaton",null,"Sidottu",null,"Sääntelemätön",null,"Huomautus",null,null,null,"Sitomaton",null,"Sidottu",null,"Sääntelemätön",null,"Huomautus",null,null,null,"Sitomaton",null,"Sidottu",null,"Sääntelemätön",null,"Huomautus",null,null,null,"Sitomaton",null,"Sidottu",null,"Sääntelemätön",null,"Huomautus",null,null,null,"Sitomaton",null,"Sidottu",null,"Sääntelemätön",null,"Huomautus",null,null,null,"Sitomaton",null,"Sidottu",null,"Sääntelemätön",null,"Huomautus",null,null,null,"Sitomaton",null,"Sidottu",null,"Sääntelemätön",null,"Huomautus",null,null,null,"Sitomaton",null,"Sidottu",null,"Sääntelemätön",null,"Huomautus",null,null,null,"Sitomaton",null,"Sidottu",null,"Sääntelemätön",null,"Huomautus",null,null,null,"Sitomaton",null,"Sidottu",null,"Sääntelemätön",null,"Huomautus",null,null,null,"Sitomaton",null,"Sidottu",null,"Sääntelemätön",null,"Huomautus",null,null,null,"Sitomaton",null,"Sidottu",null,"Sääntelemätön",null,"Huomautus",null,null,null,"Sitomaton",null,"Sidottu",null,"Sääntelemätön",null,"Huomautus",null,null,null,"Sitomaton",null,"Sidottu",null,"Sääntelemätön",null,"Huomautus",null,null,null,"Sitomaton",null,"Sidottu",null,"Sääntelemätön",null,"Huomautus",null,null,null,"Sitomaton",null,"Sidottu",null,"Sääntelemätön",null,"Huomautus",null,null,null,"Sitomaton",null,"Sidottu",null,"Sääntelemätön",null,"Huomautus",null,null,null,"Sitomaton",null,"Sidottu",null,"Sääntelemätön",null,"Huomautus",null,null,null,"Sitomaton",null,"Sidottu",null,"Sääntelemätön",null,"Huomautus",null,null,null,"Sitomaton",null,"Sidottu",null,"Sääntelemätön",null,"Huomautus",null,null,null,"Sitomaton",null,"Sidottu",null,"Sääntelemätön",null,"Huomautus",null,null,null,"Sitomaton",null,"Sidottu",null,"Sääntelemätön",null,"Huomautus",null,null,null,"Sitomaton",null,"Sidottu",null,"Sääntelemätön",null,"Huomautus",null,null,null,"Sitomaton",null,"Sidottu",null,"Sääntelemätön",null,"Huomautus",null,null,null,"Sitomaton",null,"Sidottu",null,"Sääntelemätön",null,"Huomautus",null,null,null,"Sitomaton",null,"Sidottu",null,"Sääntelemätön",null,"Huomautus",null,null,null,"Sitomaton",null,"Sidottu",null,"Sääntelemätön",null,"Huomautus",null,null,null,"Sitomaton",null,"Sidottu",null,"Sääntelemätön",null,"Huomautus",null,null,null,"Sitomaton",null,"Sidottu",null,"Sääntelemätön",null,"Huomautus",null,null,null,"Sitomaton",null,"Sidottu",null,"Sääntelemätön",null,"Huomautus",null,null,null,"Sitomaton",null,"Sidottu",null,"Sääntelemätön",null,"Huomautus",null,null,null,"Sitomaton",null,"Sidottu",null,"Sääntelemätön",null,"Huomautus",null,null,null,"Sitomaton",null,"Sidottu",null,"Sääntelemätön",null,"Huomautus",null,null,null,"Sitomaton",null,"Sidottu",null,"Sääntelemätön",null,"Huomautus",null,null,null,"Sitomaton",null,"Sidottu",null,"Sääntelemätön",null,"Huomautus",null,null,null,"Sitomaton",null,"Sidottu",null,"Sääntelemätön",null,"Huomautus",null,null,null,"Sitomaton",null,"Sidottu",null,"Sääntelemätön",null,"Huomautus",null,null,null,"Sitomaton",null,"Sidottu",null,"Sääntelemätön",null,"Huomautus",null,null,null,"Sitomaton",null,"Sidottu",null,"Sääntelemätön",null,"Huomautus",null,null,null,"Sitomaton",null,"Sidottu",null,"Sääntelemätön",null,"Huomautus",null,null,null,"Sitomaton",null,"Sidottu",null,"Sääntelemätön",null,"Huomautus",null,null,null,"Sitomaton",null,"Sidottu",null,"Sääntelemätön",null,"Huomautus",null,null,null,"Sitomaton",null,"Sidottu",null,"Sääntelemätön",null,"Huomautus",null,null,null,"Sitomaton",null,"Sidottu",null,"Sääntelemätön",null,"Huomautus",null,null,null,"Sitomaton",null,"Sidottu",null,"Sääntelemätön",null,"Huomautus",null,null,null,"Sitomaton",null,"Sidottu",null,"Sääntelemätön",null,"Huomautus",null,null,null,"Sitomaton",null,"Sidottu",null,"Sääntelemätön",null,"Huomautus",null,null,null,"Sitomaton",null,"Sidottu",null,"Sääntelemätön",null,"Huomautus",null,null,null,"Sitomaton",null,"Sidottu",null,"Sääntelemätön",null,"Huomautus",null,null,null,"Sitomaton",null,"Sidottu",null,"Sääntelemätön",null,"Huomautus",null,null,null,"Sitomaton",null,"Sidottu",null,"Sääntelemätön",null,"Huomautus",null,null,null,"Sitomaton",null,"Sidottu",null,"Sääntelemätön",null,"Huomautus",null,null,null,"Sitomaton",null,"Sidottu",null,"Sääntelemätön",null,"Huomautus",null,null,null,"Sitomaton",null,"Sidottu",null,"Sääntelemätön",null,"Huomautus",null,null,null,"Sitomaton",null,"Sidottu",null,"Sääntelemätön",null,"Huomautus",null,null,null,"Sitomaton",null,"Sidottu",null,"Sääntelemätön",null,"Huomautus",null,null,null,"Sitomaton",null,"Sidottu",null,"Sääntelemätön",null,"Huomautus",null,null,null,"Sitomaton",null,"Sidottu",null,"Sääntelemätön",null,"Huomautus",null,null,null,"Sitomaton",null,"Sidottu",null,"Sääntelemätön",null,"Huomautus",null,null,null,"Sitomaton",null,"Sidottu",null,"Sääntelemätön",null,"Huomautus",null,null,null,"Sitomaton",null,"Sidottu",null,"Sääntelemätön",null,"Huomautus",null,null,null,"Sitomaton",null,"Sidottu",null,"Sääntelemätön",null,"Huomautus",null,null,null,"Sitomaton",null,"Sidottu",null,"Sääntelemätön",null,"Huomautus",null,null,null,"Sitomaton",null,"Sidottu",null,"Sääntelemätön",null,"Huomautus",null,null,null,"Sitomaton",null,"Sidottu",null,"Sääntelemätön",null,"Huomautus",null,null,null,"Sitomaton",null,"Sidottu",null,"Sääntelemätön",null,"Huomautus",null,null,null,"Sitomaton",null,"Sidottu",null,"Sääntelemätön",null,"Huomautus",null,null,null,"Sitomaton",null,"Sidottu",null,"Sääntelemätön",null,"Huomautus",null,null,null,"Sitomaton",null,"Sidottu",null,"Sääntelemätön",null,"Huomautus",null,null,null,"Sitomaton",null,"Sidottu",null,"Sääntelemätön",null,"Huomautus",null,null,null,"Sitomaton",null,"Sidottu",null,"Sääntelemätön",null,"Huomautus",null,null,null,"Sitomaton",null,"Sidottu",null,"Sääntelemätön",null,"Huomautus",null,null,null,"Sitomaton",null,"Sidottu",null,"Sääntelemätön",null,"Huomautus",null,null,null,"Sitomaton",null,"Sidottu",null,"Sääntelemätön",null,"Huomautus",null,null,null,"Sitomaton",null,"Sidottu",null,"Sääntelemätön",null,"Huomautus",null,null,null,"Sitomaton",null,"Sidottu",null,"Sääntelemätön",null,"Huomautus",null,null,null,"Sitomaton",null,"Sidottu",null,"Sääntelemätön",null,"Huomautus",null,null,null,"Sitomaton",null,"Sidottu",null,"Sääntelemätön",null,"Huomautus",null,null,null,"Sitomaton",null,"Sidottu",null,"Sääntelemätön",null,"Huomautus",null,null,null,"Sitomaton",null,"Sidottu",null,"Sääntelemätön",null,"Huomautus",null,null,null,"Sitomaton",null,"Sidottu",null,"Sääntelemätön",null,"Huomautus",null,null,null,"Sitomaton",null,"Sidottu",null,"Sääntelemätön",null,"Huomautus",null,null,null,"Sitomaton",null,"Sidottu",null,"Sääntelemätön",null,"Huomautus",null,null,null,"Sitomaton",null,"Sidottu",null,"Sääntelemätön",null,"Huomautus",null,null,null,"Sitomaton",null,"Sidottu",null,"Sääntelemätön",null,"Huomautus",null,null,null,"Sitomaton",null,"Sidottu",null,"Sääntelemätön",null,"Huomautus",null,null,null,"Sitomaton",null,"Sidottu",null,"Sääntelemätön",null,"Huomautus",null,null,null,"Sitomaton",null,"Sidottu",null,"Sääntelemätön",null,"Huomautus",null,null,null,"Sitomaton",null,"Sidottu",null,"Sääntelemätön",null,"Huomautus",null,null,null,"Sitomaton",null,"Sidottu",null,"Sääntelemätön",null,"Huomautus",null,null,null,"Sitomaton",null,"Sidottu",null,"Sääntelemätön",null,"Huomautus",null,null,null,"Sitomaton",null,"Sidottu",null,"Sääntelemätön",null,"Huomautus",null,null,null,"Sitomaton",null,"Sidottu",null,"Sääntelemätön",null,"Huomautus",null,null,null,"Sitomaton",null,"Sidottu",null,"Sääntelemätön",null,"Huomautus",null,null,null,"Sitomaton",null,"Sidottu",null,"Sääntelemätön",null,"Huomautus",null,null,null,"Sitomaton",null,"Sidottu",null,"Sääntelemätön",null,"Huomautus",null,null,null,"Sitomaton",null,"Sidottu",null,"Sääntelemätön",null,"Huomautus",null,null,null,"Sitomaton",null,"Sidottu",null,"Sääntelemätön",null,"Huomautus",null,null,null,"Sitomaton",null,"Sidottu",null,"Sääntelemätön",null,"Huomautus",null,null,null,"Sitomaton",null,"Sidottu",null,"Sääntelemätön",null,"Huomautus",null,null,null,"Sitomaton",null,"Sidottu",null,"Sääntelemätön",null,"Huomautus",null,null,null,"Sitomaton",null,"Sidottu",null,"Sääntelemätön",null,"Huomautus",null,null,null,"Sitomaton",null,"Sidottu",null,"Sääntelemätön",null,"Huomautus",null,null,null,"Sitomaton",null,"Sidottu",null,"Sääntelemätön",null,"Huomautus",null,null,null,"Sitomaton",null,"Sidottu",null,"Sääntelemätön",null,"Huomautus",null,null,null,"Sitomaton",null,"Sidottu",null,"Sääntelemätön",null,"Huomautus",null,null,null,"Sitomaton",null,"Sidottu",null,"Sääntelemätön",null,"Huomautus",null,null,null,"Sitomaton",null,"Sidottu",null,"Sääntelemätön",null,"Huomautus",null,null,null,"Sitomaton",null,"Sidottu",null,"Sääntelemätön",null,"Huomautus",null,null,null,"Sitomaton",null,"Sidottu",null,"Sääntelemätön",null,"Huomautus",null,null,null,"Sitomaton",null,"Sidottu",null,"Sääntelemätön",null,"Huomautus",null,null,null,"Sitomaton",null,"Sidottu",null,"Sääntelemätön",null,"Huomautus",null,null,null,"Sitomaton",null,"Sidottu",null,"Sääntelemätön",null,"Huomautus",null,null,null,"Sitomaton",null,"Sidottu",null,"Sääntelemätön",null,"Huomautus",null,null,null,"Sitomaton",null,"Sidottu",null,"Sääntelemätön",null,"Huomautus",null,null,null,"Sitomaton",null,"Sidottu",null,"Sääntelemätön",null,"Huomautus",null,null,null,"Sitomaton",null,"Sidottu",null,"Sääntelemätön",null,"Huomautus",null,null,null,"Sitomaton",null,"Sidottu",null,"Sääntelemätön",null,"Huomautus",null,null,null,"Sitomaton",null,"Sidottu",null,"Sääntelemätön",null,"Huomautus",null,null,null,"Sitomaton",null,"Sidottu",null,"Sääntelemätön",null,"Huomautus",null,null,null,"Sitomaton",null,"Sidottu",null,"Sääntelemätön",null,"Huomautus",null,null,null,"Sitomaton",null,"Sidottu",null,"Sääntelemätön",null,"Huomautus",null,null,null,"Sitomaton",null,"Sidottu",null,"Sääntelemätön",null,"Huomautus",null,null,null,"Sitomaton",null,"Sidottu",null,"Sääntelemätön",null,"Huomautus",null,null,null,"Sitomaton",null,"Sidottu",null,"Sääntelemätön",null,"Huomautus",null,null,null,"Sitomaton",null,"Sidottu",null,"Sääntelemätön",null,"Huomautus",null,null,null,"Sitomaton",null,"Sidottu",null,"Sääntelemätön",null,"Huomautus",null,null,null,"Sitomaton",null,"Sidottu",null,"Sääntelemätön",null,"Huomautus",null,null,null,"Sitomaton",null,"Sidottu",null,"Sääntelemätön",null,"Huomautus",null,null,null,"Sitomaton",null,"Sidottu",null,"Sääntelemätön",null,"Huomautus",null,null,null,"Sitomaton",null,"Sidottu",null,"Sääntelemätön",null,"Huomautus",null,null,null,"Sitomaton",null,"Sidottu",null,"Sääntelemätön",null,"Huomautus",null,null,null,"Sitomaton",null,"Sidottu",null,"Sääntelemätön",null,"Huomautus",null,null,null,"Sitomaton",null,"Sidottu",null,"Sääntelemätön",null,"Huomautus",null,null,null,"Sitomaton",null,"Sidottu",null,"Sääntelemätön",null,"Huomautus",null,null,null,"Sitomaton",null,"Sidottu",null,"Sääntelemätön",null,"Huomautus",null,null,null,"Sitomaton",null,"Sidottu",null,"Sääntelemätön",null,"Huomautus",null,null,null,"Sitomaton",null,"Sidottu",null,"Sääntelemätön",null,"Huomautus",null,null,null,"Sitomaton",null,"Sidottu",null,"Sääntelemätön",null,"Huomautus",null,null,null,"Sitomaton",null,"Sidottu",null,"Sääntelemätön",null,"Huomautus",null,null,null,"Sitomaton",null,"Sidottu",null,"Sääntelemätön",null,"Huomautus",null,null,null,"Sitomaton",null,"Sidottu",null,"Sääntelemätön",null,"Huomautus",null,null,null,"Sitomaton",null,"Sidottu",null,"Sääntelemätön",null,"Huomautus",null,null,null,"Sitomaton",null,"Sidottu",null,"Sääntelemätön",null,"Huomautus",null,null,null,"Sitomaton",null,"Sidottu",null,"Sääntelemätön",null,"Huomautus",null,null,null,"Sitomaton",null,"Sidottu",null,"Sääntelemätön",null,"Huomautus",null,null,null,"Sitomaton",null,"Sidottu",null,"Sääntelemätön",null,"Huomautus",null,null,null,"Sitomaton",null,"Sidottu",null,"Sääntelemätön",null,"Huomautus",null,null,null,"Sitomaton",null,"Sidottu",null,"Sääntelemätön",null,"Huomautus",null,null,null,"Sitomaton",null,"Sidottu",null,"Sääntelemätön",null,"Huomautus",null,null,null,"Sitomaton",null,"Sidottu",null,"Sääntelemätön",null,"Huomautus",null,null,null,"Sitomaton",null,"Sidottu",null,"Sääntelemätön",null,"Huomautus",null,null,null,"Sitomaton",null,"Sidottu",null,"Sääntelemätön",null,"Huomautus",null,null,null,"Sitomaton",null,"Sidottu",null,"Sääntelemätön",null,"Huomautus",null,null,null,"Sitomaton",null,"Sidottu",null,"Sääntelemätön",null,"Huomautus",null,null,null,"Sitomaton",null,"Sidottu",null,"Sääntelemätön",null,"Huomautus",null,null,null,"Sitomaton",null,"Sidottu",null,"Sääntelemätön",null,"Huomautus",null,null,null,"Sitomaton",null,"Sidottu",null,"Sääntelemätön",null,"Huomautus",null,null,null,"Sitomaton",null,"Sidottu",null,"Sääntelemätön",null,"Huomautus",null,null,null,"Sitomaton",null,"Sidottu",null,"Sääntelemätön",null,"Huomautus",null,null,null,"Sitomaton",null,"Sidottu",null,"Sääntelemätön",null,"Huomautus",null,null,null,"Sitomaton",null,"Sidottu",null,"Sääntelemätön",null,"Huomautus",null,null,null,"Sitomaton",null,"Sidottu",null,"Sääntelemätön",null,"Huomautus",null,null,null,"Sitomaton",null,"Sidottu",null,"Sääntelemätön",null,"Huomautus",null,null,null,"Sitomaton",null,"Sidottu",null,"Sääntelemätön",null,"Huomautus",null,null,null,"Sitomaton",null,"Sidottu",null,"Sääntelemätön",null,"Huomautus",null,null,null,"Sitomaton",null,"Sidottu",null,"Sääntelemätön",null,"Huomautus",null,null,null,"Sitomaton",null,"Sidottu",null,"Sääntelemätön",null,"Huomautus",null,null,null,"Sitomaton",null,"Sidottu",null,"Sääntelemätön",null,"Huomautus",null,null,null,"Sitomaton",null,"Sidottu",null,"Sääntelemätön",null,"Huomautus",null,null,null,"Sitomaton",null,"Sidottu",null,"Sääntelemätön",null,"Huomautus",null,null,null,"Sitomaton",null,"Sidottu",null,"Sääntelemätön",null,"Huomautus",null,null,null,"Sitomaton",null,"Sidottu",null,"Sääntelemätön",null,"Huomautus",null,null,null,"Sitomaton",null,"Sidottu",null,"Sääntelemätön",null,"Huomautus",null,null,null,"Sitomaton",null,"Sidottu",null,"Sääntelemätön",null,"Huomautus",null,null,null,"Sitomaton",null,"Sidottu",null,"Sääntelemätön",null,"Huomautus",null,null,null,"Sitomaton",null,"Sidottu",null,"Sääntelemätön",null,"Huomautus",null,null,null,"Sitomaton",null,"Sidottu",null,"Sääntelemätön",null,"Huomautus",null,null,null,"Sitomaton",null,"Sidottu",null,"Sääntelemätön",null,"Huomautus",null,null,null,"Sitomaton",null,"Sidottu",null,"Sääntelemätön",null,"Huomautus",null,null,null,"Sitomaton",null,"Sidottu",null,"Sääntelemätön",null,"Huomautus",null,null,null,"Sitomaton",null,"Sidottu",null,"Sääntelemätön",null,"Huomautus",null,null,null,"Sitomaton",null,"Sidottu",null,"Sääntelemätön",null,"Huomautus",null,null,null,"Sitomaton",null,"Sidottu",null,"Sääntelemätön",null,"Huomautus",null,null,null,"Sitomaton",null,"Sidottu",null,"Sääntelemätön",null,"Huomautus",null,null,null,"Sitomaton",null,"Sidottu",null,"Sääntelemätön",null,"Huomautus",null,null,null,"Sitomaton",null,"Sidottu",null,"Sääntelemätön",null,"Huomautus",null,null,null,"Sitomaton",null,"Sidottu",null,"Sääntelemätön",null,"Huomautus",null,null,null,"Sitomaton",null,"Sidottu",null,"Sääntelemätön",null,"Huomautus",null,null,null,"Sitomaton",null,"Sidottu",null,"Sääntelemätön",null,"Huomautus",null,null,null,"Sitomaton",null,"Sidottu",null,"Sääntelemätön",null,"Huomautus",null,null,null,"Sitomaton",null,"Sidottu",null,"Sääntelemätön",null,"Huomautus",null,null,null,"Sitomaton",null,"Sidottu",null,"Sääntelemätön",null,"Huomautus",null,null,null,"Sitomaton",null,"Sidottu",null,"Sääntelemätön",null,"Huomautus",null,null,null,"Sitomaton",null,"Sidottu",null,"Sääntelemätön",null,"Huomautus",null,null,null,"Sitomaton",null,"Sidottu",null,"Sääntelemätön",null,"Huomautus",null,null,null,"Sitomaton",null,"Sidottu",null,"Sääntelemätön",null,"Huomautus",null,null,null,"Sitomaton",null,"Sidottu",null,"Sääntelemätön",null,"Huomautus",null,null,null,"Sitomaton",null,"Sidottu",null,"Sääntelemätön",null,"Huomautus",null,null,null,"Sitomaton",null,"Sidottu",null,"Sääntelemätön",null,"Huomautus",null,null,null,"Sitomaton",null,"Sidottu",null,"Sääntelemätön",null,"Huomautus",null,null,null,"Sitomaton",null,"Sidottu",null,"Sääntelemätön",null,"Huomautus",null,null,null,"Sitomaton",null,"Sidottu",null,"Sääntelemätön",null,"Huomautus",null,null,null,"Sitomaton",null,"Sidottu",null,"Sääntelemätön",null,"Huomautus",null,null,null,"Sitomaton",null,"Sidottu",null,"Sääntelemätön",null,"Huomautus",null,null,null,"Sitomaton",null,"Sidottu",null,"Sääntelemätön",null,"Huomautus",null,null,null,"Sitomaton",null,"Sidottu",null,"Sääntelemätön",null,"Huomautus",null,null,null,"Sitomaton",null,"Sidottu",null,"Sääntelemätön",null,"Huomautus",null,null,null,"Sitomaton",null,"Sidottu",null,"Sääntelemätön",null,"Huomautus",null,null,null,"Sitomaton",null,"Sidottu",null,"Sääntelemätön",null,"Huomautus",null,null,null,"Sitomaton",null,"Sidottu",null,"Sääntelemätön",null,"Huomautus",null,null,null,"Sitomaton",null,"Sidottu",null,"Sääntelemätön",null,"Huomautus",null,null,null,"Sitomaton",null,"Sidottu",null,"Sääntelemätön",null,"Huomautus",null,null,null,"Sitomaton",null,"Sidottu",null,"Sääntelemätön",null,"Huomautus",null,null,null,"Sitomaton",null,"Sidottu",null,"Sääntelemätön",null,"Huomautus",null,null,null,"Sitomaton",null,"Sidottu",null,"Sääntelemätön",null,"Huomautus",null,null,null,"Sitomaton",null,"Sidottu",null,"Sääntelemätön",null,"Huomautus",null,null,null,"Sitomaton",null,"Sidottu",null,"Sääntelemätön",null,"Huomautus",null,null,null,"Sitomaton",null,"Sidottu",null,"Sääntelemätön",null,"Huomautus",null,null,null,"Sitomaton",null,"Sidottu",null,"Sääntelemätön",null,"Huomautus",null,null,null,"Sitomaton",null,"Sidottu",null,"Sääntelemätön",null,"Huomautus",null,null,null,"Sitomaton",null,"Sidottu",null,"Sääntelemätön",null,"Huomautus",null,null,null,"Sitomaton",null,"Sidottu",null,"Sääntelemätön",null,"Huomautus",null,null,null,"Sitomaton",null,"Sidottu",null,"Sääntelemätön",null,"Huomautus",null,null,null,"Sidottu",null,"Sitomaton",null,"Sääntelemätön",null,"Huomautus",null,null,null,"Sidottu",null,"Sitomaton",null,"Sääntelemätön",null,"Huomautus"]
[null,{"$f":"Suunnitelma!$B$14","v":"Yhteissuunnittelu ja -kehittäminen"},{"$f":"Osakoonti!D14+($R14+$AB14+$AL14+$AV14+$BF14+$BP14+$BZ14+$CJ14+$CT14+$DD14+$DN14+$DX14+$EH14+$ER14+$FB14+$FL14+$FV14+$GF14+$GP14+$GZ14+$HJ14+$HT14+$ID14+$IN14+$IX14+$JH14+$JR14+$KB14+$KL14+$KV14+$LF14+$LP14+$LZ14+$MJ14+$MT14+$ND14+$NN14+$NX14+$OH14+$OR14+$PB14+$PL14+$PV14+$QF14+$QP14+$QZ14+$RJ14+$RT14+$SD14+$SN14+$SX14+$TH14+$TR14+$UB14+$UL14+$UV14+$VF14+$VP14+$VZ14+$WJ14+$WT14+$XD14+$XN14+$XX14+$YH14+$YR14+$ZB14+$ZL14+$ZV14+$AAF14+$AAP14+$AAZ14+$ABJ14+$ABT14+$ACD14+$ACN14+$ACX14+$ADH14+$ADR14+$AEB14+$AEL14+$AEV14+$AFF14+$AFP14+$AFZ14+$AGJ14+$AGT14+$AHD14+$AHN14+$AHX14+$AIH14+$AIR14+$AJB14+$AJL14+$AJV14+$AKF14+$AKP14+$AKZ14+$ALJ14+$ALT14+$AMD14+$AMN14+$AMX14+$ANH14+$ANR14+$AOB14+$AOL14+$AOV14+$APF14+$APP14+$APZ14+$AQJ14+$AQT14+$ARD14+$ARN14+$ARX14+$ASH14+$ASR14+$ATB14+$ATL14+$ATV14+$AUF14+$AUP14+$AUZ14+$AVJ14+$AVT14+$AWD14+$AWN14+$AWX14+$AXH14+$AXR14+$AYB14+$AYL14+$AYV14+$AZF14+$AZP14+$AZZ14+$BAJ14+$BAT14+$BBD14+$BBN14+$BBX14+$BCH14+$BCR14+$BDB14+$BDL14+$BDV14+$BEF14+$BEP14+$BEZ14+$BFJ14+$BFT14+$BGD14+$BGN14+$BGX14+$BHH14+$BHR14+$BIB14+$BIL14+$BIV14+$BJF14+$BJP14+$BJZ14+$BKJ14+$BKT14+$BLD14+$BLN14+$BLX14+$BMH14+$BMR14+$BNB14+$BNL14+$BNV14+$BOF14+$BOP14+$BOZ14+$BPJ14+$BPT14+$BQD14+$BQN14+$BQX14+$BRH14+$BRR14+$BSB14+$BSL14+$BSV14+$BTF14+$BTP14+$BTZ14+$BUJ14+$BUT14+$BVD14+$BVN14+$BVX14+$BWH14+$BWR14+$BXB14+$BXL14+$BXV14+$BYF14+$BYP14+$BYZ14+$BZJ14+$BZT14+$CAD14+$CAN14+$CAX14+$CBH14+$CBR14+$CCB14+$CCL14+$CCV14+$CDF14+$CDP14+$CDZ14+$CEJ14+$CET14+$CFD14+$CFN14+$CFX14+$CGH14+$CGR14+$CHB14+$CHL14+$CHV14+$CIF14+$CIP14+$CIZ14+$CJJ14+$CJT14+$CKD14+$CKN14+$CKX14+$CLH14+$CLR14+$CMB14+$CML14+$CMV14+$CNF14+$CNP14+$CNZ14+$COJ14+$COT14+$CPD14+$CPN14+$CPX14+$CQH14+$CQR14+$CRB14+$CRL14+$CRV14+$CSF14+$CSP14+$CSZ14+$CTJ14+$CTT14+$CUD14+$CUN14+$CUX14+$CVH14+$CVR14+$CWB14+$CWL14+$CWV14+$CXF14+$CXP14+$CXZ14+$CYJ14+$CYT14+$CZD14+$CZN14+$CZX14+$DAH14+$DAR14+$DBB14+$DBL14+$DBV14+$DCF14+$DCP14+$DCZ14+$DDJ14+$DDT14+$DED14+$DEN14+$DEX14+$DFH14+$DFR14+$DGB14+$DGL14+$DGV14+$DHF14+$DHP14+$DHZ14+$DIJ14+$DIT14+$DJD14+$DJN14+$DJX14+$DKH14+$DKR14+$DLB14+$DLL14+$DLV14+$DMF14+$DMP14+$DMZ14+$DNJ14+$DNT14+$DOD14+$DON14+$DOX14+$DPH14+$DPR14+$DQB14+$DQL14+$DQV14+$DRF14+$DRP14+$DRZ14+$DSJ14+$DST14+$DTD14+$DTN14+$DTX14+$DUH14+$DUR14+$DVB14+$DVL14+$DVV14+$DWF14+$DWP14+$DWZ14+$DXJ14+$DXT14+$DYD14+$DYN14+$DYX14+$DZH14+$DZR14+$EAB14+$EAL14+$EAV14+$EBF14+$EBP14+$EBZ14+$ECJ14+$ECT14+$EDD14+$EDN14+$EDX14+$EEH14+$EER14+$EFB14+$EFL14+$EFV14+$EGF14+$EGP14+$EGZ14+$EHJ14+$EHT14+$EID14+$EIN14+$EIX14+$EJH14+$EJR14+$EKB14+$EKL14)*24","v":0},{"$f":"Osakoonti!E14+($T14+$AD14+$AN14+$AX14+$BH14+$BR14+$CB14+$CL14+$CV14+$DF14+$DP14+$DZ14+$EJ14+$ET14+$FD14+$FN14+$FX14+$GH14+$GR14+$HB14+$HL14+$HV14+$IF14+$IP14+$IZ14+$JJ14+$JT14+$KD14+$KN14+$KX14+$LH14+$LR14+$MB14+$ML14+$MV14+$NF14+$NP14+$NZ14+$OJ14+$OT14+$PD14+$PN14+$PX14+$QH14+$QR14+$RB14+$RL14+$RV14+$SF14+$SP14+$SZ14+$TJ14+$TT14+$UD14+$UN14+$UX14+$VH14+$VR14+$WB14+$WL14+$WV14+$XF14+$XP14+$XZ14+$YJ14+$YT14+$ZD14+$ZN14+$ZX14+$AAH14+$AAR14+$ABB14+$ABL14+$ABV14+$ACF14+$ACP14+$ACZ14+$ADJ14+$ADT14+$AED14+$AEN14+$AEX14+$AFH14+$AFR14+$AGB14+$AGL14+$AGV14+$AHF14+$AHP14+$AHZ14+$AIJ14+$AIT14+$AJD14+$AJN14+$AJX14+$AKH14+$AKR14+$ALB14+$ALL14+$ALV14+$AMF14+$AMP14+$AMZ14+$ANJ14+$ANT14+$AOD14+$AON14+$AOX14+$APH14+$APR14+$AQB14+$AQL14+$AQV14+$ARF14+$ARP14+$ARZ14+$ASJ14+$AST14+$ATD14+$ATN14+$ATX14+$AUH14+$AUR14+$AVB14+$AVL14+$AVV14+$AWF14+$AWP14+$AWZ14+$AXJ14+$AXT14+$AYD14+$AYN14+$AYX14+$AZH14+$AZR14+$BAB14+$BAL14+$BAV14+$BBF14+$BBP14+$BBZ14+$BCJ14+$BCT14+$BDD14+$BDN14+$BDX14+$BEH14+$BER14+$BFB14+$BFL14+$BFV14+$BGF14+$BGP14+$BGZ14+$BHJ14+$BHT14+$BID14+$BIN14+$BIX14+$BJH14+$BJR14+$BKB14+$BKL14+$BKV14+$BLF14+$BLP14+$BLZ14+$BMJ14+$BMT14+$BND14+$BNN14+$BNX14+$BOH14+$BOR14+$BPB14+$BPL14+$BPV14+$BQF14+$BQP14+$BQZ14+$BRJ14+$BRT14+$BSD14+$BSN14+$BSX14+$BTH14+$BTR14+$BUB14+$BUL14+$BUV14+$BVF14+$BVP14+$BVZ14+$BWJ14+$BWT14+$BXD14+$BXN14+$BXX14+$BYH14+$BYR14+$BZB14+$BZL14+$BZV14+$CAF14+$CAP14+$CAZ14+$CBJ14+$CBT14+$CCD14+$CCN14+$CCX14+$CDH14+$CDR14+$CEB14+$CEL14+$CEV14+$CFF14+$CFP14+$CFZ14+$CGJ14+$CGT14+$CHD14+$CHN14+$CHX14+$CIH14+$CIR14+$CJB14+$CJL14+$CJV14+$CKF14+$CKP14+$CKZ14+$CLJ14+$CLT14+$CMD14+$CMN14+$CMX14+$CNH14+$CNR14+$COB14+$COL14+$COV14+$CPF14+$CPP14+$CPZ14+$CQJ14+$CQT14+$CRD14+$CRN14+$CRX14+$CSH14+$CSR14+$CTB14+$CTL14+$CTV14+$CUF14+$CUP14+$CUZ14+$CVJ14+$CVT14+$CWD14+$CWN14+$CWX14+$CXH14+$CXR14+$CYB14+$CYL14+$CYV14+$CZF14+$CZP14+$CZZ14+$DAJ14+$DAT14+$DBD14+$DBN14+$DBX14+$DCH14+$DCR14+$DDB14+$DDL14+$DDV14+$DEF14+$DEP14+$DEZ14+$DFJ14+$DFT14+$DGD14+$DGN14+$DGX14+$DHH14+$DHR14+$DIB14+$DIL14+$DIV14+$DJF14+$DJP14+$DJZ14+$DKJ14+$DKT14+$DLD14+$DLN14+$DLX14+$DMH14+$DMR14+$DNB14+$DNL14+$DNV14+$DOF14+$DOP14+$DOZ14+$DPJ14+$DPT14+$DQD14+$DQN14+$DQX14+$DRH14+$DRR14+$DSB14+$DSL14+$DSV14+$DTF14+$DTP14+$DTZ14+$DUJ14+$DUT14+$DVD14+$DVN14+$DVX14+$DWH14+$DWR14+$DXB14+$DXL14+$DXV14+$DYF14+$DYP14+$DYZ14+$DZJ14+$DZT14+$EAD14+$EAN14+$EAX14+$EBH14+$EBR14+$ECB14+$ECL14+$ECV14+$EDF14+$EDP14+$EDZ14+$EEJ14+$EET14+$EFD14+$EFN14+$EFX14+$EGH14+$EGR14+$EHB14+$EHL14+$EHV14+$EIF14+$EIP14+$EIZ14+$EJJ14+$EJT14+$EKD14+$EKN14)*24","v":0},{"$f":"Osakoonti!F14+($V14+$AF14+$AP14+$AZ14+$BJ14+$BT14+$CD14+$CN14+$CX14+$DH14+$DR14+$EB14+$EL14+$EV14+$FF14+$FP14+$FZ14+$GJ14+$GT14+$HD14+$HN14+$HX14+$IH14+$IR14+$JB14+$JL14+$JV14+$KF14+$KP14+$KZ14+$LJ14+$LT14+$MD14+$MN14+$MX14+$NH14+$NR14+$OB14+$OL14+$OV14+$PF14+$PP14+$PZ14+$QJ14+$QT14+$RD14+$RN14+$RX14+$SH14+$SR14+$TB14+$TL14+$TV14+$UF14+$UP14+$UZ14+$VJ14+$VT14+$WD14+$WN14+$WX14+$XH14+$XR14+$YB14+$YL14+$YV14+$ZF14+$ZP14+$ZZ14+$AAJ14+$AAT14+$ABD14+$ABN14+$ABX14+$ACH14+$ACR14+$ADB14+$ADL14+$ADV14+$AEF14+$AEP14+$AEZ14+$AFJ14+$AFT14+$AGD14+$AGN14+$AGX14+$AHH14+$AHR14+$AIB14+$AIL14+$AIV14+$AJF14+$AJP14+$AJZ14+$AKJ14+$AKT14+$ALD14+$ALN14+$ALX14+$AMH14+$AMR14+$ANB14+$ANL14+$ANV14+$AOF14+$AOP14+$AOZ14+$APJ14+$APT14+$AQD14+$AQN14+$AQX14+$ARH14+$ARR14+$ASB14+$ASL14+$ASV14+$ATF14+$ATP14+$ATZ14+$AUJ14+$AUT14+$AVD14+$AVN14+$AVX14+$AWH14+$AWR14+$AXB14+$AXL14+$AXV14+$AYF14+$AYP14+$AYZ14+$AZJ14+$AZT14+$BAD14+$BAN14+$BAX14+$BBH14+$BBR14+$BCB14+$BCL14+$BCV14+$BDF14+$BDP14+$BDZ14+$BEJ14+$BET14+$BFD14+$BFN14+$BFX14+$BGH14+$BGR14+$BHB14+$BHL14+$BHV14+$BIF14+$BIP14+$BIZ14+$BJJ14+$BJT14+$BKD14+$BKN14+$BKX14+$BLH14+$BLR14+$BMB14+$BML14+$BMV14+$BNF14+$BNP14+$BNZ14+$BOJ14+$BOT14+$BPD14+$BPN14+$BPX14+$BQH14+$BQR14+$BRB14+$BRL14+$BRV14+$BSF14+$BSP14+$BSZ14+$BTJ14+$BTT14+$BUD14+$BUN14+$BUX14+$BVH14+$BVR14+$BWB14+$BWL14+$BWV14+$BXF14+$BXP14+$BXZ14+$BYJ14+$BYT14+$BZD14+$BZN14+$BZX14+$CAH14+$CAR14+$CBB14+$CBL14+$CBV14+$CCF14+$CCP14+$CCZ14+$CDJ14+$CDT14+$CED14+$CEN14+$CEX14+$CFH14+$CFR14+$CGB14+$CGL14+$CGV14+$CHF14+$CHP14+$CHZ14+$CIJ14+$CIT14+$CJD14+$CJN14+$CJX14+$CKH14+$CKR14+$CLB14+$CLL14+$CLV14+$CMF14+$CMP14+$CMZ14+$CNJ14+$CNT14+$COD14+$CON14+$COX14+$CPH14+$CPR14+$CQB14+$CQL14+$CQV14+$CRF14+$CRP14+$CRZ14+$CSJ14+$CST14+$CTD14+$CTN14+$CTX14+$CUH14+$CUR14+$CVB14+$CVL14+$CVV14+$CWF14+$CWP14+$CWZ14+$CXJ14+$CXT14+$CYD14+$CYN14+$CYX14+$CZH14+$CZR14+$DAB14+$DAL14+$DAV14+$DBF14+$DBP14+$DBZ14+$DCJ14+$DCT14+$DDD14+$DDN14+$DDX14+$DEH14+$DER14+$DFB14+$DFL14+$DFV14+$DGF14+$DGP14+$DGZ14+$DHJ14+$DHT14+$DID14+$DIN14+$DIX14+$DJH14+$DJR14+$DKB14+$DKL14+$DKV14+$DLF14+$DLP14+$DLZ14+$DMJ14+$DMT14+$DND14+$DNN14+$DNX14+$DOH14+$DOR14+$DPB14+$DPL14+$DPV14+$DQF14+$DQP14+$DQZ14+$DRJ14+$DRT14+$DSD14+$DSN14+$DSX14+$DTH14+$DTR14+$DUB14+$DUL14+$DUV14+$DVF14+$DVP14+$DVZ14+$DWJ14+$DWT14+$DXD14+$DXN14+$DXX14+$DYH14+$DYR14+$DZB14+$DZL14+$DZV14+$EAF14+$EAP14+$EAZ14+$EBJ14+$EBT14+$ECD14+$ECN14+$ECX14+$EDH14+$EDR14+$EEB14+$EEL14+$EEV14+$EFF14+$EFP14+$EFZ14+$EGJ14+$EGT14+$EHD14+$EHN14+$EHX14+$EIH14+$EIR14+$EJB14+$EJL14+$EJV14+$EKF14+$EKP14)*24","v":0},null,{"$f":"Suunnitelma!$C14","v":0},{"$f":"Suunnitelma!$E14","v":0},{"$f":"Suunnitelma!$G14","v":0},null,{"$f":"IF(G14<1,0,C14/G14)","v":0},{"$f":"IF(H14<1,0,D14/H14)","v":0},{"$f":"IF(I14<1,0,E14/I14)","v":0},null,null,null,{"$f":"Suunnitelma!$B$14","v":"Yhteissuunnittelu ja -kehittäminen"}]
[null,{"$f":"Suunnitelma!$B$15","v":"Oppimisen ohjaus ja suunnittelu"},{"$f":"Osakoonti!D15+($R15+$AB15+$AL15+$AV15+$BF15+$BP15+$BZ15+$CJ15+$CT15+$DD15+$DN15+$DX15+$EH15+$ER15+$FB15+$FL15+$FV15+$GF15+$GP15+$GZ15+$HJ15+$HT15+$ID15+$IN15+$IX15+$JH15+$JR15+$KB15+$KL15+$KV15+$LF15+$LP15+$LZ15+$MJ15+$MT15+$ND15+$NN15+$NX15+$OH15+$OR15+$PB15+$PL15+$PV15+$QF15+$QP15+$QZ15+$RJ15+$RT15+$SD15+$SN15+$SX15+$TH15+$TR15+$UB15+$UL15+$UV15+$VF15+$VP15+$VZ15+$WJ15+$WT15+$XD15+$XN15+$XX15+$YH15+$YR15+$ZB15+$ZL15+$ZV15+$AAF15+$AAP15+$AAZ15+$ABJ15+$ABT15+$ACD15+$ACN15+$ACX15+$ADH15+$ADR15+$AEB15+$AEL15+$AEV15+$AFF15+$AFP15+$AFZ15+$AGJ15+$AGT15+$AHD15+$AHN15+$AHX15+$AIH15+$AIR15+$AJB15+$AJL15+$AJV15+$AKF15+$AKP15+$AKZ15+$ALJ15+$ALT15+$AMD15+$AMN15+$AMX15+$ANH15+$ANR15+$AOB15+$AOL15+$AOV15+$APF15+$APP15+$APZ15+$AQJ15+$AQT15+$ARD15+$ARN15+$ARX15+$ASH15+$ASR15+$ATB15+$ATL15+$ATV15+$AUF15+$AUP15+$AUZ15+$AVJ15+$AVT15+$AWD15+$AWN15+$AWX15+$AXH15+$AXR15+$AYB15+$AYL15+$AYV15+$AZF15+$AZP15+$AZZ15+$BAJ15+$BAT15+$BBD15+$BBN15+$BBX15+$BCH15+$BCR15+$BDB15+$BDL15+$BDV15+$BEF15+$BEP15+$BEZ15+$BFJ15+$BFT15+$BGD15+$BGN15+$BGX15+$BHH15+$BHR15+$BIB15+$BIL15+$BIV15+$BJF15+$BJP15+$BJZ15+$BKJ15+$BKT15+$BLD15+$BLN15+$BLX15+$BMH15+$BMR15+$BNB15+$BNL15+$BNV15+$BOF15+$BOP15+$BOZ15+$BPJ15+$BPT15+$BQD15+$BQN15+$BQX15+$BRH15+$BRR15+$BSB15+$BSL15+$BSV15+$BTF15+$BTP15+$BTZ15+$BUJ15+$BUT15+$BVD15+$BVN15+$BVX15+$BWH15+$BWR15+$BXB15+$BXL15+$BXV15+$BYF15+$BYP15+$BYZ15+$BZJ15+$BZT15+$CAD15+$CAN15+$CAX15+$CBH15+$CBR15+$CCB15+$CCL15+$CCV15+$CDF15+$CDP15+$CDZ15+$CEJ15+$CET15+$CFD15+$CFN15+$CFX15+$CGH15+$CGR15+$CHB15+$CHL15+$CHV15+$CIF15+$CIP15+$CIZ15+$CJJ15+$CJT15+$CKD15+$CKN15+$CKX15+$CLH15+$CLR15+$CMB15+$CML15+$CMV15+$CNF15+$CNP15+$CNZ15+$COJ15+$COT15+$CPD15+$CPN15+$CPX15+$CQH15+$CQR15+$CRB15+$CRL15+$CRV15+$CSF15+$CSP15+$CSZ15+$CTJ15+$CTT15+$CUD15+$CUN15+$CUX15+$CVH15+$CVR15+$CWB15+$CWL15+$CWV15+$CXF15+$CXP15+$CXZ15+$CYJ15+$CYT15+$CZD15+$CZN15+$CZX15+$DAH15+$DAR15+$DBB15+$DBL15+$DBV15+$DCF15+$DCP15+$DCZ15+$DDJ15+$DDT15+$DED15+$DEN15+$DEX15+$DFH15+$DFR15+$DGB15+$DGL15+$DGV15+$DHF15+$DHP15+$DHZ15+$DIJ15+$DIT15+$DJD15+$DJN15+$DJX15+$DKH15+$DKR15+$DLB15+$DLL15+$DLV15+$DMF15+$DMP15+$DMZ15+$DNJ15+$DNT15+$DOD15+$DON15+$DOX15+$DPH15+$DPR15+$DQB15+$DQL15+$DQV15+$DRF15+$DRP15+$DRZ15+$DSJ15+$DST15+$DTD15+$DTN15+$DTX15+$DUH15+$DUR15+$DVB15+$DVL15+$DVV15+$DWF15+$DWP15+$DWZ15+$DXJ15+$DXT15+$DYD15+$DYN15+$DYX15+$DZH15+$DZR15+$EAB15+$EAL15+$EAV15+$EBF15+$EBP15+$EBZ15+$ECJ15+$ECT15+$EDD15+$EDN15+$EDX15+$EEH15+$EER15+$EFB15+$EFL15+$EFV15+$EGF15+$EGP15+$EGZ15+$EHJ15+$EHT15+$EID15+$EIN15+$EIX15+$EJH15+$EJR15+$EKB15+$EKL15)*24","v":0},{"$f":"Osakoonti!E15+($T15+$AD15+$AN15+$AX15+$BH15+$BR15+$CB15+$CL15+$CV15+$DF15+$DP15+$DZ15+$EJ15+$ET15+$FD15+$FN15+$FX15+$GH15+$GR15+$HB15+$HL15+$HV15+$IF15+$IP15+$IZ15+$JJ15+$JT15+$KD15+$KN15+$KX15+$LH15+$LR15+$MB15+$ML15+$MV15+$NF15+$NP15+$NZ15+$OJ15+$OT15+$PD15+$PN15+$PX15+$QH15+$QR15+$RB15+$RL15+$RV15+$SF15+$SP15+$SZ15+$TJ15+$TT15+$UD15+$UN15+$UX15+$VH15+$VR15+$WB15+$WL15+$WV15+$XF15+$XP15+$XZ15+$YJ15+$YT15+$ZD15+$ZN15+$ZX15+$AAH15+$AAR15+$ABB15+$ABL15+$ABV15+$ACF15+$ACP15+$ACZ15+$ADJ15+$ADT15+$AED15+$AEN15+$AEX15+$AFH15+$AFR15+$AGB15+$AGL15+$AGV15+$AHF15+$AHP15+$AHZ15+$AIJ15+$AIT15+$AJD15+$AJN15+$AJX15+$AKH15+$AKR15+$ALB15+$ALL15+$ALV15+$AMF15+$AMP15+$AMZ15+$ANJ15+$ANT15+$AOD15+$AON15+$AOX15+$APH15+$APR15+$AQB15+$AQL15+$AQV15+$ARF15+$ARP15+$ARZ15+$ASJ15+$AST15+$ATD15+$ATN15+$ATX15+$AUH15+$AUR15+$AVB15+$AVL15+$AVV15+$AWF15+$AWP15+$AWZ15+$AXJ15+$AXT15+$AYD15+$AYN15+$AYX15+$AZH15+$AZR15+$BAB15+$BAL15+$BAV15+$BBF15+$BBP15+$BBZ15+$BCJ15+$BCT15+$BDD15+$BDN15+$BDX15+$BEH15+$BER15+$BFB15+$BFL15+$BFV15+$BGF15+$BGP15+$BGZ15+$BHJ15+$BHT15+$BID15+$BIN15+$BIX15+$BJH15+$BJR15+$BKB15+$BKL15+$BKV15+$BLF15+$BLP15+$BLZ15+$BMJ15+$BMT15+$BND15+$BNN15+$BNX15+$BOH15+$BOR15+$BPB15+$BPL15+$BPV15+$BQF15+$BQP15+$BQZ15+$BRJ15+$BRT15+$BSD15+$BSN15+$BSX15+$BTH15+$BTR15+$BUB15+$BUL15+$BUV15+$BVF15+$BVP15+$BVZ15+$BWJ15+$BWT15+$BXD15+$BXN15+$BXX15+$BYH15+$BYR15+$BZB15+$BZL15+$BZV15+$CAF15+$CAP15+$CAZ15+$CBJ15+$CBT15+$CCD15+$CCN15+$CCX15+$CDH15+$CDR15+$CEB15+$CEL15+$CEV15+$CFF15+$CFP15+$CFZ15+$CGJ15+$CGT15+$CHD15+$CHN15+$CHX15+$CIH15+$CIR15+$CJB15+$CJL15+$CJV15+$CKF15+$CKP15+$CKZ15+$CLJ15+$CLT15+$CMD15+$CMN15+$CMX15+$CNH15+$CNR15+$COB15+$COL15+$COV15+$CPF15+$CPP15+$CPZ15+$CQJ15+$CQT15+$CRD15+$CRN15+$CRX15+$CSH15+$CSR15+$CTB15+$CTL15+$CTV15+$CUF15+$CUP15+$CUZ15+$CVJ15+$CVT15+$CWD15+$CWN15+$CWX15+$CXH15+$CXR15+$CYB15+$CYL15+$CYV15+$CZF15+$CZP15+$CZZ15+$DAJ15+$DAT15+$DBD15+$DBN15+$DBX15+$DCH15+$DCR15+$DDB15+$DDL15+$DDV15+$DEF15+$DEP15+$DEZ15+$DFJ15+$DFT15+$DGD15+$DGN15+$DGX15+$DHH15+$DHR15+$DIB15+$DIL15+$DIV15+$DJF15+$DJP15+$DJZ15+$DKJ15+$DKT15+$DLD15+$DLN15+$DLX15+$DMH15+$DMR15+$DNB15+$DNL15+$DNV15+$DOF15+$DOP15+$DOZ15+$DPJ15+$DPT15+$DQD15+$DQN15+$DQX15+$DRH15+$DRR15+$DSB15+$DSL15+$DSV15+$DTF15+$DTP15+$DTZ15+$DUJ15+$DUT15+$DVD15+$DVN15+$DVX15+$DWH15+$DWR15+$DXB15+$DXL15+$DXV15+$DYF15+$DYP15+$DYZ15+$DZJ15+$DZT15+$EAD15+$EAN15+$EAX15+$EBH15+$EBR15+$ECB15+$ECL15+$ECV15+$EDF15+$EDP15+$EDZ15+$EEJ15+$EET15+$EFD15+$EFN15+$EFX15+$EGH15+$EGR15+$EHB15+$EHL15+$EHV15+$EIF15+$EIP15+$EIZ15+$EJJ15+$EJT15+$EKD15+$EKN15)*24","v":0},{"$f":"Osakoonti!F15+($V15+$AF15+$AP15+$AZ15+$BJ15+$BT15+$CD15+$CN15+$CX15+$DH15+$DR15+$EB15+$EL15+$EV15+$FF15+$FP15+$FZ15+$GJ15+$GT15+$HD15+$HN15+$HX15+$IH15+$IR15+$JB15+$JL15+$JV15+$KF15+$KP15+$KZ15+$LJ15+$LT15+$MD15+$MN15+$MX15+$NH15+$NR15+$OB15+$OL15+$OV15+$PF15+$PP15+$PZ15+$QJ15+$QT15+$RD15+$RN15+$RX15+$SH15+$SR15+$TB15+$TL15+$TV15+$UF15+$UP15+$UZ15+$VJ15+$VT15+$WD15+$WN15+$WX15+$XH15+$XR15+$YB15+$YL15+$YV15+$ZF15+$ZP15+$ZZ15+$AAJ15+$AAT15+$ABD15+$ABN15+$ABX15+$ACH15+$ACR15+$ADB15+$ADL15+$ADV15+$AEF15+$AEP15+$AEZ15+$AFJ15+$AFT15+$AGD15+$AGN15+$AGX15+$AHH15+$AHR15+$AIB15+$AIL15+$AIV15+$AJF15+$AJP15+$AJZ15+$AKJ15+$AKT15+$ALD15+$ALN15+$ALX15+$AMH15+$AMR15+$ANB15+$ANL15+$ANV15+$AOF15+$AOP15+$AOZ15+$APJ15+$APT15+$AQD15+$AQN15+$AQX15+$ARH15+$ARR15+$ASB15+$ASL15+$ASV15+$ATF15+$ATP15+$ATZ15+$AUJ15+$AUT15+$AVD15+$AVN15+$AVX15+$AWH15+$AWR15+$AXB15+$AXL15+$AXV15+$AYF15+$AYP15+$AYZ15+$AZJ15+$AZT15+$BAD15+$BAN15+$BAX15+$BBH15+$BBR15+$BCB15+$BCL15+$BCV15+$BDF15+$BDP15+$BDZ15+$BEJ15+$BET15+$BFD15+$BFN15+$BFX15+$BGH15+$BGR15+$BHB15+$BHL15+$BHV15+$BIF15+$BIP15+$BIZ15+$BJJ15+$BJT15+$BKD15+$BKN15+$BKX15+$BLH15+$BLR15+$BMB15+$BML15+$BMV15+$BNF15+$BNP15+$BNZ15+$BOJ15+$BOT15+$BPD15+$BPN15+$BPX15+$BQH15+$BQR15+$BRB15+$BRL15+$BRV15+$BSF15+$BSP15+$BSZ15+$BTJ15+$BTT15+$BUD15+$BUN15+$BUX15+$BVH15+$BVR15+$BWB15+$BWL15+$BWV15+$BXF15+$BXP15+$BXZ15+$BYJ15+$BYT15+$BZD15+$BZN15+$BZX15+$CAH15+$CAR15+$CBB15+$CBL15+$CBV15+$CCF15+$CCP15+$CCZ15+$CDJ15+$CDT15+$CED15+$CEN15+$CEX15+$CFH15+$CFR15+$CGB15+$CGL15+$CGV15+$CHF15+$CHP15+$CHZ15+$CIJ15+$CIT15+$CJD15+$CJN15+$CJX15+$CKH15+$CKR15+$CLB15+$CLL15+$CLV15+$CMF15+$CMP15+$CMZ15+$CNJ15+$CNT15+$COD15+$CON15+$COX15+$CPH15+$CPR15+$CQB15+$CQL15+$CQV15+$CRF15+$CRP15+$CRZ15+$CSJ15+$CST15+$CTD15+$CTN15+$CTX15+$CUH15+$CUR15+$CVB15+$CVL15+$CVV15+$CWF15+$CWP15+$CWZ15+$CXJ15+$CXT15+$CYD15+$CYN15+$CYX15+$CZH15+$CZR15+$DAB15+$DAL15+$DAV15+$DBF15+$DBP15+$DBZ15+$DCJ15+$DCT15+$DDD15+$DDN15+$DDX15+$DEH15+$DER15+$DFB15+$DFL15+$DFV15+$DGF15+$DGP15+$DGZ15+$DHJ15+$DHT15+$DID15+$DIN15+$DIX15+$DJH15+$DJR15+$DKB15+$DKL15+$DKV15+$DLF15+$DLP15+$DLZ15+$DMJ15+$DMT15+$DND15+$DNN15+$DNX15+$DOH15+$DOR15+$DPB15+$DPL15+$DPV15+$DQF15+$DQP15+$DQZ15+$DRJ15+$DRT15+$DSD15+$DSN15+$DSX15+$DTH15+$DTR15+$DUB15+$DUL15+$DUV15+$DVF15+$DVP15+$DVZ15+$DWJ15+$DWT15+$DXD15+$DXN15+$DXX15+$DYH15+$DYR15+$DZB15+$DZL15+$DZV15+$EAF15+$EAP15+$EAZ15+$EBJ15+$EBT15+$ECD15+$ECN15+$ECX15+$EDH15+$EDR15+$EEB15+$EEL15+$EEV15+$EFF15+$EFP15+$EFZ15+$EGJ15+$EGT15+$EHD15+$EHN15+$EHX15+$EIH15+$EIR15+$EJB15+$EJL15+$EJV15+$EKF15+$EKP15)*24","v":0},null,{"$f":"Suunnitelma!$C15","v":0},{"$f":"Suunnitelma!$E15","v":0},{"$f":"Suunnitelma!$G15","v":0},null,0,{"$f":"IF(H15<1,0,D15/H15)","v":0},{"$f":"IF(I15<1,0,E15/I15)","v":0},null,null,null,{"$f":"Suunnitelma!$B$15","v":"Oppimisen ohjaus ja suunnittelu"}]
[null,{"$f":"Suunnitelma!$B$16","v":"Työpaikalla tapahtuva oppiminen"},{"$f":"Osakoonti!D16+($R16+$AB16+$AL16+$AV16+$BF16+$BP16+$BZ16+$CJ16+$CT16+$DD16+$DN16+$DX16+$EH16+$ER16+$FB16+$FL16+$FV16+$GF16+$GP16+$GZ16+$HJ16+$HT16+$ID16+$IN16+$IX16+$JH16+$JR16+$KB16+$KL16+$KV16+$LF16+$LP16+$LZ16+$MJ16+$MT16+$ND16+$NN16+$NX16+$OH16+$OR16+$PB16+$PL16+$PV16+$QF16+$QP16+$QZ16+$RJ16+$RT16+$SD16+$SN16+$SX16+$TH16+$TR16+$UB16+$UL16+$UV16+$VF16+$VP16+$VZ16+$WJ16+$WT16+$XD16+$XN16+$XX16+$YH16+$YR16+$ZB16+$ZL16+$ZV16+$AAF16+$AAP16+$AAZ16+$ABJ16+$ABT16+$ACD16+$ACN16+$ACX16+$ADH16+$ADR16+$AEB16+$AEL16+$AEV16+$AFF16+$AFP16+$AFZ16+$AGJ16+$AGT16+$AHD16+$AHN16+$AHX16+$AIH16+$AIR16+$AJB16+$AJL16+$AJV16+$AKF16+$AKP16+$AKZ16+$ALJ16+$ALT16+$AMD16+$AMN16+$AMX16+$ANH16+$ANR16+$AOB16+$AOL16+$AOV16+$APF16+$APP16+$APZ16+$AQJ16+$AQT16+$ARD16+$ARN16+$ARX16+$ASH16+$ASR16+$ATB16+$ATL16+$ATV16+$AUF16+$AUP16+$AUZ16+$AVJ16+$AVT16+$AWD16+$AWN16+$AWX16+$AXH16+$AXR16+$AYB16+$AYL16+$AYV16+$AZF16+$AZP16+$AZZ16+$BAJ16+$BAT16+$BBD16+$BBN16+$BBX16+$BCH16+$BCR16+$BDB16+$BDL16+$BDV16+$BEF16+$BEP16+$BEZ16+$BFJ16+$BFT16+$BGD16+$BGN16+$BGX16+$BHH16+$BHR16+$BIB16+$BIL16+$BIV16+$BJF16+$BJP16+$BJZ16+$BKJ16+$BKT16+$BLD16+$BLN16+$BLX16+$BMH16+$BMR16+$BNB16+$BNL16+$BNV16+$BOF16+$BOP16+$BOZ16+$BPJ16+$BPT16+$BQD16+$BQN16+$BQX16+$BRH16+$BRR16+$BSB16+$BSL16+$BSV16+$BTF16+$BTP16+$BTZ16+$BUJ16+$BUT16+$BVD16+$BVN16+$BVX16+$BWH16+$BWR16+$BXB16+$BXL16+$BXV16+$BYF16+$BYP16+$BYZ16+$BZJ16+$BZT16+$CAD16+$CAN16+$CAX16+$CBH16+$CBR16+$CCB16+$CCL16+$CCV16+$CDF16+$CDP16+$CDZ16+$CEJ16+$CET16+$CFD16+$CFN16+$CFX16+$CGH16+$CGR16+$CHB16+$CHL16+$CHV16+$CIF16+$CIP16+$CIZ16+$CJJ16+$CJT16+$CKD16+$CKN16+$CKX16+$CLH16+$CLR16+$CMB16+$CML16+$CMV16+$CNF16+$CNP16+$CNZ16+$COJ16+$COT16+$CPD16+$CPN16+$CPX16+$CQH16+$CQR16+$CRB16+$CRL16+$CRV16+$CSF16+$CSP16+$CSZ16+$CTJ16+$CTT16+$CUD16+$CUN16+$CUX16+$CVH16+$CVR16+$CWB16+$CWL16+$CWV16+$CXF16+$CXP16+$CXZ16+$CYJ16+$CYT16+$CZD16+$CZN16+$CZX16+$DAH16+$DAR16+$DBB16+$DBL16+$DBV16+$DCF16+$DCP16+$DCZ16+$DDJ16+$DDT16+$DED16+$DEN16+$DEX16+$DFH16+$DFR16+$DGB16+$DGL16+$DGV16+$DHF16+$DHP16+$DHZ16+$DIJ16+$DIT16+$DJD16+$DJN16+$DJX16+$DKH16+$DKR16+$DLB16+$DLL16+$DLV16+$DMF16+$DMP16+$DMZ16+$DNJ16+$DNT16+$DOD16+$DON16+$DOX16+$DPH16+$DPR16+$DQB16+$DQL16+$DQV16+$DRF16+$DRP16+$DRZ16+$DSJ16+$DST16+$DTD16+$DTN16+$DTX16+$DUH16+$DUR16+$DVB16+$DVL16+$DVV16+$DWF16+$DWP16+$DWZ16+$DXJ16+$DXT16+$DYD16+$DYN16+$DYX16+$DZH16+$DZR16+$EAB16+$EAL16+$EAV16+$EBF16+$EBP16+$EBZ16+$ECJ16+$ECT16+$EDD16+$EDN16+$EDX16+$EEH16+$EER16+$EFB16+$EFL16+$EFV16+$EGF16+$EGP16+$EGZ16+$EHJ16+$EHT16+$EID16+$EIN16+$EIX16+$EJH16+$EJR16+$EKB16+$EKL16)*24","v":0},{"$f":"Osakoonti!E16+($T16+$AD16+$AN16+$AX16+$BH16+$BR16+$CB16+$CL16+$CV16+$DF16+$DP16+$DZ16+$EJ16+$ET16+$FD16+$FN16+$FX16+$GH16+$GR16+$HB16+$HL16+$HV16+$IF16+$IP16+$IZ16+$JJ16+$JT16+$KD16+$KN16+$KX16+$LH16+$LR16+$MB16+$ML16+$MV16+$NF16+$NP16+$NZ16+$OJ16+$OT16+$PD16+$PN16+$PX16+$QH16+$QR16+$RB16+$RL16+$RV16+$SF16+$SP16+$SZ16+$TJ16+$TT16+$UD16+$UN16+$UX16+$VH16+$VR16+$WB16+$WL16+$WV16+$XF16+$XP16+$XZ16+$YJ16+$YT16+$ZD16+$ZN16+$ZX16+$AAH16+$AAR16+$ABB16+$ABL16+$ABV16+$ACF16+$ACP16+$ACZ16+$ADJ16+$ADT16+$AED16+$AEN16+$AEX16+$AFH16+$AFR16+$AGB16+$AGL16+$AGV16+$AHF16+$AHP16+$AHZ16+$AIJ16+$AIT16+$AJD16+$AJN16+$AJX16+$AKH16+$AKR16+$ALB16+$ALL16+$ALV16+$AMF16+$AMP16+$AMZ16+$ANJ16+$ANT16+$AOD16+$AON16+$AOX16+$APH16+$APR16+$AQB16+$AQL16+$AQV16+$ARF16+$ARP16+$ARZ16+$ASJ16+$AST16+$ATD16+$ATN16+$ATX16+$AUH16+$AUR16+$AVB16+$AVL16+$AVV16+$AWF16+$AWP16+$AWZ16+$AXJ16+$AXT16+$AYD16+$AYN16+$AYX16+$AZH16+$AZR16+$BAB16+$BAL16+$BAV16+$BBF16+$BBP16+$BBZ16+$BCJ16+$BCT16+$BDD16+$BDN16+$BDX16+$BEH16+$BER16+$BFB16+$BFL16+$BFV16+$BGF16+$BGP16+$BGZ16+$BHJ16+$BHT16+$BID16+$BIN16+$BIX16+$BJH16+$BJR16+$BKB16+$BKL16+$BKV16+$BLF16+$BLP16+$BLZ16+$BMJ16+$BMT16+$BND16+$BNN16+$BNX16+$BOH16+$BOR16+$BPB16+$BPL16+$BPV16+$BQF16+$BQP16+$BQZ16+$BRJ16+$BRT16+$BSD16+$BSN16+$BSX16+$BTH16+$BTR16+$BUB16+$BUL16+$BUV16+$BVF16+$BVP16+$BVZ16+$BWJ16+$BWT16+$BXD16+$BXN16+$BXX16+$BYH16+$BYR16+$BZB16+$BZL16+$BZV16+$CAF16+$CAP16+$CAZ16+$CBJ16+$CBT16+$CCD16+$CCN16+$CCX16+$CDH16+$CDR16+$CEB16+$CEL16+$CEV16+$CFF16+$CFP16+$CFZ16+$CGJ16+$CGT16+$CHD16+$CHN16+$CHX16+$CIH16+$CIR16+$CJB16+$CJL16+$CJV16+$CKF16+$CKP16+$CKZ16+$CLJ16+$CLT16+$CMD16+$CMN16+$CMX16+$CNH16+$CNR16+$COB16+$COL16+$COV16+$CPF16+$CPP16+$CPZ16+$CQJ16+$CQT16+$CRD16+$CRN16+$CRX16+$CSH16+$CSR16+$CTB16+$CTL16+$CTV16+$CUF16+$CUP16+$CUZ16+$CVJ16+$CVT16+$CWD16+$CWN16+$CWX16+$CXH16+$CXR16+$CYB16+$CYL16+$CYV16+$CZF16+$CZP16+$CZZ16+$DAJ16+$DAT16+$DBD16+$DBN16+$DBX16+$DCH16+$DCR16+$DDB16+$DDL16+$DDV16+$DEF16+$DEP16+$DEZ16+$DFJ16+$DFT16+$DGD16+$DGN16+$DGX16+$DHH16+$DHR16+$DIB16+$DIL16+$DIV16+$DJF16+$DJP16+$DJZ16+$DKJ16+$DKT16+$DLD16+$DLN16+$DLX16+$DMH16+$DMR16+$DNB16+$DNL16+$DNV16+$DOF16+$DOP16+$DOZ16+$DPJ16+$DPT16+$DQD16+$DQN16+$DQX16+$DRH16+$DRR16+$DSB16+$DSL16+$DSV16+$DTF16+$DTP16+$DTZ16+$DUJ16+$DUT16+$DVD16+$DVN16+$DVX16+$DWH16+$DWR16+$DXB16+$DXL16+$DXV16+$DYF16+$DYP16+$DYZ16+$DZJ16+$DZT16+$EAD16+$EAN16+$EAX16+$EBH16+$EBR16+$ECB16+$ECL16+$ECV16+$EDF16+$EDP16+$EDZ16+$EEJ16+$EET16+$EFD16+$EFN16+$EFX16+$EGH16+$EGR16+$EHB16+$EHL16+$EHV16+$EIF16+$EIP16+$EIZ16+$EJJ16+$EJT16+$EKD16+$EKN16)*24","v":0},{"$f":"Osakoonti!F16+($V16+$AF16+$AP16+$AZ16+$BJ16+$BT16+$CD16+$CN16+$CX16+$DH16+$DR16+$EB16+$EL16+$EV16+$FF16+$FP16+$FZ16+$GJ16+$GT16+$HD16+$HN16+$HX16+$IH16+$IR16+$JB16+$JL16+$JV16+$KF16+$KP16+$KZ16+$LJ16+$LT16+$MD16+$MN16+$MX16+$NH16+$NR16+$OB16+$OL16+$OV16+$PF16+$PP16+$PZ16+$QJ16+$QT16+$RD16+$RN16+$RX16+$SH16+$SR16+$TB16+$TL16+$TV16+$UF16+$UP16+$UZ16+$VJ16+$VT16+$WD16+$WN16+$WX16+$XH16+$XR16+$YB16+$YL16+$YV16+$ZF16+$ZP16+$ZZ16+$AAJ16+$AAT16+$ABD16+$ABN16+$ABX16+$ACH16+$ACR16+$ADB16+$ADL16+$ADV16+$AEF16+$AEP16+$AEZ16+$AFJ16+$AFT16+$AGD16+$AGN16+$AGX16+$AHH16+$AHR16+$AIB16+$AIL16+$AIV16+$AJF16+$AJP16+$AJZ16+$AKJ16+$AKT16+$ALD16+$ALN16+$ALX16+$AMH16+$AMR16+$ANB16+$ANL16+$ANV16+$AOF16+$AOP16+$AOZ16+$APJ16+$APT16+$AQD16+$AQN16+$AQX16+$ARH16+$ARR16+$ASB16+$ASL16+$ASV16+$ATF16+$ATP16+$ATZ16+$AUJ16+$AUT16+$AVD16+$AVN16+$AVX16+$AWH16+$AWR16+$AXB16+$AXL16+$AXV16+$AYF16+$AYP16+$AYZ16+$AZJ16+$AZT16+$BAD16+$BAN16+$BAX16+$BBH16+$BBR16+$BCB16+$BCL16+$BCV16+$BDF16+$BDP16+$BDZ16+$BEJ16+$BET16+$BFD16+$BFN16+$BFX16+$BGH16+$BGR16+$BHB16+$BHL16+$BHV16+$BIF16+$BIP16+$BIZ16+$BJJ16+$BJT16+$BKD16+$BKN16+$BKX16+$BLH16+$BLR16+$BMB16+$BML16+$BMV16+$BNF16+$BNP16+$BNZ16+$BOJ16+$BOT16+$BPD16+$BPN16+$BPX16+$BQH16+$BQR16+$BRB16+$BRL16+$BRV16+$BSF16+$BSP16+$BSZ16+$BTJ16+$BTT16+$BUD16+$BUN16+$BUX16+$BVH16+$BVR16+$BWB16+$BWL16+$BWV16+$BXF16+$BXP16+$BXZ16+$BYJ16+$BYT16+$BZD16+$BZN16+$BZX16+$CAH16+$CAR16+$CBB16+$CBL16+$CBV16+$CCF16+$CCP16+$CCZ16+$CDJ16+$CDT16+$CED16+$CEN16+$CEX16+$CFH16+$CFR16+$CGB16+$CGL16+$CGV16+$CHF16+$CHP16+$CHZ16+$CIJ16+$CIT16+$CJD16+$CJN16+$CJX16+$CKH16+$CKR16+$CLB16+$CLL16+$CLV16+$CMF16+$CMP16+$CMZ16+$CNJ16+$CNT16+$COD16+$CON16+$COX16+$CPH16+$CPR16+$CQB16+$CQL16+$CQV16+$CRF16+$CRP16+$CRZ16+$CSJ16+$CST16+$CTD16+$CTN16+$CTX16+$CUH16+$CUR16+$CVB16+$CVL16+$CVV16+$CWF16+$CWP16+$CWZ16+$CXJ16+$CXT16+$CYD16+$CYN16+$CYX16+$CZH16+$CZR16+$DAB16+$DAL16+$DAV16+$DBF16+$DBP16+$DBZ16+$DCJ16+$DCT16+$DDD16+$DDN16+$DDX16+$DEH16+$DER16+$DFB16+$DFL16+$DFV16+$DGF16+$DGP16+$DGZ16+$DHJ16+$DHT16+$DID16+$DIN16+$DIX16+$DJH16+$DJR16+$DKB16+$DKL16+$DKV16+$DLF16+$DLP16+$DLZ16+$DMJ16+$DMT16+$DND16+$DNN16+$DNX16+$DOH16+$DOR16+$DPB16+$DPL16+$DPV16+$DQF16+$DQP16+$DQZ16+$DRJ16+$DRT16+$DSD16+$DSN16+$DSX16+$DTH16+$DTR16+$DUB16+$DUL16+$DUV16+$DVF16+$DVP16+$DVZ16+$DWJ16+$DWT16+$DXD16+$DXN16+$DXX16+$DYH16+$DYR16+$DZB16+$DZL16+$DZV16+$EAF16+$EAP16+$EAZ16+$EBJ16+$EBT16+$ECD16+$ECN16+$ECX16+$EDH16+$EDR16+$EEB16+$EEL16+$EEV16+$EFF16+$EFP16+$EFZ16+$EGJ16+$EGT16+$EHD16+$EHN16+$EHX16+$EIH16+$EIR16+$EJB16+$EJL16+$EJV16+$EKF16+$EKP16)*24","v":0},null,{"$f":"Suunnitelma!$C16","v":0},{"$f":"Suunnitelma!$E16","v":0},{"$f":"Suunnitelma!$G16","v":0},null,0,0,0,null,null,null,{"$f":"Suunnitelma!$B$16","v":"Työpaikalla tapahtuva oppiminen"}]
[null,{"$f":"Suunnitelma!$B$17","v":"Arviointi"},{"$f":"Osakoonti!D17+($R17+$AB17+$AL17+$AV17+$BF17+$BP17+$BZ17+$CJ17+$CT17+$DD17+$DN17+$DX17+$EH17+$ER17+$FB17+$FL17+$FV17+$GF17+$GP17+$GZ17+$HJ17+$HT17+$ID17+$IN17+$IX17+$JH17+$JR17+$KB17+$KL17+$KV17+$LF17+$LP17+$LZ17+$MJ17+$MT17+$ND17+$NN17+$NX17+$OH17+$OR17+$PB17+$PL17+$PV17+$QF17+$QP17+$QZ17+$RJ17+$RT17+$SD17+$SN17+$SX17+$TH17+$TR17+$UB17+$UL17+$UV17+$VF17+$VP17+$VZ17+$WJ17+$WT17+$XD17+$XN17+$XX17+$YH17+$YR17+$ZB17+$ZL17+$ZV17+$AAF17+$AAP17+$AAZ17+$ABJ17+$ABT17+$ACD17+$ACN17+$ACX17+$ADH17+$ADR17+$AEB17+$AEL17+$AEV17+$AFF17+$AFP17+$AFZ17+$AGJ17+$AGT17+$AHD17+$AHN17+$AHX17+$AIH17+$AIR17+$AJB17+$AJL17+$AJV17+$AKF17+$AKP17+$AKZ17+$ALJ17+$ALT17+$AMD17+$AMN17+$AMX17+$ANH17+$ANR17+$AOB17+$AOL17+$AOV17+$APF17+$APP17+$APZ17+$AQJ17+$AQT17+$ARD17+$ARN17+$ARX17+$ASH17+$ASR17+$ATB17+$ATL17+$ATV17+$AUF17+$AUP17+$AUZ17+$AVJ17+$AVT17+$AWD17+$AWN17+$AWX17+$AXH17+$AXR17+$AYB17+$AYL17+$AYV17+$AZF17+$AZP17+$AZZ17+$BAJ17+$BAT17+$BBD17+$BBN17+$BBX17+$BCH17+$BCR17+$BDB17+$BDL17+$BDV17+$BEF17+$BEP17+$BEZ17+$BFJ17+$BFT17+$BGD17+$BGN17+$BGX17+$BHH17+$BHR17+$BIB17+$BIL17+$BIV17+$BJF17+$BJP17+$BJZ17+$BKJ17+$BKT17+$BLD17+$BLN17+$BLX17+$BMH17+$BMR17+$BNB17+$BNL17+$BNV17+$BOF17+$BOP17+$BOZ17+$BPJ17+$BPT17+$BQD17+$BQN17+$BQX17+$BRH17+$BRR17+$BSB17+$BSL17+$BSV17+$BTF17+$BTP17+$BTZ17+$BUJ17+$BUT17+$BVD17+$BVN17+$BVX17+$BWH17+$BWR17+$BXB17+$BXL17+$BXV17+$BYF17+$BYP17+$BYZ17+$BZJ17+$BZT17+$CAD17+$CAN17+$CAX17+$CBH17+$CBR17+$CCB17+$CCL17+$CCV17+$CDF17+$CDP17+$CDZ17+$CEJ17+$CET17+$CFD17+$CFN17+$CFX17+$CGH17+$CGR17+$CHB17+$CHL17+$CHV17+$CIF17+$CIP17+$CIZ17+$CJJ17+$CJT17+$CKD17+$CKN17+$CKX17+$CLH17+$CLR17+$CMB17+$CML17+$CMV17+$CNF17+$CNP17+$CNZ17+$COJ17+$COT17+$CPD17+$CPN17+$CPX17+$CQH17+$CQR17+$CRB17+$CRL17+$CRV17+$CSF17+$CSP17+$CSZ17+$CTJ17+$CTT17+$CUD17+$CUN17+$CUX17+$CVH17+$CVR17+$CWB17+$CWL17+$CWV17+$CXF17+$CXP17+$CXZ17+$CYJ17+$CYT17+$CZD17+$CZN17+$CZX17+$DAH17+$DAR17+$DBB17+$DBL17+$DBV17+$DCF17+$DCP17+$DCZ17+$DDJ17+$DDT17+$DED17+$DEN17+$DEX17+$DFH17+$DFR17+$DGB17+$DGL17+$DGV17+$DHF17+$DHP17+$DHZ17+$DIJ17+$DIT17+$DJD17+$DJN17+$DJX17+$DKH17+$DKR17+$DLB17+$DLL17+$DLV17+$DMF17+$DMP17+$DMZ17+$DNJ17+$DNT17+$DOD17+$DON17+$DOX17+$DPH17+$DPR17+$DQB17+$DQL17+$DQV17+$DRF17+$DRP17+$DRZ17+$DSJ17+$DST17+$DTD17+$DTN17+$DTX17+$DUH17+$DUR17+$DVB17+$DVL17+$DVV17+$DWF17+$DWP17+$DWZ17+$DXJ17+$DXT17+$DYD17+$DYN17+$DYX17+$DZH17+$DZR17+$EAB17+$EAL17+$EAV17+$EBF17+$EBP17+$EBZ17+$ECJ17+$ECT17+$EDD17+$EDN17+$EDX17+$EEH17+$EER17+$EFB17+$EFL17+$EFV17+$EGF17+$EGP17+$EGZ17+$EHJ17+$EHT17+$EID17+$EIN17+$EIX17+$EJH17+$EJR17+$EKB17+$EKL17)*24","v":0},{"$f":"Osakoonti!E17+($T17+$AD17+$AN17+$AX17+$BH17+$BR17+$CB17+$CL17+$CV17+$DF17+$DP17+$DZ17+$EJ17+$ET17+$FD17+$FN17+$FX17+$GH17+$GR17+$HB17+$HL17+$HV17+$IF17+$IP17+$IZ17+$JJ17+$JT17+$KD17+$KN17+$KX17+$LH17+$LR17+$MB17+$ML17+$MV17+$NF17+$NP17+$NZ17+$OJ17+$OT17+$PD17+$PN17+$PX17+$QH17+$QR17+$RB17+$RL17+$RV17+$SF17+$SP17+$SZ17+$TJ17+$TT17+$UD17+$UN17+$UX17+$VH17+$VR17+$WB17+$WL17+$WV17+$XF17+$XP17+$XZ17+$YJ17+$YT17+$ZD17+$ZN17+$ZX17+$AAH17+$AAR17+$ABB17+$ABL17+$ABV17+$ACF17+$ACP17+$ACZ17+$ADJ17+$ADT17+$AED17+$AEN17+$AEX17+$AFH17+$AFR17+$AGB17+$AGL17+$AGV17+$AHF17+$AHP17+$AHZ17+$AIJ17+$AIT17+$AJD17+$AJN17+$AJX17+$AKH17+$AKR17+$ALB17+$ALL17+$ALV17+$AMF17+$AMP17+$AMZ17+$ANJ17+$ANT17+$AOD17+$AON17+$AOX17+$APH17+$APR17+$AQB17+$AQL17+$AQV17+$ARF17+$ARP17+$ARZ17+$ASJ17+$AST17+$ATD17+$ATN17+$ATX17+$AUH17+$AUR17+$AVB17+$AVL17+$AVV17+$AWF17+$AWP17+$AWZ17+$AXJ17+$AXT17+$AYD17+$AYN17+$AYX17+$AZH17+$AZR17+$BAB17+$BAL17+$BAV17+$BBF17+$BBP17+$BBZ17+$BCJ17+$BCT17+$BDD17+$BDN17+$BDX17+$BEH17+$BER17+$BFB17+$BFL17+$BFV17+$BGF17+$BGP17+$BGZ17+$BHJ17+$BHT17+$BID17+$BIN17+$BIX17+$BJH17+$BJR17+$BKB17+$BKL17+$BKV17+$BLF17+$BLP17+$BLZ17+$BMJ17+$BMT17+$BND17+$BNN17+$BNX17+$BOH17+$BOR17+$BPB17+$BPL17+$BPV17+$BQF17+$BQP17+$BQZ17+$BRJ17+$BRT17+$BSD17+$BSN17+$BSX17+$BTH17+$BTR17+$BUB17+$BUL17+$BUV17+$BVF17+$BVP17+$BVZ17+$BWJ17+$BWT17+$BXD17+$BXN17+$BXX17+$BYH17+$BYR17+$BZB17+$BZL17+$BZV17+$CAF17+$CAP17+$CAZ17+$CBJ17+$CBT17+$CCD17+$CCN17+$CCX17+$CDH17+$CDR17+$CEB17+$CEL17+$CEV17+$CFF17+$CFP17+$CFZ17+$CGJ17+$CGT17+$CHD17+$CHN17+$CHX17+$CIH17+$CIR17+$CJB17+$CJL17+$CJV17+$CKF17+$CKP17+$CKZ17+$CLJ17+$CLT17+$CMD17+$CMN17+$CMX17+$CNH17+$CNR17+$COB17+$COL17+$COV17+$CPF17+$CPP17+$CPZ17+$CQJ17+$CQT17+$CRD17+$CRN17+$CRX17+$CSH17+$CSR17+$CTB17+$CTL17+$CTV17+$CUF17+$CUP17+$CUZ17+$CVJ17+$CVT17+$CWD17+$CWN17+$CWX17+$CXH17+$CXR17+$CYB17+$CYL17+$CYV17+$CZF17+$CZP17+$CZZ17+$DAJ17+$DAT17+$DBD17+$DBN17+$DBX17+$DCH17+$DCR17+$DDB17+$DDL17+$DDV17+$DEF17+$DEP17+$DEZ17+$DFJ17+$DFT17+$DGD17+$DGN17+$DGX17+$DHH17+$DHR17+$DIB17+$DIL17+$DIV17+$DJF17+$DJP17+$DJZ17+$DKJ17+$DKT17+$DLD17+$DLN17+$DLX17+$DMH17+$DMR17+$DNB17+$DNL17+$DNV17+$DOF17+$DOP17+$DOZ17+$DPJ17+$DPT17+$DQD17+$DQN17+$DQX17+$DRH17+$DRR17+$DSB17+$DSL17+$DSV17+$DTF17+$DTP17+$DTZ17+$DUJ17+$DUT17+$DVD17+$DVN17+$DVX17+$DWH17+$DWR17+$DXB17+$DXL17+$DXV17+$DYF17+$DYP17+$DYZ17+$DZJ17+$DZT17+$EAD17+$EAN17+$EAX17+$EBH17+$EBR17+$ECB17+$ECL17+$ECV17+$EDF17+$EDP17+$EDZ17+$EEJ17+$EET17+$EFD17+$EFN17+$EFX17+$EGH17+$EGR17+$EHB17+$EHL17+$EHV17+$EIF17+$EIP17+$EIZ17+$EJJ17+$EJT17+$EKD17+$EKN17)*24","v":0},{"$f":"Osakoonti!F17+($V17+$AF17+$AP17+$AZ17+$BJ17+$BT17+$CD17+$CN17+$CX17+$DH17+$DR17+$EB17+$EL17+$EV17+$FF17+$FP17+$FZ17+$GJ17+$GT17+$HD17+$HN17+$HX17+$IH17+$IR17+$JB17+$JL17+$JV17+$KF17+$KP17+$KZ17+$LJ17+$LT17+$MD17+$MN17+$MX17+$NH17+$NR17+$OB17+$OL17+$OV17+$PF17+$PP17+$PZ17+$QJ17+$QT17+$RD17+$RN17+$RX17+$SH17+$SR17+$TB17+$TL17+$TV17+$UF17+$UP17+$UZ17+$VJ17+$VT17+$WD17+$WN17+$WX17+$XH17+$XR17+$YB17+$YL17+$YV17+$ZF17+$ZP17+$ZZ17+$AAJ17+$AAT17+$ABD17+$ABN17+$ABX17+$ACH17+$ACR17+$ADB17+$ADL17+$ADV17+$AEF17+$AEP17+$AEZ17+$AFJ17+$AFT17+$AGD17+$AGN17+$AGX17+$AHH17+$AHR17+$AIB17+$AIL17+$AIV17+$AJF17+$AJP17+$AJZ17+$AKJ17+$AKT17+$ALD17+$ALN17+$ALX17+$AMH17+$AMR17+$ANB17+$ANL17+$ANV17+$AOF17+$AOP17+$AOZ17+$APJ17+$APT17+$AQD17+$AQN17+$AQX17+$ARH17+$ARR17+$ASB17+$ASL17+$ASV17+$ATF17+$ATP17+$ATZ17+$AUJ17+$AUT17+$AVD17+$AVN17+$AVX17+$AWH17+$AWR17+$AXB17+$AXL17+$AXV17+$AYF17+$AYP17+$AYZ17+$AZJ17+$AZT17+$BAD17+$BAN17+$BAX17+$BBH17+$BBR17+$BCB17+$BCL17+$BCV17+$BDF17+$BDP17+$BDZ17+$BEJ17+$BET17+$BFD17+$BFN17+$BFX17+$BGH17+$BGR17+$BHB17+$BHL17+$BHV17+$BIF17+$BIP17+$BIZ17+$BJJ17+$BJT17+$BKD17+$BKN17+$BKX17+$BLH17+$BLR17+$BMB17+$BML17+$BMV17+$BNF17+$BNP17+$BNZ17+$BOJ17+$BOT17+$BPD17+$BPN17+$BPX17+$BQH17+$BQR17+$BRB17+$BRL17+$BRV17+$BSF17+$BSP17+$BSZ17+$BTJ17+$BTT17+$BUD17+$BUN17+$BUX17+$BVH17+$BVR17+$BWB17+$BWL17+$BWV17+$BXF17+$BXP17+$BXZ17+$BYJ17+$BYT17+$BZD17+$BZN17+$BZX17+$CAH17+$CAR17+$CBB17+$CBL17+$CBV17+$CCF17+$CCP17+$CCZ17+$CDJ17+$CDT17+$CED17+$CEN17+$CEX17+$CFH17+$CFR17+$CGB17+$CGL17+$CGV17+$CHF17+$CHP17+$CHZ17+$CIJ17+$CIT17+$CJD17+$CJN17+$CJX17+$CKH17+$CKR17+$CLB17+$CLL17+$CLV17+$CMF17+$CMP17+$CMZ17+$CNJ17+$CNT17+$COD17+$CON17+$COX17+$CPH17+$CPR17+$CQB17+$CQL17+$CQV17+$CRF17+$CRP17+$CRZ17+$CSJ17+$CST17+$CTD17+$CTN17+$CTX17+$CUH17+$CUR17+$CVB17+$CVL17+$CVV17+$CWF17+$CWP17+$CWZ17+$CXJ17+$CXT17+$CYD17+$CYN17+$CYX17+$CZH17+$CZR17+$DAB17+$DAL17+$DAV17+$DBF17+$DBP17+$DBZ17+$DCJ17+$DCT17+$DDD17+$DDN17+$DDX17+$DEH17+$DER17+$DFB17+$DFL17+$DFV17+$DGF17+$DGP17+$DGZ17+$DHJ17+$DHT17+$DID17+$DIN17+$DIX17+$DJH17+$DJR17+$DKB17+$DKL17+$DKV17+$DLF17+$DLP17+$DLZ17+$DMJ17+$DMT17+$DND17+$DNN17+$DNX17+$DOH17+$DOR17+$DPB17+$DPL17+$DPV17+$DQF17+$DQP17+$DQZ17+$DRJ17+$DRT17+$DSD17+$DSN17+$DSX17+$DTH17+$DTR17+$DUB17+$DUL17+$DUV17+$DVF17+$DVP17+$DVZ17+$DWJ17+$DWT17+$DXD17+$DXN17+$DXX17+$DYH17+$DYR17+$DZB17+$DZL17+$DZV17+$EAF17+$EAP17+$EAZ17+$EBJ17+$EBT17+$ECD17+$ECN17+$ECX17+$EDH17+$EDR17+$EEB17+$EEL17+$EEV17+$EFF17+$EFP17+$EFZ17+$EGJ17+$EGT17+$EHD17+$EHN17+$EHX17+$EIH17+$EIR17+$EJB17+$EJL17+$EJV17+$EKF17+$EKP17)*24","v":0},null,{"$f":"Suunnitelma!$C17","v":0},{"$f":"Suunnitelma!$E17","v":0},{"$f":"Suunnitelma!$G17","v":0},null,0,0,0,null,null,null,{"$f":"Suunnitelma!$B$17","v":"Arviointi"}]
[null,{"$f":"Suunnitelma!$B$18","v":"Vastuuopettaja"},{"$f":"Osakoonti!D18+($R18+$AB18+$AL18+$AV18+$BF18+$BP18+$BZ18+$CJ18+$CT18+$DD18+$DN18+$DX18+$EH18+$ER18+$FB18+$FL18+$FV18+$GF18+$GP18+$GZ18+$HJ18+$HT18+$ID18+$IN18+$IX18+$JH18+$JR18+$KB18+$KL18+$KV18+$LF18+$LP18+$LZ18+$MJ18+$MT18+$ND18+$NN18+$NX18+$OH18+$OR18+$PB18+$PL18+$PV18+$QF18+$QP18+$QZ18+$RJ18+$RT18+$SD18+$SN18+$SX18+$TH18+$TR18+$UB18+$UL18+$UV18+$VF18+$VP18+$VZ18+$WJ18+$WT18+$XD18+$XN18+$XX18+$YH18+$YR18+$ZB18+$ZL18+$ZV18+$AAF18+$AAP18+$AAZ18+$ABJ18+$ABT18+$ACD18+$ACN18+$ACX18+$ADH18+$ADR18+$AEB18+$AEL18+$AEV18+$AFF18+$AFP18+$AFZ18+$AGJ18+$AGT18+$AHD18+$AHN18+$AHX18+$AIH18+$AIR18+$AJB18+$AJL18+$AJV18+$AKF18+$AKP18+$AKZ18+$ALJ18+$ALT18+$AMD18+$AMN18+$AMX18+$ANH18+$ANR18+$AOB18+$AOL18+$AOV18+$APF18+$APP18+$APZ18+$AQJ18+$AQT18+$ARD18+$ARN18+$ARX18+$ASH18+$ASR18+$ATB18+$ATL18+$ATV18+$AUF18+$AUP18+$AUZ18+$AVJ18+$AVT18+$AWD18+$AWN18+$AWX18+$AXH18+$AXR18+$AYB18+$AYL18+$AYV18+$AZF18+$AZP18+$AZZ18+$BAJ18+$BAT18+$BBD18+$BBN18+$BBX18+$BCH18+$BCR18+$BDB18+$BDL18+$BDV18+$BEF18+$BEP18+$BEZ18+$BFJ18+$BFT18+$BGD18+$BGN18+$BGX18+$BHH18+$BHR18+$BIB18+$BIL18+$BIV18+$BJF18+$BJP18+$BJZ18+$BKJ18+$BKT18+$BLD18+$BLN18+$BLX18+$BMH18+$BMR18+$BNB18+$BNL18+$BNV18+$BOF18+$BOP18+$BOZ18+$BPJ18+$BPT18+$BQD18+$BQN18+$BQX18+$BRH18+$BRR18+$BSB18+$BSL18+$BSV18+$BTF18+$BTP18+$BTZ18+$BUJ18+$BUT18+$BVD18+$BVN18+$BVX18+$BWH18+$BWR18+$BXB18+$BXL18+$BXV18+$BYF18+$BYP18+$BYZ18+$BZJ18+$BZT18+$CAD18+$CAN18+$CAX18+$CBH18+$CBR18+$CCB18+$CCL18+$CCV18+$CDF18+$CDP18+$CDZ18+$CEJ18+$CET18+$CFD18+$CFN18+$CFX18+$CGH18+$CGR18+$CHB18+$CHL18+$CHV18+$CIF18+$CIP18+$CIZ18+$CJJ18+$CJT18+$CKD18+$CKN18+$CKX18+$CLH18+$CLR18+$CMB18+$CML18+$CMV18+$CNF18+$CNP18+$CNZ18+$COJ18+$COT18+$CPD18+$CPN18+$CPX18+$CQH18+$CQR18+$CRB18+$CRL18+$CRV18+$CSF18+$CSP18+$CSZ18+$CTJ18+$CTT18+$CUD18+$CUN18+$CUX18+$CVH18+$CVR18+$CWB18+$CWL18+$CWV18+$CXF18+$CXP18+$CXZ18+$CYJ18+$CYT18+$CZD18+$CZN18+$CZX18+$DAH18+$DAR18+$DBB18+$DBL18+$DBV18+$DCF18+$DCP18+$DCZ18+$DDJ18+$DDT18+$DED18+$DEN18+$DEX18+$DFH18+$DFR18+$DGB18+$DGL18+$DGV18+$DHF18+$DHP18+$DHZ18+$DIJ18+$DIT18+$DJD18+$DJN18+$DJX18+$DKH18+$DKR18+$DLB18+$DLL18+$DLV18+$DMF18+$DMP18+$DMZ18+$DNJ18+$DNT18+$DOD18+$DON18+$DOX18+$DPH18+$DPR18+$DQB18+$DQL18+$DQV18+$DRF18+$DRP18+$DRZ18+$DSJ18+$DST18+$DTD18+$DTN18+$DTX18+$DUH18+$DUR18+$DVB18+$DVL18+$DVV18+$DWF18+$DWP18+$DWZ18+$DXJ18+$DXT18+$DYD18+$DYN18+$DYX18+$DZH18+$DZR18+$EAB18+$EAL18+$EAV18+$EBF18+$EBP18+$EBZ18+$ECJ18+$ECT18+$EDD18+$EDN18+$EDX18+$EEH18+$EER18+$EFB18+$EFL18+$EFV18+$EGF18+$EGP18+$EGZ18+$EHJ18+$EHT18+$EID18+$EIN18+$EIX18+$EJH18+$EJR18+$EKB18+$EKL18)*24","v":0},{"$f":"Osakoonti!E18+($T18+$AD18+$AN18+$AX18+$BH18+$BR18+$CB18+$CL18+$CV18+$DF18+$DP18+$DZ18+$EJ18+$ET18+$FD18+$FN18+$FX18+$GH18+$GR18+$HB18+$HL18+$HV18+$IF18+$IP18+$IZ18+$JJ18+$JT18+$KD18+$KN18+$KX18+$LH18+$LR18+$MB18+$ML18+$MV18+$NF18+$NP18+$NZ18+$OJ18+$OT18+$PD18+$PN18+$PX18+$QH18+$QR18+$RB18+$RL18+$RV18+$SF18+$SP18+$SZ18+$TJ18+$TT18+$UD18+$UN18+$UX18+$VH18+$VR18+$WB18+$WL18+$WV18+$XF18+$XP18+$XZ18+$YJ18+$YT18+$ZD18+$ZN18+$ZX18+$AAH18+$AAR18+$ABB18+$ABL18+$ABV18+$ACF18+$ACP18+$ACZ18+$ADJ18+$ADT18+$AED18+$AEN18+$AEX18+$AFH18+$AFR18+$AGB18+$AGL18+$AGV18+$AHF18+$AHP18+$AHZ18+$AIJ18+$AIT18+$AJD18+$AJN18+$AJX18+$AKH18+$AKR18+$ALB18+$ALL18+$ALV18+$AMF18+$AMP18+$AMZ18+$ANJ18+$ANT18+$AOD18+$AON18+$AOX18+$APH18+$APR18+$AQB18+$AQL18+$AQV18+$ARF18+$ARP18+$ARZ18+$ASJ18+$AST18+$ATD18+$ATN18+$ATX18+$AUH18+$AUR18+$AVB18+$AVL18+$AVV18+$AWF18+$AWP18+$AWZ18+$AXJ18+$AXT18+$AYD18+$AYN18+$AYX18+$AZH18+$AZR18+$BAB18+$BAL18+$BAV18+$BBF18+$BBP18+$BBZ18+$BCJ18+$BCT18+$BDD18+$BDN18+$BDX18+$BEH18+$BER18+$BFB18+$BFL18+$BFV18+$BGF18+$BGP18+$BGZ18+$BHJ18+$BHT18+$BID18+$BIN18+$BIX18+$BJH18+$BJR18+$BKB18+$BKL18+$BKV18+$BLF18+$BLP18+$BLZ18+$BMJ18+$BMT18+$BND18+$BNN18+$BNX18+$BOH18+$BOR18+$BPB18+$BPL18+$BPV18+$BQF18+$BQP18+$BQZ18+$BRJ18+$BRT18+$BSD18+$BSN18+$BSX18+$BTH18+$BTR18+$BUB18+$BUL18+$BUV18+$BVF18+$BVP18+$BVZ18+$BWJ18+$BWT18+$BXD18+$BXN18+$BXX18+$BYH18+$BYR18+$BZB18+$BZL18+$BZV18+$CAF18+$CAP18+$CAZ18+$CBJ18+$CBT18+$CCD18+$CCN18+$CCX18+$CDH18+$CDR18+$CEB18+$CEL18+$CEV18+$CFF18+$CFP18+$CFZ18+$CGJ18+$CGT18+$CHD18+$CHN18+$CHX18+$CIH18+$CIR18+$CJB18+$CJL18+$CJV18+$CKF18+$CKP18+$CKZ18+$CLJ18+$CLT18+$CMD18+$CMN18+$CMX18+$CNH18+$CNR18+$COB18+$COL18+$COV18+$CPF18+$CPP18+$CPZ18+$CQJ18+$CQT18+$CRD18+$CRN18+$CRX18+$CSH18+$CSR18+$CTB18+$CTL18+$CTV18+$CUF18+$CUP18+$CUZ18+$CVJ18+$CVT18+$CWD18+$CWN18+$CWX18+$CXH18+$CXR18+$CYB18+$CYL18+$CYV18+$CZF18+$CZP18+$CZZ18+$DAJ18+$DAT18+$DBD18+$DBN18+$DBX18+$DCH18+$DCR18+$DDB18+$DDL18+$DDV18+$DEF18+$DEP18+$DEZ18+$DFJ18+$DFT18+$DGD18+$DGN18+$DGX18+$DHH18+$DHR18+$DIB18+$DIL18+$DIV18+$DJF18+$DJP18+$DJZ18+$DKJ18+$DKT18+$DLD18+$DLN18+$DLX18+$DMH18+$DMR18+$DNB18+$DNL18+$DNV18+$DOF18+$DOP18+$DOZ18+$DPJ18+$DPT18+$DQD18+$DQN18+$DQX18+$DRH18+$DRR18+$DSB18+$DSL18+$DSV18+$DTF18+$DTP18+$DTZ18+$DUJ18+$DUT18+$DVD18+$DVN18+$DVX18+$DWH18+$DWR18+$DXB18+$DXL18+$DXV18+$DYF18+$DYP18+$DYZ18+$DZJ18+$DZT18+$EAD18+$EAN18+$EAX18+$EBH18+$EBR18+$ECB18+$ECL18+$ECV18+$EDF18+$EDP18+$EDZ18+$EEJ18+$EET18+$EFD18+$EFN18+$EFX18+$EGH18+$EGR18+$EHB18+$EHL18+$EHV18+$EIF18+$EIP18+$EIZ18+$EJJ18+$EJT18+$EKD18+$EKN18)*24","v":0},{"$f":"Osakoonti!F18+($V18+$AF18+$AP18+$AZ18+$BJ18+$BT18+$CD18+$CN18+$CX18+$DH18+$DR18+$EB18+$EL18+$EV18+$FF18+$FP18+$FZ18+$GJ18+$GT18+$HD18+$HN18+$HX18+$IH18+$IR18+$JB18+$JL18+$JV18+$KF18+$KP18+$KZ18+$LJ18+$LT18+$MD18+$MN18+$MX18+$NH18+$NR18+$OB18+$OL18+$OV18+$PF18+$PP18+$PZ18+$QJ18+$QT18+$RD18+$RN18+$RX18+$SH18+$SR18+$TB18+$TL18+$TV18+$UF18+$UP18+$UZ18+$VJ18+$VT18+$WD18+$WN18+$WX18+$XH18+$XR18+$YB18+$YL18+$YV18+$ZF18+$ZP18+$ZZ18+$AAJ18+$AAT18+$ABD18+$ABN18+$ABX18+$ACH18+$ACR18+$ADB18+$ADL18+$ADV18+$AEF18+$AEP18+$AEZ18+$AFJ18+$AFT18+$AGD18+$AGN18+$AGX18+$AHH18+$AHR18+$AIB18+$AIL18+$AIV18+$AJF18+$AJP18+$AJZ18+$AKJ18+$AKT18+$ALD18+$ALN18+$ALX18+$AMH18+$AMR18+$ANB18+$ANL18+$ANV18+$AOF18+$AOP18+$AOZ18+$APJ18+$APT18+$AQD18+$AQN18+$AQX18+$ARH18+$ARR18+$ASB18+$ASL18+$ASV18+$ATF18+$ATP18+$ATZ18+$AUJ18+$AUT18+$AVD18+$AVN18+$AVX18+$AWH18+$AWR18+$AXB18+$AXL18+$AXV18+$AYF18+$AYP18+$AYZ18+$AZJ18+$AZT18+$BAD18+$BAN18+$BAX18+$BBH18+$BBR18+$BCB18+$BCL18+$BCV18+$BDF18+$BDP18+$BDZ18+$BEJ18+$BET18+$BFD18+$BFN18+$BFX18+$BGH18+$BGR18+$BHB18+$BHL18+$BHV18+$BIF18+$BIP18+$BIZ18+$BJJ18+$BJT18+$BKD18+$BKN18+$BKX18+$BLH18+$BLR18+$BMB18+$BML18+$BMV18+$BNF18+$BNP18+$BNZ18+$BOJ18+$BOT18+$BPD18+$BPN18+$BPX18+$BQH18+$BQR18+$BRB18+$BRL18+$BRV18+$BSF18+$BSP18+$BSZ18+$BTJ18+$BTT18+$BUD18+$BUN18+$BUX18+$BVH18+$BVR18+$BWB18+$BWL18+$BWV18+$BXF18+$BXP18+$BXZ18+$BYJ18+$BYT18+$BZD18+$BZN18+$BZX18+$CAH18+$CAR18+$CBB18+$CBL18+$CBV18+$CCF18+$CCP18+$CCZ18+$CDJ18+$CDT18+$CED18+$CEN18+$CEX18+$CFH18+$CFR18+$CGB18+$CGL18+$CGV18+$CHF18+$CHP18+$CHZ18+$CIJ18+$CIT18+$CJD18+$CJN18+$CJX18+$CKH18+$CKR18+$CLB18+$CLL18+$CLV18+$CMF18+$CMP18+$CMZ18+$CNJ18+$CNT18+$COD18+$CON18+$COX18+$CPH18+$CPR18+$CQB18+$CQL18+$CQV18+$CRF18+$CRP18+$CRZ18+$CSJ18+$CST18+$CTD18+$CTN18+$CTX18+$CUH18+$CUR18+$CVB18+$CVL18+$CVV18+$CWF18+$CWP18+$CWZ18+$CXJ18+$CXT18+$CYD18+$CYN18+$CYX18+$CZH18+$CZR18+$DAB18+$DAL18+$DAV18+$DBF18+$DBP18+$DBZ18+$DCJ18+$DCT18+$DDD18+$DDN18+$DDX18+$DEH18+$DER18+$DFB18+$DFL18+$DFV18+$DGF18+$DGP18+$DGZ18+$DHJ18+$DHT18+$DID18+$DIN18+$DIX18+$DJH18+$DJR18+$DKB18+$DKL18+$DKV18+$DLF18+$DLP18+$DLZ18+$DMJ18+$DMT18+$DND18+$DNN18+$DNX18+$DOH18+$DOR18+$DPB18+$DPL18+$DPV18+$DQF18+$DQP18+$DQZ18+$DRJ18+$DRT18+$DSD18+$DSN18+$DSX18+$DTH18+$DTR18+$DUB18+$DUL18+$DUV18+$DVF18+$DVP18+$DVZ18+$DWJ18+$DWT18+$DXD18+$DXN18+$DXX18+$DYH18+$DYR18+$DZB18+$DZL18+$DZV18+$EAF18+$EAP18+$EAZ18+$EBJ18+$EBT18+$ECD18+$ECN18+$ECX18+$EDH18+$EDR18+$EEB18+$EEL18+$EEV18+$EFF18+$EFP18+$EFZ18+$EGJ18+$EGT18+$EHD18+$EHN18+$EHX18+$EIH18+$EIR18+$EJB18+$EJL18+$EJV18+$EKF18+$EKP18)*24","v":0},null,{"$f":"Suunnitelma!$C18","v":0},{"$f":"Suunnitelma!$E18","v":0},{"$f":"Suunnitelma!$G18","v":0},null,0,0,0,null,null,null,{"$f":"Suunnitelma!$B$18","v":"Vastuuopettaja"}]
[null,{"$f":"Suunnitelma!$B$19","v":"Tutkintovastaava"},{"$f":"Osakoonti!D19+($R19+$AB19+$AL19+$AV19+$BF19+$BP19+$BZ19+$CJ19+$CT19+$DD19+$DN19+$DX19+$EH19+$ER19+$FB19+$FL19+$FV19+$GF19+$GP19+$GZ19+$HJ19+$HT19+$ID19+$IN19+$IX19+$JH19+$JR19+$KB19+$KL19+$KV19+$LF19+$LP19+$LZ19+$MJ19+$MT19+$ND19+$NN19+$NX19+$OH19+$OR19+$PB19+$PL19+$PV19+$QF19+$QP19+$QZ19+$RJ19+$RT19+$SD19+$SN19+$SX19+$TH19+$TR19+$UB19+$UL19+$UV19+$VF19+$VP19+$VZ19+$WJ19+$WT19+$XD19+$XN19+$XX19+$YH19+$YR19+$ZB19+$ZL19+$ZV19+$AAF19+$AAP19+$AAZ19+$ABJ19+$ABT19+$ACD19+$ACN19+$ACX19+$ADH19+$ADR19+$AEB19+$AEL19+$AEV19+$AFF19+$AFP19+$AFZ19+$AGJ19+$AGT19+$AHD19+$AHN19+$AHX19+$AIH19+$AIR19+$AJB19+$AJL19+$AJV19+$AKF19+$AKP19+$AKZ19+$ALJ19+$ALT19+$AMD19+$AMN19+$AMX19+$ANH19+$ANR19+$AOB19+$AOL19+$AOV19+$APF19+$APP19+$APZ19+$AQJ19+$AQT19+$ARD19+$ARN19+$ARX19+$ASH19+$ASR19+$ATB19+$ATL19+$ATV19+$AUF19+$AUP19+$AUZ19+$AVJ19+$AVT19+$AWD19+$AWN19+$AWX19+$AXH19+$AXR19+$AYB19+$AYL19+$AYV19+$AZF19+$AZP19+$AZZ19+$BAJ19+$BAT19+$BBD19+$BBN19+$BBX19+$BCH19+$BCR19+$BDB19+$BDL19+$BDV19+$BEF19+$BEP19+$BEZ19+$BFJ19+$BFT19+$BGD19+$BGN19+$BGX19+$BHH19+$BHR19+$BIB19+$BIL19+$BIV19+$BJF19+$BJP19+$BJZ19+$BKJ19+$BKT19+$BLD19+$BLN19+$BLX19+$BMH19+$BMR19+$BNB19+$BNL19+$BNV19+$BOF19+$BOP19+$BOZ19+$BPJ19+$BPT19+$BQD19+$BQN19+$BQX19+$BRH19+$BRR19+$BSB19+$BSL19+$BSV19+$BTF19+$BTP19+$BTZ19+$BUJ19+$BUT19+$BVD19+$BVN19+$BVX19+$BWH19+$BWR19+$BXB19+$BXL19+$BXV19+$BYF19+$BYP19+$BYZ19+$BZJ19+$BZT19+$CAD19+$CAN19+$CAX19+$CBH19+$CBR19+$CCB19+$CCL19+$CCV19+$CDF19+$CDP19+$CDZ19+$CEJ19+$CET19+$CFD19+$CFN19+$CFX19+$CGH19+$CGR19+$CHB19+$CHL19+$CHV19+$CIF19+$CIP19+$CIZ19+$CJJ19+$CJT19+$CKD19+$CKN19+$CKX19+$CLH19+$CLR19+$CMB19+$CML19+$CMV19+$CNF19+$CNP19+$CNZ19+$COJ19+$COT19+$CPD19+$CPN19+$CPX19+$CQH19+$CQR19+$CRB19+$CRL19+$CRV19+$CSF19+$CSP19+$CSZ19+$CTJ19+$CTT19+$CUD19+$CUN19+$CUX19+$CVH19+$CVR19+$CWB19+$CWL19+$CWV19+$CXF19+$CXP19+$CXZ19+$CYJ19+$CYT19+$CZD19+$CZN19+$CZX19+$DAH19+$DAR19+$DBB19+$DBL19+$DBV19+$DCF19+$DCP19+$DCZ19+$DDJ19+$DDT19+$DED19+$DEN19+$DEX19+$DFH19+$DFR19+$DGB19+$DGL19+$DGV19+$DHF19+$DHP19+$DHZ19+$DIJ19+$DIT19+$DJD19+$DJN19+$DJX19+$DKH19+$DKR19+$DLB19+$DLL19+$DLV19+$DMF19+$DMP19+$DMZ19+$DNJ19+$DNT19+$DOD19+$DON19+$DOX19+$DPH19+$DPR19+$DQB19+$DQL19+$DQV19+$DRF19+$DRP19+$DRZ19+$DSJ19+$DST19+$DTD19+$DTN19+$DTX19+$DUH19+$DUR19+$DVB19+$DVL19+$DVV19+$DWF19+$DWP19+$DWZ19+$DXJ19+$DXT19+$DYD19+$DYN19+$DYX19+$DZH19+$DZR19+$EAB19+$EAL19+$EAV19+$EBF19+$EBP19+$EBZ19+$ECJ19+$ECT19+$EDD19+$EDN19+$EDX19+$EEH19+$EER19+$EFB19+$EFL19+$EFV19+$EGF19+$EGP19+$EGZ19+$EHJ19+$EHT19+$EID19+$EIN19+$EIX19+$EJH19+$EJR19+$EKB19+$EKL19)*24","v":0},{"$f":"Osakoonti!E19+($T19+$AD19+$AN19+$AX19+$BH19+$BR19+$CB19+$CL19+$CV19+$DF19+$DP19+$DZ19+$EJ19+$ET19+$FD19+$FN19+$FX19+$GH19+$GR19+$HB19+$HL19+$HV19+$IF19+$IP19+$IZ19+$JJ19+$JT19+$KD19+$KN19+$KX19+$LH19+$LR19+$MB19+$ML19+$MV19+$NF19+$NP19+$NZ19+$OJ19+$OT19+$PD19+$PN19+$PX19+$QH19+$QR19+$RB19+$RL19+$RV19+$SF19+$SP19+$SZ19+$TJ19+$TT19+$UD19+$UN19+$UX19+$VH19+$VR19+$WB19+$WL19+$WV19+$XF19+$XP19+$XZ19+$YJ19+$YT19+$ZD19+$ZN19+$ZX19+$AAH19+$AAR19+$ABB19+$ABL19+$ABV19+$ACF19+$ACP19+$ACZ19+$ADJ19+$ADT19+$AED19+$AEN19+$AEX19+$AFH19+$AFR19+$AGB19+$AGL19+$AGV19+$AHF19+$AHP19+$AHZ19+$AIJ19+$AIT19+$AJD19+$AJN19+$AJX19+$AKH19+$AKR19+$ALB19+$ALL19+$ALV19+$AMF19+$AMP19+$AMZ19+$ANJ19+$ANT19+$AOD19+$AON19+$AOX19+$APH19+$APR19+$AQB19+$AQL19+$AQV19+$ARF19+$ARP19+$ARZ19+$ASJ19+$AST19+$ATD19+$ATN19+$ATX19+$AUH19+$AUR19+$AVB19+$AVL19+$AVV19+$AWF19+$AWP19+$AWZ19+$AXJ19+$AXT19+$AYD19+$AYN19+$AYX19+$AZH19+$AZR19+$BAB19+$BAL19+$BAV19+$BBF19+$BBP19+$BBZ19+$BCJ19+$BCT19+$BDD19+$BDN19+$BDX19+$BEH19+$BER19+$BFB19+$BFL19+$BFV19+$BGF19+$BGP19+$BGZ19+$BHJ19+$BHT19+$BID19+$BIN19+$BIX19+$BJH19+$BJR19+$BKB19+$BKL19+$BKV19+$BLF19+$BLP19+$BLZ19+$BMJ19+$BMT19+$BND19+$BNN19+$BNX19+$BOH19+$BOR19+$BPB19+$BPL19+$BPV19+$BQF19+$BQP19+$BQZ19+$BRJ19+$BRT19+$BSD19+$BSN19+$BSX19+$BTH19+$BTR19+$BUB19+$BUL19+$BUV19+$BVF19+$BVP19+$BVZ19+$BWJ19+$BWT19+$BXD19+$BXN19+$BXX19+$BYH19+$BYR19+$BZB19+$BZL19+$BZV19+$CAF19+$CAP19+$CAZ19+$CBJ19+$CBT19+$CCD19+$CCN19+$CCX19+$CDH19+$CDR19+$CEB19+$CEL19+$CEV19+$CFF19+$CFP19+$CFZ19+$CGJ19+$CGT19+$CHD19+$CHN19+$CHX19+$CIH19+$CIR19+$CJB19+$CJL19+$CJV19+$CKF19+$CKP19+$CKZ19+$CLJ19+$CLT19+$CMD19+$CMN19+$CMX19+$CNH19+$CNR19+$COB19+$COL19+$COV19+$CPF19+$CPP19+$CPZ19+$CQJ19+$CQT19+$CRD19+$CRN19+$CRX19+$CSH19+$CSR19+$CTB19+$CTL19+$CTV19+$CUF19+$CUP19+$CUZ19+$CVJ19+$CVT19+$CWD19+$CWN19+$CWX19+$CXH19+$CXR19+$CYB19+$CYL19+$CYV19+$CZF19+$CZP19+$CZZ19+$DAJ19+$DAT19+$DBD19+$DBN19+$DBX19+$DCH19+$DCR19+$DDB19+$DDL19+$DDV19+$DEF19+$DEP19+$DEZ19+$DFJ19+$DFT19+$DGD19+$DGN19+$DGX19+$DHH19+$DHR19+$DIB19+$DIL19+$DIV19+$DJF19+$DJP19+$DJZ19+$DKJ19+$DKT19+$DLD19+$DLN19+$DLX19+$DMH19+$DMR19+$DNB19+$DNL19+$DNV19+$DOF19+$DOP19+$DOZ19+$DPJ19+$DPT19+$DQD19+$DQN19+$DQX19+$DRH19+$DRR19+$DSB19+$DSL19+$DSV19+$DTF19+$DTP19+$DTZ19+$DUJ19+$DUT19+$DVD19+$DVN19+$DVX19+$DWH19+$DWR19+$DXB19+$DXL19+$DXV19+$DYF19+$DYP19+$DYZ19+$DZJ19+$DZT19+$EAD19+$EAN19+$EAX19+$EBH19+$EBR19+$ECB19+$ECL19+$ECV19+$EDF19+$EDP19+$EDZ19+$EEJ19+$EET19+$EFD19+$EFN19+$EFX19+$EGH19+$EGR19+$EHB19+$EHL19+$EHV19+$EIF19+$EIP19+$EIZ19+$EJJ19+$EJT19+$EKD19+$EKN19)*24","v":0},{"$f":"Osakoonti!F19+($V19+$AF19+$AP19+$AZ19+$BJ19+$BT19+$CD19+$CN19+$CX19+$DH19+$DR19+$EB19+$EL19+$EV19+$FF19+$FP19+$FZ19+$GJ19+$GT19+$HD19+$HN19+$HX19+$IH19+$IR19+$JB19+$JL19+$JV19+$KF19+$KP19+$KZ19+$LJ19+$LT19+$MD19+$MN19+$MX19+$NH19+$NR19+$OB19+$OL19+$OV19+$PF19+$PP19+$PZ19+$QJ19+$QT19+$RD19+$RN19+$RX19+$SH19+$SR19+$TB19+$TL19+$TV19+$UF19+$UP19+$UZ19+$VJ19+$VT19+$WD19+$WN19+$WX19+$XH19+$XR19+$YB19+$YL19+$YV19+$ZF19+$ZP19+$ZZ19+$AAJ19+$AAT19+$ABD19+$ABN19+$ABX19+$ACH19+$ACR19+$ADB19+$ADL19+$ADV19+$AEF19+$AEP19+$AEZ19+$AFJ19+$AFT19+$AGD19+$AGN19+$AGX19+$AHH19+$AHR19+$AIB19+$AIL19+$AIV19+$AJF19+$AJP19+$AJZ19+$AKJ19+$AKT19+$ALD19+$ALN19+$ALX19+$AMH19+$AMR19+$ANB19+$ANL19+$ANV19+$AOF19+$AOP19+$AOZ19+$APJ19+$APT19+$AQD19+$AQN19+$AQX19+$ARH19+$ARR19+$ASB19+$ASL19+$ASV19+$ATF19+$ATP19+$ATZ19+$AUJ19+$AUT19+$AVD19+$AVN19+$AVX19+$AWH19+$AWR19+$AXB19+$AXL19+$AXV19+$AYF19+$AYP19+$AYZ19+$AZJ19+$AZT19+$BAD19+$BAN19+$BAX19+$BBH19+$BBR19+$BCB19+$BCL19+$BCV19+$BDF19+$BDP19+$BDZ19+$BEJ19+$BET19+$BFD19+$BFN19+$BFX19+$BGH19+$BGR19+$BHB19+$BHL19+$BHV19+$BIF19+$BIP19+$BIZ19+$BJJ19+$BJT19+$BKD19+$BKN19+$BKX19+$BLH19+$BLR19+$BMB19+$BML19+$BMV19+$BNF19+$BNP19+$BNZ19+$BOJ19+$BOT19+$BPD19+$BPN19+$BPX19+$BQH19+$BQR19+$BRB19+$BRL19+$BRV19+$BSF19+$BSP19+$BSZ19+$BTJ19+$BTT19+$BUD19+$BUN19+$BUX19+$BVH19+$BVR19+$BWB19+$BWL19+$BWV19+$BXF19+$BXP19+$BXZ19+$BYJ19+$BYT19+$BZD19+$BZN19+$BZX19+$CAH19+$CAR19+$CBB19+$CBL19+$CBV19+$CCF19+$CCP19+$CCZ19+$CDJ19+$CDT19+$CED19+$CEN19+$CEX19+$CFH19+$CFR19+$CGB19+$CGL19+$CGV19+$CHF19+$CHP19+$CHZ19+$CIJ19+$CIT19+$CJD19+$CJN19+$CJX19+$CKH19+$CKR19+$CLB19+$CLL19+$CLV19+$CMF19+$CMP19+$CMZ19+$CNJ19+$CNT19+$COD19+$CON19+$COX19+$CPH19+$CPR19+$CQB19+$CQL19+$CQV19+$CRF19+$CRP19+$CRZ19+$CSJ19+$CST19+$CTD19+$CTN19+$CTX19+$CUH19+$CUR19+$CVB19+$CVL19+$CVV19+$CWF19+$CWP19+$CWZ19+$CXJ19+$CXT19+$CYD19+$CYN19+$CYX19+$CZH19+$CZR19+$DAB19+$DAL19+$DAV19+$DBF19+$DBP19+$DBZ19+$DCJ19+$DCT19+$DDD19+$DDN19+$DDX19+$DEH19+$DER19+$DFB19+$DFL19+$DFV19+$DGF19+$DGP19+$DGZ19+$DHJ19+$DHT19+$DID19+$DIN19+$DIX19+$DJH19+$DJR19+$DKB19+$DKL19+$DKV19+$DLF19+$DLP19+$DLZ19+$DMJ19+$DMT19+$DND19+$DNN19+$DNX19+$DOH19+$DOR19+$DPB19+$DPL19+$DPV19+$DQF19+$DQP19+$DQZ19+$DRJ19+$DRT19+$DSD19+$DSN19+$DSX19+$DTH19+$DTR19+$DUB19+$DUL19+$DUV19+$DVF19+$DVP19+$DVZ19+$DWJ19+$DWT19+$DXD19+$DXN19+$DXX19+$DYH19+$DYR19+$DZB19+$DZL19+$DZV19+$EAF19+$EAP19+$EAZ19+$EBJ19+$EBT19+$ECD19+$ECN19+$ECX19+$EDH19+$EDR19+$EEB19+$EEL19+$EEV19+$EFF19+$EFP19+$EFZ19+$EGJ19+$EGT19+$EHD19+$EHN19+$EHX19+$EIH19+$EIR19+$EJB19+$EJL19+$EJV19+$EKF19+$EKP19)*24","v":0},null,{"$f":"Suunnitelma!$C19","v":0},{"$f":"Suunnitelma!$E19","v":0},{"$f":"Suunnitelma!$G19","v":0},null,0,0,0,null,null,"p",{"$f":"Suunnitelma!$B$19","v":"Tutkintovastaava"}]
[null,{"$f":"Suunnitelma!$B$20","v":"Pedaopettaja"},{"$f":"Osakoonti!D20+($R20+$AB20+$AL20+$AV20+$BF20+$BP20+$BZ20+$CJ20+$CT20+$DD20+$DN20+$DX20+$EH20+$ER20+$FB20+$FL20+$FV20+$GF20+$GP20+$GZ20+$HJ20+$HT20+$ID20+$IN20+$IX20+$JH20+$JR20+$KB20+$KL20+$KV20+$LF20+$LP20+$LZ20+$MJ20+$MT20+$ND20+$NN20+$NX20+$OH20+$OR20+$PB20+$PL20+$PV20+$QF20+$QP20+$QZ20+$RJ20+$RT20+$SD20+$SN20+$SX20+$TH20+$TR20+$UB20+$UL20+$UV20+$VF20+$VP20+$VZ20+$WJ20+$WT20+$XD20+$XN20+$XX20+$YH20+$YR20+$ZB20+$ZL20+$ZV20+$AAF20+$AAP20+$AAZ20+$ABJ20+$ABT20+$ACD20+$ACN20+$ACX20+$ADH20+$ADR20+$AEB20+$AEL20+$AEV20+$AFF20+$AFP20+$AFZ20+$AGJ20+$AGT20+$AHD20+$AHN20+$AHX20+$AIH20+$AIR20+$AJB20+$AJL20+$AJV20+$AKF20+$AKP20+$AKZ20+$ALJ20+$ALT20+$AMD20+$AMN20+$AMX20+$ANH20+$ANR20+$AOB20+$AOL20+$AOV20+$APF20+$APP20+$APZ20+$AQJ20+$AQT20+$ARD20+$ARN20+$ARX20+$ASH20+$ASR20+$ATB20+$ATL20+$ATV20+$AUF20+$AUP20+$AUZ20+$AVJ20+$AVT20+$AWD20+$AWN20+$AWX20+$AXH20+$AXR20+$AYB20+$AYL20+$AYV20+$AZF20+$AZP20+$AZZ20+$BAJ20+$BAT20+$BBD20+$BBN20+$BBX20+$BCH20+$BCR20+$BDB20+$BDL20+$BDV20+$BEF20+$BEP20+$BEZ20+$BFJ20+$BFT20+$BGD20+$BGN20+$BGX20+$BHH20+$BHR20+$BIB20+$BIL20+$BIV20+$BJF20+$BJP20+$BJZ20+$BKJ20+$BKT20+$BLD20+$BLN20+$BLX20+$BMH20+$BMR20+$BNB20+$BNL20+$BNV20+$BOF20+$BOP20+$BOZ20+$BPJ20+$BPT20+$BQD20+$BQN20+$BQX20+$BRH20+$BRR20+$BSB20+$BSL20+$BSV20+$BTF20+$BTP20+$BTZ20+$BUJ20+$BUT20+$BVD20+$BVN20+$BVX20+$BWH20+$BWR20+$BXB20+$BXL20+$BXV20+$BYF20+$BYP20+$BYZ20+$BZJ20+$BZT20+$CAD20+$CAN20+$CAX20+$CBH20+$CBR20+$CCB20+$CCL20+$CCV20+$CDF20+$CDP20+$CDZ20+$CEJ20+$CET20+$CFD20+$CFN20+$CFX20+$CGH20+$CGR20+$CHB20+$CHL20+$CHV20+$CIF20+$CIP20+$CIZ20+$CJJ20+$CJT20+$CKD20+$CKN20+$CKX20+$CLH20+$CLR20+$CMB20+$CML20+$CMV20+$CNF20+$CNP20+$CNZ20+$COJ20+$COT20+$CPD20+$CPN20+$CPX20+$CQH20+$CQR20+$CRB20+$CRL20+$CRV20+$CSF20+$CSP20+$CSZ20+$CTJ20+$CTT20+$CUD20+$CUN20+$CUX20+$CVH20+$CVR20+$CWB20+$CWL20+$CWV20+$CXF20+$CXP20+$CXZ20+$CYJ20+$CYT20+$CZD20+$CZN20+$CZX20+$DAH20+$DAR20+$DBB20+$DBL20+$DBV20+$DCF20+$DCP20+$DCZ20+$DDJ20+$DDT20+$DED20+$DEN20+$DEX20+$DFH20+$DFR20+$DGB20+$DGL20+$DGV20+$DHF20+$DHP20+$DHZ20+$DIJ20+$DIT20+$DJD20+$DJN20+$DJX20+$DKH20+$DKR20+$DLB20+$DLL20+$DLV20+$DMF20+$DMP20+$DMZ20+$DNJ20+$DNT20+$DOD20+$DON20+$DOX20+$DPH20+$DPR20+$DQB20+$DQL20+$DQV20+$DRF20+$DRP20+$DRZ20+$DSJ20+$DST20+$DTD20+$DTN20+$DTX20+$DUH20+$DUR20+$DVB20+$DVL20+$DVV20+$DWF20+$DWP20+$DWZ20+$DXJ20+$DXT20+$DYD20+$DYN20+$DYX20+$DZH20+$DZR20+$EAB20+$EAL20+$EAV20+$EBF20+$EBP20+$EBZ20+$ECJ20+$ECT20+$EDD20+$EDN20+$EDX20+$EEH20+$EER20+$EFB20+$EFL20+$EFV20+$EGF20+$EGP20+$EGZ20+$EHJ20+$EHT20+$EID20+$EIN20+$EIX20+$EJH20+$EJR20+$EKB20+$EKL20)*24","v":0},{"$f":"Osakoonti!E20+($T20+$AD20+$AN20+$AX20+$BH20+$BR20+$CB20+$CL20+$CV20+$DF20+$DP20+$DZ20+$EJ20+$ET20+$FD20+$FN20+$FX20+$GH20+$GR20+$HB20+$HL20+$HV20+$IF20+$IP20+$IZ20+$JJ20+$JT20+$KD20+$KN20+$KX20+$LH20+$LR20+$MB20+$ML20+$MV20+$NF20+$NP20+$NZ20+$OJ20+$OT20+$PD20+$PN20+$PX20+$QH20+$QR20+$RB20+$RL20+$RV20+$SF20+$SP20+$SZ20+$TJ20+$TT20+$UD20+$UN20+$UX20+$VH20+$VR20+$WB20+$WL20+$WV20+$XF20+$XP20+$XZ20+$YJ20+$YT20+$ZD20+$ZN20+$ZX20+$AAH20+$AAR20+$ABB20+$ABL20+$ABV20+$ACF20+$ACP20+$ACZ20+$ADJ20+$ADT20+$AED20+$AEN20+$AEX20+$AFH20+$AFR20+$AGB20+$AGL20+$AGV20+$AHF20+$AHP20+$AHZ20+$AIJ20+$AIT20+$AJD20+$AJN20+$AJX20+$AKH20+$AKR20+$ALB20+$ALL20+$ALV20+$AMF20+$AMP20+$AMZ20+$ANJ20+$ANT20+$AOD20+$AON20+$AOX20+$APH20+$APR20+$AQB20+$AQL20+$AQV20+$ARF20+$ARP20+$ARZ20+$ASJ20+$AST20+$ATD20+$ATN20+$ATX20+$AUH20+$AUR20+$AVB20+$AVL20+$AVV20+$AWF20+$AWP20+$AWZ20+$AXJ20+$AXT20+$AYD20+$AYN20+$AYX20+$AZH20+$AZR20+$BAB20+$BAL20+$BAV20+$BBF20+$BBP20+$BBZ20+$BCJ20+$BCT20+$BDD20+$BDN20+$BDX20+$BEH20+$BER20+$BFB20+$BFL20+$BFV20+$BGF20+$BGP20+$BGZ20+$BHJ20+$BHT20+$BID20+$BIN20+$BIX20+$BJH20+$BJR20+$BKB20+$BKL20+$BKV20+$BLF20+$BLP20+$BLZ20+$BMJ20+$BMT20+$BND20+$BNN20+$BNX20+$BOH20+$BOR20+$BPB20+$BPL20+$BPV20+$BQF20+$BQP20+$BQZ20+$BRJ20+$BRT20+$BSD20+$BSN20+$BSX20+$BTH20+$BTR20+$BUB20+$BUL20+$BUV20+$BVF20+$BVP20+$BVZ20+$BWJ20+$BWT20+$BXD20+$BXN20+$BXX20+$BYH20+$BYR20+$BZB20+$BZL20+$BZV20+$CAF20+$CAP20+$CAZ20+$CBJ20+$CBT20+$CCD20+$CCN20+$CCX20+$CDH20+$CDR20+$CEB20+$CEL20+$CEV20+$CFF20+$CFP20+$CFZ20+$CGJ20+$CGT20+$CHD20+$CHN20+$CHX20+$CIH20+$CIR20+$CJB20+$CJL20+$CJV20+$CKF20+$CKP20+$CKZ20+$CLJ20+$CLT20+$CMD20+$CMN20+$CMX20+$CNH20+$CNR20+$COB20+$COL20+$COV20+$CPF20+$CPP20+$CPZ20+$CQJ20+$CQT20+$CRD20+$CRN20+$CRX20+$CSH20+$CSR20+$CTB20+$CTL20+$CTV20+$CUF20+$CUP20+$CUZ20+$CVJ20+$CVT20+$CWD20+$CWN20+$CWX20+$CXH20+$CXR20+$CYB20+$CYL20+$CYV20+$CZF20+$CZP20+$CZZ20+$DAJ20+$DAT20+$DBD20+$DBN20+$DBX20+$DCH20+$DCR20+$DDB20+$DDL20+$DDV20+$DEF20+$DEP20+$DEZ20+$DFJ20+$DFT20+$DGD20+$DGN20+$DGX20+$DHH20+$DHR20+$DIB20+$DIL20+$DIV20+$DJF20+$DJP20+$DJZ20+$DKJ20+$DKT20+$DLD20+$DLN20+$DLX20+$DMH20+$DMR20+$DNB20+$DNL20+$DNV20+$DOF20+$DOP20+$DOZ20+$DPJ20+$DPT20+$DQD20+$DQN20+$DQX20+$DRH20+$DRR20+$DSB20+$DSL20+$DSV20+$DTF20+$DTP20+$DTZ20+$DUJ20+$DUT20+$DVD20+$DVN20+$DVX20+$DWH20+$DWR20+$DXB20+$DXL20+$DXV20+$DYF20+$DYP20+$DYZ20+$DZJ20+$DZT20+$EAD20+$EAN20+$EAX20+$EBH20+$EBR20+$ECB20+$ECL20+$ECV20+$EDF20+$EDP20+$EDZ20+$EEJ20+$EET20+$EFD20+$EFN20+$EFX20+$EGH20+$EGR20+$EHB20+$EHL20+$EHV20+$EIF20+$EIP20+$EIZ20+$EJJ20+$EJT20+$EKD20+$EKN20)*24","v":0},{"$f":"Osakoonti!F20+($V20+$AF20+$AP20+$AZ20+$BJ20+$BT20+$CD20+$CN20+$CX20+$DH20+$DR20+$EB20+$EL20+$EV20+$FF20+$FP20+$FZ20+$GJ20+$GT20+$HD20+$HN20+$HX20+$IH20+$IR20+$JB20+$JL20+$JV20+$KF20+$KP20+$KZ20+$LJ20+$LT20+$MD20+$MN20+$MX20+$NH20+$NR20+$OB20+$OL20+$OV20+$PF20+$PP20+$PZ20+$QJ20+$QT20+$RD20+$RN20+$RX20+$SH20+$SR20+$TB20+$TL20+$TV20+$UF20+$UP20+$UZ20+$VJ20+$VT20+$WD20+$WN20+$WX20+$XH20+$XR20+$YB20+$YL20+$YV20+$ZF20+$ZP20+$ZZ20+$AAJ20+$AAT20+$ABD20+$ABN20+$ABX20+$ACH20+$ACR20+$ADB20+$ADL20+$ADV20+$AEF20+$AEP20+$AEZ20+$AFJ20+$AFT20+$AGD20+$AGN20+$AGX20+$AHH20+$AHR20+$AIB20+$AIL20+$AIV20+$AJF20+$AJP20+$AJZ20+$AKJ20+$AKT20+$ALD20+$ALN20+$ALX20+$AMH20+$AMR20+$ANB20+$ANL20+$ANV20+$AOF20+$AOP20+$AOZ20+$APJ20+$APT20+$AQD20+$AQN20+$AQX20+$ARH20+$ARR20+$ASB20+$ASL20+$ASV20+$ATF20+$ATP20+$ATZ20+$AUJ20+$AUT20+$AVD20+$AVN20+$AVX20+$AWH20+$AWR20+$AXB20+$AXL20+$AXV20+$AYF20+$AYP20+$AYZ20+$AZJ20+$AZT20+$BAD20+$BAN20+$BAX20+$BBH20+$BBR20+$BCB20+$BCL20+$BCV20+$BDF20+$BDP20+$BDZ20+$BEJ20+$BET20+$BFD20+$BFN20+$BFX20+$BGH20+$BGR20+$BHB20+$BHL20+$BHV20+$BIF20+$BIP20+$BIZ20+$BJJ20+$BJT20+$BKD20+$BKN20+$BKX20+$BLH20+$BLR20+$BMB20+$BML20+$BMV20+$BNF20+$BNP20+$BNZ20+$BOJ20+$BOT20+$BPD20+$BPN20+$BPX20+$BQH20+$BQR20+$BRB20+$BRL20+$BRV20+$BSF20+$BSP20+$BSZ20+$BTJ20+$BTT20+$BUD20+$BUN20+$BUX20+$BVH20+$BVR20+$BWB20+$BWL20+$BWV20+$BXF20+$BXP20+$BXZ20+$BYJ20+$BYT20+$BZD20+$BZN20+$BZX20+$CAH20+$CAR20+$CBB20+$CBL20+$CBV20+$CCF20+$CCP20+$CCZ20+$CDJ20+$CDT20+$CED20+$CEN20+$CEX20+$CFH20+$CFR20+$CGB20+$CGL20+$CGV20+$CHF20+$CHP20+$CHZ20+$CIJ20+$CIT20+$CJD20+$CJN20+$CJX20+$CKH20+$CKR20+$CLB20+$CLL20+$CLV20+$CMF20+$CMP20+$CMZ20+$CNJ20+$CNT20+$COD20+$CON20+$COX20+$CPH20+$CPR20+$CQB20+$CQL20+$CQV20+$CRF20+$CRP20+$CRZ20+$CSJ20+$CST20+$CTD20+$CTN20+$CTX20+$CUH20+$CUR20+$CVB20+$CVL20+$CVV20+$CWF20+$CWP20+$CWZ20+$CXJ20+$CXT20+$CYD20+$CYN20+$CYX20+$CZH20+$CZR20+$DAB20+$DAL20+$DAV20+$DBF20+$DBP20+$DBZ20+$DCJ20+$DCT20+$DDD20+$DDN20+$DDX20+$DEH20+$DER20+$DFB20+$DFL20+$DFV20+$DGF20+$DGP20+$DGZ20+$DHJ20+$DHT20+$DID20+$DIN20+$DIX20+$DJH20+$DJR20+$DKB20+$DKL20+$DKV20+$DLF20+$DLP20+$DLZ20+$DMJ20+$DMT20+$DND20+$DNN20+$DNX20+$DOH20+$DOR20+$DPB20+$DPL20+$DPV20+$DQF20+$DQP20+$DQZ20+$DRJ20+$DRT20+$DSD20+$DSN20+$DSX20+$DTH20+$DTR20+$DUB20+$DUL20+$DUV20+$DVF20+$DVP20+$DVZ20+$DWJ20+$DWT20+$DXD20+$DXN20+$DXX20+$DYH20+$DYR20+$DZB20+$DZL20+$DZV20+$EAF20+$EAP20+$EAZ20+$EBJ20+$EBT20+$ECD20+$ECN20+$ECX20+$EDH20+$EDR20+$EEB20+$EEL20+$EEV20+$EFF20+$EFP20+$EFZ20+$EGJ20+$EGT20+$EHD20+$EHN20+$EHX20+$EIH20+$EIR20+$EJB20+$EJL20+$EJV20+$EKF20+$EKP20)*24","v":0},null,{"$f":"Suunnitelma!$C20","v":0},{"$f":"Suunnitelma!$E20","v":0},{"$f":"Suunnitelma!$G20","v":0},null,0,0,0,null,null,"p",{"$f":"Suunnitelma!$B$20","v":"Pedaopettaja"}]
[null,{"$f":"Suunnitelma!$B$21","v":"Digiopettaja"},{"$f":"Osakoonti!D21+($R21+$AB21+$AL21+$AV21+$BF21+$BP21+$BZ21+$CJ21+$CT21+$DD21+$DN21+$DX21+$EH21+$ER21+$FB21+$FL21+$FV21+$GF21+$GP21+$GZ21+$HJ21+$HT21+$ID21+$IN21+$IX21+$JH21+$JR21+$KB21+$KL21+$KV21+$LF21+$LP21+$LZ21+$MJ21+$MT21+$ND21+$NN21+$NX21+$OH21+$OR21+$PB21+$PL21+$PV21+$QF21+$QP21+$QZ21+$RJ21+$RT21+$SD21+$SN21+$SX21+$TH21+$TR21+$UB21+$UL21+$UV21+$VF21+$VP21+$VZ21+$WJ21+$WT21+$XD21+$XN21+$XX21+$YH21+$YR21+$ZB21+$ZL21+$ZV21+$AAF21+$AAP21+$AAZ21+$ABJ21+$ABT21+$ACD21+$ACN21+$ACX21+$ADH21+$ADR21+$AEB21+$AEL21+$AEV21+$AFF21+$AFP21+$AFZ21+$AGJ21+$AGT21+$AHD21+$AHN21+$AHX21+$AIH21+$AIR21+$AJB21+$AJL21+$AJV21+$AKF21+$AKP21+$AKZ21+$ALJ21+$ALT21+$AMD21+$AMN21+$AMX21+$ANH21+$ANR21+$AOB21+$AOL21+$AOV21+$APF21+$APP21+$APZ21+$AQJ21+$AQT21+$ARD21+$ARN21+$ARX21+$ASH21+$ASR21+$ATB21+$ATL21+$ATV21+$AUF21+$AUP21+$AUZ21+$AVJ21+$AVT21+$AWD21+$AWN21+$AWX21+$AXH21+$AXR21+$AYB21+$AYL21+$AYV21+$AZF21+$AZP21+$AZZ21+$BAJ21+$BAT21+$BBD21+$BBN21+$BBX21+$BCH21+$BCR21+$BDB21+$BDL21+$BDV21+$BEF21+$BEP21+$BEZ21+$BFJ21+$BFT21+$BGD21+$BGN21+$BGX21+$BHH21+$BHR21+$BIB21+$BIL21+$BIV21+$BJF21+$BJP21+$BJZ21+$BKJ21+$BKT21+$BLD21+$BLN21+$BLX21+$BMH21+$BMR21+$BNB21+$BNL21+$BNV21+$BOF21+$BOP21+$BOZ21+$BPJ21+$BPT21+$BQD21+$BQN21+$BQX21+$BRH21+$BRR21+$BSB21+$BSL21+$BSV21+$BTF21+$BTP21+$BTZ21+$BUJ21+$BUT21+$BVD21+$BVN21+$BVX21+$BWH21+$BWR21+$BXB21+$BXL21+$BXV21+$BYF21+$BYP21+$BYZ21+$BZJ21+$BZT21+$CAD21+$CAN21+$CAX21+$CBH21+$CBR21+$CCB21+$CCL21+$CCV21+$CDF21+$CDP21+$CDZ21+$CEJ21+$CET21+$CFD21+$CFN21+$CFX21+$CGH21+$CGR21+$CHB21+$CHL21+$CHV21+$CIF21+$CIP21+$CIZ21+$CJJ21+$CJT21+$CKD21+$CKN21+$CKX21+$CLH21+$CLR21+$CMB21+$CML21+$CMV21+$CNF21+$CNP21+$CNZ21+$COJ21+$COT21+$CPD21+$CPN21+$CPX21+$CQH21+$CQR21+$CRB21+$CRL21+$CRV21+$CSF21+$CSP21+$CSZ21+$CTJ21+$CTT21+$CUD21+$CUN21+$CUX21+$CVH21+$CVR21+$CWB21+$CWL21+$CWV21+$CXF21+$CXP21+$CXZ21+$CYJ21+$CYT21+$CZD21+$CZN21+$CZX21+$DAH21+$DAR21+$DBB21+$DBL21+$DBV21+$DCF21+$DCP21+$DCZ21+$DDJ21+$DDT21+$DED21+$DEN21+$DEX21+$DFH21+$DFR21+$DGB21+$DGL21+$DGV21+$DHF21+$DHP21+$DHZ21+$DIJ21+$DIT21+$DJD21+$DJN21+$DJX21+$DKH21+$DKR21+$DLB21+$DLL21+$DLV21+$DMF21+$DMP21+$DMZ21+$DNJ21+$DNT21+$DOD21+$DON21+$DOX21+$DPH21+$DPR21+$DQB21+$DQL21+$DQV21+$DRF21+$DRP21+$DRZ21+$DSJ21+$DST21+$DTD21+$DTN21+$DTX21+$DUH21+$DUR21+$DVB21+$DVL21+$DVV21+$DWF21+$DWP21+$DWZ21+$DXJ21+$DXT21+$DYD21+$DYN21+$DYX21+$DZH21+$DZR21+$EAB21+$EAL21+$EAV21+$EBF21+$EBP21+$EBZ21+$ECJ21+$ECT21+$EDD21+$EDN21+$EDX21+$EEH21+$EER21+$EFB21+$EFL21+$EFV21+$EGF21+$EGP21+$EGZ21+$EHJ21+$EHT21+$EID21+$EIN21+$EIX21+$EJH21+$EJR21+$EKB21+$EKL21)*24","v":0},{"$f":"Osakoonti!E21+($T21+$AD21+$AN21+$AX21+$BH21+$BR21+$CB21+$CL21+$CV21+$DF21+$DP21+$DZ21+$EJ21+$ET21+$FD21+$FN21+$FX21+$GH21+$GR21+$HB21+$HL21+$HV21+$IF21+$IP21+$IZ21+$JJ21+$JT21+$KD21+$KN21+$KX21+$LH21+$LR21+$MB21+$ML21+$MV21+$NF21+$NP21+$NZ21+$OJ21+$OT21+$PD21+$PN21+$PX21+$QH21+$QR21+$RB21+$RL21+$RV21+$SF21+$SP21+$SZ21+$TJ21+$TT21+$UD21+$UN21+$UX21+$VH21+$VR21+$WB21+$WL21+$WV21+$XF21+$XP21+$XZ21+$YJ21+$YT21+$ZD21+$ZN21+$ZX21+$AAH21+$AAR21+$ABB21+$ABL21+$ABV21+$ACF21+$ACP21+$ACZ21+$ADJ21+$ADT21+$AED21+$AEN21+$AEX21+$AFH21+$AFR21+$AGB21+$AGL21+$AGV21+$AHF21+$AHP21+$AHZ21+$AIJ21+$AIT21+$AJD21+$AJN21+$AJX21+$AKH21+$AKR21+$ALB21+$ALL21+$ALV21+$AMF21+$AMP21+$AMZ21+$ANJ21+$ANT21+$AOD21+$AON21+$AOX21+$APH21+$APR21+$AQB21+$AQL21+$AQV21+$ARF21+$ARP21+$ARZ21+$ASJ21+$AST21+$ATD21+$ATN21+$ATX21+$AUH21+$AUR21+$AVB21+$AVL21+$AVV21+$AWF21+$AWP21+$AWZ21+$AXJ21+$AXT21+$AYD21+$AYN21+$AYX21+$AZH21+$AZR21+$BAB21+$BAL21+$BAV21+$BBF21+$BBP21+$BBZ21+$BCJ21+$BCT21+$BDD21+$BDN21+$BDX21+$BEH21+$BER21+$BFB21+$BFL21+$BFV21+$BGF21+$BGP21+$BGZ21+$BHJ21+$BHT21+$BID21+$BIN21+$BIX21+$BJH21+$BJR21+$BKB21+$BKL21+$BKV21+$BLF21+$BLP21+$BLZ21+$BMJ21+$BMT21+$BND21+$BNN21+$BNX21+$BOH21+$BOR21+$BPB21+$BPL21+$BPV21+$BQF21+$BQP21+$BQZ21+$BRJ21+$BRT21+$BSD21+$BSN21+$BSX21+$BTH21+$BTR21+$BUB21+$BUL21+$BUV21+$BVF21+$BVP21+$BVZ21+$BWJ21+$BWT21+$BXD21+$BXN21+$BXX21+$BYH21+$BYR21+$BZB21+$BZL21+$BZV21+$CAF21+$CAP21+$CAZ21+$CBJ21+$CBT21+$CCD21+$CCN21+$CCX21+$CDH21+$CDR21+$CEB21+$CEL21+$CEV21+$CFF21+$CFP21+$CFZ21+$CGJ21+$CGT21+$CHD21+$CHN21+$CHX21+$CIH21+$CIR21+$CJB21+$CJL21+$CJV21+$CKF21+$CKP21+$CKZ21+$CLJ21+$CLT21+$CMD21+$CMN21+$CMX21+$CNH21+$CNR21+$COB21+$COL21+$COV21+$CPF21+$CPP21+$CPZ21+$CQJ21+$CQT21+$CRD21+$CRN21+$CRX21+$CSH21+$CSR21+$CTB21+$CTL21+$CTV21+$CUF21+$CUP21+$CUZ21+$CVJ21+$CVT21+$CWD21+$CWN21+$CWX21+$CXH21+$CXR21+$CYB21+$CYL21+$CYV21+$CZF21+$CZP21+$CZZ21+$DAJ21+$DAT21+$DBD21+$DBN21+$DBX21+$DCH21+$DCR21+$DDB21+$DDL21+$DDV21+$DEF21+$DEP21+$DEZ21+$DFJ21+$DFT21+$DGD21+$DGN21+$DGX21+$DHH21+$DHR21+$DIB21+$DIL21+$DIV21+$DJF21+$DJP21+$DJZ21+$DKJ21+$DKT21+$DLD21+$DLN21+$DLX21+$DMH21+$DMR21+$DNB21+$DNL21+$DNV21+$DOF21+$DOP21+$DOZ21+$DPJ21+$DPT21+$DQD21+$DQN21+$DQX21+$DRH21+$DRR21+$DSB21+$DSL21+$DSV21+$DTF21+$DTP21+$DTZ21+$DUJ21+$DUT21+$DVD21+$DVN21+$DVX21+$DWH21+$DWR21+$DXB21+$DXL21+$DXV21+$DYF21+$DYP21+$DYZ21+$DZJ21+$DZT21+$EAD21+$EAN21+$EAX21+$EBH21+$EBR21+$ECB21+$ECL21+$ECV21+$EDF21+$EDP21+$EDZ21+$EEJ21+$EET21+$EFD21+$EFN21+$EFX21+$EGH21+$EGR21+$EHB21+$EHL21+$EHV21+$EIF21+$EIP21+$EIZ21+$EJJ21+$EJT21+$EKD21+$EKN21)*24","v":0},{"$f":"Osakoonti!F21+($V21+$AF21+$AP21+$AZ21+$BJ21+$BT21+$CD21+$CN21+$CX21+$DH21+$DR21+$EB21+$EL21+$EV21+$FF21+$FP21+$FZ21+$GJ21+$GT21+$HD21+$HN21+$HX21+$IH21+$IR21+$JB21+$JL21+$JV21+$KF21+$KP21+$KZ21+$LJ21+$LT21+$MD21+$MN21+$MX21+$NH21+$NR21+$OB21+$OL21+$OV21+$PF21+$PP21+$PZ21+$QJ21+$QT21+$RD21+$RN21+$RX21+$SH21+$SR21+$TB21+$TL21+$TV21+$UF21+$UP21+$UZ21+$VJ21+$VT21+$WD21+$WN21+$WX21+$XH21+$XR21+$YB21+$YL21+$YV21+$ZF21+$ZP21+$ZZ21+$AAJ21+$AAT21+$ABD21+$ABN21+$ABX21+$ACH21+$ACR21+$ADB21+$ADL21+$ADV21+$AEF21+$AEP21+$AEZ21+$AFJ21+$AFT21+$AGD21+$AGN21+$AGX21+$AHH21+$AHR21+$AIB21+$AIL21+$AIV21+$AJF21+$AJP21+$AJZ21+$AKJ21+$AKT21+$ALD21+$ALN21+$ALX21+$AMH21+$AMR21+$ANB21+$ANL21+$ANV21+$AOF21+$AOP21+$AOZ21+$APJ21+$APT21+$AQD21+$AQN21+$AQX21+$ARH21+$ARR21+$ASB21+$ASL21+$ASV21+$ATF21+$ATP21+$ATZ21+$AUJ21+$AUT21+$AVD21+$AVN21+$AVX21+$AWH21+$AWR21+$AXB21+$AXL21+$AXV21+$AYF21+$AYP21+$AYZ21+$AZJ21+$AZT21+$BAD21+$BAN21+$BAX21+$BBH21+$BBR21+$BCB21+$BCL21+$BCV21+$BDF21+$BDP21+$BDZ21+$BEJ21+$BET21+$BFD21+$BFN21+$BFX21+$BGH21+$BGR21+$BHB21+$BHL21+$BHV21+$BIF21+$BIP21+$BIZ21+$BJJ21+$BJT21+$BKD21+$BKN21+$BKX21+$BLH21+$BLR21+$BMB21+$BML21+$BMV21+$BNF21+$BNP21+$BNZ21+$BOJ21+$BOT21+$BPD21+$BPN21+$BPX21+$BQH21+$BQR21+$BRB21+$BRL21+$BRV21+$BSF21+$BSP21+$BSZ21+$BTJ21+$BTT21+$BUD21+$BUN21+$BUX21+$BVH21+$BVR21+$BWB21+$BWL21+$BWV21+$BXF21+$BXP21+$BXZ21+$BYJ21+$BYT21+$BZD21+$BZN21+$BZX21+$CAH21+$CAR21+$CBB21+$CBL21+$CBV21+$CCF21+$CCP21+$CCZ21+$CDJ21+$CDT21+$CED21+$CEN21+$CEX21+$CFH21+$CFR21+$CGB21+$CGL21+$CGV21+$CHF21+$CHP21+$CHZ21+$CIJ21+$CIT21+$CJD21+$CJN21+$CJX21+$CKH21+$CKR21+$CLB21+$CLL21+$CLV21+$CMF21+$CMP21+$CMZ21+$CNJ21+$CNT21+$COD21+$CON21+$COX21+$CPH21+$CPR21+$CQB21+$CQL21+$CQV21+$CRF21+$CRP21+$CRZ21+$CSJ21+$CST21+$CTD21+$CTN21+$CTX21+$CUH21+$CUR21+$CVB21+$CVL21+$CVV21+$CWF21+$CWP21+$CWZ21+$CXJ21+$CXT21+$CYD21+$CYN21+$CYX21+$CZH21+$CZR21+$DAB21+$DAL21+$DAV21+$DBF21+$DBP21+$DBZ21+$DCJ21+$DCT21+$DDD21+$DDN21+$DDX21+$DEH21+$DER21+$DFB21+$DFL21+$DFV21+$DGF21+$DGP21+$DGZ21+$DHJ21+$DHT21+$DID21+$DIN21+$DIX21+$DJH21+$DJR21+$DKB21+$DKL21+$DKV21+$DLF21+$DLP21+$DLZ21+$DMJ21+$DMT21+$DND21+$DNN21+$DNX21+$DOH21+$DOR21+$DPB21+$DPL21+$DPV21+$DQF21+$DQP21+$DQZ21+$DRJ21+$DRT21+$DSD21+$DSN21+$DSX21+$DTH21+$DTR21+$DUB21+$DUL21+$DUV21+$DVF21+$DVP21+$DVZ21+$DWJ21+$DWT21+$DXD21+$DXN21+$DXX21+$DYH21+$DYR21+$DZB21+$DZL21+$DZV21+$EAF21+$EAP21+$EAZ21+$EBJ21+$EBT21+$ECD21+$ECN21+$ECX21+$EDH21+$EDR21+$EEB21+$EEL21+$EEV21+$EFF21+$EFP21+$EFZ21+$EGJ21+$EGT21+$EHD21+$EHN21+$EHX21+$EIH21+$EIR21+$EJB21+$EJL21+$EJV21+$EKF21+$EKP21)*24","v":0},null,{"$f":"Suunnitelma!$C21","v":0},{"$f":"Suunnitelma!$E21","v":0},{"$f":"Suunnitelma!$G21","v":0},null,0,0,0,null,null,"p",{"$f":"Suunnitelma!$B$21","v":"Digiopettaja"}]
[null,{"$f":"Suunnitelma!$B$22","v":"Yhdysopettaja"},{"$f":"Osakoonti!D22+($R22+$AB22+$AL22+$AV22+$BF22+$BP22+$BZ22+$CJ22+$CT22+$DD22+$DN22+$DX22+$EH22+$ER22+$FB22+$FL22+$FV22+$GF22+$GP22+$GZ22+$HJ22+$HT22+$ID22+$IN22+$IX22+$JH22+$JR22+$KB22+$KL22+$KV22+$LF22+$LP22+$LZ22+$MJ22+$MT22+$ND22+$NN22+$NX22+$OH22+$OR22+$PB22+$PL22+$PV22+$QF22+$QP22+$QZ22+$RJ22+$RT22+$SD22+$SN22+$SX22+$TH22+$TR22+$UB22+$UL22+$UV22+$VF22+$VP22+$VZ22+$WJ22+$WT22+$XD22+$XN22+$XX22+$YH22+$YR22+$ZB22+$ZL22+$ZV22+$AAF22+$AAP22+$AAZ22+$ABJ22+$ABT22+$ACD22+$ACN22+$ACX22+$ADH22+$ADR22+$AEB22+$AEL22+$AEV22+$AFF22+$AFP22+$AFZ22+$AGJ22+$AGT22+$AHD22+$AHN22+$AHX22+$AIH22+$AIR22+$AJB22+$AJL22+$AJV22+$AKF22+$AKP22+$AKZ22+$ALJ22+$ALT22+$AMD22+$AMN22+$AMX22+$ANH22+$ANR22+$AOB22+$AOL22+$AOV22+$APF22+$APP22+$APZ22+$AQJ22+$AQT22+$ARD22+$ARN22+$ARX22+$ASH22+$ASR22+$ATB22+$ATL22+$ATV22+$AUF22+$AUP22+$AUZ22+$AVJ22+$AVT22+$AWD22+$AWN22+$AWX22+$AXH22+$AXR22+$AYB22+$AYL22+$AYV22+$AZF22+$AZP22+$AZZ22+$BAJ22+$BAT22+$BBD22+$BBN22+$BBX22+$BCH22+$BCR22+$BDB22+$BDL22+$BDV22+$BEF22+$BEP22+$BEZ22+$BFJ22+$BFT22+$BGD22+$BGN22+$BGX22+$BHH22+$BHR22+$BIB22+$BIL22+$BIV22+$BJF22+$BJP22+$BJZ22+$BKJ22+$BKT22+$BLD22+$BLN22+$BLX22+$BMH22+$BMR22+$BNB22+$BNL22+$BNV22+$BOF22+$BOP22+$BOZ22+$BPJ22+$BPT22+$BQD22+$BQN22+$BQX22+$BRH22+$BRR22+$BSB22+$BSL22+$BSV22+$BTF22+$BTP22+$BTZ22+$BUJ22+$BUT22+$BVD22+$BVN22+$BVX22+$BWH22+$BWR22+$BXB22+$BXL22+$BXV22+$BYF22+$BYP22+$BYZ22+$BZJ22+$BZT22+$CAD22+$CAN22+$CAX22+$CBH22+$CBR22+$CCB22+$CCL22+$CCV22+$CDF22+$CDP22+$CDZ22+$CEJ22+$CET22+$CFD22+$CFN22+$CFX22+$CGH22+$CGR22+$CHB22+$CHL22+$CHV22+$CIF22+$CIP22+$CIZ22+$CJJ22+$CJT22+$CKD22+$CKN22+$CKX22+$CLH22+$CLR22+$CMB22+$CML22+$CMV22+$CNF22+$CNP22+$CNZ22+$COJ22+$COT22+$CPD22+$CPN22+$CPX22+$CQH22+$CQR22+$CRB22+$CRL22+$CRV22+$CSF22+$CSP22+$CSZ22+$CTJ22+$CTT22+$CUD22+$CUN22+$CUX22+$CVH22+$CVR22+$CWB22+$CWL22+$CWV22+$CXF22+$CXP22+$CXZ22+$CYJ22+$CYT22+$CZD22+$CZN22+$CZX22+$DAH22+$DAR22+$DBB22+$DBL22+$DBV22+$DCF22+$DCP22+$DCZ22+$DDJ22+$DDT22+$DED22+$DEN22+$DEX22+$DFH22+$DFR22+$DGB22+$DGL22+$DGV22+$DHF22+$DHP22+$DHZ22+$DIJ22+$DIT22+$DJD22+$DJN22+$DJX22+$DKH22+$DKR22+$DLB22+$DLL22+$DLV22+$DMF22+$DMP22+$DMZ22+$DNJ22+$DNT22+$DOD22+$DON22+$DOX22+$DPH22+$DPR22+$DQB22+$DQL22+$DQV22+$DRF22+$DRP22+$DRZ22+$DSJ22+$DST22+$DTD22+$DTN22+$DTX22+$DUH22+$DUR22+$DVB22+$DVL22+$DVV22+$DWF22+$DWP22+$DWZ22+$DXJ22+$DXT22+$DYD22+$DYN22+$DYX22+$DZH22+$DZR22+$EAB22+$EAL22+$EAV22+$EBF22+$EBP22+$EBZ22+$ECJ22+$ECT22+$EDD22+$EDN22+$EDX22+$EEH22+$EER22+$EFB22+$EFL22+$EFV22+$EGF22+$EGP22+$EGZ22+$EHJ22+$EHT22+$EID22+$EIN22+$EIX22+$EJH22+$EJR22+$EKB22+$EKL22)*24","v":0},{"$f":"Osakoonti!E22+($T22+$AD22+$AN22+$AX22+$BH22+$BR22+$CB22+$CL22+$CV22+$DF22+$DP22+$DZ22+$EJ22+$ET22+$FD22+$FN22+$FX22+$GH22+$GR22+$HB22+$HL22+$HV22+$IF22+$IP22+$IZ22+$JJ22+$JT22+$KD22+$KN22+$KX22+$LH22+$LR22+$MB22+$ML22+$MV22+$NF22+$NP22+$NZ22+$OJ22+$OT22+$PD22+$PN22+$PX22+$QH22+$QR22+$RB22+$RL22+$RV22+$SF22+$SP22+$SZ22+$TJ22+$TT22+$UD22+$UN22+$UX22+$VH22+$VR22+$WB22+$WL22+$WV22+$XF22+$XP22+$XZ22+$YJ22+$YT22+$ZD22+$ZN22+$ZX22+$AAH22+$AAR22+$ABB22+$ABL22+$ABV22+$ACF22+$ACP22+$ACZ22+$ADJ22+$ADT22+$AED22+$AEN22+$AEX22+$AFH22+$AFR22+$AGB22+$AGL22+$AGV22+$AHF22+$AHP22+$AHZ22+$AIJ22+$AIT22+$AJD22+$AJN22+$AJX22+$AKH22+$AKR22+$ALB22+$ALL22+$ALV22+$AMF22+$AMP22+$AMZ22+$ANJ22+$ANT22+$AOD22+$AON22+$AOX22+$APH22+$APR22+$AQB22+$AQL22+$AQV22+$ARF22+$ARP22+$ARZ22+$ASJ22+$AST22+$ATD22+$ATN22+$ATX22+$AUH22+$AUR22+$AVB22+$AVL22+$AVV22+$AWF22+$AWP22+$AWZ22+$AXJ22+$AXT22+$AYD22+$AYN22+$AYX22+$AZH22+$AZR22+$BAB22+$BAL22+$BAV22+$BBF22+$BBP22+$BBZ22+$BCJ22+$BCT22+$BDD22+$BDN22+$BDX22+$BEH22+$BER22+$BFB22+$BFL22+$BFV22+$BGF22+$BGP22+$BGZ22+$BHJ22+$BHT22+$BID22+$BIN22+$BIX22+$BJH22+$BJR22+$BKB22+$BKL22+$BKV22+$BLF22+$BLP22+$BLZ22+$BMJ22+$BMT22+$BND22+$BNN22+$BNX22+$BOH22+$BOR22+$BPB22+$BPL22+$BPV22+$BQF22+$BQP22+$BQZ22+$BRJ22+$BRT22+$BSD22+$BSN22+$BSX22+$BTH22+$BTR22+$BUB22+$BUL22+$BUV22+$BVF22+$BVP22+$BVZ22+$BWJ22+$BWT22+$BXD22+$BXN22+$BXX22+$BYH22+$BYR22+$BZB22+$BZL22+$BZV22+$CAF22+$CAP22+$CAZ22+$CBJ22+$CBT22+$CCD22+$CCN22+$CCX22+$CDH22+$CDR22+$CEB22+$CEL22+$CEV22+$CFF22+$CFP22+$CFZ22+$CGJ22+$CGT22+$CHD22+$CHN22+$CHX22+$CIH22+$CIR22+$CJB22+$CJL22+$CJV22+$CKF22+$CKP22+$CKZ22+$CLJ22+$CLT22+$CMD22+$CMN22+$CMX22+$CNH22+$CNR22+$COB22+$COL22+$COV22+$CPF22+$CPP22+$CPZ22+$CQJ22+$CQT22+$CRD22+$CRN22+$CRX22+$CSH22+$CSR22+$CTB22+$CTL22+$CTV22+$CUF22+$CUP22+$CUZ22+$CVJ22+$CVT22+$CWD22+$CWN22+$CWX22+$CXH22+$CXR22+$CYB22+$CYL22+$CYV22+$CZF22+$CZP22+$CZZ22+$DAJ22+$DAT22+$DBD22+$DBN22+$DBX22+$DCH22+$DCR22+$DDB22+$DDL22+$DDV22+$DEF22+$DEP22+$DEZ22+$DFJ22+$DFT22+$DGD22+$DGN22+$DGX22+$DHH22+$DHR22+$DIB22+$DIL22+$DIV22+$DJF22+$DJP22+$DJZ22+$DKJ22+$DKT22+$DLD22+$DLN22+$DLX22+$DMH22+$DMR22+$DNB22+$DNL22+$DNV22+$DOF22+$DOP22+$DOZ22+$DPJ22+$DPT22+$DQD22+$DQN22+$DQX22+$DRH22+$DRR22+$DSB22+$DSL22+$DSV22+$DTF22+$DTP22+$DTZ22+$DUJ22+$DUT22+$DVD22+$DVN22+$DVX22+$DWH22+$DWR22+$DXB22+$DXL22+$DXV22+$DYF22+$DYP22+$DYZ22+$DZJ22+$DZT22+$EAD22+$EAN22+$EAX22+$EBH22+$EBR22+$ECB22+$ECL22+$ECV22+$EDF22+$EDP22+$EDZ22+$EEJ22+$EET22+$EFD22+$EFN22+$EFX22+$EGH22+$EGR22+$EHB22+$EHL22+$EHV22+$EIF22+$EIP22+$EIZ22+$EJJ22+$EJT22+$EKD22+$EKN22)*24","v":0},{"$f":"Osakoonti!F22+($V22+$AF22+$AP22+$AZ22+$BJ22+$BT22+$CD22+$CN22+$CX22+$DH22+$DR22+$EB22+$EL22+$EV22+$FF22+$FP22+$FZ22+$GJ22+$GT22+$HD22+$HN22+$HX22+$IH22+$IR22+$JB22+$JL22+$JV22+$KF22+$KP22+$KZ22+$LJ22+$LT22+$MD22+$MN22+$MX22+$NH22+$NR22+$OB22+$OL22+$OV22+$PF22+$PP22+$PZ22+$QJ22+$QT22+$RD22+$RN22+$RX22+$SH22+$SR22+$TB22+$TL22+$TV22+$UF22+$UP22+$UZ22+$VJ22+$VT22+$WD22+$WN22+$WX22+$XH22+$XR22+$YB22+$YL22+$YV22+$ZF22+$ZP22+$ZZ22+$AAJ22+$AAT22+$ABD22+$ABN22+$ABX22+$ACH22+$ACR22+$ADB22+$ADL22+$ADV22+$AEF22+$AEP22+$AEZ22+$AFJ22+$AFT22+$AGD22+$AGN22+$AGX22+$AHH22+$AHR22+$AIB22+$AIL22+$AIV22+$AJF22+$AJP22+$AJZ22+$AKJ22+$AKT22+$ALD22+$ALN22+$ALX22+$AMH22+$AMR22+$ANB22+$ANL22+$ANV22+$AOF22+$AOP22+$AOZ22+$APJ22+$APT22+$AQD22+$AQN22+$AQX22+$ARH22+$ARR22+$ASB22+$ASL22+$ASV22+$ATF22+$ATP22+$ATZ22+$AUJ22+$AUT22+$AVD22+$AVN22+$AVX22+$AWH22+$AWR22+$AXB22+$AXL22+$AXV22+$AYF22+$AYP22+$AYZ22+$AZJ22+$AZT22+$BAD22+$BAN22+$BAX22+$BBH22+$BBR22+$BCB22+$BCL22+$BCV22+$BDF22+$BDP22+$BDZ22+$BEJ22+$BET22+$BFD22+$BFN22+$BFX22+$BGH22+$BGR22+$BHB22+$BHL22+$BHV22+$BIF22+$BIP22+$BIZ22+$BJJ22+$BJT22+$BKD22+$BKN22+$BKX22+$BLH22+$BLR22+$BMB22+$BML22+$BMV22+$BNF22+$BNP22+$BNZ22+$BOJ22+$BOT22+$BPD22+$BPN22+$BPX22+$BQH22+$BQR22+$BRB22+$BRL22+$BRV22+$BSF22+$BSP22+$BSZ22+$BTJ22+$BTT22+$BUD22+$BUN22+$BUX22+$BVH22+$BVR22+$BWB22+$BWL22+$BWV22+$BXF22+$BXP22+$BXZ22+$BYJ22+$BYT22+$BZD22+$BZN22+$BZX22+$CAH22+$CAR22+$CBB22+$CBL22+$CBV22+$CCF22+$CCP22+$CCZ22+$CDJ22+$CDT22+$CED22+$CEN22+$CEX22+$CFH22+$CFR22+$CGB22+$CGL22+$CGV22+$CHF22+$CHP22+$CHZ22+$CIJ22+$CIT22+$CJD22+$CJN22+$CJX22+$CKH22+$CKR22+$CLB22+$CLL22+$CLV22+$CMF22+$CMP22+$CMZ22+$CNJ22+$CNT22+$COD22+$CON22+$COX22+$CPH22+$CPR22+$CQB22+$CQL22+$CQV22+$CRF22+$CRP22+$CRZ22+$CSJ22+$CST22+$CTD22+$CTN22+$CTX22+$CUH22+$CUR22+$CVB22+$CVL22+$CVV22+$CWF22+$CWP22+$CWZ22+$CXJ22+$CXT22+$CYD22+$CYN22+$CYX22+$CZH22+$CZR22+$DAB22+$DAL22+$DAV22+$DBF22+$DBP22+$DBZ22+$DCJ22+$DCT22+$DDD22+$DDN22+$DDX22+$DEH22+$DER22+$DFB22+$DFL22+$DFV22+$DGF22+$DGP22+$DGZ22+$DHJ22+$DHT22+$DID22+$DIN22+$DIX22+$DJH22+$DJR22+$DKB22+$DKL22+$DKV22+$DLF22+$DLP22+$DLZ22+$DMJ22+$DMT22+$DND22+$DNN22+$DNX22+$DOH22+$DOR22+$DPB22+$DPL22+$DPV22+$DQF22+$DQP22+$DQZ22+$DRJ22+$DRT22+$DSD22+$DSN22+$DSX22+$DTH22+$DTR22+$DUB22+$DUL22+$DUV22+$DVF22+$DVP22+$DVZ22+$DWJ22+$DWT22+$DXD22+$DXN22+$DXX22+$DYH22+$DYR22+$DZB22+$DZL22+$DZV22+$EAF22+$EAP22+$EAZ22+$EBJ22+$EBT22+$ECD22+$ECN22+$ECX22+$EDH22+$EDR22+$EEB22+$EEL22+$EEV22+$EFF22+$EFP22+$EFZ22+$EGJ22+$EGT22+$EHD22+$EHN22+$EHX22+$EIH22+$EIR22+$EJB22+$EJL22+$EJV22+$EKF22+$EKP22)*24","v":0},null,{"$f":"Suunnitelma!$C22","v":0},{"$f":"Suunnitelma!$E22","v":0},{"$f":"Suunnitelma!$G22","v":0},null,0,0,0,null,null,"p",{"$f":"Suunnitelma!$B$22","v":"Yhdysopettaja"}]
[null,{"$f":"Suunnitelma!$B$23","v":"Kulttuurivastaava"},{"$f":"Osakoonti!D23+($R23+$AB23+$AL23+$AV23+$BF23+$BP23+$BZ23+$CJ23+$CT23+$DD23+$DN23+$DX23+$EH23+$ER23+$FB23+$FL23+$FV23+$GF23+$GP23+$GZ23+$HJ23+$HT23+$ID23+$IN23+$IX23+$JH23+$JR23+$KB23+$KL23+$KV23+$LF23+$LP23+$LZ23+$MJ23+$MT23+$ND23+$NN23+$NX23+$OH23+$OR23+$PB23+$PL23+$PV23+$QF23+$QP23+$QZ23+$RJ23+$RT23+$SD23+$SN23+$SX23+$TH23+$TR23+$UB23+$UL23+$UV23+$VF23+$VP23+$VZ23+$WJ23+$WT23+$XD23+$XN23+$XX23+$YH23+$YR23+$ZB23+$ZL23+$ZV23+$AAF23+$AAP23+$AAZ23+$ABJ23+$ABT23+$ACD23+$ACN23+$ACX23+$ADH23+$ADR23+$AEB23+$AEL23+$AEV23+$AFF23+$AFP23+$AFZ23+$AGJ23+$AGT23+$AHD23+$AHN23+$AHX23+$AIH23+$AIR23+$AJB23+$AJL23+$AJV23+$AKF23+$AKP23+$AKZ23+$ALJ23+$ALT23+$AMD23+$AMN23+$AMX23+$ANH23+$ANR23+$AOB23+$AOL23+$AOV23+$APF23+$APP23+$APZ23+$AQJ23+$AQT23+$ARD23+$ARN23+$ARX23+$ASH23+$ASR23+$ATB23+$ATL23+$ATV23+$AUF23+$AUP23+$AUZ23+$AVJ23+$AVT23+$AWD23+$AWN23+$AWX23+$AXH23+$AXR23+$AYB23+$AYL23+$AYV23+$AZF23+$AZP23+$AZZ23+$BAJ23+$BAT23+$BBD23+$BBN23+$BBX23+$BCH23+$BCR23+$BDB23+$BDL23+$BDV23+$BEF23+$BEP23+$BEZ23+$BFJ23+$BFT23+$BGD23+$BGN23+$BGX23+$BHH23+$BHR23+$BIB23+$BIL23+$BIV23+$BJF23+$BJP23+$BJZ23+$BKJ23+$BKT23+$BLD23+$BLN23+$BLX23+$BMH23+$BMR23+$BNB23+$BNL23+$BNV23+$BOF23+$BOP23+$BOZ23+$BPJ23+$BPT23+$BQD23+$BQN23+$BQX23+$BRH23+$BRR23+$BSB23+$BSL23+$BSV23+$BTF23+$BTP23+$BTZ23+$BUJ23+$BUT23+$BVD23+$BVN23+$BVX23+$BWH23+$BWR23+$BXB23+$BXL23+$BXV23+$BYF23+$BYP23+$BYZ23+$BZJ23+$BZT23+$CAD23+$CAN23+$CAX23+$CBH23+$CBR23+$CCB23+$CCL23+$CCV23+$CDF23+$CDP23+$CDZ23+$CEJ23+$CET23+$CFD23+$CFN23+$CFX23+$CGH23+$CGR23+$CHB23+$CHL23+$CHV23+$CIF23+$CIP23+$CIZ23+$CJJ23+$CJT23+$CKD23+$CKN23+$CKX23+$CLH23+$CLR23+$CMB23+$CML23+$CMV23+$CNF23+$CNP23+$CNZ23+$COJ23+$COT23+$CPD23+$CPN23+$CPX23+$CQH23+$CQR23+$CRB23+$CRL23+$CRV23+$CSF23+$CSP23+$CSZ23+$CTJ23+$CTT23+$CUD23+$CUN23+$CUX23+$CVH23+$CVR23+$CWB23+$CWL23+$CWV23+$CXF23+$CXP23+$CXZ23+$CYJ23+$CYT23+$CZD23+$CZN23+$CZX23+$DAH23+$DAR23+$DBB23+$DBL23+$DBV23+$DCF23+$DCP23+$DCZ23+$DDJ23+$DDT23+$DED23+$DEN23+$DEX23+$DFH23+$DFR23+$DGB23+$DGL23+$DGV23+$DHF23+$DHP23+$DHZ23+$DIJ23+$DIT23+$DJD23+$DJN23+$DJX23+$DKH23+$DKR23+$DLB23+$DLL23+$DLV23+$DMF23+$DMP23+$DMZ23+$DNJ23+$DNT23+$DOD23+$DON23+$DOX23+$DPH23+$DPR23+$DQB23+$DQL23+$DQV23+$DRF23+$DRP23+$DRZ23+$DSJ23+$DST23+$DTD23+$DTN23+$DTX23+$DUH23+$DUR23+$DVB23+$DVL23+$DVV23+$DWF23+$DWP23+$DWZ23+$DXJ23+$DXT23+$DYD23+$DYN23+$DYX23+$DZH23+$DZR23+$EAB23+$EAL23+$EAV23+$EBF23+$EBP23+$EBZ23+$ECJ23+$ECT23+$EDD23+$EDN23+$EDX23+$EEH23+$EER23+$EFB23+$EFL23+$EFV23+$EGF23+$EGP23+$EGZ23+$EHJ23+$EHT23+$EID23+$EIN23+$EIX23+$EJH23+$EJR23+$EKB23+$EKL23)*24","v":0},{"$f":"Osakoonti!E23+($T23+$AD23+$AN23+$AX23+$BH23+$BR23+$CB23+$CL23+$CV23+$DF23+$DP23+$DZ23+$EJ23+$ET23+$FD23+$FN23+$FX23+$GH23+$GR23+$HB23+$HL23+$HV23+$IF23+$IP23+$IZ23+$JJ23+$JT23+$KD23+$KN23+$KX23+$LH23+$LR23+$MB23+$ML23+$MV23+$NF23+$NP23+$NZ23+$OJ23+$OT23+$PD23+$PN23+$PX23+$QH23+$QR23+$RB23+$RL23+$RV23+$SF23+$SP23+$SZ23+$TJ23+$TT23+$UD23+$UN23+$UX23+$VH23+$VR23+$WB23+$WL23+$WV23+$XF23+$XP23+$XZ23+$YJ23+$YT23+$ZD23+$ZN23+$ZX23+$AAH23+$AAR23+$ABB23+$ABL23+$ABV23+$ACF23+$ACP23+$ACZ23+$ADJ23+$ADT23+$AED23+$AEN23+$AEX23+$AFH23+$AFR23+$AGB23+$AGL23+$AGV23+$AHF23+$AHP23+$AHZ23+$AIJ23+$AIT23+$AJD23+$AJN23+$AJX23+$AKH23+$AKR23+$ALB23+$ALL23+$ALV23+$AMF23+$AMP23+$AMZ23+$ANJ23+$ANT23+$AOD23+$AON23+$AOX23+$APH23+$APR23+$AQB23+$AQL23+$AQV23+$ARF23+$ARP23+$ARZ23+$ASJ23+$AST23+$ATD23+$ATN23+$ATX23+$AUH23+$AUR23+$AVB23+$AVL23+$AVV23+$AWF23+$AWP23+$AWZ23+$AXJ23+$AXT23+$AYD23+$AYN23+$AYX23+$AZH23+$AZR23+$BAB23+$BAL23+$BAV23+$BBF23+$BBP23+$BBZ23+$BCJ23+$BCT23+$BDD23+$BDN23+$BDX23+$BEH23+$BER23+$BFB23+$BFL23+$BFV23+$BGF23+$BGP23+$BGZ23+$BHJ23+$BHT23+$BID23+$BIN23+$BIX23+$BJH23+$BJR23+$BKB23+$BKL23+$BKV23+$BLF23+$BLP23+$BLZ23+$BMJ23+$BMT23+$BND23+$BNN23+$BNX23+$BOH23+$BOR23+$BPB23+$BPL23+$BPV23+$BQF23+$BQP23+$BQZ23+$BRJ23+$BRT23+$BSD23+$BSN23+$BSX23+$BTH23+$BTR23+$BUB23+$BUL23+$BUV23+$BVF23+$BVP23+$BVZ23+$BWJ23+$BWT23+$BXD23+$BXN23+$BXX23+$BYH23+$BYR23+$BZB23+$BZL23+$BZV23+$CAF23+$CAP23+$CAZ23+$CBJ23+$CBT23+$CCD23+$CCN23+$CCX23+$CDH23+$CDR23+$CEB23+$CEL23+$CEV23+$CFF23+$CFP23+$CFZ23+$CGJ23+$CGT23+$CHD23+$CHN23+$CHX23+$CIH23+$CIR23+$CJB23+$CJL23+$CJV23+$CKF23+$CKP23+$CKZ23+$CLJ23+$CLT23+$CMD23+$CMN23+$CMX23+$CNH23+$CNR23+$COB23+$COL23+$COV23+$CPF23+$CPP23+$CPZ23+$CQJ23+$CQT23+$CRD23+$CRN23+$CRX23+$CSH23+$CSR23+$CTB23+$CTL23+$CTV23+$CUF23+$CUP23+$CUZ23+$CVJ23+$CVT23+$CWD23+$CWN23+$CWX23+$CXH23+$CXR23+$CYB23+$CYL23+$CYV23+$CZF23+$CZP23+$CZZ23+$DAJ23+$DAT23+$DBD23+$DBN23+$DBX23+$DCH23+$DCR23+$DDB23+$DDL23+$DDV23+$DEF23+$DEP23+$DEZ23+$DFJ23+$DFT23+$DGD23+$DGN23+$DGX23+$DHH23+$DHR23+$DIB23+$DIL23+$DIV23+$DJF23+$DJP23+$DJZ23+$DKJ23+$DKT23+$DLD23+$DLN23+$DLX23+$DMH23+$DMR23+$DNB23+$DNL23+$DNV23+$DOF23+$DOP23+$DOZ23+$DPJ23+$DPT23+$DQD23+$DQN23+$DQX23+$DRH23+$DRR23+$DSB23+$DSL23+$DSV23+$DTF23+$DTP23+$DTZ23+$DUJ23+$DUT23+$DVD23+$DVN23+$DVX23+$DWH23+$DWR23+$DXB23+$DXL23+$DXV23+$DYF23+$DYP23+$DYZ23+$DZJ23+$DZT23+$EAD23+$EAN23+$EAX23+$EBH23+$EBR23+$ECB23+$ECL23+$ECV23+$EDF23+$EDP23+$EDZ23+$EEJ23+$EET23+$EFD23+$EFN23+$EFX23+$EGH23+$EGR23+$EHB23+$EHL23+$EHV23+$EIF23+$EIP23+$EIZ23+$EJJ23+$EJT23+$EKD23+$EKN23)*24","v":0},{"$f":"Osakoonti!F23+($V23+$AF23+$AP23+$AZ23+$BJ23+$BT23+$CD23+$CN23+$CX23+$DH23+$DR23+$EB23+$EL23+$EV23+$FF23+$FP23+$FZ23+$GJ23+$GT23+$HD23+$HN23+$HX23+$IH23+$IR23+$JB23+$JL23+$JV23+$KF23+$KP23+$KZ23+$LJ23+$LT23+$MD23+$MN23+$MX23+$NH23+$NR23+$OB23+$OL23+$OV23+$PF23+$PP23+$PZ23+$QJ23+$QT23+$RD23+$RN23+$RX23+$SH23+$SR23+$TB23+$TL23+$TV23+$UF23+$UP23+$UZ23+$VJ23+$VT23+$WD23+$WN23+$WX23+$XH23+$XR23+$YB23+$YL23+$YV23+$ZF23+$ZP23+$ZZ23+$AAJ23+$AAT23+$ABD23+$ABN23+$ABX23+$ACH23+$ACR23+$ADB23+$ADL23+$ADV23+$AEF23+$AEP23+$AEZ23+$AFJ23+$AFT23+$AGD23+$AGN23+$AGX23+$AHH23+$AHR23+$AIB23+$AIL23+$AIV23+$AJF23+$AJP23+$AJZ23+$AKJ23+$AKT23+$ALD23+$ALN23+$ALX23+$AMH23+$AMR23+$ANB23+$ANL23+$ANV23+$AOF23+$AOP23+$AOZ23+$APJ23+$APT23+$AQD23+$AQN23+$AQX23+$ARH23+$ARR23+$ASB23+$ASL23+$ASV23+$ATF23+$ATP23+$ATZ23+$AUJ23+$AUT23+$AVD23+$AVN23+$AVX23+$AWH23+$AWR23+$AXB23+$AXL23+$AXV23+$AYF23+$AYP23+$AYZ23+$AZJ23+$AZT23+$BAD23+$BAN23+$BAX23+$BBH23+$BBR23+$BCB23+$BCL23+$BCV23+$BDF23+$BDP23+$BDZ23+$BEJ23+$BET23+$BFD23+$BFN23+$BFX23+$BGH23+$BGR23+$BHB23+$BHL23+$BHV23+$BIF23+$BIP23+$BIZ23+$BJJ23+$BJT23+$BKD23+$BKN23+$BKX23+$BLH23+$BLR23+$BMB23+$BML23+$BMV23+$BNF23+$BNP23+$BNZ23+$BOJ23+$BOT23+$BPD23+$BPN23+$BPX23+$BQH23+$BQR23+$BRB23+$BRL23+$BRV23+$BSF23+$BSP23+$BSZ23+$BTJ23+$BTT23+$BUD23+$BUN23+$BUX23+$BVH23+$BVR23+$BWB23+$BWL23+$BWV23+$BXF23+$BXP23+$BXZ23+$BYJ23+$BYT23+$BZD23+$BZN23+$BZX23+$CAH23+$CAR23+$CBB23+$CBL23+$CBV23+$CCF23+$CCP23+$CCZ23+$CDJ23+$CDT23+$CED23+$CEN23+$CEX23+$CFH23+$CFR23+$CGB23+$CGL23+$CGV23+$CHF23+$CHP23+$CHZ23+$CIJ23+$CIT23+$CJD23+$CJN23+$CJX23+$CKH23+$CKR23+$CLB23+$CLL23+$CLV23+$CMF23+$CMP23+$CMZ23+$CNJ23+$CNT23+$COD23+$CON23+$COX23+$CPH23+$CPR23+$CQB23+$CQL23+$CQV23+$CRF23+$CRP23+$CRZ23+$CSJ23+$CST23+$CTD23+$CTN23+$CTX23+$CUH23+$CUR23+$CVB23+$CVL23+$CVV23+$CWF23+$CWP23+$CWZ23+$CXJ23+$CXT23+$CYD23+$CYN23+$CYX23+$CZH23+$CZR23+$DAB23+$DAL23+$DAV23+$DBF23+$DBP23+$DBZ23+$DCJ23+$DCT23+$DDD23+$DDN23+$DDX23+$DEH23+$DER23+$DFB23+$DFL23+$DFV23+$DGF23+$DGP23+$DGZ23+$DHJ23+$DHT23+$DID23+$DIN23+$DIX23+$DJH23+$DJR23+$DKB23+$DKL23+$DKV23+$DLF23+$DLP23+$DLZ23+$DMJ23+$DMT23+$DND23+$DNN23+$DNX23+$DOH23+$DOR23+$DPB23+$DPL23+$DPV23+$DQF23+$DQP23+$DQZ23+$DRJ23+$DRT23+$DSD23+$DSN23+$DSX23+$DTH23+$DTR23+$DUB23+$DUL23+$DUV23+$DVF23+$DVP23+$DVZ23+$DWJ23+$DWT23+$DXD23+$DXN23+$DXX23+$DYH23+$DYR23+$DZB23+$DZL23+$DZV23+$EAF23+$EAP23+$EAZ23+$EBJ23+$EBT23+$ECD23+$ECN23+$ECX23+$EDH23+$EDR23+$EEB23+$EEL23+$EEV23+$EFF23+$EFP23+$EFZ23+$EGJ23+$EGT23+$EHD23+$EHN23+$EHX23+$EIH23+$EIR23+$EJB23+$EJL23+$EJV23+$EKF23+$EKP23)*24","v":0},null,{"$f":"Suunnitelma!$C23","v":0},{"$f":"Suunnitelma!$E23","v":0},{"$f":"Suunnitelma!$G23","v":0},null,0,0,0,null,null,"p",{"$f":"Suunnitelma!$B$23","v":"Kulttuurivastaava"}]
[null,{"$f":"Suunnitelma!$B$24","v":"Kestävä kehitys"},{"$f":"Osakoonti!D24+($R24+$AB24+$AL24+$AV24+$BF24+$BP24+$BZ24+$CJ24+$CT24+$DD24+$DN24+$DX24+$EH24+$ER24+$FB24+$FL24+$FV24+$GF24+$GP24+$GZ24+$HJ24+$HT24+$ID24+$IN24+$IX24+$JH24+$JR24+$KB24+$KL24+$KV24+$LF24+$LP24+$LZ24+$MJ24+$MT24+$ND24+$NN24+$NX24+$OH24+$OR24+$PB24+$PL24+$PV24+$QF24+$QP24+$QZ24+$RJ24+$RT24+$SD24+$SN24+$SX24+$TH24+$TR24+$UB24+$UL24+$UV24+$VF24+$VP24+$VZ24+$WJ24+$WT24+$XD24+$XN24+$XX24+$YH24+$YR24+$ZB24+$ZL24+$ZV24+$AAF24+$AAP24+$AAZ24+$ABJ24+$ABT24+$ACD24+$ACN24+$ACX24+$ADH24+$ADR24+$AEB24+$AEL24+$AEV24+$AFF24+$AFP24+$AFZ24+$AGJ24+$AGT24+$AHD24+$AHN24+$AHX24+$AIH24+$AIR24+$AJB24+$AJL24+$AJV24+$AKF24+$AKP24+$AKZ24+$ALJ24+$ALT24+$AMD24+$AMN24+$AMX24+$ANH24+$ANR24+$AOB24+$AOL24+$AOV24+$APF24+$APP24+$APZ24+$AQJ24+$AQT24+$ARD24+$ARN24+$ARX24+$ASH24+$ASR24+$ATB24+$ATL24+$ATV24+$AUF24+$AUP24+$AUZ24+$AVJ24+$AVT24+$AWD24+$AWN24+$AWX24+$AXH24+$AXR24+$AYB24+$AYL24+$AYV24+$AZF24+$AZP24+$AZZ24+$BAJ24+$BAT24+$BBD24+$BBN24+$BBX24+$BCH24+$BCR24+$BDB24+$BDL24+$BDV24+$BEF24+$BEP24+$BEZ24+$BFJ24+$BFT24+$BGD24+$BGN24+$BGX24+$BHH24+$BHR24+$BIB24+$BIL24+$BIV24+$BJF24+$BJP24+$BJZ24+$BKJ24+$BKT24+$BLD24+$BLN24+$BLX24+$BMH24+$BMR24+$BNB24+$BNL24+$BNV24+$BOF24+$BOP24+$BOZ24+$BPJ24+$BPT24+$BQD24+$BQN24+$BQX24+$BRH24+$BRR24+$BSB24+$BSL24+$BSV24+$BTF24+$BTP24+$BTZ24+$BUJ24+$BUT24+$BVD24+$BVN24+$BVX24+$BWH24+$BWR24+$BXB24+$BXL24+$BXV24+$BYF24+$BYP24+$BYZ24+$BZJ24+$BZT24+$CAD24+$CAN24+$CAX24+$CBH24+$CBR24+$CCB24+$CCL24+$CCV24+$CDF24+$CDP24+$CDZ24+$CEJ24+$CET24+$CFD24+$CFN24+$CFX24+$CGH24+$CGR24+$CHB24+$CHL24+$CHV24+$CIF24+$CIP24+$CIZ24+$CJJ24+$CJT24+$CKD24+$CKN24+$CKX24+$CLH24+$CLR24+$CMB24+$CML24+$CMV24+$CNF24+$CNP24+$CNZ24+$COJ24+$COT24+$CPD24+$CPN24+$CPX24+$CQH24+$CQR24+$CRB24+$CRL24+$CRV24+$CSF24+$CSP24+$CSZ24+$CTJ24+$CTT24+$CUD24+$CUN24+$CUX24+$CVH24+$CVR24+$CWB24+$CWL24+$CWV24+$CXF24+$CXP24+$CXZ24+$CYJ24+$CYT24+$CZD24+$CZN24+$CZX24+$DAH24+$DAR24+$DBB24+$DBL24+$DBV24+$DCF24+$DCP24+$DCZ24+$DDJ24+$DDT24+$DED24+$DEN24+$DEX24+$DFH24+$DFR24+$DGB24+$DGL24+$DGV24+$DHF24+$DHP24+$DHZ24+$DIJ24+$DIT24+$DJD24+$DJN24+$DJX24+$DKH24+$DKR24+$DLB24+$DLL24+$DLV24+$DMF24+$DMP24+$DMZ24+$DNJ24+$DNT24+$DOD24+$DON24+$DOX24+$DPH24+$DPR24+$DQB24+$DQL24+$DQV24+$DRF24+$DRP24+$DRZ24+$DSJ24+$DST24+$DTD24+$DTN24+$DTX24+$DUH24+$DUR24+$DVB24+$DVL24+$DVV24+$DWF24+$DWP24+$DWZ24+$DXJ24+$DXT24+$DYD24+$DYN24+$DYX24+$DZH24+$DZR24+$EAB24+$EAL24+$EAV24+$EBF24+$EBP24+$EBZ24+$ECJ24+$ECT24+$EDD24+$EDN24+$EDX24+$EEH24+$EER24+$EFB24+$EFL24+$EFV24+$EGF24+$EGP24+$EGZ24+$EHJ24+$EHT24+$EID24+$EIN24+$EIX24+$EJH24+$EJR24+$EKB24+$EKL24)*24","v":0},{"$f":"Osakoonti!E24+($T24+$AD24+$AN24+$AX24+$BH24+$BR24+$CB24+$CL24+$CV24+$DF24+$DP24+$DZ24+$EJ24+$ET24+$FD24+$FN24+$FX24+$GH24+$GR24+$HB24+$HL24+$HV24+$IF24+$IP24+$IZ24+$JJ24+$JT24+$KD24+$KN24+$KX24+$LH24+$LR24+$MB24+$ML24+$MV24+$NF24+$NP24+$NZ24+$OJ24+$OT24+$PD24+$PN24+$PX24+$QH24+$QR24+$RB24+$RL24+$RV24+$SF24+$SP24+$SZ24+$TJ24+$TT24+$UD24+$UN24+$UX24+$VH24+$VR24+$WB24+$WL24+$WV24+$XF24+$XP24+$XZ24+$YJ24+$YT24+$ZD24+$ZN24+$ZX24+$AAH24+$AAR24+$ABB24+$ABL24+$ABV24+$ACF24+$ACP24+$ACZ24+$ADJ24+$ADT24+$AED24+$AEN24+$AEX24+$AFH24+$AFR24+$AGB24+$AGL24+$AGV24+$AHF24+$AHP24+$AHZ24+$AIJ24+$AIT24+$AJD24+$AJN24+$AJX24+$AKH24+$AKR24+$ALB24+$ALL24+$ALV24+$AMF24+$AMP24+$AMZ24+$ANJ24+$ANT24+$AOD24+$AON24+$AOX24+$APH24+$APR24+$AQB24+$AQL24+$AQV24+$ARF24+$ARP24+$ARZ24+$ASJ24+$AST24+$ATD24+$ATN24+$ATX24+$AUH24+$AUR24+$AVB24+$AVL24+$AVV24+$AWF24+$AWP24+$AWZ24+$AXJ24+$AXT24+$AYD24+$AYN24+$AYX24+$AZH24+$AZR24+$BAB24+$BAL24+$BAV24+$BBF24+$BBP24+$BBZ24+$BCJ24+$BCT24+$BDD24+$BDN24+$BDX24+$BEH24+$BER24+$BFB24+$BFL24+$BFV24+$BGF24+$BGP24+$BGZ24+$BHJ24+$BHT24+$BID24+$BIN24+$BIX24+$BJH24+$BJR24+$BKB24+$BKL24+$BKV24+$BLF24+$BLP24+$BLZ24+$BMJ24+$BMT24+$BND24+$BNN24+$BNX24+$BOH24+$BOR24+$BPB24+$BPL24+$BPV24+$BQF24+$BQP24+$BQZ24+$BRJ24+$BRT24+$BSD24+$BSN24+$BSX24+$BTH24+$BTR24+$BUB24+$BUL24+$BUV24+$BVF24+$BVP24+$BVZ24+$BWJ24+$BWT24+$BXD24+$BXN24+$BXX24+$BYH24+$BYR24+$BZB24+$BZL24+$BZV24+$CAF24+$CAP24+$CAZ24+$CBJ24+$CBT24+$CCD24+$CCN24+$CCX24+$CDH24+$CDR24+$CEB24+$CEL24+$CEV24+$CFF24+$CFP24+$CFZ24+$CGJ24+$CGT24+$CHD24+$CHN24+$CHX24+$CIH24+$CIR24+$CJB24+$CJL24+$CJV24+$CKF24+$CKP24+$CKZ24+$CLJ24+$CLT24+$CMD24+$CMN24+$CMX24+$CNH24+$CNR24+$COB24+$COL24+$COV24+$CPF24+$CPP24+$CPZ24+$CQJ24+$CQT24+$CRD24+$CRN24+$CRX24+$CSH24+$CSR24+$CTB24+$CTL24+$CTV24+$CUF24+$CUP24+$CUZ24+$CVJ24+$CVT24+$CWD24+$CWN24+$CWX24+$CXH24+$CXR24+$CYB24+$CYL24+$CYV24+$CZF24+$CZP24+$CZZ24+$DAJ24+$DAT24+$DBD24+$DBN24+$DBX24+$DCH24+$DCR24+$DDB24+$DDL24+$DDV24+$DEF24+$DEP24+$DEZ24+$DFJ24+$DFT24+$DGD24+$DGN24+$DGX24+$DHH24+$DHR24+$DIB24+$DIL24+$DIV24+$DJF24+$DJP24+$DJZ24+$DKJ24+$DKT24+$DLD24+$DLN24+$DLX24+$DMH24+$DMR24+$DNB24+$DNL24+$DNV24+$DOF24+$DOP24+$DOZ24+$DPJ24+$DPT24+$DQD24+$DQN24+$DQX24+$DRH24+$DRR24+$DSB24+$DSL24+$DSV24+$DTF24+$DTP24+$DTZ24+$DUJ24+$DUT24+$DVD24+$DVN24+$DVX24+$DWH24+$DWR24+$DXB24+$DXL24+$DXV24+$DYF24+$DYP24+$DYZ24+$DZJ24+$DZT24+$EAD24+$EAN24+$EAX24+$EBH24+$EBR24+$ECB24+$ECL24+$ECV24+$EDF24+$EDP24+$EDZ24+$EEJ24+$EET24+$EFD24+$EFN24+$EFX24+$EGH24+$EGR24+$EHB24+$EHL24+$EHV24+$EIF24+$EIP24+$EIZ24+$EJJ24+$EJT24+$EKD24+$EKN24)*24","v":0},{"$f":"Osakoonti!F24+($V24+$AF24+$AP24+$AZ24+$BJ24+$BT24+$CD24+$CN24+$CX24+$DH24+$DR24+$EB24+$EL24+$EV24+$FF24+$FP24+$FZ24+$GJ24+$GT24+$HD24+$HN24+$HX24+$IH24+$IR24+$JB24+$JL24+$JV24+$KF24+$KP24+$KZ24+$LJ24+$LT24+$MD24+$MN24+$MX24+$NH24+$NR24+$OB24+$OL24+$OV24+$PF24+$PP24+$PZ24+$QJ24+$QT24+$RD24+$RN24+$RX24+$SH24+$SR24+$TB24+$TL24+$TV24+$UF24+$UP24+$UZ24+$VJ24+$VT24+$WD24+$WN24+$WX24+$XH24+$XR24+$YB24+$YL24+$YV24+$ZF24+$ZP24+$ZZ24+$AAJ24+$AAT24+$ABD24+$ABN24+$ABX24+$ACH24+$ACR24+$ADB24+$ADL24+$ADV24+$AEF24+$AEP24+$AEZ24+$AFJ24+$AFT24+$AGD24+$AGN24+$AGX24+$AHH24+$AHR24+$AIB24+$AIL24+$AIV24+$AJF24+$AJP24+$AJZ24+$AKJ24+$AKT24+$ALD24+$ALN24+$ALX24+$AMH24+$AMR24+$ANB24+$ANL24+$ANV24+$AOF24+$AOP24+$AOZ24+$APJ24+$APT24+$AQD24+$AQN24+$AQX24+$ARH24+$ARR24+$ASB24+$ASL24+$ASV24+$ATF24+$ATP24+$ATZ24+$AUJ24+$AUT24+$AVD24+$AVN24+$AVX24+$AWH24+$AWR24+$AXB24+$AXL24+$AXV24+$AYF24+$AYP24+$AYZ24+$AZJ24+$AZT24+$BAD24+$BAN24+$BAX24+$BBH24+$BBR24+$BCB24+$BCL24+$BCV24+$BDF24+$BDP24+$BDZ24+$BEJ24+$BET24+$BFD24+$BFN24+$BFX24+$BGH24+$BGR24+$BHB24+$BHL24+$BHV24+$BIF24+$BIP24+$BIZ24+$BJJ24+$BJT24+$BKD24+$BKN24+$BKX24+$BLH24+$BLR24+$BMB24+$BML24+$BMV24+$BNF24+$BNP24+$BNZ24+$BOJ24+$BOT24+$BPD24+$BPN24+$BPX24+$BQH24+$BQR24+$BRB24+$BRL24+$BRV24+$BSF24+$BSP24+$BSZ24+$BTJ24+$BTT24+$BUD24+$BUN24+$BUX24+$BVH24+$BVR24+$BWB24+$BWL24+$BWV24+$BXF24+$BXP24+$BXZ24+$BYJ24+$BYT24+$BZD24+$BZN24+$BZX24+$CAH24+$CAR24+$CBB24+$CBL24+$CBV24+$CCF24+$CCP24+$CCZ24+$CDJ24+$CDT24+$CED24+$CEN24+$CEX24+$CFH24+$CFR24+$CGB24+$CGL24+$CGV24+$CHF24+$CHP24+$CHZ24+$CIJ24+$CIT24+$CJD24+$CJN24+$CJX24+$CKH24+$CKR24+$CLB24+$CLL24+$CLV24+$CMF24+$CMP24+$CMZ24+$CNJ24+$CNT24+$COD24+$CON24+$COX24+$CPH24+$CPR24+$CQB24+$CQL24+$CQV24+$CRF24+$CRP24+$CRZ24+$CSJ24+$CST24+$CTD24+$CTN24+$CTX24+$CUH24+$CUR24+$CVB24+$CVL24+$CVV24+$CWF24+$CWP24+$CWZ24+$CXJ24+$CXT24+$CYD24+$CYN24+$CYX24+$CZH24+$CZR24+$DAB24+$DAL24+$DAV24+$DBF24+$DBP24+$DBZ24+$DCJ24+$DCT24+$DDD24+$DDN24+$DDX24+$DEH24+$DER24+$DFB24+$DFL24+$DFV24+$DGF24+$DGP24+$DGZ24+$DHJ24+$DHT24+$DID24+$DIN24+$DIX24+$DJH24+$DJR24+$DKB24+$DKL24+$DKV24+$DLF24+$DLP24+$DLZ24+$DMJ24+$DMT24+$DND24+$DNN24+$DNX24+$DOH24+$DOR24+$DPB24+$DPL24+$DPV24+$DQF24+$DQP24+$DQZ24+$DRJ24+$DRT24+$DSD24+$DSN24+$DSX24+$DTH24+$DTR24+$DUB24+$DUL24+$DUV24+$DVF24+$DVP24+$DVZ24+$DWJ24+$DWT24+$DXD24+$DXN24+$DXX24+$DYH24+$DYR24+$DZB24+$DZL24+$DZV24+$EAF24+$EAP24+$EAZ24+$EBJ24+$EBT24+$ECD24+$ECN24+$ECX24+$EDH24+$EDR24+$EEB24+$EEL24+$EEV24+$EFF24+$EFP24+$EFZ24+$EGJ24+$EGT24+$EHD24+$EHN24+$EHX24+$EIH24+$EIR24+$EJB24+$EJL24+$EJV24+$EKF24+$EKP24)*24","v":0},null,{"$f":"Suunnitelma!$C24","v":0},{"$f":"Suunnitelma!$E24","v":0},{"$f":"Suunnitelma!$G24","v":0},null,0,0,0,null,null,"p",{"$f":"Suunnitelma!$B$24","v":"Kestävä kehitys"}]
[null,{"$f":"Suunnitelma!$B$25","v":"Kv-vastaava"},{"$f":"Osakoonti!D25+($R25+$AB25+$AL25+$AV25+$BF25+$BP25+$BZ25+$CJ25+$CT25+$DD25+$DN25+$DX25+$EH25+$ER25+$FB25+$FL25+$FV25+$GF25+$GP25+$GZ25+$HJ25+$HT25+$ID25+$IN25+$IX25+$JH25+$JR25+$KB25+$KL25+$KV25+$LF25+$LP25+$LZ25+$MJ25+$MT25+$ND25+$NN25+$NX25+$OH25+$OR25+$PB25+$PL25+$PV25+$QF25+$QP25+$QZ25+$RJ25+$RT25+$SD25+$SN25+$SX25+$TH25+$TR25+$UB25+$UL25+$UV25+$VF25+$VP25+$VZ25+$WJ25+$WT25+$XD25+$XN25+$XX25+$YH25+$YR25+$ZB25+$ZL25+$ZV25+$AAF25+$AAP25+$AAZ25+$ABJ25+$ABT25+$ACD25+$ACN25+$ACX25+$ADH25+$ADR25+$AEB25+$AEL25+$AEV25+$AFF25+$AFP25+$AFZ25+$AGJ25+$AGT25+$AHD25+$AHN25+$AHX25+$AIH25+$AIR25+$AJB25+$AJL25+$AJV25+$AKF25+$AKP25+$AKZ25+$ALJ25+$ALT25+$AMD25+$AMN25+$AMX25+$ANH25+$ANR25+$AOB25+$AOL25+$AOV25+$APF25+$APP25+$APZ25+$AQJ25+$AQT25+$ARD25+$ARN25+$ARX25+$ASH25+$ASR25+$ATB25+$ATL25+$ATV25+$AUF25+$AUP25+$AUZ25+$AVJ25+$AVT25+$AWD25+$AWN25+$AWX25+$AXH25+$AXR25+$AYB25+$AYL25+$AYV25+$AZF25+$AZP25+$AZZ25+$BAJ25+$BAT25+$BBD25+$BBN25+$BBX25+$BCH25+$BCR25+$BDB25+$BDL25+$BDV25+$BEF25+$BEP25+$BEZ25+$BFJ25+$BFT25+$BGD25+$BGN25+$BGX25+$BHH25+$BHR25+$BIB25+$BIL25+$BIV25+$BJF25+$BJP25+$BJZ25+$BKJ25+$BKT25+$BLD25+$BLN25+$BLX25+$BMH25+$BMR25+$BNB25+$BNL25+$BNV25+$BOF25+$BOP25+$BOZ25+$BPJ25+$BPT25+$BQD25+$BQN25+$BQX25+$BRH25+$BRR25+$BSB25+$BSL25+$BSV25+$BTF25+$BTP25+$BTZ25+$BUJ25+$BUT25+$BVD25+$BVN25+$BVX25+$BWH25+$BWR25+$BXB25+$BXL25+$BXV25+$BYF25+$BYP25+$BYZ25+$BZJ25+$BZT25+$CAD25+$CAN25+$CAX25+$CBH25+$CBR25+$CCB25+$CCL25+$CCV25+$CDF25+$CDP25+$CDZ25+$CEJ25+$CET25+$CFD25+$CFN25+$CFX25+$CGH25+$CGR25+$CHB25+$CHL25+$CHV25+$CIF25+$CIP25+$CIZ25+$CJJ25+$CJT25+$CKD25+$CKN25+$CKX25+$CLH25+$CLR25+$CMB25+$CML25+$CMV25+$CNF25+$CNP25+$CNZ25+$COJ25+$COT25+$CPD25+$CPN25+$CPX25+$CQH25+$CQR25+$CRB25+$CRL25+$CRV25+$CSF25+$CSP25+$CSZ25+$CTJ25+$CTT25+$CUD25+$CUN25+$CUX25+$CVH25+$CVR25+$CWB25+$CWL25+$CWV25+$CXF25+$CXP25+$CXZ25+$CYJ25+$CYT25+$CZD25+$CZN25+$CZX25+$DAH25+$DAR25+$DBB25+$DBL25+$DBV25+$DCF25+$DCP25+$DCZ25+$DDJ25+$DDT25+$DED25+$DEN25+$DEX25+$DFH25+$DFR25+$DGB25+$DGL25+$DGV25+$DHF25+$DHP25+$DHZ25+$DIJ25+$DIT25+$DJD25+$DJN25+$DJX25+$DKH25+$DKR25+$DLB25+$DLL25+$DLV25+$DMF25+$DMP25+$DMZ25+$DNJ25+$DNT25+$DOD25+$DON25+$DOX25+$DPH25+$DPR25+$DQB25+$DQL25+$DQV25+$DRF25+$DRP25+$DRZ25+$DSJ25+$DST25+$DTD25+$DTN25+$DTX25+$DUH25+$DUR25+$DVB25+$DVL25+$DVV25+$DWF25+$DWP25+$DWZ25+$DXJ25+$DXT25+$DYD25+$DYN25+$DYX25+$DZH25+$DZR25+$EAB25+$EAL25+$EAV25+$EBF25+$EBP25+$EBZ25+$ECJ25+$ECT25+$EDD25+$EDN25+$EDX25+$EEH25+$EER25+$EFB25+$EFL25+$EFV25+$EGF25+$EGP25+$EGZ25+$EHJ25+$EHT25+$EID25+$EIN25+$EIX25+$EJH25+$EJR25+$EKB25+$EKL25)*24","v":0},{"$f":"Osakoonti!E25+($T25+$AD25+$AN25+$AX25+$BH25+$BR25+$CB25+$CL25+$CV25+$DF25+$DP25+$DZ25+$EJ25+$ET25+$FD25+$FN25+$FX25+$GH25+$GR25+$HB25+$HL25+$HV25+$IF25+$IP25+$IZ25+$JJ25+$JT25+$KD25+$KN25+$KX25+$LH25+$LR25+$MB25+$ML25+$MV25+$NF25+$NP25+$NZ25+$OJ25+$OT25+$PD25+$PN25+$PX25+$QH25+$QR25+$RB25+$RL25+$RV25+$SF25+$SP25+$SZ25+$TJ25+$TT25+$UD25+$UN25+$UX25+$VH25+$VR25+$WB25+$WL25+$WV25+$XF25+$XP25+$XZ25+$YJ25+$YT25+$ZD25+$ZN25+$ZX25+$AAH25+$AAR25+$ABB25+$ABL25+$ABV25+$ACF25+$ACP25+$ACZ25+$ADJ25+$ADT25+$AED25+$AEN25+$AEX25+$AFH25+$AFR25+$AGB25+$AGL25+$AGV25+$AHF25+$AHP25+$AHZ25+$AIJ25+$AIT25+$AJD25+$AJN25+$AJX25+$AKH25+$AKR25+$ALB25+$ALL25+$ALV25+$AMF25+$AMP25+$AMZ25+$ANJ25+$ANT25+$AOD25+$AON25+$AOX25+$APH25+$APR25+$AQB25+$AQL25+$AQV25+$ARF25+$ARP25+$ARZ25+$ASJ25+$AST25+$ATD25+$ATN25+$ATX25+$AUH25+$AUR25+$AVB25+$AVL25+$AVV25+$AWF25+$AWP25+$AWZ25+$AXJ25+$AXT25+$AYD25+$AYN25+$AYX25+$AZH25+$AZR25+$BAB25+$BAL25+$BAV25+$BBF25+$BBP25+$BBZ25+$BCJ25+$BCT25+$BDD25+$BDN25+$BDX25+$BEH25+$BER25+$BFB25+$BFL25+$BFV25+$BGF25+$BGP25+$BGZ25+$BHJ25+$BHT25+$BID25+$BIN25+$BIX25+$BJH25+$BJR25+$BKB25+$BKL25+$BKV25+$BLF25+$BLP25+$BLZ25+$BMJ25+$BMT25+$BND25+$BNN25+$BNX25+$BOH25+$BOR25+$BPB25+$BPL25+$BPV25+$BQF25+$BQP25+$BQZ25+$BRJ25+$BRT25+$BSD25+$BSN25+$BSX25+$BTH25+$BTR25+$BUB25+$BUL25+$BUV25+$BVF25+$BVP25+$BVZ25+$BWJ25+$BWT25+$BXD25+$BXN25+$BXX25+$BYH25+$BYR25+$BZB25+$BZL25+$BZV25+$CAF25+$CAP25+$CAZ25+$CBJ25+$CBT25+$CCD25+$CCN25+$CCX25+$CDH25+$CDR25+$CEB25+$CEL25+$CEV25+$CFF25+$CFP25+$CFZ25+$CGJ25+$CGT25+$CHD25+$CHN25+$CHX25+$CIH25+$CIR25+$CJB25+$CJL25+$CJV25+$CKF25+$CKP25+$CKZ25+$CLJ25+$CLT25+$CMD25+$CMN25+$CMX25+$CNH25+$CNR25+$COB25+$COL25+$COV25+$CPF25+$CPP25+$CPZ25+$CQJ25+$CQT25+$CRD25+$CRN25+$CRX25+$CSH25+$CSR25+$CTB25+$CTL25+$CTV25+$CUF25+$CUP25+$CUZ25+$CVJ25+$CVT25+$CWD25+$CWN25+$CWX25+$CXH25+$CXR25+$CYB25+$CYL25+$CYV25+$CZF25+$CZP25+$CZZ25+$DAJ25+$DAT25+$DBD25+$DBN25+$DBX25+$DCH25+$DCR25+$DDB25+$DDL25+$DDV25+$DEF25+$DEP25+$DEZ25+$DFJ25+$DFT25+$DGD25+$DGN25+$DGX25+$DHH25+$DHR25+$DIB25+$DIL25+$DIV25+$DJF25+$DJP25+$DJZ25+$DKJ25+$DKT25+$DLD25+$DLN25+$DLX25+$DMH25+$DMR25+$DNB25+$DNL25+$DNV25+$DOF25+$DOP25+$DOZ25+$DPJ25+$DPT25+$DQD25+$DQN25+$DQX25+$DRH25+$DRR25+$DSB25+$DSL25+$DSV25+$DTF25+$DTP25+$DTZ25+$DUJ25+$DUT25+$DVD25+$DVN25+$DVX25+$DWH25+$DWR25+$DXB25+$DXL25+$DXV25+$DYF25+$DYP25+$DYZ25+$DZJ25+$DZT25+$EAD25+$EAN25+$EAX25+$EBH25+$EBR25+$ECB25+$ECL25+$ECV25+$EDF25+$EDP25+$EDZ25+$EEJ25+$EET25+$EFD25+$EFN25+$EFX25+$EGH25+$EGR25+$EHB25+$EHL25+$EHV25+$EIF25+$EIP25+$EIZ25+$EJJ25+$EJT25+$EKD25+$EKN25)*24","v":0},{"$f":"Osakoonti!F25+($V25+$AF25+$AP25+$AZ25+$BJ25+$BT25+$CD25+$CN25+$CX25+$DH25+$DR25+$EB25+$EL25+$EV25+$FF25+$FP25+$FZ25+$GJ25+$GT25+$HD25+$HN25+$HX25+$IH25+$IR25+$JB25+$JL25+$JV25+$KF25+$KP25+$KZ25+$LJ25+$LT25+$MD25+$MN25+$MX25+$NH25+$NR25+$OB25+$OL25+$OV25+$PF25+$PP25+$PZ25+$QJ25+$QT25+$RD25+$RN25+$RX25+$SH25+$SR25+$TB25+$TL25+$TV25+$UF25+$UP25+$UZ25+$VJ25+$VT25+$WD25+$WN25+$WX25+$XH25+$XR25+$YB25+$YL25+$YV25+$ZF25+$ZP25+$ZZ25+$AAJ25+$AAT25+$ABD25+$ABN25+$ABX25+$ACH25+$ACR25+$ADB25+$ADL25+$ADV25+$AEF25+$AEP25+$AEZ25+$AFJ25+$AFT25+$AGD25+$AGN25+$AGX25+$AHH25+$AHR25+$AIB25+$AIL25+$AIV25+$AJF25+$AJP25+$AJZ25+$AKJ25+$AKT25+$ALD25+$ALN25+$ALX25+$AMH25+$AMR25+$ANB25+$ANL25+$ANV25+$AOF25+$AOP25+$AOZ25+$APJ25+$APT25+$AQD25+$AQN25+$AQX25+$ARH25+$ARR25+$ASB25+$ASL25+$ASV25+$ATF25+$ATP25+$ATZ25+$AUJ25+$AUT25+$AVD25+$AVN25+$AVX25+$AWH25+$AWR25+$AXB25+$AXL25+$AXV25+$AYF25+$AYP25+$AYZ25+$AZJ25+$AZT25+$BAD25+$BAN25+$BAX25+$BBH25+$BBR25+$BCB25+$BCL25+$BCV25+$BDF25+$BDP25+$BDZ25+$BEJ25+$BET25+$BFD25+$BFN25+$BFX25+$BGH25+$BGR25+$BHB25+$BHL25+$BHV25+$BIF25+$BIP25+$BIZ25+$BJJ25+$BJT25+$BKD25+$BKN25+$BKX25+$BLH25+$BLR25+$BMB25+$BML25+$BMV25+$BNF25+$BNP25+$BNZ25+$BOJ25+$BOT25+$BPD25+$BPN25+$BPX25+$BQH25+$BQR25+$BRB25+$BRL25+$BRV25+$BSF25+$BSP25+$BSZ25+$BTJ25+$BTT25+$BUD25+$BUN25+$BUX25+$BVH25+$BVR25+$BWB25+$BWL25+$BWV25+$BXF25+$BXP25+$BXZ25+$BYJ25+$BYT25+$BZD25+$BZN25+$BZX25+$CAH25+$CAR25+$CBB25+$CBL25+$CBV25+$CCF25+$CCP25+$CCZ25+$CDJ25+$CDT25+$CED25+$CEN25+$CEX25+$CFH25+$CFR25+$CGB25+$CGL25+$CGV25+$CHF25+$CHP25+$CHZ25+$CIJ25+$CIT25+$CJD25+$CJN25+$CJX25+$CKH25+$CKR25+$CLB25+$CLL25+$CLV25+$CMF25+$CMP25+$CMZ25+$CNJ25+$CNT25+$COD25+$CON25+$COX25+$CPH25+$CPR25+$CQB25+$CQL25+$CQV25+$CRF25+$CRP25+$CRZ25+$CSJ25+$CST25+$CTD25+$CTN25+$CTX25+$CUH25+$CUR25+$CVB25+$CVL25+$CVV25+$CWF25+$CWP25+$CWZ25+$CXJ25+$CXT25+$CYD25+$CYN25+$CYX25+$CZH25+$CZR25+$DAB25+$DAL25+$DAV25+$DBF25+$DBP25+$DBZ25+$DCJ25+$DCT25+$DDD25+$DDN25+$DDX25+$DEH25+$DER25+$DFB25+$DFL25+$DFV25+$DGF25+$DGP25+$DGZ25+$DHJ25+$DHT25+$DID25+$DIN25+$DIX25+$DJH25+$DJR25+$DKB25+$DKL25+$DKV25+$DLF25+$DLP25+$DLZ25+$DMJ25+$DMT25+$DND25+$DNN25+$DNX25+$DOH25+$DOR25+$DPB25+$DPL25+$DPV25+$DQF25+$DQP25+$DQZ25+$DRJ25+$DRT25+$DSD25+$DSN25+$DSX25+$DTH25+$DTR25+$DUB25+$DUL25+$DUV25+$DVF25+$DVP25+$DVZ25+$DWJ25+$DWT25+$DXD25+$DXN25+$DXX25+$DYH25+$DYR25+$DZB25+$DZL25+$DZV25+$EAF25+$EAP25+$EAZ25+$EBJ25+$EBT25+$ECD25+$ECN25+$ECX25+$EDH25+$EDR25+$EEB25+$EEL25+$EEV25+$EFF25+$EFP25+$EFZ25+$EGJ25+$EGT25+$EHD25+$EHN25+$EHX25+$EIH25+$EIR25+$EJB25+$EJL25+$EJV25+$EKF25+$EKP25)*24","v":0},null,{"$f":"Suunnitelma!$C25","v":0},{"$f":"Suunnitelma!$E25","v":0},{"$f":"Suunnitelma!$G25","v":0},null,0,0,0,null,null,"p",{"$f":"Suunnitelma!$B$25","v":"Kv-vastaava"}]
[null,{"$f":"Suunnitelma!$B$26","v":"Valmennustoiminta"},{"$f":"Osakoonti!D26+($R26+$AB26+$AL26+$AV26+$BF26+$BP26+$BZ26+$CJ26+$CT26+$DD26+$DN26+$DX26+$EH26+$ER26+$FB26+$FL26+$FV26+$GF26+$GP26+$GZ26+$HJ26+$HT26+$ID26+$IN26+$IX26+$JH26+$JR26+$KB26+$KL26+$KV26+$LF26+$LP26+$LZ26+$MJ26+$MT26+$ND26+$NN26+$NX26+$OH26+$OR26+$PB26+$PL26+$PV26+$QF26+$QP26+$QZ26+$RJ26+$RT26+$SD26+$SN26+$SX26+$TH26+$TR26+$UB26+$UL26+$UV26+$VF26+$VP26+$VZ26+$WJ26+$WT26+$XD26+$XN26+$XX26+$YH26+$YR26+$ZB26+$ZL26+$ZV26+$AAF26+$AAP26+$AAZ26+$ABJ26+$ABT26+$ACD26+$ACN26+$ACX26+$ADH26+$ADR26+$AEB26+$AEL26+$AEV26+$AFF26+$AFP26+$AFZ26+$AGJ26+$AGT26+$AHD26+$AHN26+$AHX26+$AIH26+$AIR26+$AJB26+$AJL26+$AJV26+$AKF26+$AKP26+$AKZ26+$ALJ26+$ALT26+$AMD26+$AMN26+$AMX26+$ANH26+$ANR26+$AOB26+$AOL26+$AOV26+$APF26+$APP26+$APZ26+$AQJ26+$AQT26+$ARD26+$ARN26+$ARX26+$ASH26+$ASR26+$ATB26+$ATL26+$ATV26+$AUF26+$AUP26+$AUZ26+$AVJ26+$AVT26+$AWD26+$AWN26+$AWX26+$AXH26+$AXR26+$AYB26+$AYL26+$AYV26+$AZF26+$AZP26+$AZZ26+$BAJ26+$BAT26+$BBD26+$BBN26+$BBX26+$BCH26+$BCR26+$BDB26+$BDL26+$BDV26+$BEF26+$BEP26+$BEZ26+$BFJ26+$BFT26+$BGD26+$BGN26+$BGX26+$BHH26+$BHR26+$BIB26+$BIL26+$BIV26+$BJF26+$BJP26+$BJZ26+$BKJ26+$BKT26+$BLD26+$BLN26+$BLX26+$BMH26+$BMR26+$BNB26+$BNL26+$BNV26+$BOF26+$BOP26+$BOZ26+$BPJ26+$BPT26+$BQD26+$BQN26+$BQX26+$BRH26+$BRR26+$BSB26+$BSL26+$BSV26+$BTF26+$BTP26+$BTZ26+$BUJ26+$BUT26+$BVD26+$BVN26+$BVX26+$BWH26+$BWR26+$BXB26+$BXL26+$BXV26+$BYF26+$BYP26+$BYZ26+$BZJ26+$BZT26+$CAD26+$CAN26+$CAX26+$CBH26+$CBR26+$CCB26+$CCL26+$CCV26+$CDF26+$CDP26+$CDZ26+$CEJ26+$CET26+$CFD26+$CFN26+$CFX26+$CGH26+$CGR26+$CHB26+$CHL26+$CHV26+$CIF26+$CIP26+$CIZ26+$CJJ26+$CJT26+$CKD26+$CKN26+$CKX26+$CLH26+$CLR26+$CMB26+$CML26+$CMV26+$CNF26+$CNP26+$CNZ26+$COJ26+$COT26+$CPD26+$CPN26+$CPX26+$CQH26+$CQR26+$CRB26+$CRL26+$CRV26+$CSF26+$CSP26+$CSZ26+$CTJ26+$CTT26+$CUD26+$CUN26+$CUX26+$CVH26+$CVR26+$CWB26+$CWL26+$CWV26+$CXF26+$CXP26+$CXZ26+$CYJ26+$CYT26+$CZD26+$CZN26+$CZX26+$DAH26+$DAR26+$DBB26+$DBL26+$DBV26+$DCF26+$DCP26+$DCZ26+$DDJ26+$DDT26+$DED26+$DEN26+$DEX26+$DFH26+$DFR26+$DGB26+$DGL26+$DGV26+$DHF26+$DHP26+$DHZ26+$DIJ26+$DIT26+$DJD26+$DJN26+$DJX26+$DKH26+$DKR26+$DLB26+$DLL26+$DLV26+$DMF26+$DMP26+$DMZ26+$DNJ26+$DNT26+$DOD26+$DON26+$DOX26+$DPH26+$DPR26+$DQB26+$DQL26+$DQV26+$DRF26+$DRP26+$DRZ26+$DSJ26+$DST26+$DTD26+$DTN26+$DTX26+$DUH26+$DUR26+$DVB26+$DVL26+$DVV26+$DWF26+$DWP26+$DWZ26+$DXJ26+$DXT26+$DYD26+$DYN26+$DYX26+$DZH26+$DZR26+$EAB26+$EAL26+$EAV26+$EBF26+$EBP26+$EBZ26+$ECJ26+$ECT26+$EDD26+$EDN26+$EDX26+$EEH26+$EER26+$EFB26+$EFL26+$EFV26+$EGF26+$EGP26+$EGZ26+$EHJ26+$EHT26+$EID26+$EIN26+$EIX26+$EJH26+$EJR26+$EKB26+$EKL26)*24","v":0},{"$f":"Osakoonti!E26+($T26+$AD26+$AN26+$AX26+$BH26+$BR26+$CB26+$CL26+$CV26+$DF26+$DP26+$DZ26+$EJ26+$ET26+$FD26+$FN26+$FX26+$GH26+$GR26+$HB26+$HL26+$HV26+$IF26+$IP26+$IZ26+$JJ26+$JT26+$KD26+$KN26+$KX26+$LH26+$LR26+$MB26+$ML26+$MV26+$NF26+$NP26+$NZ26+$OJ26+$OT26+$PD26+$PN26+$PX26+$QH26+$QR26+$RB26+$RL26+$RV26+$SF26+$SP26+$SZ26+$TJ26+$TT26+$UD26+$UN26+$UX26+$VH26+$VR26+$WB26+$WL26+$WV26+$XF26+$XP26+$XZ26+$YJ26+$YT26+$ZD26+$ZN26+$ZX26+$AAH26+$AAR26+$ABB26+$ABL26+$ABV26+$ACF26+$ACP26+$ACZ26+$ADJ26+$ADT26+$AED26+$AEN26+$AEX26+$AFH26+$AFR26+$AGB26+$AGL26+$AGV26+$AHF26+$AHP26+$AHZ26+$AIJ26+$AIT26+$AJD26+$AJN26+$AJX26+$AKH26+$AKR26+$ALB26+$ALL26+$ALV26+$AMF26+$AMP26+$AMZ26+$ANJ26+$ANT26+$AOD26+$AON26+$AOX26+$APH26+$APR26+$AQB26+$AQL26+$AQV26+$ARF26+$ARP26+$ARZ26+$ASJ26+$AST26+$ATD26+$ATN26+$ATX26+$AUH26+$AUR26+$AVB26+$AVL26+$AVV26+$AWF26+$AWP26+$AWZ26+$AXJ26+$AXT26+$AYD26+$AYN26+$AYX26+$AZH26+$AZR26+$BAB26+$BAL26+$BAV26+$BBF26+$BBP26+$BBZ26+$BCJ26+$BCT26+$BDD26+$BDN26+$BDX26+$BEH26+$BER26+$BFB26+$BFL26+$BFV26+$BGF26+$BGP26+$BGZ26+$BHJ26+$BHT26+$BID26+$BIN26+$BIX26+$BJH26+$BJR26+$BKB26+$BKL26+$BKV26+$BLF26+$BLP26+$BLZ26+$BMJ26+$BMT26+$BND26+$BNN26+$BNX26+$BOH26+$BOR26+$BPB26+$BPL26+$BPV26+$BQF26+$BQP26+$BQZ26+$BRJ26+$BRT26+$BSD26+$BSN26+$BSX26+$BTH26+$BTR26+$BUB26+$BUL26+$BUV26+$BVF26+$BVP26+$BVZ26+$BWJ26+$BWT26+$BXD26+$BXN26+$BXX26+$BYH26+$BYR26+$BZB26+$BZL26+$BZV26+$CAF26+$CAP26+$CAZ26+$CBJ26+$CBT26+$CCD26+$CCN26+$CCX26+$CDH26+$CDR26+$CEB26+$CEL26+$CEV26+$CFF26+$CFP26+$CFZ26+$CGJ26+$CGT26+$CHD26+$CHN26+$CHX26+$CIH26+$CIR26+$CJB26+$CJL26+$CJV26+$CKF26+$CKP26+$CKZ26+$CLJ26+$CLT26+$CMD26+$CMN26+$CMX26+$CNH26+$CNR26+$COB26+$COL26+$COV26+$CPF26+$CPP26+$CPZ26+$CQJ26+$CQT26+$CRD26+$CRN26+$CRX26+$CSH26+$CSR26+$CTB26+$CTL26+$CTV26+$CUF26+$CUP26+$CUZ26+$CVJ26+$CVT26+$CWD26+$CWN26+$CWX26+$CXH26+$CXR26+$CYB26+$CYL26+$CYV26+$CZF26+$CZP26+$CZZ26+$DAJ26+$DAT26+$DBD26+$DBN26+$DBX26+$DCH26+$DCR26+$DDB26+$DDL26+$DDV26+$DEF26+$DEP26+$DEZ26+$DFJ26+$DFT26+$DGD26+$DGN26+$DGX26+$DHH26+$DHR26+$DIB26+$DIL26+$DIV26+$DJF26+$DJP26+$DJZ26+$DKJ26+$DKT26+$DLD26+$DLN26+$DLX26+$DMH26+$DMR26+$DNB26+$DNL26+$DNV26+$DOF26+$DOP26+$DOZ26+$DPJ26+$DPT26+$DQD26+$DQN26+$DQX26+$DRH26+$DRR26+$DSB26+$DSL26+$DSV26+$DTF26+$DTP26+$DTZ26+$DUJ26+$DUT26+$DVD26+$DVN26+$DVX26+$DWH26+$DWR26+$DXB26+$DXL26+$DXV26+$DYF26+$DYP26+$DYZ26+$DZJ26+$DZT26+$EAD26+$EAN26+$EAX26+$EBH26+$EBR26+$ECB26+$ECL26+$ECV26+$EDF26+$EDP26+$EDZ26+$EEJ26+$EET26+$EFD26+$EFN26+$EFX26+$EGH26+$EGR26+$EHB26+$EHL26+$EHV26+$EIF26+$EIP26+$EIZ26+$EJJ26+$EJT26+$EKD26+$EKN26)*24","v":0},{"$f":"Osakoonti!F26+($V26+$AF26+$AP26+$AZ26+$BJ26+$BT26+$CD26+$CN26+$CX26+$DH26+$DR26+$EB26+$EL26+$EV26+$FF26+$FP26+$FZ26+$GJ26+$GT26+$HD26+$HN26+$HX26+$IH26+$IR26+$JB26+$JL26+$JV26+$KF26+$KP26+$KZ26+$LJ26+$LT26+$MD26+$MN26+$MX26+$NH26+$NR26+$OB26+$OL26+$OV26+$PF26+$PP26+$PZ26+$QJ26+$QT26+$RD26+$RN26+$RX26+$SH26+$SR26+$TB26+$TL26+$TV26+$UF26+$UP26+$UZ26+$VJ26+$VT26+$WD26+$WN26+$WX26+$XH26+$XR26+$YB26+$YL26+$YV26+$ZF26+$ZP26+$ZZ26+$AAJ26+$AAT26+$ABD26+$ABN26+$ABX26+$ACH26+$ACR26+$ADB26+$ADL26+$ADV26+$AEF26+$AEP26+$AEZ26+$AFJ26+$AFT26+$AGD26+$AGN26+$AGX26+$AHH26+$AHR26+$AIB26+$AIL26+$AIV26+$AJF26+$AJP26+$AJZ26+$AKJ26+$AKT26+$ALD26+$ALN26+$ALX26+$AMH26+$AMR26+$ANB26+$ANL26+$ANV26+$AOF26+$AOP26+$AOZ26+$APJ26+$APT26+$AQD26+$AQN26+$AQX26+$ARH26+$ARR26+$ASB26+$ASL26+$ASV26+$ATF26+$ATP26+$ATZ26+$AUJ26+$AUT26+$AVD26+$AVN26+$AVX26+$AWH26+$AWR26+$AXB26+$AXL26+$AXV26+$AYF26+$AYP26+$AYZ26+$AZJ26+$AZT26+$BAD26+$BAN26+$BAX26+$BBH26+$BBR26+$BCB26+$BCL26+$BCV26+$BDF26+$BDP26+$BDZ26+$BEJ26+$BET26+$BFD26+$BFN26+$BFX26+$BGH26+$BGR26+$BHB26+$BHL26+$BHV26+$BIF26+$BIP26+$BIZ26+$BJJ26+$BJT26+$BKD26+$BKN26+$BKX26+$BLH26+$BLR26+$BMB26+$BML26+$BMV26+$BNF26+$BNP26+$BNZ26+$BOJ26+$BOT26+$BPD26+$BPN26+$BPX26+$BQH26+$BQR26+$BRB26+$BRL26+$BRV26+$BSF26+$BSP26+$BSZ26+$BTJ26+$BTT26+$BUD26+$BUN26+$BUX26+$BVH26+$BVR26+$BWB26+$BWL26+$BWV26+$BXF26+$BXP26+$BXZ26+$BYJ26+$BYT26+$BZD26+$BZN26+$BZX26+$CAH26+$CAR26+$CBB26+$CBL26+$CBV26+$CCF26+$CCP26+$CCZ26+$CDJ26+$CDT26+$CED26+$CEN26+$CEX26+$CFH26+$CFR26+$CGB26+$CGL26+$CGV26+$CHF26+$CHP26+$CHZ26+$CIJ26+$CIT26+$CJD26+$CJN26+$CJX26+$CKH26+$CKR26+$CLB26+$CLL26+$CLV26+$CMF26+$CMP26+$CMZ26+$CNJ26+$CNT26+$COD26+$CON26+$COX26+$CPH26+$CPR26+$CQB26+$CQL26+$CQV26+$CRF26+$CRP26+$CRZ26+$CSJ26+$CST26+$CTD26+$CTN26+$CTX26+$CUH26+$CUR26+$CVB26+$CVL26+$CVV26+$CWF26+$CWP26+$CWZ26+$CXJ26+$CXT26+$CYD26+$CYN26+$CYX26+$CZH26+$CZR26+$DAB26+$DAL26+$DAV26+$DBF26+$DBP26+$DBZ26+$DCJ26+$DCT26+$DDD26+$DDN26+$DDX26+$DEH26+$DER26+$DFB26+$DFL26+$DFV26+$DGF26+$DGP26+$DGZ26+$DHJ26+$DHT26+$DID26+$DIN26+$DIX26+$DJH26+$DJR26+$DKB26+$DKL26+$DKV26+$DLF26+$DLP26+$DLZ26+$DMJ26+$DMT26+$DND26+$DNN26+$DNX26+$DOH26+$DOR26+$DPB26+$DPL26+$DPV26+$DQF26+$DQP26+$DQZ26+$DRJ26+$DRT26+$DSD26+$DSN26+$DSX26+$DTH26+$DTR26+$DUB26+$DUL26+$DUV26+$DVF26+$DVP26+$DVZ26+$DWJ26+$DWT26+$DXD26+$DXN26+$DXX26+$DYH26+$DYR26+$DZB26+$DZL26+$DZV26+$EAF26+$EAP26+$EAZ26+$EBJ26+$EBT26+$ECD26+$ECN26+$ECX26+$EDH26+$EDR26+$EEB26+$EEL26+$EEV26+$EFF26+$EFP26+$EFZ26+$EGJ26+$EGT26+$EHD26+$EHN26+$EHX26+$EIH26+$EIR26+$EJB26+$EJL26+$EJV26+$EKF26+$EKP26)*24","v":0},null,{"$f":"Suunnitelma!$C26","v":0},{"$f":"Suunnitelma!$E26","v":0},{"$f":"Suunnitelma!$G26","v":0},null,0,0,0,null,null,"p",{"$f":"Suunnitelma!$B$26","v":"Valmennustoiminta"}]
[null,{"$f":"Suunnitelma!$B$27","v":"Projektit"},{"$f":"Osakoonti!D27+($R27+$AB27+$AL27+$AV27+$BF27+$BP27+$BZ27+$CJ27+$CT27+$DD27+$DN27+$DX27+$EH27+$ER27+$FB27+$FL27+$FV27+$GF27+$GP27+$GZ27+$HJ27+$HT27+$ID27+$IN27+$IX27+$JH27+$JR27+$KB27+$KL27+$KV27+$LF27+$LP27+$LZ27+$MJ27+$MT27+$ND27+$NN27+$NX27+$OH27+$OR27+$PB27+$PL27+$PV27+$QF27+$QP27+$QZ27+$RJ27+$RT27+$SD27+$SN27+$SX27+$TH27+$TR27+$UB27+$UL27+$UV27+$VF27+$VP27+$VZ27+$WJ27+$WT27+$XD27+$XN27+$XX27+$YH27+$YR27+$ZB27+$ZL27+$ZV27+$AAF27+$AAP27+$AAZ27+$ABJ27+$ABT27+$ACD27+$ACN27+$ACX27+$ADH27+$ADR27+$AEB27+$AEL27+$AEV27+$AFF27+$AFP27+$AFZ27+$AGJ27+$AGT27+$AHD27+$AHN27+$AHX27+$AIH27+$AIR27+$AJB27+$AJL27+$AJV27+$AKF27+$AKP27+$AKZ27+$ALJ27+$ALT27+$AMD27+$AMN27+$AMX27+$ANH27+$ANR27+$AOB27+$AOL27+$AOV27+$APF27+$APP27+$APZ27+$AQJ27+$AQT27+$ARD27+$ARN27+$ARX27+$ASH27+$ASR27+$ATB27+$ATL27+$ATV27+$AUF27+$AUP27+$AUZ27+$AVJ27+$AVT27+$AWD27+$AWN27+$AWX27+$AXH27+$AXR27+$AYB27+$AYL27+$AYV27+$AZF27+$AZP27+$AZZ27+$BAJ27+$BAT27+$BBD27+$BBN27+$BBX27+$BCH27+$BCR27+$BDB27+$BDL27+$BDV27+$BEF27+$BEP27+$BEZ27+$BFJ27+$BFT27+$BGD27+$BGN27+$BGX27+$BHH27+$BHR27+$BIB27+$BIL27+$BIV27+$BJF27+$BJP27+$BJZ27+$BKJ27+$BKT27+$BLD27+$BLN27+$BLX27+$BMH27+$BMR27+$BNB27+$BNL27+$BNV27+$BOF27+$BOP27+$BOZ27+$BPJ27+$BPT27+$BQD27+$BQN27+$BQX27+$BRH27+$BRR27+$BSB27+$BSL27+$BSV27+$BTF27+$BTP27+$BTZ27+$BUJ27+$BUT27+$BVD27+$BVN27+$BVX27+$BWH27+$BWR27+$BXB27+$BXL27+$BXV27+$BYF27+$BYP27+$BYZ27+$BZJ27+$BZT27+$CAD27+$CAN27+$CAX27+$CBH27+$CBR27+$CCB27+$CCL27+$CCV27+$CDF27+$CDP27+$CDZ27+$CEJ27+$CET27+$CFD27+$CFN27+$CFX27+$CGH27+$CGR27+$CHB27+$CHL27+$CHV27+$CIF27+$CIP27+$CIZ27+$CJJ27+$CJT27+$CKD27+$CKN27+$CKX27+$CLH27+$CLR27+$CMB27+$CML27+$CMV27+$CNF27+$CNP27+$CNZ27+$COJ27+$COT27+$CPD27+$CPN27+$CPX27+$CQH27+$CQR27+$CRB27+$CRL27+$CRV27+$CSF27+$CSP27+$CSZ27+$CTJ27+$CTT27+$CUD27+$CUN27+$CUX27+$CVH27+$CVR27+$CWB27+$CWL27+$CWV27+$CXF27+$CXP27+$CXZ27+$CYJ27+$CYT27+$CZD27+$CZN27+$CZX27+$DAH27+$DAR27+$DBB27+$DBL27+$DBV27+$DCF27+$DCP27+$DCZ27+$DDJ27+$DDT27+$DED27+$DEN27+$DEX27+$DFH27+$DFR27+$DGB27+$DGL27+$DGV27+$DHF27+$DHP27+$DHZ27+$DIJ27+$DIT27+$DJD27+$DJN27+$DJX27+$DKH27+$DKR27+$DLB27+$DLL27+$DLV27+$DMF27+$DMP27+$DMZ27+$DNJ27+$DNT27+$DOD27+$DON27+$DOX27+$DPH27+$DPR27+$DQB27+$DQL27+$DQV27+$DRF27+$DRP27+$DRZ27+$DSJ27+$DST27+$DTD27+$DTN27+$DTX27+$DUH27+$DUR27+$DVB27+$DVL27+$DVV27+$DWF27+$DWP27+$DWZ27+$DXJ27+$DXT27+$DYD27+$DYN27+$DYX27+$DZH27+$DZR27+$EAB27+$EAL27+$EAV27+$EBF27+$EBP27+$EBZ27+$ECJ27+$ECT27+$EDD27+$EDN27+$EDX27+$EEH27+$EER27+$EFB27+$EFL27+$EFV27+$EGF27+$EGP27+$EGZ27+$EHJ27+$EHT27+$EID27+$EIN27+$EIX27+$EJH27+$EJR27+$EKB27+$EKL27)*24","v":0},{"$f":"Osakoonti!E27+($T27+$AD27+$AN27+$AX27+$BH27+$BR27+$CB27+$CL27+$CV27+$DF27+$DP27+$DZ27+$EJ27+$ET27+$FD27+$FN27+$FX27+$GH27+$GR27+$HB27+$HL27+$HV27+$IF27+$IP27+$IZ27+$JJ27+$JT27+$KD27+$KN27+$KX27+$LH27+$LR27+$MB27+$ML27+$MV27+$NF27+$NP27+$NZ27+$OJ27+$OT27+$PD27+$PN27+$PX27+$QH27+$QR27+$RB27+$RL27+$RV27+$SF27+$SP27+$SZ27+$TJ27+$TT27+$UD27+$UN27+$UX27+$VH27+$VR27+$WB27+$WL27+$WV27+$XF27+$XP27+$XZ27+$YJ27+$YT27+$ZD27+$ZN27+$ZX27+$AAH27+$AAR27+$ABB27+$ABL27+$ABV27+$ACF27+$ACP27+$ACZ27+$ADJ27+$ADT27+$AED27+$AEN27+$AEX27+$AFH27+$AFR27+$AGB27+$AGL27+$AGV27+$AHF27+$AHP27+$AHZ27+$AIJ27+$AIT27+$AJD27+$AJN27+$AJX27+$AKH27+$AKR27+$ALB27+$ALL27+$ALV27+$AMF27+$AMP27+$AMZ27+$ANJ27+$ANT27+$AOD27+$AON27+$AOX27+$APH27+$APR27+$AQB27+$AQL27+$AQV27+$ARF27+$ARP27+$ARZ27+$ASJ27+$AST27+$ATD27+$ATN27+$ATX27+$AUH27+$AUR27+$AVB27+$AVL27+$AVV27+$AWF27+$AWP27+$AWZ27+$AXJ27+$AXT27+$AYD27+$AYN27+$AYX27+$AZH27+$AZR27+$BAB27+$BAL27+$BAV27+$BBF27+$BBP27+$BBZ27+$BCJ27+$BCT27+$BDD27+$BDN27+$BDX27+$BEH27+$BER27+$BFB27+$BFL27+$BFV27+$BGF27+$BGP27+$BGZ27+$BHJ27+$BHT27+$BID27+$BIN27+$BIX27+$BJH27+$BJR27+$BKB27+$BKL27+$BKV27+$BLF27+$BLP27+$BLZ27+$BMJ27+$BMT27+$BND27+$BNN27+$BNX27+$BOH27+$BOR27+$BPB27+$BPL27+$BPV27+$BQF27+$BQP27+$BQZ27+$BRJ27+$BRT27+$BSD27+$BSN27+$BSX27+$BTH27+$BTR27+$BUB27+$BUL27+$BUV27+$BVF27+$BVP27+$BVZ27+$BWJ27+$BWT27+$BXD27+$BXN27+$BXX27+$BYH27+$BYR27+$BZB27+$BZL27+$BZV27+$CAF27+$CAP27+$CAZ27+$CBJ27+$CBT27+$CCD27+$CCN27+$CCX27+$CDH27+$CDR27+$CEB27+$CEL27+$CEV27+$CFF27+$CFP27+$CFZ27+$CGJ27+$CGT27+$CHD27+$CHN27+$CHX27+$CIH27+$CIR27+$CJB27+$CJL27+$CJV27+$CKF27+$CKP27+$CKZ27+$CLJ27+$CLT27+$CMD27+$CMN27+$CMX27+$CNH27+$CNR27+$COB27+$COL27+$COV27+$CPF27+$CPP27+$CPZ27+$CQJ27+$CQT27+$CRD27+$CRN27+$CRX27+$CSH27+$CSR27+$CTB27+$CTL27+$CTV27+$CUF27+$CUP27+$CUZ27+$CVJ27+$CVT27+$CWD27+$CWN27+$CWX27+$CXH27+$CXR27+$CYB27+$CYL27+$CYV27+$CZF27+$CZP27+$CZZ27+$DAJ27+$DAT27+$DBD27+$DBN27+$DBX27+$DCH27+$DCR27+$DDB27+$DDL27+$DDV27+$DEF27+$DEP27+$DEZ27+$DFJ27+$DFT27+$DGD27+$DGN27+$DGX27+$DHH27+$DHR27+$DIB27+$DIL27+$DIV27+$DJF27+$DJP27+$DJZ27+$DKJ27+$DKT27+$DLD27+$DLN27+$DLX27+$DMH27+$DMR27+$DNB27+$DNL27+$DNV27+$DOF27+$DOP27+$DOZ27+$DPJ27+$DPT27+$DQD27+$DQN27+$DQX27+$DRH27+$DRR27+$DSB27+$DSL27+$DSV27+$DTF27+$DTP27+$DTZ27+$DUJ27+$DUT27+$DVD27+$DVN27+$DVX27+$DWH27+$DWR27+$DXB27+$DXL27+$DXV27+$DYF27+$DYP27+$DYZ27+$DZJ27+$DZT27+$EAD27+$EAN27+$EAX27+$EBH27+$EBR27+$ECB27+$ECL27+$ECV27+$EDF27+$EDP27+$EDZ27+$EEJ27+$EET27+$EFD27+$EFN27+$EFX27+$EGH27+$EGR27+$EHB27+$EHL27+$EHV27+$EIF27+$EIP27+$EIZ27+$EJJ27+$EJT27+$EKD27+$EKN27)*24","v":0},{"$f":"Osakoonti!F27+($V27+$AF27+$AP27+$AZ27+$BJ27+$BT27+$CD27+$CN27+$CX27+$DH27+$DR27+$EB27+$EL27+$EV27+$FF27+$FP27+$FZ27+$GJ27+$GT27+$HD27+$HN27+$HX27+$IH27+$IR27+$JB27+$JL27+$JV27+$KF27+$KP27+$KZ27+$LJ27+$LT27+$MD27+$MN27+$MX27+$NH27+$NR27+$OB27+$OL27+$OV27+$PF27+$PP27+$PZ27+$QJ27+$QT27+$RD27+$RN27+$RX27+$SH27+$SR27+$TB27+$TL27+$TV27+$UF27+$UP27+$UZ27+$VJ27+$VT27+$WD27+$WN27+$WX27+$XH27+$XR27+$YB27+$YL27+$YV27+$ZF27+$ZP27+$ZZ27+$AAJ27+$AAT27+$ABD27+$ABN27+$ABX27+$ACH27+$ACR27+$ADB27+$ADL27+$ADV27+$AEF27+$AEP27+$AEZ27+$AFJ27+$AFT27+$AGD27+$AGN27+$AGX27+$AHH27+$AHR27+$AIB27+$AIL27+$AIV27+$AJF27+$AJP27+$AJZ27+$AKJ27+$AKT27+$ALD27+$ALN27+$ALX27+$AMH27+$AMR27+$ANB27+$ANL27+$ANV27+$AOF27+$AOP27+$AOZ27+$APJ27+$APT27+$AQD27+$AQN27+$AQX27+$ARH27+$ARR27+$ASB27+$ASL27+$ASV27+$ATF27+$ATP27+$ATZ27+$AUJ27+$AUT27+$AVD27+$AVN27+$AVX27+$AWH27+$AWR27+$AXB27+$AXL27+$AXV27+$AYF27+$AYP27+$AYZ27+$AZJ27+$AZT27+$BAD27+$BAN27+$BAX27+$BBH27+$BBR27+$BCB27+$BCL27+$BCV27+$BDF27+$BDP27+$BDZ27+$BEJ27+$BET27+$BFD27+$BFN27+$BFX27+$BGH27+$BGR27+$BHB27+$BHL27+$BHV27+$BIF27+$BIP27+$BIZ27+$BJJ27+$BJT27+$BKD27+$BKN27+$BKX27+$BLH27+$BLR27+$BMB27+$BML27+$BMV27+$BNF27+$BNP27+$BNZ27+$BOJ27+$BOT27+$BPD27+$BPN27+$BPX27+$BQH27+$BQR27+$BRB27+$BRL27+$BRV27+$BSF27+$BSP27+$BSZ27+$BTJ27+$BTT27+$BUD27+$BUN27+$BUX27+$BVH27+$BVR27+$BWB27+$BWL27+$BWV27+$BXF27+$BXP27+$BXZ27+$BYJ27+$BYT27+$BZD27+$BZN27+$BZX27+$CAH27+$CAR27+$CBB27+$CBL27+$CBV27+$CCF27+$CCP27+$CCZ27+$CDJ27+$CDT27+$CED27+$CEN27+$CEX27+$CFH27+$CFR27+$CGB27+$CGL27+$CGV27+$CHF27+$CHP27+$CHZ27+$CIJ27+$CIT27+$CJD27+$CJN27+$CJX27+$CKH27+$CKR27+$CLB27+$CLL27+$CLV27+$CMF27+$CMP27+$CMZ27+$CNJ27+$CNT27+$COD27+$CON27+$COX27+$CPH27+$CPR27+$CQB27+$CQL27+$CQV27+$CRF27+$CRP27+$CRZ27+$CSJ27+$CST27+$CTD27+$CTN27+$CTX27+$CUH27+$CUR27+$CVB27+$CVL27+$CVV27+$CWF27+$CWP27+$CWZ27+$CXJ27+$CXT27+$CYD27+$CYN27+$CYX27+$CZH27+$CZR27+$DAB27+$DAL27+$DAV27+$DBF27+$DBP27+$DBZ27+$DCJ27+$DCT27+$DDD27+$DDN27+$DDX27+$DEH27+$DER27+$DFB27+$DFL27+$DFV27+$DGF27+$DGP27+$DGZ27+$DHJ27+$DHT27+$DID27+$DIN27+$DIX27+$DJH27+$DJR27+$DKB27+$DKL27+$DKV27+$DLF27+$DLP27+$DLZ27+$DMJ27+$DMT27+$DND27+$DNN27+$DNX27+$DOH27+$DOR27+$DPB27+$DPL27+$DPV27+$DQF27+$DQP27+$DQZ27+$DRJ27+$DRT27+$DSD27+$DSN27+$DSX27+$DTH27+$DTR27+$DUB27+$DUL27+$DUV27+$DVF27+$DVP27+$DVZ27+$DWJ27+$DWT27+$DXD27+$DXN27+$DXX27+$DYH27+$DYR27+$DZB27+$DZL27+$DZV27+$EAF27+$EAP27+$EAZ27+$EBJ27+$EBT27+$ECD27+$ECN27+$ECX27+$EDH27+$EDR27+$EEB27+$EEL27+$EEV27+$EFF27+$EFP27+$EFZ27+$EGJ27+$EGT27+$EHD27+$EHN27+$EHX27+$EIH27+$EIR27+$EJB27+$EJL27+$EJV27+$EKF27+$EKP27)*24","v":0},null,{"$f":"Suunnitelma!$C27","v":0},{"$f":"Suunnitelma!$E27","v":0},{"$f":"Suunnitelma!$G27","v":0},null,0,0,0,null,null,"p",{"$f":"Suunnitelma!$B$27","v":"Projektit"}]
[null,{"$f":"Suunnitelma!$B$28","v":"Itsensä kehittäminen"},{"$f":"Osakoonti!D28+($R28+$AB28+$AL28+$AV28+$BF28+$BP28+$BZ28+$CJ28+$CT28+$DD28+$DN28+$DX28+$EH28+$ER28+$FB28+$FL28+$FV28+$GF28+$GP28+$GZ28+$HJ28+$HT28+$ID28+$IN28+$IX28+$JH28+$JR28+$KB28+$KL28+$KV28+$LF28+$LP28+$LZ28+$MJ28+$MT28+$ND28+$NN28+$NX28+$OH28+$OR28+$PB28+$PL28+$PV28+$QF28+$QP28+$QZ28+$RJ28+$RT28+$SD28+$SN28+$SX28+$TH28+$TR28+$UB28+$UL28+$UV28+$VF28+$VP28+$VZ28+$WJ28+$WT28+$XD28+$XN28+$XX28+$YH28+$YR28+$ZB28+$ZL28+$ZV28+$AAF28+$AAP28+$AAZ28+$ABJ28+$ABT28+$ACD28+$ACN28+$ACX28+$ADH28+$ADR28+$AEB28+$AEL28+$AEV28+$AFF28+$AFP28+$AFZ28+$AGJ28+$AGT28+$AHD28+$AHN28+$AHX28+$AIH28+$AIR28+$AJB28+$AJL28+$AJV28+$AKF28+$AKP28+$AKZ28+$ALJ28+$ALT28+$AMD28+$AMN28+$AMX28+$ANH28+$ANR28+$AOB28+$AOL28+$AOV28+$APF28+$APP28+$APZ28+$AQJ28+$AQT28+$ARD28+$ARN28+$ARX28+$ASH28+$ASR28+$ATB28+$ATL28+$ATV28+$AUF28+$AUP28+$AUZ28+$AVJ28+$AVT28+$AWD28+$AWN28+$AWX28+$AXH28+$AXR28+$AYB28+$AYL28+$AYV28+$AZF28+$AZP28+$AZZ28+$BAJ28+$BAT28+$BBD28+$BBN28+$BBX28+$BCH28+$BCR28+$BDB28+$BDL28+$BDV28+$BEF28+$BEP28+$BEZ28+$BFJ28+$BFT28+$BGD28+$BGN28+$BGX28+$BHH28+$BHR28+$BIB28+$BIL28+$BIV28+$BJF28+$BJP28+$BJZ28+$BKJ28+$BKT28+$BLD28+$BLN28+$BLX28+$BMH28+$BMR28+$BNB28+$BNL28+$BNV28+$BOF28+$BOP28+$BOZ28+$BPJ28+$BPT28+$BQD28+$BQN28+$BQX28+$BRH28+$BRR28+$BSB28+$BSL28+$BSV28+$BTF28+$BTP28+$BTZ28+$BUJ28+$BUT28+$BVD28+$BVN28+$BVX28+$BWH28+$BWR28+$BXB28+$BXL28+$BXV28+$BYF28+$BYP28+$BYZ28+$BZJ28+$BZT28+$CAD28+$CAN28+$CAX28+$CBH28+$CBR28+$CCB28+$CCL28+$CCV28+$CDF28+$CDP28+$CDZ28+$CEJ28+$CET28+$CFD28+$CFN28+$CFX28+$CGH28+$CGR28+$CHB28+$CHL28+$CHV28+$CIF28+$CIP28+$CIZ28+$CJJ28+$CJT28+$CKD28+$CKN28+$CKX28+$CLH28+$CLR28+$CMB28+$CML28+$CMV28+$CNF28+$CNP28+$CNZ28+$COJ28+$COT28+$CPD28+$CPN28+$CPX28+$CQH28+$CQR28+$CRB28+$CRL28+$CRV28+$CSF28+$CSP28+$CSZ28+$CTJ28+$CTT28+$CUD28+$CUN28+$CUX28+$CVH28+$CVR28+$CWB28+$CWL28+$CWV28+$CXF28+$CXP28+$CXZ28+$CYJ28+$CYT28+$CZD28+$CZN28+$CZX28+$DAH28+$DAR28+$DBB28+$DBL28+$DBV28+$DCF28+$DCP28+$DCZ28+$DDJ28+$DDT28+$DED28+$DEN28+$DEX28+$DFH28+$DFR28+$DGB28+$DGL28+$DGV28+$DHF28+$DHP28+$DHZ28+$DIJ28+$DIT28+$DJD28+$DJN28+$DJX28+$DKH28+$DKR28+$DLB28+$DLL28+$DLV28+$DMF28+$DMP28+$DMZ28+$DNJ28+$DNT28+$DOD28+$DON28+$DOX28+$DPH28+$DPR28+$DQB28+$DQL28+$DQV28+$DRF28+$DRP28+$DRZ28+$DSJ28+$DST28+$DTD28+$DTN28+$DTX28+$DUH28+$DUR28+$DVB28+$DVL28+$DVV28+$DWF28+$DWP28+$DWZ28+$DXJ28+$DXT28+$DYD28+$DYN28+$DYX28+$DZH28+$DZR28+$EAB28+$EAL28+$EAV28+$EBF28+$EBP28+$EBZ28+$ECJ28+$ECT28+$EDD28+$EDN28+$EDX28+$EEH28+$EER28+$EFB28+$EFL28+$EFV28+$EGF28+$EGP28+$EGZ28+$EHJ28+$EHT28+$EID28+$EIN28+$EIX28+$EJH28+$EJR28+$EKB28+$EKL28)*24","v":0},{"$f":"Osakoonti!E28+($T28+$AD28+$AN28+$AX28+$BH28+$BR28+$CB28+$CL28+$CV28+$DF28+$DP28+$DZ28+$EJ28+$ET28+$FD28+$FN28+$FX28+$GH28+$GR28+$HB28+$HL28+$HV28+$IF28+$IP28+$IZ28+$JJ28+$JT28+$KD28+$KN28+$KX28+$LH28+$LR28+$MB28+$ML28+$MV28+$NF28+$NP28+$NZ28+$OJ28+$OT28+$PD28+$PN28+$PX28+$QH28+$QR28+$RB28+$RL28+$RV28+$SF28+$SP28+$SZ28+$TJ28+$TT28+$UD28+$UN28+$UX28+$VH28+$VR28+$WB28+$WL28+$WV28+$XF28+$XP28+$XZ28+$YJ28+$YT28+$ZD28+$ZN28+$ZX28+$AAH28+$AAR28+$ABB28+$ABL28+$ABV28+$ACF28+$ACP28+$ACZ28+$ADJ28+$ADT28+$AED28+$AEN28+$AEX28+$AFH28+$AFR28+$AGB28+$AGL28+$AGV28+$AHF28+$AHP28+$AHZ28+$AIJ28+$AIT28+$AJD28+$AJN28+$AJX28+$AKH28+$AKR28+$ALB28+$ALL28+$ALV28+$AMF28+$AMP28+$AMZ28+$ANJ28+$ANT28+$AOD28+$AON28+$AOX28+$APH28+$APR28+$AQB28+$AQL28+$AQV28+$ARF28+$ARP28+$ARZ28+$ASJ28+$AST28+$ATD28+$ATN28+$ATX28+$AUH28+$AUR28+$AVB28+$AVL28+$AVV28+$AWF28+$AWP28+$AWZ28+$AXJ28+$AXT28+$AYD28+$AYN28+$AYX28+$AZH28+$AZR28+$BAB28+$BAL28+$BAV28+$BBF28+$BBP28+$BBZ28+$BCJ28+$BCT28+$BDD28+$BDN28+$BDX28+$BEH28+$BER28+$BFB28+$BFL28+$BFV28+$BGF28+$BGP28+$BGZ28+$BHJ28+$BHT28+$BID28+$BIN28+$BIX28+$BJH28+$BJR28+$BKB28+$BKL28+$BKV28+$BLF28+$BLP28+$BLZ28+$BMJ28+$BMT28+$BND28+$BNN28+$BNX28+$BOH28+$BOR28+$BPB28+$BPL28+$BPV28+$BQF28+$BQP28+$BQZ28+$BRJ28+$BRT28+$BSD28+$BSN28+$BSX28+$BTH28+$BTR28+$BUB28+$BUL28+$BUV28+$BVF28+$BVP28+$BVZ28+$BWJ28+$BWT28+$BXD28+$BXN28+$BXX28+$BYH28+$BYR28+$BZB28+$BZL28+$BZV28+$CAF28+$CAP28+$CAZ28+$CBJ28+$CBT28+$CCD28+$CCN28+$CCX28+$CDH28+$CDR28+$CEB28+$CEL28+$CEV28+$CFF28+$CFP28+$CFZ28+$CGJ28+$CGT28+$CHD28+$CHN28+$CHX28+$CIH28+$CIR28+$CJB28+$CJL28+$CJV28+$CKF28+$CKP28+$CKZ28+$CLJ28+$CLT28+$CMD28+$CMN28+$CMX28+$CNH28+$CNR28+$COB28+$COL28+$COV28+$CPF28+$CPP28+$CPZ28+$CQJ28+$CQT28+$CRD28+$CRN28+$CRX28+$CSH28+$CSR28+$CTB28+$CTL28+$CTV28+$CUF28+$CUP28+$CUZ28+$CVJ28+$CVT28+$CWD28+$CWN28+$CWX28+$CXH28+$CXR28+$CYB28+$CYL28+$CYV28+$CZF28+$CZP28+$CZZ28+$DAJ28+$DAT28+$DBD28+$DBN28+$DBX28+$DCH28+$DCR28+$DDB28+$DDL28+$DDV28+$DEF28+$DEP28+$DEZ28+$DFJ28+$DFT28+$DGD28+$DGN28+$DGX28+$DHH28+$DHR28+$DIB28+$DIL28+$DIV28+$DJF28+$DJP28+$DJZ28+$DKJ28+$DKT28+$DLD28+$DLN28+$DLX28+$DMH28+$DMR28+$DNB28+$DNL28+$DNV28+$DOF28+$DOP28+$DOZ28+$DPJ28+$DPT28+$DQD28+$DQN28+$DQX28+$DRH28+$DRR28+$DSB28+$DSL28+$DSV28+$DTF28+$DTP28+$DTZ28+$DUJ28+$DUT28+$DVD28+$DVN28+$DVX28+$DWH28+$DWR28+$DXB28+$DXL28+$DXV28+$DYF28+$DYP28+$DYZ28+$DZJ28+$DZT28+$EAD28+$EAN28+$EAX28+$EBH28+$EBR28+$ECB28+$ECL28+$ECV28+$EDF28+$EDP28+$EDZ28+$EEJ28+$EET28+$EFD28+$EFN28+$EFX28+$EGH28+$EGR28+$EHB28+$EHL28+$EHV28+$EIF28+$EIP28+$EIZ28+$EJJ28+$EJT28+$EKD28+$EKN28)*24","v":0},{"$f":"Osakoonti!F28+($V28+$AF28+$AP28+$AZ28+$BJ28+$BT28+$CD28+$CN28+$CX28+$DH28+$DR28+$EB28+$EL28+$EV28+$FF28+$FP28+$FZ28+$GJ28+$GT28+$HD28+$HN28+$HX28+$IH28+$IR28+$JB28+$JL28+$JV28+$KF28+$KP28+$KZ28+$LJ28+$LT28+$MD28+$MN28+$MX28+$NH28+$NR28+$OB28+$OL28+$OV28+$PF28+$PP28+$PZ28+$QJ28+$QT28+$RD28+$RN28+$RX28+$SH28+$SR28+$TB28+$TL28+$TV28+$UF28+$UP28+$UZ28+$VJ28+$VT28+$WD28+$WN28+$WX28+$XH28+$XR28+$YB28+$YL28+$YV28+$ZF28+$ZP28+$ZZ28+$AAJ28+$AAT28+$ABD28+$ABN28+$ABX28+$ACH28+$ACR28+$ADB28+$ADL28+$ADV28+$AEF28+$AEP28+$AEZ28+$AFJ28+$AFT28+$AGD28+$AGN28+$AGX28+$AHH28+$AHR28+$AIB28+$AIL28+$AIV28+$AJF28+$AJP28+$AJZ28+$AKJ28+$AKT28+$ALD28+$ALN28+$ALX28+$AMH28+$AMR28+$ANB28+$ANL28+$ANV28+$AOF28+$AOP28+$AOZ28+$APJ28+$APT28+$AQD28+$AQN28+$AQX28+$ARH28+$ARR28+$ASB28+$ASL28+$ASV28+$ATF28+$ATP28+$ATZ28+$AUJ28+$AUT28+$AVD28+$AVN28+$AVX28+$AWH28+$AWR28+$AXB28+$AXL28+$AXV28+$AYF28+$AYP28+$AYZ28+$AZJ28+$AZT28+$BAD28+$BAN28+$BAX28+$BBH28+$BBR28+$BCB28+$BCL28+$BCV28+$BDF28+$BDP28+$BDZ28+$BEJ28+$BET28+$BFD28+$BFN28+$BFX28+$BGH28+$BGR28+$BHB28+$BHL28+$BHV28+$BIF28+$BIP28+$BIZ28+$BJJ28+$BJT28+$BKD28+$BKN28+$BKX28+$BLH28+$BLR28+$BMB28+$BML28+$BMV28+$BNF28+$BNP28+$BNZ28+$BOJ28+$BOT28+$BPD28+$BPN28+$BPX28+$BQH28+$BQR28+$BRB28+$BRL28+$BRV28+$BSF28+$BSP28+$BSZ28+$BTJ28+$BTT28+$BUD28+$BUN28+$BUX28+$BVH28+$BVR28+$BWB28+$BWL28+$BWV28+$BXF28+$BXP28+$BXZ28+$BYJ28+$BYT28+$BZD28+$BZN28+$BZX28+$CAH28+$CAR28+$CBB28+$CBL28+$CBV28+$CCF28+$CCP28+$CCZ28+$CDJ28+$CDT28+$CED28+$CEN28+$CEX28+$CFH28+$CFR28+$CGB28+$CGL28+$CGV28+$CHF28+$CHP28+$CHZ28+$CIJ28+$CIT28+$CJD28+$CJN28+$CJX28+$CKH28+$CKR28+$CLB28+$CLL28+$CLV28+$CMF28+$CMP28+$CMZ28+$CNJ28+$CNT28+$COD28+$CON28+$COX28+$CPH28+$CPR28+$CQB28+$CQL28+$CQV28+$CRF28+$CRP28+$CRZ28+$CSJ28+$CST28+$CTD28+$CTN28+$CTX28+$CUH28+$CUR28+$CVB28+$CVL28+$CVV28+$CWF28+$CWP28+$CWZ28+$CXJ28+$CXT28+$CYD28+$CYN28+$CYX28+$CZH28+$CZR28+$DAB28+$DAL28+$DAV28+$DBF28+$DBP28+$DBZ28+$DCJ28+$DCT28+$DDD28+$DDN28+$DDX28+$DEH28+$DER28+$DFB28+$DFL28+$DFV28+$DGF28+$DGP28+$DGZ28+$DHJ28+$DHT28+$DID28+$DIN28+$DIX28+$DJH28+$DJR28+$DKB28+$DKL28+$DKV28+$DLF28+$DLP28+$DLZ28+$DMJ28+$DMT28+$DND28+$DNN28+$DNX28+$DOH28+$DOR28+$DPB28+$DPL28+$DPV28+$DQF28+$DQP28+$DQZ28+$DRJ28+$DRT28+$DSD28+$DSN28+$DSX28+$DTH28+$DTR28+$DUB28+$DUL28+$DUV28+$DVF28+$DVP28+$DVZ28+$DWJ28+$DWT28+$DXD28+$DXN28+$DXX28+$DYH28+$DYR28+$DZB28+$DZL28+$DZV28+$EAF28+$EAP28+$EAZ28+$EBJ28+$EBT28+$ECD28+$ECN28+$ECX28+$EDH28+$EDR28+$EEB28+$EEL28+$EEV28+$EFF28+$EFP28+$EFZ28+$EGJ28+$EGT28+$EHD28+$EHN28+$EHX28+$EIH28+$EIR28+$EJB28+$EJL28+$EJV28+$EKF28+$EKP28)*24","v":0},null,{"$f":"Suunnitelma!$C28","v":0},{"$f":"Suunnitelma!$E28","v":0},{"$f":"Suunnitelma!$G28","v":0},null,0,0,0,null,null,"p",{"$f":"Suunnitelma!$B$28","v":"Itsensä kehittäminen"}]
[null,{"$f":"Suunnitelma!$B$29","v":"Muu"},{"$f":"Osakoonti!D29+($R29+$AB29+$AL29+$AV29+$BF29+$BP29+$BZ29+$CJ29+$CT29+$DD29+$DN29+$DX29+$EH29+$ER29+$FB29+$FL29+$FV29+$GF29+$GP29+$GZ29+$HJ29+$HT29+$ID29+$IN29+$IX29+$JH29+$JR29+$KB29+$KL29+$KV29+$LF29+$LP29+$LZ29+$MJ29+$MT29+$ND29+$NN29+$NX29+$OH29+$OR29+$PB29+$PL29+$PV29+$QF29+$QP29+$QZ29+$RJ29+$RT29+$SD29+$SN29+$SX29+$TH29+$TR29+$UB29+$UL29+$UV29+$VF29+$VP29+$VZ29+$WJ29+$WT29+$XD29+$XN29+$XX29+$YH29+$YR29+$ZB29+$ZL29+$ZV29+$AAF29+$AAP29+$AAZ29+$ABJ29+$ABT29+$ACD29+$ACN29+$ACX29+$ADH29+$ADR29+$AEB29+$AEL29+$AEV29+$AFF29+$AFP29+$AFZ29+$AGJ29+$AGT29+$AHD29+$AHN29+$AHX29+$AIH29+$AIR29+$AJB29+$AJL29+$AJV29+$AKF29+$AKP29+$AKZ29+$ALJ29+$ALT29+$AMD29+$AMN29+$AMX29+$ANH29+$ANR29+$AOB29+$AOL29+$AOV29+$APF29+$APP29+$APZ29+$AQJ29+$AQT29+$ARD29+$ARN29+$ARX29+$ASH29+$ASR29+$ATB29+$ATL29+$ATV29+$AUF29+$AUP29+$AUZ29+$AVJ29+$AVT29+$AWD29+$AWN29+$AWX29+$AXH29+$AXR29+$AYB29+$AYL29+$AYV29+$AZF29+$AZP29+$AZZ29+$BAJ29+$BAT29+$BBD29+$BBN29+$BBX29+$BCH29+$BCR29+$BDB29+$BDL29+$BDV29+$BEF29+$BEP29+$BEZ29+$BFJ29+$BFT29+$BGD29+$BGN29+$BGX29+$BHH29+$BHR29+$BIB29+$BIL29+$BIV29+$BJF29+$BJP29+$BJZ29+$BKJ29+$BKT29+$BLD29+$BLN29+$BLX29+$BMH29+$BMR29+$BNB29+$BNL29+$BNV29+$BOF29+$BOP29+$BOZ29+$BPJ29+$BPT29+$BQD29+$BQN29+$BQX29+$BRH29+$BRR29+$BSB29+$BSL29+$BSV29+$BTF29+$BTP29+$BTZ29+$BUJ29+$BUT29+$BVD29+$BVN29+$BVX29+$BWH29+$BWR29+$BXB29+$BXL29+$BXV29+$BYF29+$BYP29+$BYZ29+$BZJ29+$BZT29+$CAD29+$CAN29+$CAX29+$CBH29+$CBR29+$CCB29+$CCL29+$CCV29+$CDF29+$CDP29+$CDZ29+$CEJ29+$CET29+$CFD29+$CFN29+$CFX29+$CGH29+$CGR29+$CHB29+$CHL29+$CHV29+$CIF29+$CIP29+$CIZ29+$CJJ29+$CJT29+$CKD29+$CKN29+$CKX29+$CLH29+$CLR29+$CMB29+$CML29+$CMV29+$CNF29+$CNP29+$CNZ29+$COJ29+$COT29+$CPD29+$CPN29+$CPX29+$CQH29+$CQR29+$CRB29+$CRL29+$CRV29+$CSF29+$CSP29+$CSZ29+$CTJ29+$CTT29+$CUD29+$CUN29+$CUX29+$CVH29+$CVR29+$CWB29+$CWL29+$CWV29+$CXF29+$CXP29+$CXZ29+$CYJ29+$CYT29+$CZD29+$CZN29+$CZX29+$DAH29+$DAR29+$DBB29+$DBL29+$DBV29+$DCF29+$DCP29+$DCZ29+$DDJ29+$DDT29+$DED29+$DEN29+$DEX29+$DFH29+$DFR29+$DGB29+$DGL29+$DGV29+$DHF29+$DHP29+$DHZ29+$DIJ29+$DIT29+$DJD29+$DJN29+$DJX29+$DKH29+$DKR29+$DLB29+$DLL29+$DLV29+$DMF29+$DMP29+$DMZ29+$DNJ29+$DNT29+$DOD29+$DON29+$DOX29+$DPH29+$DPR29+$DQB29+$DQL29+$DQV29+$DRF29+$DRP29+$DRZ29+$DSJ29+$DST29+$DTD29+$DTN29+$DTX29+$DUH29+$DUR29+$DVB29+$DVL29+$DVV29+$DWF29+$DWP29+$DWZ29+$DXJ29+$DXT29+$DYD29+$DYN29+$DYX29+$DZH29+$DZR29+$EAB29+$EAL29+$EAV29+$EBF29+$EBP29+$EBZ29+$ECJ29+$ECT29+$EDD29+$EDN29+$EDX29+$EEH29+$EER29+$EFB29+$EFL29+$EFV29+$EGF29+$EGP29+$EGZ29+$EHJ29+$EHT29+$EID29+$EIN29+$EIX29+$EJH29+$EJR29+$EKB29+$EKL29)*24","v":0},{"$f":"Osakoonti!E29+($T29+$AD29+$AN29+$AX29+$BH29+$BR29+$CB29+$CL29+$CV29+$DF29+$DP29+$DZ29+$EJ29+$ET29+$FD29+$FN29+$FX29+$GH29+$GR29+$HB29+$HL29+$HV29+$IF29+$IP29+$IZ29+$JJ29+$JT29+$KD29+$KN29+$KX29+$LH29+$LR29+$MB29+$ML29+$MV29+$NF29+$NP29+$NZ29+$OJ29+$OT29+$PD29+$PN29+$PX29+$QH29+$QR29+$RB29+$RL29+$RV29+$SF29+$SP29+$SZ29+$TJ29+$TT29+$UD29+$UN29+$UX29+$VH29+$VR29+$WB29+$WL29+$WV29+$XF29+$XP29+$XZ29+$YJ29+$YT29+$ZD29+$ZN29+$ZX29+$AAH29+$AAR29+$ABB29+$ABL29+$ABV29+$ACF29+$ACP29+$ACZ29+$ADJ29+$ADT29+$AED29+$AEN29+$AEX29+$AFH29+$AFR29+$AGB29+$AGL29+$AGV29+$AHF29+$AHP29+$AHZ29+$AIJ29+$AIT29+$AJD29+$AJN29+$AJX29+$AKH29+$AKR29+$ALB29+$ALL29+$ALV29+$AMF29+$AMP29+$AMZ29+$ANJ29+$ANT29+$AOD29+$AON29+$AOX29+$APH29+$APR29+$AQB29+$AQL29+$AQV29+$ARF29+$ARP29+$ARZ29+$ASJ29+$AST29+$ATD29+$ATN29+$ATX29+$AUH29+$AUR29+$AVB29+$AVL29+$AVV29+$AWF29+$AWP29+$AWZ29+$AXJ29+$AXT29+$AYD29+$AYN29+$AYX29+$AZH29+$AZR29+$BAB29+$BAL29+$BAV29+$BBF29+$BBP29+$BBZ29+$BCJ29+$BCT29+$BDD29+$BDN29+$BDX29+$BEH29+$BER29+$BFB29+$BFL29+$BFV29+$BGF29+$BGP29+$BGZ29+$BHJ29+$BHT29+$BID29+$BIN29+$BIX29+$BJH29+$BJR29+$BKB29+$BKL29+$BKV29+$BLF29+$BLP29+$BLZ29+$BMJ29+$BMT29+$BND29+$BNN29+$BNX29+$BOH29+$BOR29+$BPB29+$BPL29+$BPV29+$BQF29+$BQP29+$BQZ29+$BRJ29+$BRT29+$BSD29+$BSN29+$BSX29+$BTH29+$BTR29+$BUB29+$BUL29+$BUV29+$BVF29+$BVP29+$BVZ29+$BWJ29+$BWT29+$BXD29+$BXN29+$BXX29+$BYH29+$BYR29+$BZB29+$BZL29+$BZV29+$CAF29+$CAP29+$CAZ29+$CBJ29+$CBT29+$CCD29+$CCN29+$CCX29+$CDH29+$CDR29+$CEB29+$CEL29+$CEV29+$CFF29+$CFP29+$CFZ29+$CGJ29+$CGT29+$CHD29+$CHN29+$CHX29+$CIH29+$CIR29+$CJB29+$CJL29+$CJV29+$CKF29+$CKP29+$CKZ29+$CLJ29+$CLT29+$CMD29+$CMN29+$CMX29+$CNH29+$CNR29+$COB29+$COL29+$COV29+$CPF29+$CPP29+$CPZ29+$CQJ29+$CQT29+$CRD29+$CRN29+$CRX29+$CSH29+$CSR29+$CTB29+$CTL29+$CTV29+$CUF29+$CUP29+$CUZ29+$CVJ29+$CVT29+$CWD29+$CWN29+$CWX29+$CXH29+$CXR29+$CYB29+$CYL29+$CYV29+$CZF29+$CZP29+$CZZ29+$DAJ29+$DAT29+$DBD29+$DBN29+$DBX29+$DCH29+$DCR29+$DDB29+$DDL29+$DDV29+$DEF29+$DEP29+$DEZ29+$DFJ29+$DFT29+$DGD29+$DGN29+$DGX29+$DHH29+$DHR29+$DIB29+$DIL29+$DIV29+$DJF29+$DJP29+$DJZ29+$DKJ29+$DKT29+$DLD29+$DLN29+$DLX29+$DMH29+$DMR29+$DNB29+$DNL29+$DNV29+$DOF29+$DOP29+$DOZ29+$DPJ29+$DPT29+$DQD29+$DQN29+$DQX29+$DRH29+$DRR29+$DSB29+$DSL29+$DSV29+$DTF29+$DTP29+$DTZ29+$DUJ29+$DUT29+$DVD29+$DVN29+$DVX29+$DWH29+$DWR29+$DXB29+$DXL29+$DXV29+$DYF29+$DYP29+$DYZ29+$DZJ29+$DZT29+$EAD29+$EAN29+$EAX29+$EBH29+$EBR29+$ECB29+$ECL29+$ECV29+$EDF29+$EDP29+$EDZ29+$EEJ29+$EET29+$EFD29+$EFN29+$EFX29+$EGH29+$EGR29+$EHB29+$EHL29+$EHV29+$EIF29+$EIP29+$EIZ29+$EJJ29+$EJT29+$EKD29+$EKN29)*24","v":0},{"$f":"Osakoonti!F29+($V29+$AF29+$AP29+$AZ29+$BJ29+$BT29+$CD29+$CN29+$CX29+$DH29+$DR29+$EB29+$EL29+$EV29+$FF29+$FP29+$FZ29+$GJ29+$GT29+$HD29+$HN29+$HX29+$IH29+$IR29+$JB29+$JL29+$JV29+$KF29+$KP29+$KZ29+$LJ29+$LT29+$MD29+$MN29+$MX29+$NH29+$NR29+$OB29+$OL29+$OV29+$PF29+$PP29+$PZ29+$QJ29+$QT29+$RD29+$RN29+$RX29+$SH29+$SR29+$TB29+$TL29+$TV29+$UF29+$UP29+$UZ29+$VJ29+$VT29+$WD29+$WN29+$WX29+$XH29+$XR29+$YB29+$YL29+$YV29+$ZF29+$ZP29+$ZZ29+$AAJ29+$AAT29+$ABD29+$ABN29+$ABX29+$ACH29+$ACR29+$ADB29+$ADL29+$ADV29+$AEF29+$AEP29+$AEZ29+$AFJ29+$AFT29+$AGD29+$AGN29+$AGX29+$AHH29+$AHR29+$AIB29+$AIL29+$AIV29+$AJF29+$AJP29+$AJZ29+$AKJ29+$AKT29+$ALD29+$ALN29+$ALX29+$AMH29+$AMR29+$ANB29+$ANL29+$ANV29+$AOF29+$AOP29+$AOZ29+$APJ29+$APT29+$AQD29+$AQN29+$AQX29+$ARH29+$ARR29+$ASB29+$ASL29+$ASV29+$ATF29+$ATP29+$ATZ29+$AUJ29+$AUT29+$AVD29+$AVN29+$AVX29+$AWH29+$AWR29+$AXB29+$AXL29+$AXV29+$AYF29+$AYP29+$AYZ29+$AZJ29+$AZT29+$BAD29+$BAN29+$BAX29+$BBH29+$BBR29+$BCB29+$BCL29+$BCV29+$BDF29+$BDP29+$BDZ29+$BEJ29+$BET29+$BFD29+$BFN29+$BFX29+$BGH29+$BGR29+$BHB29+$BHL29+$BHV29+$BIF29+$BIP29+$BIZ29+$BJJ29+$BJT29+$BKD29+$BKN29+$BKX29+$BLH29+$BLR29+$BMB29+$BML29+$BMV29+$BNF29+$BNP29+$BNZ29+$BOJ29+$BOT29+$BPD29+$BPN29+$BPX29+$BQH29+$BQR29+$BRB29+$BRL29+$BRV29+$BSF29+$BSP29+$BSZ29+$BTJ29+$BTT29+$BUD29+$BUN29+$BUX29+$BVH29+$BVR29+$BWB29+$BWL29+$BWV29+$BXF29+$BXP29+$BXZ29+$BYJ29+$BYT29+$BZD29+$BZN29+$BZX29+$CAH29+$CAR29+$CBB29+$CBL29+$CBV29+$CCF29+$CCP29+$CCZ29+$CDJ29+$CDT29+$CED29+$CEN29+$CEX29+$CFH29+$CFR29+$CGB29+$CGL29+$CGV29+$CHF29+$CHP29+$CHZ29+$CIJ29+$CIT29+$CJD29+$CJN29+$CJX29+$CKH29+$CKR29+$CLB29+$CLL29+$CLV29+$CMF29+$CMP29+$CMZ29+$CNJ29+$CNT29+$COD29+$CON29+$COX29+$CPH29+$CPR29+$CQB29+$CQL29+$CQV29+$CRF29+$CRP29+$CRZ29+$CSJ29+$CST29+$CTD29+$CTN29+$CTX29+$CUH29+$CUR29+$CVB29+$CVL29+$CVV29+$CWF29+$CWP29+$CWZ29+$CXJ29+$CXT29+$CYD29+$CYN29+$CYX29+$CZH29+$CZR29+$DAB29+$DAL29+$DAV29+$DBF29+$DBP29+$DBZ29+$DCJ29+$DCT29+$DDD29+$DDN29+$DDX29+$DEH29+$DER29+$DFB29+$DFL29+$DFV29+$DGF29+$DGP29+$DGZ29+$DHJ29+$DHT29+$DID29+$DIN29+$DIX29+$DJH29+$DJR29+$DKB29+$DKL29+$DKV29+$DLF29+$DLP29+$DLZ29+$DMJ29+$DMT29+$DND29+$DNN29+$DNX29+$DOH29+$DOR29+$DPB29+$DPL29+$DPV29+$DQF29+$DQP29+$DQZ29+$DRJ29+$DRT29+$DSD29+$DSN29+$DSX29+$DTH29+$DTR29+$DUB29+$DUL29+$DUV29+$DVF29+$DVP29+$DVZ29+$DWJ29+$DWT29+$DXD29+$DXN29+$DXX29+$DYH29+$DYR29+$DZB29+$DZL29+$DZV29+$EAF29+$EAP29+$EAZ29+$EBJ29+$EBT29+$ECD29+$ECN29+$ECX29+$EDH29+$EDR29+$EEB29+$EEL29+$EEV29+$EFF29+$EFP29+$EFZ29+$EGJ29+$EGT29+$EHD29+$EHN29+$EHX29+$EIH29+$EIR29+$EJB29+$EJL29+$EJV29+$EKF29+$EKP29)*24","v":0},null,{"$f":"Suunnitelma!$C29","v":0},{"$f":"Suunnitelma!$E29","v":0},{"$f":"Suunnitelma!$G29","v":0},null,0,0,0,null,null,"p",{"$f":"Suunnitelma!$B$29","v":"Muu"}]
[null,{"$f":"Suunnitelma!$B$30","v":"Sairauspoissaolon sitomaton työ"},{"$f":"Osakoonti!D30+($R30+$AB30+$AL30+$AV30+$BF30+$BP30+$BZ30+$CJ30+$CT30+$DD30+$DN30+$DX30+$EH30+$ER30+$FB30+$FL30+$FV30+$GF30+$GP30+$GZ30+$HJ30+$HT30+$ID30+$IN30+$IX30+$JH30+$JR30+$KB30+$KL30+$KV30+$LF30+$LP30+$LZ30+$MJ30+$MT30+$ND30+$NN30+$NX30+$OH30+$OR30+$PB30+$PL30+$PV30+$QF30+$QP30+$QZ30+$RJ30+$RT30+$SD30+$SN30+$SX30+$TH30+$TR30+$UB30+$UL30+$UV30+$VF30+$VP30+$VZ30+$WJ30+$WT30+$XD30+$XN30+$XX30+$YH30+$YR30+$ZB30+$ZL30+$ZV30+$AAF30+$AAP30+$AAZ30+$ABJ30+$ABT30+$ACD30+$ACN30+$ACX30+$ADH30+$ADR30+$AEB30+$AEL30+$AEV30+$AFF30+$AFP30+$AFZ30+$AGJ30+$AGT30+$AHD30+$AHN30+$AHX30+$AIH30+$AIR30+$AJB30+$AJL30+$AJV30+$AKF30+$AKP30+$AKZ30+$ALJ30+$ALT30+$AMD30+$AMN30+$AMX30+$ANH30+$ANR30+$AOB30+$AOL30+$AOV30+$APF30+$APP30+$APZ30+$AQJ30+$AQT30+$ARD30+$ARN30+$ARX30+$ASH30+$ASR30+$ATB30+$ATL30+$ATV30+$AUF30+$AUP30+$AUZ30+$AVJ30+$AVT30+$AWD30+$AWN30+$AWX30+$AXH30+$AXR30+$AYB30+$AYL30+$AYV30+$AZF30+$AZP30+$AZZ30+$BAJ30+$BAT30+$BBD30+$BBN30+$BBX30+$BCH30+$BCR30+$BDB30+$BDL30+$BDV30+$BEF30+$BEP30+$BEZ30+$BFJ30+$BFT30+$BGD30+$BGN30+$BGX30+$BHH30+$BHR30+$BIB30+$BIL30+$BIV30+$BJF30+$BJP30+$BJZ30+$BKJ30+$BKT30+$BLD30+$BLN30+$BLX30+$BMH30+$BMR30+$BNB30+$BNL30+$BNV30+$BOF30+$BOP30+$BOZ30+$BPJ30+$BPT30+$BQD30+$BQN30+$BQX30+$BRH30+$BRR30+$BSB30+$BSL30+$BSV30+$BTF30+$BTP30+$BTZ30+$BUJ30+$BUT30+$BVD30+$BVN30+$BVX30+$BWH30+$BWR30+$BXB30+$BXL30+$BXV30+$BYF30+$BYP30+$BYZ30+$BZJ30+$BZT30+$CAD30+$CAN30+$CAX30+$CBH30+$CBR30+$CCB30+$CCL30+$CCV30+$CDF30+$CDP30+$CDZ30+$CEJ30+$CET30+$CFD30+$CFN30+$CFX30+$CGH30+$CGR30+$CHB30+$CHL30+$CHV30+$CIF30+$CIP30+$CIZ30+$CJJ30+$CJT30+$CKD30+$CKN30+$CKX30+$CLH30+$CLR30+$CMB30+$CML30+$CMV30+$CNF30+$CNP30+$CNZ30+$COJ30+$COT30+$CPD30+$CPN30+$CPX30+$CQH30+$CQR30+$CRB30+$CRL30+$CRV30+$CSF30+$CSP30+$CSZ30+$CTJ30+$CTT30+$CUD30+$CUN30+$CUX30+$CVH30+$CVR30+$CWB30+$CWL30+$CWV30+$CXF30+$CXP30+$CXZ30+$CYJ30+$CYT30+$CZD30+$CZN30+$CZX30+$DAH30+$DAR30+$DBB30+$DBL30+$DBV30+$DCF30+$DCP30+$DCZ30+$DDJ30+$DDT30+$DED30+$DEN30+$DEX30+$DFH30+$DFR30+$DGB30+$DGL30+$DGV30+$DHF30+$DHP30+$DHZ30+$DIJ30+$DIT30+$DJD30+$DJN30+$DJX30+$DKH30+$DKR30+$DLB30+$DLL30+$DLV30+$DMF30+$DMP30+$DMZ30+$DNJ30+$DNT30+$DOD30+$DON30+$DOX30+$DPH30+$DPR30+$DQB30+$DQL30+$DQV30+$DRF30+$DRP30+$DRZ30+$DSJ30+$DST30+$DTD30+$DTN30+$DTX30+$DUH30+$DUR30+$DVB30+$DVL30+$DVV30+$DWF30+$DWP30+$DWZ30+$DXJ30+$DXT30+$DYD30+$DYN30+$DYX30+$DZH30+$DZR30+$EAB30+$EAL30+$EAV30+$EBF30+$EBP30+$EBZ30+$ECJ30+$ECT30+$EDD30+$EDN30+$EDX30+$EEH30+$EER30+$EFB30+$EFL30+$EFV30+$EGF30+$EGP30+$EGZ30+$EHJ30+$EHT30+$EID30+$EIN30+$EIX30+$EJH30+$EJR30+$EKB30+$EKL30)*24","v":0},null,null,null,{"$f":"Suunnitelma!$C$30","v":0},null,null,null,null,null,null,null,null,"p",{"$f":"Suunnitelma!$B$30","v":"Sairauspoissaolon sitomaton työ"},{"$f":"IF(R8=\"L\",IF(T31>TyoAika/24,0,TyoAika/24-T31),0)","v":"00:00:00"},null,null,null,null,null,null,null,null,null,{"$f":"IF(AB8=\"L\",IF(AD31>TyoAika/24,0,TyoAika/24-AD31),0)","v":"00:00:00"},null,null,null,null,null,null,null,null,null,{"$f":"IF(AL8=\"L\",IF(AN31>TyoAika/24,0,TyoAika/24-AN31),0)","v":"00:00:00"},null,null,null,null,null,null,null,null,null,{"$f":"IF(AV8=\"L\",IF(AX31>TyoAika/24,0,TyoAika/24-AX31),0)","v":"00:00:00"},null,null,null,null,null,null,null,null,null,{"$f":"IF(BF8=\"L\",IF(BH31>TyoAika/24,0,TyoAika/24-BH31),0)","v":"00:00:00"},null,null,null,null,null,null,null,null,null,{"$f":"IF(BP8=\"L\",IF(BR31>TyoAika/24,0,TyoAika/24-BR31),0)","v":"00:00:00"},null,null,null,null,null,null,null,null,null,{"$f":"IF(BZ8=\"L\",IF(CB31>TyoAika/24,0,TyoAika/24-CB31),0)","v":"00:00:00"},null,null,null,null,null,null,null,null,null,{"$f":"IF(CJ8=\"L\",IF(CL31>TyoAika/24,0,TyoAika/24-CL31),0)","v":"00:00:00"},null,null,null,null,null,null,null,null,null,{"$f":"IF(CT8=\"L\",IF(CV31>TyoAika/24,0,TyoAika/24-CV31),0)","v":"00:00:00"},null,null,null,null,null,null,null,null,null,{"$f":"IF(DD8=\"L\",IF(DF31>TyoAika/24,0,TyoAika/24-DF31),0)","v":"00:00:00"},null,null,null,null,null,null,null,null,null,{"$f":"IF(DN8=\"L\",IF(DP31>TyoAika/24,0,TyoAika/24-DP31),0)","v":"00:00:00"},null,null,null,null,null,null,null,null,null,{"$f":"IF(DX8=\"L\",IF(DZ31>TyoAika/24,0,TyoAika/24-DZ31),0)","v":"00:00:00"},null,null,null,null,null,null,null,null,null,{"$f":"IF(EH8=\"L\",IF(EJ31>TyoAika/24,0,TyoAika/24-EJ31),0)","v":"00:00:00"},null,null,null,null,null,null,null,null,null,{"$f":"IF(ER8=\"L\",IF(ET31>TyoAika/24,0,TyoAika/24-ET31),0)","v":"00:00:00"},null,null,null,null,null,null,null,null,null,{"$f":"IF(FB8=\"L\",IF(FD31>TyoAika/24,0,TyoAika/24-FD31),0)","v":"00:00:00"},null,null,null,null,null,null,null,null,null,{"$f":"IF(FL8=\"L\",IF(FN31>TyoAika/24,0,TyoAika/24-FN31),0)","v":"00:00:00"},null,null,null,null,null,null,null,null,null,{"$f":"IF(FV8=\"L\",IF(FX31>TyoAika/24,0,TyoAika/24-FX31),0)","v":"00:00:00"},null,null,null,null,null,null,null,null,null,{"$f":"IF(GF8=\"L\",IF(GH31>TyoAika/24,0,TyoAika/24-GH31),0)","v":"00:00:00"},null,null,null,null,null,null,null,null,null,{"$f":"IF(GP8=\"L\",IF(GR31>TyoAika/24,0,TyoAika/24-GR31),0)","v":"00:00:00"},null,null,null,null,null,null,null,null,null,{"$f":"IF(GZ8=\"L\",IF(HB31>TyoAika/24,0,TyoAika/24-HB31),0)","v":"00:00:00"},null,null,null,null,null,null,null,null,null,{"$f":"IF(HJ8=\"L\",IF(HL31>TyoAika/24,0,TyoAika/24-HL31),0)","v":"00:00:00"},null,null,null,null,null,null,null,null,null,{"$f":"IF(HT8=\"L\",IF(HV31>TyoAika/24,0,TyoAika/24-HV31),0)","v":"00:00:00"},null,null,null,null,null,null,null,null,null,{"$f":"IF(ID8=\"L\",IF(IF31>TyoAika/24,0,TyoAika/24-IF31),0)","v":"00:00:00"},null,null,null,null,null,null,null,null,null,{"$f":"IF(IN8=\"L\",IF(IP31>TyoAika/24,0,TyoAika/24-IP31),0)","v":"00:00:00"},null,null,null,null,null,null,null,null,null,{"$f":"IF(IX8=\"L\",IF(IZ31>TyoAika/24,0,TyoAika/24-IZ31),0)","v":"00:00:00"},null,null,null,null,null,null,null,null,null,{"$f":"IF(JH8=\"L\",IF(JJ31>TyoAika/24,0,TyoAika/24-JJ31),0)","v":"00:00:00"},null,null,null,null,null,null,null,null,null,{"$f":"IF(JR8=\"L\",IF(JT31>TyoAika/24,0,TyoAika/24-JT31),0)","v":"00:00:00"},null,null,null,null,null,null,null,null,null,{"$f":"IF(KB8=\"L\",IF(KD31>TyoAika/24,0,TyoAika/24-KD31),0)","v":"00:00:00"},null,null,null,null,null,null,null,null,null,{"$f":"IF(KL8=\"L\",IF(KN31>TyoAika/24,0,TyoAika/24-KN31),0)","v":"00:00:00"},null,null,null,null,null,null,null,null,null,{"$f":"IF(KV8=\"L\",IF(KX31>TyoAika/24,0,TyoAika/24-KX31),0)","v":"00:00:00"},null,null,null,null,null,null,null,null,null,{"$f":"IF(LF8=\"L\",IF(LH31>TyoAika/24,0,TyoAika/24-LH31),0)","v":"00:00:00"},null,null,null,null,null,null,null,null,null,{"$f":"IF(LP8=\"L\",IF(LR31>TyoAika/24,0,TyoAika/24-LR31),0)","v":"00:00:00"},null,null,null,null,null,null,null,null,null,{"$f":"IF(LZ8=\"L\",IF(MB31>TyoAika/24,0,TyoAika/24-MB31),0)","v":"00:00:00"},null,null,null,null,null,null,null,null,null,{"$f":"IF(MJ8=\"L\",IF(ML31>TyoAika/24,0,TyoAika/24-ML31),0)","v":"00:00:00"},null,null,null,null,null,null,null,null,null,{"$f":"IF(MT8=\"L\",IF(MV31>TyoAika/24,0,TyoAika/24-MV31),0)","v":"00:00:00"},null,null,null,null,null,null,null,null,null,{"$f":"IF(ND8=\"L\",IF(NF31>TyoAika/24,0,TyoAika/24-NF31),0)","v":"00:00:00"},null,null,null,null,null,null,null,null,null,{"$f":"IF(NN8=\"L\",IF(NP31>TyoAika/24,0,TyoAika/24-NP31),0)","v":"00:00:00"},null,null,null,null,null,null,null,null,null,{"$f":"IF(NX8=\"L\",IF(NZ31>TyoAika/24,0,TyoAika/24-NZ31),0)","v":"00:00:00"},null,null,null,null,null,null,null,null,null,{"$f":"IF(OH8=\"L\",IF(OJ31>TyoAika/24,0,TyoAika/24-OJ31),0)","v":"00:00:00"},null,null,null,null,null,null,null,null,null,{"$f":"IF(OR8=\"L\",IF(OT31>TyoAika/24,0,TyoAika/24-OT31),0)","v":"00:00:00"},null,null,null,null,null,null,null,null,null,{"$f":"IF(PB8=\"L\",IF(PD31>TyoAika/24,0,TyoAika/24-PD31),0)","v":"00:00:00"},null,null,null,null,null,null,null,null,null,{"$f":"IF(PL8=\"L\",IF(PN31>TyoAika/24,0,TyoAika/24-PN31),0)","v":"00:00:00"},null,null,null,null,null,null,null,null,null,{"$f":"IF(PV8=\"L\",IF(PX31>TyoAika/24,0,TyoAika/24-PX31),0)","v":"00:00:00"},null,null,null,null,null,null,null,null,null,{"$f":"IF(QF8=\"L\",IF(QH31>TyoAika/24,0,TyoAika/24-QH31),0)","v":"00:00:00"},null,null,null,null,null,null,null,null,null,{"$f":"IF(QP8=\"L\",IF(QR31>TyoAika/24,0,TyoAika/24-QR31),0)","v":"00:00:00"},null,null,null,null,null,null,null,null,null,{"$f":"IF(QZ8=\"L\",IF(RB31>TyoAika/24,0,TyoAika/24-RB31),0)","v":"00:00:00"},null,null,null,null,null,null,null,null,null,{"$f":"IF(RJ8=\"L\",IF(RL31>TyoAika/24,0,TyoAika/24-RL31),0)","v":"00:00:00"},null,null,null,null,null,null,null,null,null,{"$f":"IF(RT8=\"L\",IF(RV31>TyoAika/24,0,TyoAika/24-RV31),0)","v":"00:00:00"},null,null,null,null,null,null,null,null,null,{"$f":"IF(SD8=\"L\",IF(SF31>TyoAika/24,0,TyoAika/24-SF31),0)","v":"00:00:00"},null,null,null,null,null,null,null,null,null,{"$f":"IF(SN8=\"L\",IF(SP31>TyoAika/24,0,TyoAika/24-SP31),0)","v":"00:00:00"},null,null,null,null,null,null,null,null,null,{"$f":"IF(SX8=\"L\",IF(SZ31>TyoAika/24,0,TyoAika/24-SZ31),0)","v":"00:00:00"},null,null,null,null,null,null,null,null,null,{"$f":"IF(TH8=\"L\",IF(TJ31>TyoAika/24,0,TyoAika/24-TJ31),0)","v":"00:00:00"},null,null,null,null,null,null,null,null,null,{"$f":"IF(TR8=\"L\",IF(TT31>TyoAika/24,0,TyoAika/24-TT31),0)","v":"00:00:00"},null,null,null,null,null,null,null,null,null,{"$f":"IF(UB8=\"L\",IF(UD31>TyoAika/24,0,TyoAika/24-UD31),0)","v":"00:00:00"},null,null,null,null,null,null,null,null,null,{"$f":"IF(UL8=\"L\",IF(UN31>TyoAika/24,0,TyoAika/24-UN31),0)","v":"00:00:00"},null,null,null,null,null,null,null,null,null,{"$f":"IF(UV8=\"L\",IF(UX31>TyoAika/24,0,TyoAika/24-UX31),0)","v":"00:00:00"},null,null,null,null,null,null,null,null,null,{"$f":"IF(VF8=\"L\",IF(VH31>TyoAika/24,0,TyoAika/24-VH31),0)","v":"00:00:00"},null,null,null,null,null,null,null,null,null,{"$f":"IF(VP8=\"L\",IF(VR31>TyoAika/24,0,TyoAika/24-VR31),0)","v":"00:00:00"},null,null,null,null,null,null,null,null,null,{"$f":"IF(VZ8=\"L\",IF(WB31>TyoAika/24,0,TyoAika/24-WB31),0)","v":"00:00:00"},null,null,null,null,null,null,null,null,null,{"$f":"IF(WJ8=\"L\",IF(WL31>TyoAika/24,0,TyoAika/24-WL31),0)","v":"00:00:00"},null,null,null,null,null,null,null,null,null,{"$f":"IF(WT8=\"L\",IF(WV31>TyoAika/24,0,TyoAika/24-WV31),0)","v":"00:00:00"},null,null,null,null,null,null,null,null,null,{"$f":"IF(XD8=\"L\",IF(XF31>TyoAika/24,0,TyoAika/24-XF31),0)","v":"00:00:00"},null,null,null,null,null,null,null,null,null,{"$f":"IF(XN8=\"L\",IF(XP31>TyoAika/24,0,TyoAika/24-XP31),0)","v":"00:00:00"},null,null,null,null,null,null,null,null,null,{"$f":"IF(XX8=\"L\",IF(XZ31>TyoAika/24,0,TyoAika/24-XZ31),0)","v":"00:00:00"},null,null,null,null,null,null,null,null,null,{"$f":"IF(YH8=\"L\",IF(YJ31>TyoAika/24,0,TyoAika/24-YJ31),0)","v":"00:00:00"},null,null,null,null,null,null,null,null,null,{"$f":"IF(YR8=\"L\",IF(YT31>TyoAika/24,0,TyoAika/24-YT31),0)","v":"00:00:00"},null,null,null,null,null,null,null,null,null,{"$f":"IF(ZB8=\"L\",IF(ZD31>TyoAika/24,0,TyoAika/24-ZD31),0)","v":"00:00:00"},null,null,null,null,null,null,null,null,null,{"$f":"IF(ZL8=\"L\",IF(ZN31>TyoAika/24,0,TyoAika/24-ZN31),0)","v":"00:00:00"},null,null,null,null,null,null,null,null,null,{"$f":"IF(ZV8=\"L\",IF(ZX31>TyoAika/24,0,TyoAika/24-ZX31),0)","v":"00:00:00"},null,null,null,null,null,null,null,null,null,{"$f":"IF(AAF8=\"L\",IF(AAH31>TyoAika/24,0,TyoAika/24-AAH31),0)","v":"00:00:00"},null,null,null,null,null,null,null,null,null,{"$f":"IF(AAP8=\"L\",IF(AAR31>TyoAika/24,0,TyoAika/24-AAR31),0)","v":"00:00:00"},null,null,null,null,null,null,null,null,null,{"$f":"IF(AAZ8=\"L\",IF(ABB31>TyoAika/24,0,TyoAika/24-ABB31),0)","v":"00:00:00"},null,null,null,null,null,null,null,null,null,{"$f":"IF(ABJ8=\"L\",IF(ABL31>TyoAika/24,0,TyoAika/24-ABL31),0)","v":"00:00:00"},null,null,null,null,null,null,null,null,null,{"$f":"IF(ABT8=\"L\",IF(ABV31>TyoAika/24,0,TyoAika/24-ABV31),0)","v":"00:00:00"},null,null,null,null,null,null,null,null,null,{"$f":"IF(ACD8=\"L\",IF(ACF31>TyoAika/24,0,TyoAika/24-ACF31),0)","v":"00:00:00"},null,null,null,null,null,null,null,null,null,{"$f":"IF(ACN8=\"L\",IF(ACP31>TyoAika/24,0,TyoAika/24-ACP31),0)","v":"00:00:00"},null,null,null,null,null,null,null,null,null,{"$f":"IF(ACX8=\"L\",IF(ACZ31>TyoAika/24,0,TyoAika/24-ACZ31),0)","v":"00:00:00"},null,null,null,null,null,null,null,null,null,{"$f":"IF(ADH8=\"L\",IF(ADJ31>TyoAika/24,0,TyoAika/24-ADJ31),0)","v":"00:00:00"},null,null,null,null,null,null,null,null,null,{"$f":"IF(ADR8=\"L\",IF(ADT31>TyoAika/24,0,TyoAika/24-ADT31),0)","v":"00:00:00"},null,null,null,null,null,null,null,null,null,{"$f":"IF(AEB8=\"L\",IF(AED31>TyoAika/24,0,TyoAika/24-AED31),0)","v":"00:00:00"},null,null,null,null,null,null,null,null,null,{"$f":"IF(AEL8=\"L\",IF(AEN31>TyoAika/24,0,TyoAika/24-AEN31),0)","v":"00:00:00"},null,null,null,null,null,null,null,null,null,{"$f":"IF(AEV8=\"L\",IF(AEX31>TyoAika/24,0,TyoAika/24-AEX31),0)","v":"00:00:00"},null,null,null,null,null,null,null,null,null,{"$f":"IF(AFF8=\"L\",IF(AFH31>TyoAika/24,0,TyoAika/24-AFH31),0)","v":"00:00:00"},null,null,null,null,null,null,null,null,null,{"$f":"IF(AFP8=\"L\",IF(AFR31>TyoAika/24,0,TyoAika/24-AFR31),0)","v":"00:00:00"},null,null,null,null,null,null,null,null,null,{"$f":"IF(AFZ8=\"L\",IF(AGB31>TyoAika/24,0,TyoAika/24-AGB31),0)","v":"00:00:00"},null,null,null,null,null,null,null,null,null,{"$f":"IF(AGJ8=\"L\",IF(AGL31>TyoAika/24,0,TyoAika/24-AGL31),0)","v":"00:00:00"},null,null,null,null,null,null,null,null,null,{"$f":"IF(AGT8=\"L\",IF(AGV31>TyoAika/24,0,TyoAika/24-AGV31),0)","v":"00:00:00"},null,null,null,null,null,null,null,null,null,{"$f":"IF(AHD8=\"L\",IF(AHF31>TyoAika/24,0,TyoAika/24-AHF31),0)","v":"00:00:00"},null,null,null,null,null,null,null,null,null,{"$f":"IF(AHN8=\"L\",IF(AHP31>TyoAika/24,0,TyoAika/24-AHP31),0)","v":"00:00:00"},null,null,null,null,null,null,null,null,null,{"$f":"IF(AHX8=\"L\",IF(AHZ31>TyoAika/24,0,TyoAika/24-AHZ31),0)","v":"00:00:00"},null,null,null,null,null,null,null,null,null,{"$f":"IF(AIH8=\"L\",IF(AIJ31>TyoAika/24,0,TyoAika/24-AIJ31),0)","v":"00:00:00"},null,null,null,null,null,null,null,null,null,{"$f":"IF(AIR8=\"L\",IF(AIT31>TyoAika/24,0,TyoAika/24-AIT31),0)","v":"00:00:00"},null,null,null,null,null,null,null,null,null,{"$f":"IF(AJB8=\"L\",IF(AJD31>TyoAika/24,0,TyoAika/24-AJD31),0)","v":"00:00:00"},null,null,null,null,null,null,null,null,null,{"$f":"IF(AJL8=\"L\",IF(AJN31>TyoAika/24,0,TyoAika/24-AJN31),0)","v":"00:00:00"},null,null,null,null,null,null,null,null,null,{"$f":"IF(AJV8=\"L\",IF(AJX31>TyoAika/24,0,TyoAika/24-AJX31),0)","v":"00:00:00"},null,null,null,null,null,null,null,null,null,{"$f":"IF(AKF8=\"L\",IF(AKH31>TyoAika/24,0,TyoAika/24-AKH31),0)","v":"00:00:00"},null,null,null,null,null,null,null,null,null,{"$f":"IF(AKP8=\"L\",IF(AKR31>TyoAika/24,0,TyoAika/24-AKR31),0)","v":"00:00:00"},null,null,null,null,null,null,null,null,null,{"$f":"IF(AKZ8=\"L\",IF(ALB31>TyoAika/24,0,TyoAika/24-ALB31),0)","v":"00:00:00"},null,null,null,null,null,null,null,null,null,{"$f":"IF(ALJ8=\"L\",IF(ALL31>TyoAika/24,0,TyoAika/24-ALL31),0)","v":"00:00:00"},null,null,null,null,null,null,null,null,null,{"$f":"IF(ALT8=\"L\",IF(ALV31>TyoAika/24,0,TyoAika/24-ALV31),0)","v":"00:00:00"},null,null,null,null,null,null,null,null,null,{"$f":"IF(AMD8=\"L\",IF(AMF31>TyoAika/24,0,TyoAika/24-AMF31),0)","v":"00:00:00"},null,null,null,null,null,null,null,null,null,{"$f":"IF(AMN8=\"L\",IF(AMP31>TyoAika/24,0,TyoAika/24-AMP31),0)","v":"00:00:00"},null,null,null,null,null,null,null,null,null,{"$f":"IF(AMX8=\"L\",IF(AMZ31>TyoAika/24,0,TyoAika/24-AMZ31),0)","v":"00:00:00"},null,null,null,null,null,null,null,null,null,{"$f":"IF(ANH8=\"L\",IF(ANJ31>TyoAika/24,0,TyoAika/24-ANJ31),0)","v":"00:00:00"},null,null,null,null,null,null,null,null,null,{"$f":"IF(ANR8=\"L\",IF(ANT31>TyoAika/24,0,TyoAika/24-ANT31),0)","v":"00:00:00"},null,null,null,null,null,null,null,null,null,{"$f":"IF(AOB8=\"L\",IF(AOD31>TyoAika/24,0,TyoAika/24-AOD31),0)","v":"00:00:00"},null,null,null,null,null,null,null,null,null,{"$f":"IF(AOL8=\"L\",IF(AON31>TyoAika/24,0,TyoAika/24-AON31),0)","v":"00:00:00"},null,null,null,null,null,null,null,null,null,{"$f":"IF(AOV8=\"L\",IF(AOX31>TyoAika/24,0,TyoAika/24-AOX31),0)","v":"00:00:00"},null,null,null,null,null,null,null,null,null,{"$f":"IF(APF8=\"L\",IF(APH31>TyoAika/24,0,TyoAika/24-APH31),0)","v":"00:00:00"},null,null,null,null,null,null,null,null,null,{"$f":"IF(APP8=\"L\",IF(APR31>TyoAika/24,0,TyoAika/24-APR31),0)","v":"00:00:00"},null,null,null,null,null,null,null,null,null,{"$f":"IF(APZ8=\"L\",IF(AQB31>TyoAika/24,0,TyoAika/24-AQB31),0)","v":"00:00:00"},null,null,null,null,null,null,null,null,null,{"$f":"IF(AQJ8=\"L\",IF(AQL31>TyoAika/24,0,TyoAika/24-AQL31),0)","v":"00:00:00"},null,null,null,null,null,null,null,null,null,{"$f":"IF(AQT8=\"L\",IF(AQV31>TyoAika/24,0,TyoAika/24-AQV31),0)","v":"00:00:00"},null,null,null,null,null,null,null,null,null,{"$f":"IF(ARD8=\"L\",IF(ARF31>TyoAika/24,0,TyoAika/24-ARF31),0)","v":"00:00:00"},null,null,null,null,null,null,null,null,null,{"$f":"IF(ARN8=\"L\",IF(ARP31>TyoAika/24,0,TyoAika/24-ARP31),0)","v":"00:00:00"},null,null,null,null,null,null,null,null,null,{"$f":"IF(ARX8=\"L\",IF(ARZ31>TyoAika/24,0,TyoAika/24-ARZ31),0)","v":"00:00:00"},null,null,null,null,null,null,null,null,null,{"$f":"IF(ASH8=\"L\",IF(ASJ31>TyoAika/24,0,TyoAika/24-ASJ31),0)","v":"00:00:00"},null,null,null,null,null,null,null,null,null,{"$f":"IF(ASR8=\"L\",IF(AST31>TyoAika/24,0,TyoAika/24-AST31),0)","v":"00:00:00"},null,null,null,null,null,null,null,null,null,{"$f":"IF(ATB8=\"L\",IF(ATD31>TyoAika/24,0,TyoAika/24-ATD31),0)","v":"00:00:00"},null,null,null,null,null,null,null,null,null,{"$f":"IF(ATL8=\"L\",IF(ATN31>TyoAika/24,0,TyoAika/24-ATN31),0)","v":"00:00:00"},null,null,null,null,null,null,null,null,null,{"$f":"IF(ATV8=\"L\",IF(ATX31>TyoAika/24,0,TyoAika/24-ATX31),0)","v":"00:00:00"},null,null,null,null,null,null,null,null,null,{"$f":"IF(AUF8=\"L\",IF(AUH31>TyoAika/24,0,TyoAika/24-AUH31),0)","v":"00:00:00"},null,null,null,null,null,null,null,null,null,{"$f":"IF(AUP8=\"L\",IF(AUR31>TyoAika/24,0,TyoAika/24-AUR31),0)","v":"00:00:00"},null,null,null,null,null,null,null,null,null,{"$f":"IF(AUZ8=\"L\",IF(AVB31>TyoAika/24,0,TyoAika/24-AVB31),0)","v":"00:00:00"},null,null,null,null,null,null,null,null,null,{"$f":"IF(AVJ8=\"L\",IF(AVL31>TyoAika/24,0,TyoAika/24-AVL31),0)","v":"00:00:00"},null,null,null,null,null,null,null,null,null,{"$f":"IF(AVT8=\"L\",IF(AVV31>TyoAika/24,0,TyoAika/24-AVV31),0)","v":"00:00:00"},null,null,null,null,null,null,null,null,null,{"$f":"IF(AWD8=\"L\",IF(AWF31>TyoAika/24,0,TyoAika/24-AWF31),0)","v":"00:00:00"},null,null,null,null,null,null,null,null,null,{"$f":"IF(AWN8=\"L\",IF(AWP31>TyoAika/24,0,TyoAika/24-AWP31),0)","v":"00:00:00"},null,null,null,null,null,null,null,null,null,{"$f":"IF(AWX8=\"L\",IF(AWZ31>TyoAika/24,0,TyoAika/24-AWZ31),0)","v":"00:00:00"},null,null,null,null,null,null,null,null,null,{"$f":"IF(AXH8=\"L\",IF(AXJ31>TyoAika/24,0,TyoAika/24-AXJ31),0)","v":"00:00:00"},null,null,null,null,null,null,null,null,null,{"$f":"IF(AXR8=\"L\",IF(AXT31>TyoAika/24,0,TyoAika/24-AXT31),0)","v":"00:00:00"},null,null,null,null,null,null,null,null,null,{"$f":"IF(AYB8=\"L\",IF(AYD31>TyoAika/24,0,TyoAika/24-AYD31),0)","v":"00:00:00"},null,null,null,null,null,null,null,null,null,{"$f":"IF(AYL8=\"L\",IF(AYN31>TyoAika/24,0,TyoAika/24-AYN31),0)","v":"00:00:00"},null,null,null,null,null,null,null,null,null,{"$f":"IF(AYV8=\"L\",IF(AYX31>TyoAika/24,0,TyoAika/24-AYX31),0)","v":"00:00:00"},null,null,null,null,null,null,null,null,null,{"$f":"IF(AZF8=\"L\",IF(AZH31>TyoAika/24,0,TyoAika/24-AZH31),0)","v":"00:00:00"},null,null,null,null,null,null,null,null,null,{"$f":"IF(AZP8=\"L\",IF(AZR31>TyoAika/24,0,TyoAika/24-AZR31),0)","v":"00:00:00"},null,null,null,null,null,null,null,null,null,{"$f":"IF(AZZ8=\"L\",IF(BAB31>TyoAika/24,0,TyoAika/24-BAB31),0)","v":"00:00:00"},null,null,null,null,null,null,null,null,null,{"$f":"IF(BAJ8=\"L\",IF(BAL31>TyoAika/24,0,TyoAika/24-BAL31),0)","v":"00:00:00"},null,null,null,null,null,null,null,null,null,{"$f":"IF(BAT8=\"L\",IF(BAV31>TyoAika/24,0,TyoAika/24-BAV31),0)","v":"00:00:00"},null,null,null,null,null,null,null,null,null,{"$f":"IF(BBD8=\"L\",IF(BBF31>TyoAika/24,0,TyoAika/24-BBF31),0)","v":"00:00:00"},null,null,null,null,null,null,null,null,null,{"$f":"IF(BBN8=\"L\",IF(BBP31>TyoAika/24,0,TyoAika/24-BBP31),0)","v":"00:00:00"},null,null,null,null,null,null,null,null,null,{"$f":"IF(BBX8=\"L\",IF(BBZ31>TyoAika/24,0,TyoAika/24-BBZ31),0)","v":"00:00:00"},null,null,null,null,null,null,null,null,null,{"$f":"IF(BCH8=\"L\",IF(BCJ31>TyoAika/24,0,TyoAika/24-BCJ31),0)","v":"00:00:00"},null,null,null,null,null,null,null,null,null,{"$f":"IF(BCR8=\"L\",IF(BCT31>TyoAika/24,0,TyoAika/24-BCT31),0)","v":"00:00:00"},null,null,null,null,null,null,null,null,null,{"$f":"IF(BDB8=\"L\",IF(BDD31>TyoAika/24,0,TyoAika/24-BDD31),0)","v":"00:00:00"},null,null,null,null,null,null,null,null,null,{"$f":"IF(BDL8=\"L\",IF(BDN31>TyoAika/24,0,TyoAika/24-BDN31),0)","v":"00:00:00"},null,null,null,null,null,null,null,null,null,{"$f":"IF(BDV8=\"L\",IF(BDX31>TyoAika/24,0,TyoAika/24-BDX31),0)","v":"00:00:00"},null,null,null,null,null,null,null,null,null,{"$f":"IF(BEF8=\"L\",IF(BEH31>TyoAika/24,0,TyoAika/24-BEH31),0)","v":"00:00:00"},null,null,null,null,null,null,null,null,null,{"$f":"IF(BEP8=\"L\",IF(BER31>TyoAika/24,0,TyoAika/24-BER31),0)","v":"00:00:00"},null,null,null,null,null,null,null,null,null,{"$f":"IF(BEZ8=\"L\",IF(BFB31>TyoAika/24,0,TyoAika/24-BFB31),0)","v":"00:00:00"},null,null,null,null,null,null,null,null,null,{"$f":"IF(BFJ8=\"L\",IF(BFL31>TyoAika/24,0,TyoAika/24-BFL31),0)","v":"00:00:00"},null,null,null,null,null,null,null,null,null,{"$f":"IF(BFT8=\"L\",IF(BFV31>TyoAika/24,0,TyoAika/24-BFV31),0)","v":"00:00:00"},null,null,null,null,null,null,null,null,null,{"$f":"IF(BGD8=\"L\",IF(BGF31>TyoAika/24,0,TyoAika/24-BGF31),0)","v":"00:00:00"},null,null,null,null,null,null,null,null,null,{"$f":"IF(BGN8=\"L\",IF(BGP31>TyoAika/24,0,TyoAika/24-BGP31),0)","v":"00:00:00"},null,null,null,null,null,null,null,null,null,{"$f":"IF(BGX8=\"L\",IF(BGZ31>TyoAika/24,0,TyoAika/24-BGZ31),0)","v":"00:00:00"},null,null,null,null,null,null,null,null,null,{"$f":"IF(BHH8=\"L\",IF(BHJ31>TyoAika/24,0,TyoAika/24-BHJ31),0)","v":"00:00:00"},null,null,null,null,null,null,null,null,null,{"$f":"IF(BHR8=\"L\",IF(BHT31>TyoAika/24,0,TyoAika/24-BHT31),0)","v":"00:00:00"},null,null,null,null,null,null,null,null,null,{"$f":"IF(BIB8=\"L\",IF(BID31>TyoAika/24,0,TyoAika/24-BID31),0)","v":"00:00:00"},null,null,null,null,null,null,null,null,null,{"$f":"IF(BIL8=\"L\",IF(BIN31>TyoAika/24,0,TyoAika/24-BIN31),0)","v":"00:00:00"},null,null,null,null,null,null,null,null,null,{"$f":"IF(BIV8=\"L\",IF(BIX31>TyoAika/24,0,TyoAika/24-BIX31),0)","v":"00:00:00"},null,null,null,null,null,null,null,null,null,{"$f":"IF(BJF8=\"L\",IF(BJH31>TyoAika/24,0,TyoAika/24-BJH31),0)","v":"00:00:00"},null,null,null,null,null,null,null,null,null,{"$f":"IF(BJP8=\"L\",IF(BJR31>TyoAika/24,0,TyoAika/24-BJR31),0)","v":"00:00:00"},null,null,null,null,null,null,null,null,null,{"$f":"IF(BJZ8=\"L\",IF(BKB31>TyoAika/24,0,TyoAika/24-BKB31),0)","v":"00:00:00"},null,null,null,null,null,null,null,null,null,{"$f":"IF(BKJ8=\"L\",IF(BKL31>TyoAika/24,0,TyoAika/24-BKL31),0)","v":"00:00:00"},null,null,null,null,null,null,null,null,null,{"$f":"IF(BKT8=\"L\",IF(BKV31>TyoAika/24,0,TyoAika/24-BKV31),0)","v":"00:00:00"},null,null,null,null,null,null,null,null,null,{"$f":"IF(BLD8=\"L\",IF(BLF31>TyoAika/24,0,TyoAika/24-BLF31),0)","v":"00:00:00"},null,null,null,null,null,null,null,null,null,{"$f":"IF(BLN8=\"L\",IF(BLP31>TyoAika/24,0,TyoAika/24-BLP31),0)","v":"00:00:00"},null,null,null,null,null,null,null,null,null,{"$f":"IF(BLX8=\"L\",IF(BLZ31>TyoAika/24,0,TyoAika/24-BLZ31),0)","v":"00:00:00"},null,null,null,null,null,null,null,null,null,{"$f":"IF(BMH8=\"L\",IF(BMJ31>TyoAika/24,0,TyoAika/24-BMJ31),0)","v":"00:00:00"},null,null,null,null,null,null,null,null,null,{"$f":"IF(BMR8=\"L\",IF(BMT31>TyoAika/24,0,TyoAika/24-BMT31),0)","v":"00:00:00"},null,null,null,null,null,null,null,null,null,{"$f":"IF(BNB8=\"L\",IF(BND31>TyoAika/24,0,TyoAika/24-BND31),0)","v":"00:00:00"},null,null,null,null,null,null,null,null,null,{"$f":"IF(BNL8=\"L\",IF(BNN31>TyoAika/24,0,TyoAika/24-BNN31),0)","v":"00:00:00"},null,null,null,null,null,null,null,null,null,{"$f":"IF(BNV8=\"L\",IF(BNX31>TyoAika/24,0,TyoAika/24-BNX31),0)","v":"00:00:00"},null,null,null,null,null,null,null,null,null,{"$f":"IF(BOF8=\"L\",IF(BOH31>TyoAika/24,0,TyoAika/24-BOH31),0)","v":"00:00:00"},null,null,null,null,null,null,null,null,null,{"$f":"IF(BOP8=\"L\",IF(BOR31>TyoAika/24,0,TyoAika/24-BOR31),0)","v":"00:00:00"},null,null,null,null,null,null,null,null,null,{"$f":"IF(BOZ8=\"L\",IF(BPB31>TyoAika/24,0,TyoAika/24-BPB31),0)","v":"00:00:00"},null,null,null,null,null,null,null,null,null,{"$f":"IF(BPJ8=\"L\",IF(BPL31>TyoAika/24,0,TyoAika/24-BPL31),0)","v":"00:00:00"},null,null,null,null,null,null,null,null,null,{"$f":"IF(BPT8=\"L\",IF(BPV31>TyoAika/24,0,TyoAika/24-BPV31),0)","v":"00:00:00"},null,null,null,null,null,null,null,null,null,{"$f":"IF(BQD8=\"L\",IF(BQF31>TyoAika/24,0,TyoAika/24-BQF31),0)","v":"00:00:00"},null,null,null,null,null,null,null,null,null,{"$f":"IF(BQN8=\"L\",IF(BQP31>TyoAika/24,0,TyoAika/24-BQP31),0)","v":"00:00:00"},null,null,null,null,null,null,null,null,null,{"$f":"IF(BQX8=\"L\",IF(BQZ31>TyoAika/24,0,TyoAika/24-BQZ31),0)","v":"00:00:00"},null,null,null,null,null,null,null,null,null,{"$f":"IF(BRH8=\"L\",IF(BRJ31>TyoAika/24,0,TyoAika/24-BRJ31),0)","v":"00:00:00"},null,null,null,null,null,null,null,null,null,{"$f":"IF(BRR8=\"L\",IF(BRT31>TyoAika/24,0,TyoAika/24-BRT31),0)","v":"00:00:00"},null,null,null,null,null,null,null,null,null,{"$f":"IF(BSB8=\"L\",IF(BSD31>TyoAika/24,0,TyoAika/24-BSD31),0)","v":"00:00:00"},null,null,null,null,null,null,null,null,null,{"$f":"IF(BSL8=\"L\",IF(BSN31>TyoAika/24,0,TyoAika/24-BSN31),0)","v":"00:00:00"},null,null,null,null,null,null,null,null,null,{"$f":"IF(BSV8=\"L\",IF(BSX31>TyoAika/24,0,TyoAika/24-BSX31),0)","v":"00:00:00"},null,null,null,null,null,null,null,null,null,{"$f":"IF(BTF8=\"L\",IF(BTH31>TyoAika/24,0,TyoAika/24-BTH31),0)","v":"00:00:00"},null,null,null,null,null,null,null,null,null,{"$f":"IF(BTP8=\"L\",IF(BTR31>TyoAika/24,0,TyoAika/24-BTR31),0)","v":"00:00:00"},null,null,null,null,null,null,null,null,null,{"$f":"IF(BTZ8=\"L\",IF(BUB31>TyoAika/24,0,TyoAika/24-BUB31),0)","v":"00:00:00"},null,null,null,null,null,null,null,null,null,{"$f":"IF(BUJ8=\"L\",IF(BUL31>TyoAika/24,0,TyoAika/24-BUL31),0)","v":"00:00:00"},null,null,null,null,null,null,null,null,null,{"$f":"IF(BUT8=\"L\",IF(BUV31>TyoAika/24,0,TyoAika/24-BUV31),0)","v":"00:00:00"},null,null,null,null,null,null,null,null,null,{"$f":"IF(BVD8=\"L\",IF(BVF31>TyoAika/24,0,TyoAika/24-BVF31),0)","v":"00:00:00"},null,null,null,null,null,null,null,null,null,{"$f":"IF(BVN8=\"L\",IF(BVP31>TyoAika/24,0,TyoAika/24-BVP31),0)","v":"00:00:00"},null,null,null,null,null,null,null,null,null,{"$f":"IF(BVX8=\"L\",IF(BVZ31>TyoAika/24,0,TyoAika/24-BVZ31),0)","v":"00:00:00"},null,null,null,null,null,null,null,null,null,{"$f":"IF(BWH8=\"L\",IF(BWJ31>TyoAika/24,0,TyoAika/24-BWJ31),0)","v":"00:00:00"},null,null,null,null,null,null,null,null,null,{"$f":"IF(BWR8=\"L\",IF(BWT31>TyoAika/24,0,TyoAika/24-BWT31),0)","v":"00:00:00"},null,null,null,null,null,null,null,null,null,{"$f":"IF(BXB8=\"L\",IF(BXD31>TyoAika/24,0,TyoAika/24-BXD31),0)","v":"00:00:00"},null,null,null,null,null,null,null,null,null,{"$f":"IF(BXL8=\"L\",IF(BXN31>TyoAika/24,0,TyoAika/24-BXN31),0)","v":"00:00:00"},null,null,null,null,null,null,null,null,null,{"$f":"IF(BXV8=\"L\",IF(BXX31>TyoAika/24,0,TyoAika/24-BXX31),0)","v":"00:00:00"},null,null,null,null,null,null,null,null,null,{"$f":"IF(BYF8=\"L\",IF(BYH31>TyoAika/24,0,TyoAika/24-BYH31),0)","v":"00:00:00"},null,null,null,null,null,null,null,null,null,{"$f":"IF(BYP8=\"L\",IF(BYR31>TyoAika/24,0,TyoAika/24-BYR31),0)","v":"00:00:00"},null,null,null,null,null,null,null,null,null,{"$f":"IF(BYZ8=\"L\",IF(BZB31>TyoAika/24,0,TyoAika/24-BZB31),0)","v":"00:00:00"},null,null,null,null,null,null,null,null,null,{"$f":"IF(BZJ8=\"L\",IF(BZL31>TyoAika/24,0,TyoAika/24-BZL31),0)","v":"00:00:00"},null,null,null,null,null,null,null,null,null,{"$f":"IF(BZT8=\"L\",IF(BZV31>TyoAika/24,0,TyoAika/24-BZV31),0)","v":"00:00:00"},null,null,null,null,null,null,null,null,null,{"$f":"IF(CAD8=\"L\",IF(CAF31>TyoAika/24,0,TyoAika/24-CAF31),0)","v":"00:00:00"},null,null,null,null,null,null,null,null,null,{"$f":"IF(CAN8=\"L\",IF(CAP31>TyoAika/24,0,TyoAika/24-CAP31),0)","v":"00:00:00"},null,null,null,null,null,null,null,null,null,{"$f":"IF(CAX8=\"L\",IF(CAZ31>TyoAika/24,0,TyoAika/24-CAZ31),0)","v":"00:00:00"},null,null,null,null,null,null,null,null,null,{"$f":"IF(CBH8=\"L\",IF(CBJ31>TyoAika/24,0,TyoAika/24-CBJ31),0)","v":"00:00:00"},null,null,null,null,null,null,null,null,null,{"$f":"IF(CBR8=\"L\",IF(CBT31>TyoAika/24,0,TyoAika/24-CBT31),0)","v":"00:00:00"},null,null,null,null,null,null,null,null,null,{"$f":"IF(CCB8=\"L\",IF(CCD31>TyoAika/24,0,TyoAika/24-CCD31),0)","v":"00:00:00"},null,null,null,null,null,null,null,null,null,{"$f":"IF(CCL8=\"L\",IF(CCN31>TyoAika/24,0,TyoAika/24-CCN31),0)","v":"00:00:00"},null,null,null,null,null,null,null,null,null,{"$f":"IF(CCV8=\"L\",IF(CCX31>TyoAika/24,0,TyoAika/24-CCX31),0)","v":"00:00:00"},null,null,null,null,null,null,null,null,null,{"$f":"IF(CDF8=\"L\",IF(CDH31>TyoAika/24,0,TyoAika/24-CDH31),0)","v":"00:00:00"},null,null,null,null,null,null,null,null,null,{"$f":"IF(CDP8=\"L\",IF(CDR31>TyoAika/24,0,TyoAika/24-CDR31),0)","v":"00:00:00"},null,null,null,null,null,null,null,null,null,{"$f":"IF(CDZ8=\"L\",IF(CEB31>TyoAika/24,0,TyoAika/24-CEB31),0)","v":"00:00:00"},null,null,null,null,null,null,null,null,null,{"$f":"IF(CEJ8=\"L\",IF(CEL31>TyoAika/24,0,TyoAika/24-CEL31),0)","v":"00:00:00"},null,null,null,null,null,null,null,null,null,{"$f":"IF(CET8=\"L\",IF(CEV31>TyoAika/24,0,TyoAika/24-CEV31),0)","v":"00:00:00"},null,null,null,null,null,null,null,null,null,{"$f":"IF(CFD8=\"L\",IF(CFF31>TyoAika/24,0,TyoAika/24-CFF31),0)","v":"00:00:00"},null,null,null,null,null,null,null,null,null,{"$f":"IF(CFN8=\"L\",IF(CFP31>TyoAika/24,0,TyoAika/24-CFP31),0)","v":"00:00:00"},null,null,null,null,null,null,null,null,null,{"$f":"IF(CFX8=\"L\",IF(CFZ31>TyoAika/24,0,TyoAika/24-CFZ31),0)","v":"00:00:00"},null,null,null,null,null,null,null,null,null,{"$f":"IF(CGH8=\"L\",IF(CGJ31>TyoAika/24,0,TyoAika/24-CGJ31),0)","v":"00:00:00"},null,null,null,null,null,null,null,null,null,{"$f":"IF(CGR8=\"L\",IF(CGT31>TyoAika/24,0,TyoAika/24-CGT31),0)","v":"00:00:00"},null,null,null,null,null,null,null,null,null,{"$f":"IF(CHB8=\"L\",IF(CHD31>TyoAika/24,0,TyoAika/24-CHD31),0)","v":"00:00:00"},null,null,null,null,null,null,null,null,null,{"$f":"IF(CHL8=\"L\",IF(CHN31>TyoAika/24,0,TyoAika/24-CHN31),0)","v":"00:00:00"},null,null,null,null,null,null,null,null,null,{"$f":"IF(CHV8=\"L\",IF(CHX31>TyoAika/24,0,TyoAika/24-CHX31),0)","v":"00:00:00"},null,null,null,null,null,null,null,null,null,{"$f":"IF(CIF8=\"L\",IF(CIH31>TyoAika/24,0,TyoAika/24-CIH31),0)","v":"00:00:00"},null,null,null,null,null,null,null,null,null,{"$f":"IF(CIP8=\"L\",IF(CIR31>TyoAika/24,0,TyoAika/24-CIR31),0)","v":"00:00:00"},null,null,null,null,null,null,null,null,null,{"$f":"IF(CIZ8=\"L\",IF(CJB31>TyoAika/24,0,TyoAika/24-CJB31),0)","v":"00:00:00"},null,null,null,null,null,null,null,null,null,{"$f":"IF(CJJ8=\"L\",IF(CJL31>TyoAika/24,0,TyoAika/24-CJL31),0)","v":"00:00:00"},null,null,null,null,null,null,null,null,null,{"$f":"IF(CJT8=\"L\",IF(CJV31>TyoAika/24,0,TyoAika/24-CJV31),0)","v":"00:00:00"},null,null,null,null,null,null,null,null,null,{"$f":"IF(CKD8=\"L\",IF(CKF31>TyoAika/24,0,TyoAika/24-CKF31),0)","v":"00:00:00"},null,null,null,null,null,null,null,null,null,{"$f":"IF(CKN8=\"L\",IF(CKP31>TyoAika/24,0,TyoAika/24-CKP31),0)","v":"00:00:00"},null,null,null,null,null,null,null,null,null,{"$f":"IF(CKX8=\"L\",IF(CKZ31>TyoAika/24,0,TyoAika/24-CKZ31),0)","v":"00:00:00"},null,null,null,null,null,null,null,null,null,{"$f":"IF(CLH8=\"L\",IF(CLJ31>TyoAika/24,0,TyoAika/24-CLJ31),0)","v":"00:00:00"},null,null,null,null,null,null,null,null,null,{"$f":"IF(CLR8=\"L\",IF(CLT31>TyoAika/24,0,TyoAika/24-CLT31),0)","v":"00:00:00"},null,null,null,null,null,null,null,null,null,{"$f":"IF(CMB8=\"L\",IF(CMD31>TyoAika/24,0,TyoAika/24-CMD31),0)","v":"00:00:00"},null,null,null,null,null,null,null,null,null,{"$f":"IF(CML8=\"L\",IF(CMN31>TyoAika/24,0,TyoAika/24-CMN31),0)","v":"00:00:00"},null,null,null,null,null,null,null,null,null,{"$f":"IF(CMV8=\"L\",IF(CMX31>TyoAika/24,0,TyoAika/24-CMX31),0)","v":"00:00:00"},null,null,null,null,null,null,null,null,null,{"$f":"IF(CNF8=\"L\",IF(CNH31>TyoAika/24,0,TyoAika/24-CNH31),0)","v":"00:00:00"},null,null,null,null,null,null,null,null,null,{"$f":"IF(CNP8=\"L\",IF(CNR31>TyoAika/24,0,TyoAika/24-CNR31),0)","v":"00:00:00"},null,null,null,null,null,null,null,null,null,{"$f":"IF(CNZ8=\"L\",IF(COB31>TyoAika/24,0,TyoAika/24-COB31),0)","v":"00:00:00"},null,null,null,null,null,null,null,null,null,{"$f":"IF(COJ8=\"L\",IF(COL31>TyoAika/24,0,TyoAika/24-COL31),0)","v":"00:00:00"},null,null,null,null,null,null,null,null,null,{"$f":"IF(COT8=\"L\",IF(COV31>TyoAika/24,0,TyoAika/24-COV31),0)","v":"00:00:00"},null,null,null,null,null,null,null,null,null,{"$f":"IF(CPD8=\"L\",IF(CPF31>TyoAika/24,0,TyoAika/24-CPF31),0)","v":"00:00:00"},null,null,null,null,null,null,null,null,null,{"$f":"IF(CPN8=\"L\",IF(CPP31>TyoAika/24,0,TyoAika/24-CPP31),0)","v":"00:00:00"},null,null,null,null,null,null,null,null,null,{"$f":"IF(CPX8=\"L\",IF(CPZ31>TyoAika/24,0,TyoAika/24-CPZ31),0)","v":"00:00:00"},null,null,null,null,null,null,null,null,null,{"$f":"IF(CQH8=\"L\",IF(CQJ31>TyoAika/24,0,TyoAika/24-CQJ31),0)","v":"00:00:00"},null,null,null,null,null,null,null,null,null,{"$f":"IF(CQR8=\"L\",IF(CQT31>TyoAika/24,0,TyoAika/24-CQT31),0)","v":"00:00:00"},null,null,null,null,null,null,null,null,null,{"$f":"IF(CRB8=\"L\",IF(CRD31>TyoAika/24,0,TyoAika/24-CRD31),0)","v":"00:00:00"},null,null,null,null,null,null,null,null,null,{"$f":"IF(CRL8=\"L\",IF(CRN31>TyoAika/24,0,TyoAika/24-CRN31),0)","v":"00:00:00"},null,null,null,null,null,null,null,null,null,{"$f":"IF(CRV8=\"L\",IF(CRX31>TyoAika/24,0,TyoAika/24-CRX31),0)","v":"00:00:00"},null,null,null,null,null,null,null,null,null,{"$f":"IF(CSF8=\"L\",IF(CSH31>TyoAika/24,0,TyoAika/24-CSH31),0)","v":"00:00:00"},null,null,null,null,null,null,null,null,null,{"$f":"IF(CSP8=\"L\",IF(CSR31>TyoAika/24,0,TyoAika/24-CSR31),0)","v":"00:00:00"},null,null,null,null,null,null,null,null,null,{"$f":"IF(CSZ8=\"L\",IF(CTB31>TyoAika/24,0,TyoAika/24-CTB31),0)","v":"00:00:00"},null,null,null,null,null,null,null,null,null,{"$f":"IF(CTJ8=\"L\",IF(CTL31>TyoAika/24,0,TyoAika/24-CTL31),0)","v":"00:00:00"},null,null,null,null,null,null,null,null,null,{"$f":"IF(CTT8=\"L\",IF(CTV31>TyoAika/24,0,TyoAika/24-CTV31),0)","v":"00:00:00"},null,null,null,null,null,null,null,null,null,{"$f":"IF(CUD8=\"L\",IF(CUF31>TyoAika/24,0,TyoAika/24-CUF31),0)","v":"00:00:00"},null,null,null,null,null,null,null,null,null,{"$f":"IF(CUN8=\"L\",IF(CUP31>TyoAika/24,0,TyoAika/24-CUP31),0)","v":"00:00:00"},null,null,null,null,null,null,null,null,null,{"$f":"IF(CUX8=\"L\",IF(CUZ31>TyoAika/24,0,TyoAika/24-CUZ31),0)","v":"00:00:00"},null,null,null,null,null,null,null,null,null,{"$f":"IF(CVH8=\"L\",IF(CVJ31>TyoAika/24,0,TyoAika/24-CVJ31),0)","v":"00:00:00"},null,null,null,null,null,null,null,null,null,{"$f":"IF(CVR8=\"L\",IF(CVT31>TyoAika/24,0,TyoAika/24-CVT31),0)","v":"00:00:00"},null,null,null,null,null,null,null,null,null,{"$f":"IF(CWB8=\"L\",IF(CWD31>TyoAika/24,0,TyoAika/24-CWD31),0)","v":"00:00:00"},null,null,null,null,null,null,null,null,null,{"$f":"IF(CWL8=\"L\",IF(CWN31>TyoAika/24,0,TyoAika/24-CWN31),0)","v":"00:00:00"},null,null,null,null,null,null,null,null,null,{"$f":"IF(CWV8=\"L\",IF(CWX31>TyoAika/24,0,TyoAika/24-CWX31),0)","v":"00:00:00"},null,null,null,null,null,null,null,null,null,{"$f":"IF(CXF8=\"L\",IF(CXH31>TyoAika/24,0,TyoAika/24-CXH31),0)","v":"00:00:00"},null,null,null,null,null,null,null,null,null,{"$f":"IF(CXP8=\"L\",IF(CXR31>TyoAika/24,0,TyoAika/24-CXR31),0)","v":"00:00:00"},null,null,null,null,null,null,null,null,null,{"$f":"IF(CXZ8=\"L\",IF(CYB31>TyoAika/24,0,TyoAika/24-CYB31),0)","v":"00:00:00"},null,null,null,null,null,null,null,null,null,{"$f":"IF(CYJ8=\"L\",IF(CYL31>TyoAika/24,0,TyoAika/24-CYL31),0)","v":"00:00:00"},null,null,null,null,null,null,null,null,null,{"$f":"IF(CYT8=\"L\",IF(CYV31>TyoAika/24,0,TyoAika/24-CYV31),0)","v":"00:00:00"},null,null,null,null,null,null,null,null,null,{"$f":"IF(CZD8=\"L\",IF(CZF31>TyoAika/24,0,TyoAika/24-CZF31),0)","v":"00:00:00"},null,null,null,null,null,null,null,null,null,{"$f":"IF(CZN8=\"L\",IF(CZP31>TyoAika/24,0,TyoAika/24-CZP31),0)","v":"00:00:00"},null,null,null,null,null,null,null,null,null,{"$f":"IF(CZX8=\"L\",IF(CZZ31>TyoAika/24,0,TyoAika/24-CZZ31),0)","v":"00:00:00"},null,null,null,null,null,null,null,null,null,{"$f":"IF(DAH8=\"L\",IF(DAJ31>TyoAika/24,0,TyoAika/24-DAJ31),0)","v":"00:00:00"},null,null,null,null,null,null,null,null,null,{"$f":"IF(DAR8=\"L\",IF(DAT31>TyoAika/24,0,TyoAika/24-DAT31),0)","v":"00:00:00"},null,null,null,null,null,null,null,null,null,{"$f":"IF(DBB8=\"L\",IF(DBD31>TyoAika/24,0,TyoAika/24-DBD31),0)","v":"00:00:00"},null,null,null,null,null,null,null,null,null,{"$f":"IF(DBL8=\"L\",IF(DBN31>TyoAika/24,0,TyoAika/24-DBN31),0)","v":"00:00:00"},null,null,null,null,null,null,null,null,null,{"$f":"IF(DBV8=\"L\",IF(DBX31>TyoAika/24,0,TyoAika/24-DBX31),0)","v":"00:00:00"},null,null,null,null,null,null,null,null,null,{"$f":"IF(DCF8=\"L\",IF(DCH31>TyoAika/24,0,TyoAika/24-DCH31),0)","v":"00:00:00"},null,null,null,null,null,null,null,null,null,{"$f":"IF(DCP8=\"L\",IF(DCR31>TyoAika/24,0,TyoAika/24-DCR31),0)","v":"00:00:00"},null,null,null,null,null,null,null,null,null,{"$f":"IF(DCZ8=\"L\",IF(DDB31>TyoAika/24,0,TyoAika/24-DDB31),0)","v":"00:00:00"},null,null,null,null,null,null,null,null,null,{"$f":"IF(DDJ8=\"L\",IF(DDL31>TyoAika/24,0,TyoAika/24-DDL31),0)","v":"00:00:00"},null,null,null,null,null,null,null,null,null,{"$f":"IF(DDT8=\"L\",IF(DDV31>TyoAika/24,0,TyoAika/24-DDV31),0)","v":"00:00:00"},null,null,null,null,null,null,null,null,null,{"$f":"IF(DED8=\"L\",IF(DEF31>TyoAika/24,0,TyoAika/24-DEF31),0)","v":"00:00:00"},null,null,null,null,null,null,null,null,null,{"$f":"IF(DEN8=\"L\",IF(DEP31>TyoAika/24,0,TyoAika/24-DEP31),0)","v":"00:00:00"},null,null,null,null,null,null,null,null,null,{"$f":"IF(DEX8=\"L\",IF(DEZ31>TyoAika/24,0,TyoAika/24-DEZ31),0)","v":"00:00:00"},null,null,null,null,null,null,null,null,null,{"$f":"IF(DFH8=\"L\",IF(DFJ31>TyoAika/24,0,TyoAika/24-DFJ31),0)","v":"00:00:00"},null,null,null,null,null,null,null,null,null,{"$f":"IF(DFR8=\"L\",IF(DFT31>TyoAika/24,0,TyoAika/24-DFT31),0)","v":"00:00:00"},null,null,null,null,null,null,null,null,null,{"$f":"IF(DGB8=\"L\",IF(DGD31>TyoAika/24,0,TyoAika/24-DGD31),0)","v":"00:00:00"},null,null,null,null,null,null,null,null,null,{"$f":"IF(DGL8=\"L\",IF(DGN31>TyoAika/24,0,TyoAika/24-DGN31),0)","v":"00:00:00"},null,null,null,null,null,null,null,null,null,{"$f":"IF(DGV8=\"L\",IF(DGX31>TyoAika/24,0,TyoAika/24-DGX31),0)","v":"00:00:00"},null,null,null,null,null,null,null,null,null,{"$f":"IF(DHF8=\"L\",IF(DHH31>TyoAika/24,0,TyoAika/24-DHH31),0)","v":"00:00:00"},null,null,null,null,null,null,null,null,null,{"$f":"IF(DHP8=\"L\",IF(DHR31>TyoAika/24,0,TyoAika/24-DHR31),0)","v":"00:00:00"},null,null,null,null,null,null,null,null,null,{"$f":"IF(DHZ8=\"L\",IF(DIB31>TyoAika/24,0,TyoAika/24-DIB31),0)","v":"00:00:00"},null,null,null,null,null,null,null,null,null,{"$f":"IF(DIJ8=\"L\",IF(DIL31>TyoAika/24,0,TyoAika/24-DIL31),0)","v":"00:00:00"},null,null,null,null,null,null,null,null,null,{"$f":"IF(DIT8=\"L\",IF(DIV31>TyoAika/24,0,TyoAika/24-DIV31),0)","v":"00:00:00"},null,null,null,null,null,null,null,null,null,{"$f":"IF(DJD8=\"L\",IF(DJF31>TyoAika/24,0,TyoAika/24-DJF31),0)","v":"00:00:00"},null,null,null,null,null,null,null,null,null,{"$f":"IF(DJN8=\"L\",IF(DJP31>TyoAika/24,0,TyoAika/24-DJP31),0)","v":"00:00:00"},null,null,null,null,null,null,null,null,null,{"$f":"IF(DJX8=\"L\",IF(DJZ31>TyoAika/24,0,TyoAika/24-DJZ31),0)","v":"00:00:00"},null,null,null,null,null,null,null,null,null,{"$f":"IF(DKH8=\"L\",IF(DKJ31>TyoAika/24,0,TyoAika/24-DKJ31),0)","v":"00:00:00"},null,null,null,null,null,null,null,null,null,{"$f":"IF(DKR8=\"L\",IF(DKT31>TyoAika/24,0,TyoAika/24-DKT31),0)","v":"00:00:00"},null,null,null,null,null,null,null,null,null,{"$f":"IF(DLB8=\"L\",IF(DLD31>TyoAika/24,0,TyoAika/24-DLD31),0)","v":"00:00:00"},null,null,null,null,null,null,null,null,null,{"$f":"IF(DLL8=\"L\",IF(DLN31>TyoAika/24,0,TyoAika/24-DLN31),0)","v":"00:00:00"},null,null,null,null,null,null,null,null,null,{"$f":"IF(DLV8=\"L\",IF(DLX31>TyoAika/24,0,TyoAika/24-DLX31),0)","v":"00:00:00"},null,null,null,null,null,null,null,null,null,{"$f":"IF(DMF8=\"L\",IF(DMH31>TyoAika/24,0,TyoAika/24-DMH31),0)","v":"00:00:00"},null,null,null,null,null,null,null,null,null,{"$f":"IF(DMP8=\"L\",IF(DMR31>TyoAika/24,0,TyoAika/24-DMR31),0)","v":"00:00:00"},null,null,null,null,null,null,null,null,null,{"$f":"IF(DMZ8=\"L\",IF(DNB31>TyoAika/24,0,TyoAika/24-DNB31),0)","v":"00:00:00"},null,null,null,null,null,null,null,null,null,{"$f":"IF(DNJ8=\"L\",IF(DNL31>TyoAika/24,0,TyoAika/24-DNL31),0)","v":"00:00:00"},null,null,null,null,null,null,null,null,null,{"$f":"IF(DNT8=\"L\",IF(DNV31>TyoAika/24,0,TyoAika/24-DNV31),0)","v":"00:00:00"},null,null,null,null,null,null,null,null,null,{"$f":"IF(DOD8=\"L\",IF(DOF31>TyoAika/24,0,TyoAika/24-DOF31),0)","v":"00:00:00"},null,null,null,null,null,null,null,null,null,{"$f":"IF(DON8=\"L\",IF(DOP31>TyoAika/24,0,TyoAika/24-DOP31),0)","v":"00:00:00"},null,null,null,null,null,null,null,null,null,{"$f":"IF(DOX8=\"L\",IF(DOZ31>TyoAika/24,0,TyoAika/24-DOZ31),0)","v":"00:00:00"},null,null,null,null,null,null,null,null,null,{"$f":"IF(DPH8=\"L\",IF(DPJ31>TyoAika/24,0,TyoAika/24-DPJ31),0)","v":"00:00:00"},null,null,null,null,null,null,null,null,null,{"$f":"IF(DPR8=\"L\",IF(DPT31>TyoAika/24,0,TyoAika/24-DPT31),0)","v":"00:00:00"},null,null,null,null,null,null,null,null,null,{"$f":"IF(DQB8=\"L\",IF(DQD31>TyoAika/24,0,TyoAika/24-DQD31),0)","v":"00:00:00"},null,null,null,null,null,null,null,null,null,{"$f":"IF(DQL8=\"L\",IF(DQN31>TyoAika/24,0,TyoAika/24-DQN31),0)","v":"00:00:00"},null,null,null,null,null,null,null,null,null,{"$f":"IF(DQV8=\"L\",IF(DQX31>TyoAika/24,0,TyoAika/24-DQX31),0)","v":"00:00:00"},null,null,null,null,null,null,null,null,null,{"$f":"IF(DRF8=\"L\",IF(DRH31>TyoAika/24,0,TyoAika/24-DRH31),0)","v":"00:00:00"},null,null,null,null,null,null,null,null,null,{"$f":"IF(DRP8=\"L\",IF(DRR31>TyoAika/24,0,TyoAika/24-DRR31),0)","v":"00:00:00"},null,null,null,null,null,null,null,null,null,{"$f":"IF(DRZ8=\"L\",IF(DSB31>TyoAika/24,0,TyoAika/24-DSB31),0)","v":"00:00:00"},null,null,null,null,null,null,null,null,null,{"$f":"IF(DSJ8=\"L\",IF(DSL31>TyoAika/24,0,TyoAika/24-DSL31),0)","v":"00:00:00"},null,null,null,null,null,null,null,null,null,{"$f":"IF(DST8=\"L\",IF(DSV31>TyoAika/24,0,TyoAika/24-DSV31),0)","v":"00:00:00"},null,null,null,null,null,null,null,null,null,{"$f":"IF(DTD8=\"L\",IF(DTF31>TyoAika/24,0,TyoAika/24-DTF31),0)","v":"00:00:00"},null,null,null,null,null,null,null,null,null,{"$f":"IF(DTN8=\"L\",IF(DTP31>TyoAika/24,0,TyoAika/24-DTP31),0)","v":"00:00:00"},null,null,null,null,null,null,null,null,null,{"$f":"IF(DTX8=\"L\",IF(DTZ31>TyoAika/24,0,TyoAika/24-DTZ31),0)","v":"00:00:00"},null,null,null,null,null,null,null,null,null,{"$f":"IF(DUH8=\"L\",IF(DUJ31>TyoAika/24,0,TyoAika/24-DUJ31),0)","v":"00:00:00"},null,null,null,null,null,null,null,null,null,{"$f":"IF(DUR8=\"L\",IF(DUT31>TyoAika/24,0,TyoAika/24-DUT31),0)","v":"00:00:00"},null,null,null,null,null,null,null,null,null,{"$f":"IF(DVB8=\"L\",IF(DVD31>TyoAika/24,0,TyoAika/24-DVD31),0)","v":"00:00:00"},null,null,null,null,null,null,null,null,null,{"$f":"IF(DVL8=\"L\",IF(DVN31>TyoAika/24,0,TyoAika/24-DVN31),0)","v":"00:00:00"},null,null,null,null,null,null,null,null,null,{"$f":"IF(DVV8=\"L\",IF(DVX31>TyoAika/24,0,TyoAika/24-DVX31),0)","v":"00:00:00"},null,null,null,null,null,null,null,null,null,{"$f":"IF(DWF8=\"L\",IF(DWH31>TyoAika/24,0,TyoAika/24-DWH31),0)","v":"00:00:00"},null,null,null,null,null,null,null,null,null,{"$f":"IF(DWP8=\"L\",IF(DWR31>TyoAika/24,0,TyoAika/24-DWR31),0)","v":"00:00:00"},null,null,null,null,null,null,null,null,null,{"$f":"IF(DWZ8=\"L\",IF(DXB31>TyoAika/24,0,TyoAika/24-DXB31),0)","v":"00:00:00"},null,null,null,null,null,null,null,null,null,{"$f":"IF(DXJ8=\"L\",IF(DXL31>TyoAika/24,0,TyoAika/24-DXL31),0)","v":"00:00:00"},null,null,null,null,null,null,null,null,null,{"$f":"IF(DXT8=\"L\",IF(DXV31>TyoAika/24,0,TyoAika/24-DXV31),0)","v":"00:00:00"},null,null,null,null,null,null,null,null,null,{"$f":"IF(DYD8=\"L\",IF(DYF31>TyoAika/24,0,TyoAika/24-DYF31),0)","v":"00:00:00"},null,null,null,null,null,null,null,null,null,{"$f":"IF(DYN8=\"L\",IF(DYP31>TyoAika/24,0,TyoAika/24-DYP31),0)","v":"00:00:00"},null,null,null,null,null,null,null,null,null,{"$f":"IF(DYX8=\"L\",IF(DYZ31>TyoAika/24,0,TyoAika/24-DYZ31),0)","v":"00:00:00"},null,null,null,null,null,null,null,null,null,{"$f":"IF(DZH8=\"L\",IF(DZJ31>TyoAika/24,0,TyoAika/24-DZJ31),0)","v":"00:00:00"},null,null,null,null,null,null,null,null,null,{"$f":"IF(DZR8=\"L\",IF(DZT31>TyoAika/24,0,TyoAika/24-DZT31),0)","v":"00:00:00"},null,null,null,null,null,null,null,null,null,{"$f":"IF(EAB8=\"L\",IF(EAD31>TyoAika/24,0,TyoAika/24-EAD31),0)","v":"00:00:00"},null,null,null,null,null,null,null,null,null,{"$f":"IF(EAL8=\"L\",IF(EAN31>TyoAika/24,0,TyoAika/24-EAN31),0)","v":"00:00:00"},null,null,null,null,null,null,null,null,null,{"$f":"IF(EAV8=\"L\",IF(EAX31>TyoAika/24,0,TyoAika/24-EAX31),0)","v":"00:00:00"},null,null,null,null,null,null,null,null,null,{"$f":"IF(EBF8=\"L\",IF(EBH31>TyoAika/24,0,TyoAika/24-EBH31),0)","v":"00:00:00"},null,null,null,null,null,null,null,null,null,{"$f":"IF(EBP8=\"L\",IF(EBR31>TyoAika/24,0,TyoAika/24-EBR31),0)","v":"00:00:00"},null,null,null,null,null,null,null,null,null,{"$f":"IF(EBZ8=\"L\",IF(ECB31>TyoAika/24,0,TyoAika/24-ECB31),0)","v":"00:00:00"},null,null,null,null,null,null,null,null,null,{"$f":"IF(ECJ8=\"L\",IF(ECL31>TyoAika/24,0,TyoAika/24-ECL31),0)","v":"00:00:00"},null,null,null,null,null,null,null,null,null,{"$f":"IF(ECT8=\"L\",IF(ECV31>TyoAika/24,0,TyoAika/24-ECV31),0)","v":"00:00:00"},null,null,null,null,null,null,null,null,null,{"$f":"IF(EDD8=\"L\",IF(EDF31>TyoAika/24,0,TyoAika/24-EDF31),0)","v":"00:00:00"},null,null,null,null,null,null,null,null,null,{"$f":"IF(EDN8=\"L\",IF(EDP31>TyoAika/24,0,TyoAika/24-EDP31),0)","v":"00:00:00"},null,null,null,null,null,null,null,null,null,{"$f":"IF(EDX8=\"L\",IF(EDZ31>TyoAika/24,0,TyoAika/24-EDZ31),0)","v":"00:00:00"},null,null,null,null,null,null,null,null,null,{"$f":"IF(EEH8=\"L\",IF(EEJ31>TyoAika/24,0,TyoAika/24-EEJ31),0)","v":"00:00:00"},null,null,null,null,null,null,null,null,null,{"$f":"IF(EER8=\"L\",IF(EET31>TyoAika/24,0,TyoAika/24-EET31),0)","v":"00:00:00"},null,null,null,null,null,null,null,null,null,{"$f":"IF(EFB8=\"L\",IF(EFD31>TyoAika/24,0,TyoAika/24-EFD31),0)","v":"00:00:00"},null,null,null,null,null,null,null,null,null,{"$f":"IF(EFL8=\"L\",IF(EFN31>TyoAika/24,0,TyoAika/24-EFN31),0)","v":"00:00:00"},null,null,null,null,null,null,null,null,null,{"$f":"IF(EFV8=\"L\",IF(EFX31>TyoAika/24,0,TyoAika/24-EFX31),0)","v":"00:00:00"},null,null,null,null,null,null,null,null,null,{"$f":"IF(EGF8=\"L\",IF(EGH31>TyoAika/24,0,TyoAika/24-EGH31),0)","v":"00:00:00"},null,null,null,null,null,null,null,null,null,{"$f":"IF(EGP8=\"L\",IF(EGR31>TyoAika/24,0,TyoAika/24-EGR31),0)","v":"00:00:00"},null,null,null,null,null,null,null,null,null,{"$f":"IF(EGZ8=\"L\",IF(EHB31>TyoAika/24,0,TyoAika/24-EHB31),0)","v":"00:00:00"},null,null,null,null,null,null,null,null,null,{"$f":"IF(EHJ8=\"L\",IF(EHL31>TyoAika/24,0,TyoAika/24-EHL31),0)","v":"00:00:00"},null,null,null,null,null,null,null,null,null,{"$f":"IF(EHT8=\"L\",IF(EHV31>TyoAika/24,0,TyoAika/24-EHV31),0)","v":"00:00:00"},null,null,null,null,null,null,null,null,null,{"$f":"IF(EID8=\"L\",IF(EIF31>TyoAika/24,0,TyoAika/24-EIF31),0)","v":"00:00:00"},null,null,null,null,null,null,null,null,null,{"$f":"IF(EIN8=\"L\",IF(EIP31>TyoAika/24,0,TyoAika/24-EIP31),0)","v":"00:00:00"},null,null,null,null,null,null,null,null,null,{"$f":"IF(EIX8=\"L\",IF(EIZ31>TyoAika/24,0,TyoAika/24-EIZ31),0)","v":"00:00:00"},null,null,null,null,null,null,null,null,null,{"$f":"IF(EJH8=\"L\",IF(EJJ31>TyoAika/24,0,TyoAika/24-EJJ31),0)","v":"00:00:00"},null,null,null,null,null,null,null,null,null,{"$f":"IF(EJR8=\"L\",IF(EJT31>TyoAika/24,0,TyoAika/24-EJT31),0)","v":"00:00:00"}]
[null,"Yhteensä",{"$f":"SUM(C14:C30)","v":0},{"$f":"SUM(D14:D30)","v":0},0,null,{"$f":"Suunnitelma!$C31","v":0},{"$f":"Suunnitelma!$E31","v":0},{"$f":"Suunnitelma!$G31","v":0},null,{"$f":"IF(G31<1,\"\",C31/G31)","v":""},{"$f":"IF(H31<1,\"\",D31/H31)","v":""},{"$f":"IF(I31<1,\"\",E31/I31)","v":""},null,null,null,"Yhteensä",{"$f":"SUM(R14:R30)","v":"00:00:00"},{"$f":"SUM(S14:S30)","v":"00:00:00"},{"$f":"SUM(T14:T30)","v":"00:00:00"},null,{"$f":"SUM(V14:V30)","v":"00:00:00"},null,null,{"$f":"SUM(Y14:Y26)","v":"00:00:00"},"00:00:00","00:00:00",{"$f":"SUM(AB14:AB30)","v":"00:00:00"},{"$f":"SUM(AC14:AC30)","v":"00:00:00"},{"$f":"SUM(AD14:AD30)","v":"00:00:00"},null,{"$f":"SUM(AF14:AF30)","v":"00:00:00"},null,null,{"$f":"SUM(AI14:AI26)","v":"00:00:00"},"00:00:00","00:00:00",{"$f":"SUM(AL14:AL30)","v":"00:00:00"},{"$f":"SUM(AM14:AM30)","v":"00:00:00"},{"$f":"SUM(AN14:AN30)","v":"00:00:00"},null,{"$f":"SUM(AP14:AP30)","v":"00:00:00"},null,null,{"$f":"SUM(AS14:AS26)","v":"00:00:00"},"00:00:00","00:00:00",{"$f":"SUM(AV14:AV30)","v":"00:00:00"},{"$f":"SUM(AW14:AW30)","v":"00:00:00"},{"$f":"SUM(AX14:AX30)","v":"00:00:00"},null,{"$f":"SUM(AZ14:AZ30)","v":"00:00:00"},null,null,{"$f":"SUM(BC14:BC26)","v":"00:00:00"},"00:00:00","00:00:00",{"$f":"SUM(BF14:BF30)","v":"00:00:00"},{"$f":"SUM(BG14:BG30)","v":"00:00:00"},{"$f":"SUM(BH14:BH30)","v":"00:00:00"},null,{"$f":"SUM(BJ14:BJ30)","v":"00:00:00"},null,null,{"$f":"SUM(BM14:BM26)","v":"00:00:00"},"00:00:00","00:00:00",{"$f":"SUM(BP14:BP30)","v":"00:00:00"},{"$f":"SUM(BQ14:BQ30)","v":"00:00:00"},{"$f":"SUM(BR14:BR30)","v":"00:00:00"},null,{"$f":"SUM(BT14:BT30)","v":"00:00:00"},null,null,{"$f":"SUM(BW14:BW26)","v":"00:00:00"},"00:00:00","00:00:00",{"$f":"SUM(BZ14:BZ30)","v":"00:00:00"},{"$f":"SUM(CA14:CA30)","v":"00:00:00"},{"$f":"SUM(CB14:CB30)","v":"00:00:00"},null,{"$f":"SUM(CD14:CD30)","v":"00:00:00"},null,null,{"$f":"SUM(CG14:CG26)","v":"00:00:00"},"00:00:00","00:00:00",{"$f":"SUM(CJ14:CJ30)","v":"00:00:00"},{"$f":"SUM(CK14:CK30)","v":"00:00:00"},{"$f":"SUM(CL14:CL30)","v":"00:00:00"},null,{"$f":"SUM(CN14:CN30)","v":"00:00:00"},null,null,{"$f":"SUM(CQ14:CQ26)","v":"00:00:00"},"00:00:00","00:00:00",{"$f":"SUM(CT14:CT30)","v":"00:00:00"},{"$f":"SUM(CU14:CU30)","v":"00:00:00"},{"$f":"SUM(CV14:CV30)","v":"00:00:00"},null,{"$f":"SUM(CX14:CX30)","v":"00:00:00"},null,null,{"$f":"SUM(DA14:DA26)","v":"00:00:00"},"00:00:00","00:00:00",{"$f":"SUM(DD14:DD30)","v":"00:00:00"},{"$f":"SUM(DE14:DE30)","v":"00:00:00"},{"$f":"SUM(DF14:DF30)","v":"00:00:00"},null,{"$f":"SUM(DH14:DH30)","v":"00:00:00"},null,null,{"$f":"SUM(DK14:DK26)","v":"00:00:00"},"00:00:00","00:00:00",{"$f":"SUM(DN14:DN30)","v":"00:00:00"},{"$f":"SUM(DO14:DO30)","v":"00:00:00"},{"$f":"SUM(DP14:DP30)","v":"00:00:00"},null,{"$f":"SUM(DR14:DR30)","v":"00:00:00"},null,null,{"$f":"SUM(DU14:DU26)","v":"00:00:00"},"00:00:00","00:00:00",{"$f":"SUM(DX14:DX30)","v":"00:00:00"},{"$f":"SUM(DY14:DY30)","v":"00:00:00"},{"$f":"SUM(DZ14:DZ30)","v":"00:00:00"},null,{"$f":"SUM(EB14:EB30)","v":"00:00:00"},null,null,{"$f":"SUM(EE14:EE26)","v":"00:00:00"},"00:00:00","00:00:00",{"$f":"SUM(EH14:EH30)","v":"00:00:00"},{"$f":"SUM(EI14:EI30)","v":"00:00:00"},{"$f":"SUM(EJ14:EJ30)","v":"00:00:00"},null,{"$f":"SUM(EL14:EL30)","v":"00:00:00"},null,null,{"$f":"SUM(EO14:EO26)","v":"00:00:00"},"00:00:00","00:00:00",{"$f":"SUM(ER14:ER30)","v":"00:00:00"},{"$f":"SUM(ES14:ES30)","v":"00:00:00"},{"$f":"SUM(ET14:ET30)","v":"00:00:00"},null,{"$f":"SUM(EV14:EV30)","v":"00:00:00"},null,null,{"$f":"SUM(EY14:EY26)","v":"00:00:00"},"00:00:00","00:00:00",{"$f":"SUM(FB14:FB30)","v":"00:00:00"},{"$f":"SUM(FC14:FC30)","v":"00:00:00"},{"$f":"SUM(FD14:FD30)","v":"00:00:00"},null,{"$f":"SUM(FF14:FF30)","v":"00:00:00"},null,null,{"$f":"SUM(FI14:FI26)","v":"00:00:00"},"00:00:00","00:00:00",{"$f":"SUM(FL14:FL30)","v":"00:00:00"},{"$f":"SUM(FM14:FM30)","v":"00:00:00"},{"$f":"SUM(FN14:FN30)","v":"00:00:00"},null,{"$f":"SUM(FP14:FP30)","v":"00:00:00"},null,null,{"$f":"SUM(FS14:FS26)","v":"00:00:00"},"00:00:00","00:00:00",{"$f":"SUM(FV14:FV30)","v":"00:00:00"},{"$f":"SUM(FW14:FW30)","v":"00:00:00"},{"$f":"SUM(FX14:FX30)","v":"00:00:00"},null,{"$f":"SUM(FZ14:FZ30)","v":"00:00:00"},null,null,{"$f":"SUM(GC14:GC26)","v":"00:00:00"},"00:00:00","00:00:00",{"$f":"SUM(GF14:GF30)","v":"00:00:00"},{"$f":"SUM(GG14:GG30)","v":"00:00:00"},{"$f":"SUM(GH14:GH30)","v":"00:00:00"},null,{"$f":"SUM(GJ14:GJ30)","v":"00:00:00"},null,null,{"$f":"SUM(GM14:GM26)","v":"00:00:00"},"00:00:00","00:00:00",{"$f":"SUM(GP14:GP30)","v":"00:00:00"},{"$f":"SUM(GQ14:GQ30)","v":"00:00:00"},{"$f":"SUM(GR14:GR30)","v":"00:00:00"},null,{"$f":"SUM(GT14:GT30)","v":"00:00:00"},null,null,{"$f":"SUM(GW14:GW26)","v":"00:00:00"},"00:00:00","00:00:00",{"$f":"SUM(GZ14:GZ30)","v":"00:00:00"},{"$f":"SUM(HA14:HA30)","v":"00:00:00"},{"$f":"SUM(HB14:HB30)","v":"00:00:00"},null,{"$f":"SUM(HD14:HD30)","v":"00:00:00"},null,null,{"$f":"SUM(HG14:HG26)","v":"00:00:00"},"00:00:00","00:00:00",{"$f":"SUM(HJ14:HJ30)","v":"00:00:00"},{"$f":"SUM(HK14:HK30)","v":"00:00:00"},{"$f":"SUM(HL14:HL30)","v":"00:00:00"},null,{"$f":"SUM(HN14:HN30)","v":"00:00:00"},null,null,{"$f":"SUM(HQ14:HQ26)","v":"00:00:00"},"00:00:00","00:00:00",{"$f":"SUM(HT14:HT30)","v":"00:00:00"},{"$f":"SUM(HU14:HU30)","v":"00:00:00"},{"$f":"SUM(HV14:HV30)","v":"00:00:00"},null,{"$f":"SUM(HX14:HX30)","v":"00:00:00"},null,null,{"$f":"SUM(IA14:IA26)","v":"00:00:00"},"00:00:00","00:00:00",{"$f":"SUM(ID14:ID30)","v":"00:00:00"},{"$f":"SUM(IE14:IE30)","v":"00:00:00"},{"$f":"SUM(IF14:IF30)","v":"00:00:00"},null,{"$f":"SUM(IH14:IH30)","v":"00:00:00"},null,null,{"$f":"SUM(IK14:IK26)","v":"00:00:00"},"00:00:00","00:00:00",{"$f":"SUM(IN14:IN30)","v":"00:00:00"},{"$f":"SUM(IO14:IO30)","v":"00:00:00"},{"$f":"SUM(IP14:IP30)","v":"00:00:00"},null,{"$f":"SUM(IR14:IR30)","v":"00:00:00"},null,null,{"$f":"SUM(IU14:IU26)","v":"00:00:00"},"00:00:00","00:00:00",{"$f":"SUM(IX14:IX30)","v":"00:00:00"},{"$f":"SUM(IY14:IY30)","v":"00:00:00"},{"$f":"SUM(IZ14:IZ30)","v":"00:00:00"},null,{"$f":"SUM(JB14:JB30)","v":"00:00:00"},null,null,{"$f":"SUM(JE14:JE26)","v":"00:00:00"},"00:00:00","00:00:00",{"$f":"SUM(JH14:JH30)","v":"00:00:00"},{"$f":"SUM(JI14:JI30)","v":"00:00:00"},{"$f":"SUM(JJ14:JJ30)","v":"00:00:00"},null,{"$f":"SUM(JL14:JL30)","v":"00:00:00"},null,null,{"$f":"SUM(JO14:JO26)","v":"00:00:00"},"00:00:00","00:00:00",{"$f":"SUM(JR14:JR30)","v":"00:00:00"},{"$f":"SUM(JS14:JS30)","v":"00:00:00"},{"$f":"SUM(JT14:JT30)","v":"00:00:00"},null,{"$f":"SUM(JV14:JV30)","v":"00:00:00"},null,null,{"$f":"SUM(JY14:JY26)","v":"00:00:00"},"00:00:00","00:00:00",{"$f":"SUM(KB14:KB30)","v":"00:00:00"},{"$f":"SUM(KC14:KC30)","v":"00:00:00"},{"$f":"SUM(KD14:KD30)","v":"00:00:00"},null,{"$f":"SUM(KF14:KF30)","v":"00:00:00"},null,null,{"$f":"SUM(KI14:KI26)","v":"00:00:00"},"00:00:00","00:00:00",{"$f":"SUM(KL14:KL30)","v":"00:00:00"},{"$f":"SUM(KM14:KM30)","v":"00:00:00"},{"$f":"SUM(KN14:KN30)","v":"00:00:00"},null,{"$f":"SUM(KP14:KP30)","v":"00:00:00"},null,null,{"$f":"SUM(KS14:KS26)","v":"00:00:00"},"00:00:00","00:00:00",{"$f":"SUM(KV14:KV30)","v":"00:00:00"},{"$f":"SUM(KW14:KW30)","v":"00:00:00"},{"$f":"SUM(KX14:KX30)","v":"00:00:00"},null,{"$f":"SUM(KZ14:KZ30)","v":"00:00:00"},null,null,{"$f":"SUM(LC14:LC26)","v":"00:00:00"},"00:00:00","00:00:00",{"$f":"SUM(LF14:LF30)","v":"00:00:00"},{"$f":"SUM(LG14:LG30)","v":"00:00:00"},{"$f":"SUM(LH14:LH30)","v":"00:00:00"},null,{"$f":"SUM(LJ14:LJ30)","v":"00:00:00"},null,null,{"$f":"SUM(LM14:LM26)","v":"00:00:00"},"00:00:00","00:00:00",{"$f":"SUM(LP14:LP30)","v":"00:00:00"},{"$f":"SUM(LQ14:LQ30)","v":"00:00:00"},{"$f":"SUM(LR14:LR30)","v":"00:00:00"},null,{"$f":"SUM(LT14:LT30)","v":"00:00:00"},null,null,{"$f":"SUM(LW14:LW26)","v":"00:00:00"},"00:00:00","00:00:00",{"$f":"SUM(LZ14:LZ30)","v":"00:00:00"},{"$f":"SUM(MA14:MA30)","v":"00:00:00"},{"$f":"SUM(MB14:MB30)","v":"00:00:00"},null,{"$f":"SUM(MD14:MD30)","v":"00:00:00"},null,null,{"$f":"SUM(MG14:MG26)","v":"00:00:00"},"00:00:00","00:00:00",{"$f":"SUM(MJ14:MJ30)","v":"00:00:00"},{"$f":"SUM(MK14:MK30)","v":"00:00:00"},{"$f":"SUM(ML14:ML30)","v":"00:00:00"},null,{"$f":"SUM(MN14:MN30)","v":"00:00:00"},null,null,{"$f":"SUM(MQ14:MQ26)","v":"00:00:00"},"00:00:00","00:00:00",{"$f":"SUM(MT14:MT30)","v":"00:00:00"},{"$f":"SUM(MU14:MU30)","v":"00:00:00"},{"$f":"SUM(MV14:MV30)","v":"00:00:00"},null,{"$f":"SUM(MX14:MX30)","v":"00:00:00"},null,null,{"$f":"SUM(NA14:NA26)","v":"00:00:00"},"00:00:00","00:00:00",{"$f":"SUM(ND14:ND30)","v":"00:00:00"},{"$f":"SUM(NE14:NE30)","v":"00:00:00"},{"$f":"SUM(NF14:NF30)","v":"00:00:00"},null,{"$f":"SUM(NH14:NH30)","v":"00:00:00"},null,null,{"$f":"SUM(NK14:NK26)","v":"00:00:00"},"00:00:00","00:00:00",{"$f":"SUM(NN14:NN30)","v":"00:00:00"},{"$f":"SUM(NO14:NO30)","v":"00:00:00"},{"$f":"SUM(NP14:NP30)","v":"00:00:00"},null,{"$f":"SUM(NR14:NR30)","v":"00:00:00"},null,null,{"$f":"SUM(NU14:NU26)","v":"00:00:00"},"00:00:00","00:00:00",{"$f":"SUM(NX14:NX30)","v":"00:00:00"},{"$f":"SUM(NY14:NY30)","v":"00:00:00"},{"$f":"SUM(NZ14:NZ30)","v":"00:00:00"},null,{"$f":"SUM(OB14:OB30)","v":"00:00:00"},null,null,{"$f":"SUM(OE14:OE26)","v":"00:00:00"},"00:00:00","00:00:00",{"$f":"SUM(OH14:OH30)","v":"00:00:00"},{"$f":"SUM(OI14:OI30)","v":"00:00:00"},{"$f":"SUM(OJ14:OJ30)","v":"00:00:00"},null,{"$f":"SUM(OL14:OL30)","v":"00:00:00"},null,null,{"$f":"SUM(OO14:OO26)","v":"00:00:00"},"00:00:00","00:00:00",{"$f":"SUM(OR14:OR30)","v":"00:00:00"},{"$f":"SUM(OS14:OS30)","v":"00:00:00"},{"$f":"SUM(OT14:OT30)","v":"00:00:00"},null,{"$f":"SUM(OV14:OV30)","v":"00:00:00"},null,null,{"$f":"SUM(OY14:OY26)","v":"00:00:00"},"00:00:00","00:00:00",{"$f":"SUM(PB14:PB30)","v":"00:00:00"},{"$f":"SUM(PC14:PC30)","v":"00:00:00"},{"$f":"SUM(PD14:PD30)","v":"00:00:00"},null,{"$f":"SUM(PF14:PF30)","v":"00:00:00"},null,null,{"$f":"SUM(PI14:PI26)","v":"00:00:00"},"00:00:00","00:00:00",{"$f":"SUM(PL14:PL30)","v":"00:00:00"},{"$f":"SUM(PM14:PM30)","v":"00:00:00"},{"$f":"SUM(PN14:PN30)","v":"00:00:00"},null,{"$f":"SUM(PP14:PP30)","v":"00:00:00"},null,null,{"$f":"SUM(PS14:PS26)","v":"00:00:00"},"00:00:00","00:00:00",{"$f":"SUM(PV14:PV30)","v":"00:00:00"},{"$f":"SUM(PW14:PW30)","v":"00:00:00"},{"$f":"SUM(PX14:PX30)","v":"00:00:00"},null,{"$f":"SUM(PZ14:PZ30)","v":"00:00:00"},null,null,{"$f":"SUM(QC14:QC26)","v":"00:00:00"},"00:00:00","00:00:00",{"$f":"SUM(QF14:QF30)","v":"00:00:00"},{"$f":"SUM(QG14:QG30)","v":"00:00:00"},{"$f":"SUM(QH14:QH30)","v":"00:00:00"},null,{"$f":"SUM(QJ14:QJ30)","v":"00:00:00"},null,null,{"$f":"SUM(QM14:QM26)","v":"00:00:00"},"00:00:00","00:00:00",{"$f":"SUM(QP14:QP30)","v":"00:00:00"},{"$f":"SUM(QQ14:QQ30)","v":"00:00:00"},{"$f":"SUM(QR14:QR30)","v":"00:00:00"},null,{"$f":"SUM(QT14:QT30)","v":"00:00:00"},null,null,{"$f":"SUM(QW14:QW26)","v":"00:00:00"},"00:00:00","00:00:00",{"$f":"SUM(QZ14:QZ30)","v":"00:00:00"},{"$f":"SUM(RA14:RA30)","v":"00:00:00"},{"$f":"SUM(RB14:RB30)","v":"00:00:00"},null,{"$f":"SUM(RD14:RD30)","v":"00:00:00"},null,null,{"$f":"SUM(RG14:RG26)","v":"00:00:00"},"00:00:00","00:00:00",{"$f":"SUM(RJ14:RJ30)","v":"00:00:00"},{"$f":"SUM(RK14:RK30)","v":"00:00:00"},{"$f":"SUM(RL14:RL30)","v":"00:00:00"},null,{"$f":"SUM(RN14:RN30)","v":"00:00:00"},null,null,{"$f":"SUM(RQ14:RQ26)","v":"00:00:00"},"00:00:00","00:00:00",{"$f":"SUM(RT14:RT30)","v":"00:00:00"},{"$f":"SUM(RU14:RU30)","v":"00:00:00"},{"$f":"SUM(RV14:RV30)","v":"00:00:00"},null,{"$f":"SUM(RX14:RX30)","v":"00:00:00"},null,null,{"$f":"SUM(SA14:SA26)","v":"00:00:00"},"00:00:00","00:00:00",{"$f":"SUM(SD14:SD30)","v":"00:00:00"},{"$f":"SUM(SE14:SE30)","v":"00:00:00"},{"$f":"SUM(SF14:SF30)","v":"00:00:00"},null,{"$f":"SUM(SH14:SH30)","v":"00:00:00"},null,null,{"$f":"SUM(SK14:SK26)","v":"00:00:00"},"00:00:00","00:00:00",{"$f":"SUM(SN14:SN30)","v":"00:00:00"},{"$f":"SUM(SO14:SO30)","v":"00:00:00"},{"$f":"SUM(SP14:SP30)","v":"00:00:00"},null,{"$f":"SUM(SR14:SR30)","v":"00:00:00"},null,null,{"$f":"SUM(SU14:SU26)","v":"00:00:00"},"00:00:00","00:00:00",{"$f":"SUM(SX14:SX30)","v":"00:00:00"},{"$f":"SUM(SY14:SY30)","v":"00:00:00"},{"$f":"SUM(SZ14:SZ30)","v":"00:00:00"},null,{"$f":"SUM(TB14:TB30)","v":"00:00:00"},null,null,{"$f":"SUM(TE14:TE26)","v":"00:00:00"},"00:00:00","00:00:00",{"$f":"SUM(TH14:TH30)","v":"00:00:00"},{"$f":"SUM(TI14:TI30)","v":"00:00:00"},{"$f":"SUM(TJ14:TJ30)","v":"00:00:00"},null,{"$f":"SUM(TL14:TL30)","v":"00:00:00"},null,null,{"$f":"SUM(TO14:TO26)","v":"00:00:00"},"00:00:00","00:00:00",{"$f":"SUM(TR14:TR30)","v":"00:00:00"},{"$f":"SUM(TS14:TS30)","v":"00:00:00"},{"$f":"SUM(TT14:TT30)","v":"00:00:00"},null,{"$f":"SUM(TV14:TV30)","v":"00:00:00"},null,null,{"$f":"SUM(TY14:TY26)","v":"00:00:00"},"00:00:00","00:00:00",{"$f":"SUM(UB14:UB30)","v":"00:00:00"},{"$f":"SUM(UC14:UC30)","v":"00:00:00"},{"$f":"SUM(UD14:UD30)","v":"00:00:00"},null,{"$f":"SUM(UF14:UF30)","v":"00:00:00"},null,null,{"$f":"SUM(UI14:UI26)","v":"00:00:00"},"00:00:00","00:00:00",{"$f":"SUM(UL14:UL30)","v":"00:00:00"},{"$f":"SUM(UM14:UM30)","v":"00:00:00"},{"$f":"SUM(UN14:UN30)","v":"00:00:00"},null,{"$f":"SUM(UP14:UP30)","v":"00:00:00"},null,null,{"$f":"SUM(US14:US26)","v":"00:00:00"},"00:00:00","00:00:00",{"$f":"SUM(UV14:UV30)","v":"00:00:00"},{"$f":"SUM(UW14:UW30)","v":"00:00:00"},{"$f":"SUM(UX14:UX30)","v":"00:00:00"},null,{"$f":"SUM(UZ14:UZ30)","v":"00:00:00"},null,null,{"$f":"SUM(VC14:VC26)","v":"00:00:00"},"00:00:00","00:00:00",{"$f":"SUM(VF14:VF30)","v":"00:00:00"},{"$f":"SUM(VG14:VG30)","v":"00:00:00"},{"$f":"SUM(VH14:VH30)","v":"00:00:00"},null,{"$f":"SUM(VJ14:VJ30)","v":"00:00:00"},null,null,{"$f":"SUM(VM14:VM26)","v":"00:00:00"},"00:00:00","00:00:00",{"$f":"SUM(VP14:VP30)","v":"00:00:00"},{"$f":"SUM(VQ14:VQ30)","v":"00:00:00"},{"$f":"SUM(VR14:VR30)","v":"00:00:00"},null,{"$f":"SUM(VT14:VT30)","v":"00:00:00"},null,null,{"$f":"SUM(VW14:VW26)","v":"00:00:00"},"00:00:00","00:00:00",{"$f":"SUM(VZ14:VZ30)","v":"00:00:00"},{"$f":"SUM(WA14:WA30)","v":"00:00:00"},{"$f":"SUM(WB14:WB30)","v":"00:00:00"},null,{"$f":"SUM(WD14:WD30)","v":"00:00:00"},null,null,{"$f":"SUM(WG14:WG26)","v":"00:00:00"},"00:00:00","00:00:00",{"$f":"SUM(WJ14:WJ30)","v":"00:00:00"},{"$f":"SUM(WK14:WK30)","v":"00:00:00"},{"$f":"SUM(WL14:WL30)","v":"00:00:00"},null,{"$f":"SUM(WN14:WN30)","v":"00:00:00"},null,null,{"$f":"SUM(WQ14:WQ26)","v":"00:00:00"},"00:00:00","00:00:00",{"$f":"SUM(WT14:WT30)","v":"00:00:00"},{"$f":"SUM(WU14:WU30)","v":"00:00:00"},{"$f":"SUM(WV14:WV30)","v":"00:00:00"},null,{"$f":"SUM(WX14:WX30)","v":"00:00:00"},null,null,{"$f":"SUM(XA14:XA26)","v":"00:00:00"},"00:00:00","00:00:00",{"$f":"SUM(XD14:XD30)","v":"00:00:00"},{"$f":"SUM(XE14:XE30)","v":"00:00:00"},{"$f":"SUM(XF14:XF30)","v":"00:00:00"},null,{"$f":"SUM(XH14:XH30)","v":"00:00:00"},null,null,{"$f":"SUM(XK14:XK26)","v":"00:00:00"},"00:00:00","00:00:00",{"$f":"SUM(XN14:XN30)","v":"00:00:00"},{"$f":"SUM(XO14:XO30)","v":"00:00:00"},{"$f":"SUM(XP14:XP30)","v":"00:00:00"},null,{"$f":"SUM(XR14:XR30)","v":"00:00:00"},null,null,{"$f":"SUM(XU14:XU26)","v":"00:00:00"},"00:00:00","00:00:00",{"$f":"SUM(XX14:XX30)","v":"00:00:00"},{"$f":"SUM(XY14:XY30)","v":"00:00:00"},{"$f":"SUM(XZ14:XZ30)","v":"00:00:00"},null,{"$f":"SUM(YB14:YB30)","v":"00:00:00"},null,null,{"$f":"SUM(YE14:YE26)","v":"00:00:00"},"00:00:00","00:00:00",{"$f":"SUM(YH14:YH30)","v":"00:00:00"},{"$f":"SUM(YI14:YI30)","v":"00:00:00"},{"$f":"SUM(YJ14:YJ30)","v":"00:00:00"},null,{"$f":"SUM(YL14:YL30)","v":"00:00:00"},null,null,{"$f":"SUM(YO14:YO26)","v":"00:00:00"},"00:00:00","00:00:00",{"$f":"SUM(YR14:YR30)","v":"00:00:00"},{"$f":"SUM(YS14:YS30)","v":"00:00:00"},{"$f":"SUM(YT14:YT30)","v":"00:00:00"},null,{"$f":"SUM(YV14:YV30)","v":"00:00:00"},null,null,{"$f":"SUM(YY14:YY26)","v":"00:00:00"},"00:00:00","00:00:00",{"$f":"SUM(ZB14:ZB30)","v":"00:00:00"},{"$f":"SUM(ZC14:ZC30)","v":"00:00:00"},{"$f":"SUM(ZD14:ZD30)","v":"00:00:00"},null,{"$f":"SUM(ZF14:ZF30)","v":"00:00:00"},null,null,{"$f":"SUM(ZI14:ZI26)","v":"00:00:00"},"00:00:00","00:00:00",{"$f":"SUM(ZL14:ZL30)","v":"00:00:00"},{"$f":"SUM(ZM14:ZM30)","v":"00:00:00"},{"$f":"SUM(ZN14:ZN30)","v":"00:00:00"},null,{"$f":"SUM(ZP14:ZP30)","v":"00:00:00"},null,null,{"$f":"SUM(ZS14:ZS26)","v":"00:00:00"},"00:00:00","00:00:00",{"$f":"SUM(ZV14:ZV30)","v":"00:00:00"},{"$f":"SUM(ZW14:ZW30)","v":"00:00:00"},{"$f":"SUM(ZX14:ZX30)","v":"00:00:00"},null,{"$f":"SUM(ZZ14:ZZ30)","v":"00:00:00"},null,null,{"$f":"SUM(AAC14:AAC26)","v":"00:00:00"},"00:00:00","00:00:00",{"$f":"SUM(AAF14:AAF30)","v":"00:00:00"},{"$f":"SUM(AAG14:AAG30)","v":"00:00:00"},{"$f":"SUM(AAH14:AAH30)","v":"00:00:00"},null,{"$f":"SUM(AAJ14:AAJ30)","v":"00:00:00"},null,null,{"$f":"SUM(AAM14:AAM26)","v":"00:00:00"},"00:00:00","00:00:00",{"$f":"SUM(AAP14:AAP30)","v":"00:00:00"},{"$f":"SUM(AAQ14:AAQ30)","v":"00:00:00"},{"$f":"SUM(AAR14:AAR30)","v":"00:00:00"},null,{"$f":"SUM(AAT14:AAT30)","v":"00:00:00"},null,null,{"$f":"SUM(AAW14:AAW26)","v":"00:00:00"},"00:00:00","00:00:00",{"$f":"SUM(AAZ14:AAZ30)","v":"00:00:00"},{"$f":"SUM(ABA14:ABA30)","v":"00:00:00"},{"$f":"SUM(ABB14:ABB30)","v":"00:00:00"},null,{"$f":"SUM(ABD14:ABD30)","v":"00:00:00"},null,null,{"$f":"SUM(ABG14:ABG26)","v":"00:00:00"},"00:00:00","00:00:00",{"$f":"SUM(ABJ14:ABJ30)","v":"00:00:00"},{"$f":"SUM(ABK14:ABK30)","v":"00:00:00"},{"$f":"SUM(ABL14:ABL30)","v":"00:00:00"},null,{"$f":"SUM(ABN14:ABN30)","v":"00:00:00"},null,null,{"$f":"SUM(ABQ14:ABQ26)","v":"00:00:00"},"00:00:00","00:00:00",{"$f":"SUM(ABT14:ABT30)","v":"00:00:00"},{"$f":"SUM(ABU14:ABU30)","v":"00:00:00"},{"$f":"SUM(ABV14:ABV30)","v":"00:00:00"},null,{"$f":"SUM(ABX14:ABX30)","v":"00:00:00"},null,null,{"$f":"SUM(ACA14:ACA26)","v":"00:00:00"},"00:00:00","00:00:00",{"$f":"SUM(ACD14:ACD30)","v":"00:00:00"},{"$f":"SUM(ACE14:ACE30)","v":"00:00:00"},{"$f":"SUM(ACF14:ACF30)","v":"00:00:00"},null,{"$f":"SUM(ACH14:ACH30)","v":"00:00:00"},null,null,{"$f":"SUM(ACK14:ACK26)","v":"00:00:00"},"00:00:00","00:00:00",{"$f":"SUM(ACN14:ACN30)","v":"00:00:00"},{"$f":"SUM(ACO14:ACO30)","v":"00:00:00"},{"$f":"SUM(ACP14:ACP30)","v":"00:00:00"},null,{"$f":"SUM(ACR14:ACR30)","v":"00:00:00"},null,null,{"$f":"SUM(ACU14:ACU26)","v":"00:00:00"},"00:00:00","00:00:00",{"$f":"SUM(ACX14:ACX30)","v":"00:00:00"},{"$f":"SUM(ACY14:ACY30)","v":"00:00:00"},{"$f":"SUM(ACZ14:ACZ30)","v":"00:00:00"},null,{"$f":"SUM(ADB14:ADB30)","v":"00:00:00"},null,null,{"$f":"SUM(ADE14:ADE26)","v":"00:00:00"},"00:00:00","00:00:00",{"$f":"SUM(ADH14:ADH30)","v":"00:00:00"},{"$f":"SUM(ADI14:ADI30)","v":"00:00:00"},{"$f":"SUM(ADJ14:ADJ30)","v":"00:00:00"},null,{"$f":"SUM(ADL14:ADL30)","v":"00:00:00"},null,null,{"$f":"SUM(ADO14:ADO26)","v":"00:00:00"},"00:00:00","00:00:00",{"$f":"SUM(ADR14:ADR30)","v":"00:00:00"},{"$f":"SUM(ADS14:ADS30)","v":"00:00:00"},{"$f":"SUM(ADT14:ADT30)","v":"00:00:00"},null,{"$f":"SUM(ADV14:ADV30)","v":"00:00:00"},null,null,{"$f":"SUM(ADY14:ADY26)","v":"00:00:00"},"00:00:00","00:00:00",{"$f":"SUM(AEB14:AEB30)","v":"00:00:00"},{"$f":"SUM(AEC14:AEC30)","v":"00:00:00"},{"$f":"SUM(AED14:AED30)","v":"00:00:00"},null,{"$f":"SUM(AEF14:AEF30)","v":"00:00:00"},null,null,{"$f":"SUM(AEI14:AEI26)","v":"00:00:00"},"00:00:00","00:00:00",{"$f":"SUM(AEL14:AEL30)","v":"00:00:00"},{"$f":"SUM(AEM14:AEM30)","v":"00:00:00"},{"$f":"SUM(AEN14:AEN30)","v":"00:00:00"},null,{"$f":"SUM(AEP14:AEP30)","v":"00:00:00"},null,null,{"$f":"SUM(AES14:AES26)","v":"00:00:00"},"00:00:00","00:00:00",{"$f":"SUM(AEV14:AEV30)","v":"00:00:00"},{"$f":"SUM(AEW14:AEW30)","v":"00:00:00"},{"$f":"SUM(AEX14:AEX30)","v":"00:00:00"},null,{"$f":"SUM(AEZ14:AEZ30)","v":"00:00:00"},null,null,{"$f":"SUM(AFC14:AFC26)","v":"00:00:00"},"00:00:00","00:00:00",{"$f":"SUM(AFF14:AFF30)","v":"00:00:00"},{"$f":"SUM(AFG14:AFG30)","v":"00:00:00"},{"$f":"SUM(AFH14:AFH30)","v":"00:00:00"},null,{"$f":"SUM(AFJ14:AFJ30)","v":"00:00:00"},null,null,{"$f":"SUM(AFM14:AFM26)","v":"00:00:00"},"00:00:00","00:00:00",{"$f":"SUM(AFP14:AFP30)","v":"00:00:00"},{"$f":"SUM(AFQ14:AFQ30)","v":"00:00:00"},{"$f":"SUM(AFR14:AFR30)","v":"00:00:00"},null,{"$f":"SUM(AFT14:AFT30)","v":"00:00:00"},null,null,{"$f":"SUM(AFW14:AFW26)","v":"00:00:00"},"00:00:00","00:00:00",{"$f":"SUM(AFZ14:AFZ30)","v":"00:00:00"},{"$f":"SUM(AGA14:AGA30)","v":"00:00:00"},{"$f":"SUM(AGB14:AGB30)","v":"00:00:00"},null,{"$f":"SUM(AGD14:AGD30)","v":"00:00:00"},null,null,{"$f":"SUM(AGG14:AGG26)","v":"00:00:00"},"00:00:00","00:00:00",{"$f":"SUM(AGJ14:AGJ30)","v":"00:00:00"},{"$f":"SUM(AGK14:AGK30)","v":"00:00:00"},{"$f":"SUM(AGL14:AGL30)","v":"00:00:00"},null,{"$f":"SUM(AGN14:AGN30)","v":"00:00:00"},null,null,{"$f":"SUM(AGQ14:AGQ26)","v":"00:00:00"},"00:00:00","00:00:00",{"$f":"SUM(AGT14:AGT30)","v":"00:00:00"},{"$f":"SUM(AGU14:AGU30)","v":"00:00:00"},{"$f":"SUM(AGV14:AGV30)","v":"00:00:00"},null,{"$f":"SUM(AGX14:AGX30)","v":"00:00:00"},null,null,{"$f":"SUM(AHA14:AHA26)","v":"00:00:00"},"00:00:00","00:00:00",{"$f":"SUM(AHD14:AHD30)","v":"00:00:00"},{"$f":"SUM(AHE14:AHE30)","v":"00:00:00"},{"$f":"SUM(AHF14:AHF30)","v":"00:00:00"},null,{"$f":"SUM(AHH14:AHH30)","v":"00:00:00"},null,null,{"$f":"SUM(AHK14:AHK26)","v":"00:00:00"},"00:00:00","00:00:00",{"$f":"SUM(AHN14:AHN30)","v":"00:00:00"},{"$f":"SUM(AHO14:AHO30)","v":"00:00:00"},{"$f":"SUM(AHP14:AHP30)","v":"00:00:00"},null,{"$f":"SUM(AHR14:AHR30)","v":"00:00:00"},null,null,{"$f":"SUM(AHU14:AHU26)","v":"00:00:00"},"00:00:00","00:00:00",{"$f":"SUM(AHX14:AHX30)","v":"00:00:00"},{"$f":"SUM(AHY14:AHY30)","v":"00:00:00"},{"$f":"SUM(AHZ14:AHZ30)","v":"00:00:00"},null,{"$f":"SUM(AIB14:AIB30)","v":"00:00:00"},null,null,{"$f":"SUM(AIE14:AIE26)","v":"00:00:00"},"00:00:00","00:00:00",{"$f":"SUM(AIH14:AIH30)","v":"00:00:00"},{"$f":"SUM(AII14:AII30)","v":"00:00:00"},{"$f":"SUM(AIJ14:AIJ30)","v":"00:00:00"},null,{"$f":"SUM(AIL14:AIL30)","v":"00:00:00"},null,null,{"$f":"SUM(AIO14:AIO26)","v":"00:00:00"},"00:00:00","00:00:00",{"$f":"SUM(AIR14:AIR30)","v":"00:00:00"},{"$f":"SUM(AIS14:AIS30)","v":"00:00:00"},{"$f":"SUM(AIT14:AIT30)","v":"00:00:00"},null,{"$f":"SUM(AIV14:AIV30)","v":"00:00:00"},null,null,{"$f":"SUM(AIY14:AIY26)","v":"00:00:00"},"00:00:00","00:00:00",{"$f":"SUM(AJB14:AJB30)","v":"00:00:00"},{"$f":"SUM(AJC14:AJC30)","v":"00:00:00"},{"$f":"SUM(AJD14:AJD30)","v":"00:00:00"},null,{"$f":"SUM(AJF14:AJF30)","v":"00:00:00"},null,null,{"$f":"SUM(AJI14:AJI26)","v":"00:00:00"},"00:00:00","00:00:00",{"$f":"SUM(AJL14:AJL30)","v":"00:00:00"},{"$f":"SUM(AJM14:AJM30)","v":"00:00:00"},{"$f":"SUM(AJN14:AJN30)","v":"00:00:00"},null,{"$f":"SUM(AJP14:AJP30)","v":"00:00:00"},null,null,{"$f":"SUM(AJS14:AJS26)","v":"00:00:00"},"00:00:00","00:00:00",{"$f":"SUM(AJV14:AJV30)","v":"00:00:00"},{"$f":"SUM(AJW14:AJW30)","v":"00:00:00"},{"$f":"SUM(AJX14:AJX30)","v":"00:00:00"},null,{"$f":"SUM(AJZ14:AJZ30)","v":"00:00:00"},null,null,{"$f":"SUM(AKC14:AKC26)","v":"00:00:00"},"00:00:00","00:00:00",{"$f":"SUM(AKF14:AKF30)","v":"00:00:00"},{"$f":"SUM(AKG14:AKG30)","v":"00:00:00"},{"$f":"SUM(AKH14:AKH30)","v":"00:00:00"},null,{"$f":"SUM(AKJ14:AKJ30)","v":"00:00:00"},null,null,{"$f":"SUM(AKM14:AKM26)","v":"00:00:00"},"00:00:00","00:00:00",{"$f":"SUM(AKP14:AKP30)","v":"00:00:00"},{"$f":"SUM(AKQ14:AKQ30)","v":"00:00:00"},{"$f":"SUM(AKR14:AKR30)","v":"00:00:00"},null,{"$f":"SUM(AKT14:AKT30)","v":"00:00:00"},null,null,{"$f":"SUM(AKW14:AKW26)","v":"00:00:00"},"00:00:00","00:00:00",{"$f":"SUM(AKZ14:AKZ30)","v":"00:00:00"},{"$f":"SUM(ALA14:ALA30)","v":"00:00:00"},{"$f":"SUM(ALB14:ALB30)","v":"00:00:00"},null,{"$f":"SUM(ALD14:ALD30)","v":"00:00:00"},null,null,{"$f":"SUM(ALG14:ALG26)","v":"00:00:00"},"00:00:00","00:00:00",{"$f":"SUM(ALJ14:ALJ30)","v":"00:00:00"},{"$f":"SUM(ALK14:ALK30)","v":"00:00:00"},{"$f":"SUM(ALL14:ALL30)","v":"00:00:00"},null,{"$f":"SUM(ALN14:ALN30)","v":"00:00:00"},null,null,{"$f":"SUM(ALQ14:ALQ26)","v":"00:00:00"},"00:00:00","00:00:00",{"$f":"SUM(ALT14:ALT30)","v":"00:00:00"},{"$f":"SUM(ALU14:ALU30)","v":"00:00:00"},{"$f":"SUM(ALV14:ALV30)","v":"00:00:00"},null,{"$f":"SUM(ALX14:ALX30)","v":"00:00:00"},null,null,{"$f":"SUM(AMA14:AMA26)","v":"00:00:00"},"00:00:00","00:00:00",{"$f":"SUM(AMD14:AMD30)","v":"00:00:00"},{"$f":"SUM(AME14:AME30)","v":"00:00:00"},{"$f":"SUM(AMF14:AMF30)","v":"00:00:00"},null,{"$f":"SUM(AMH14:AMH30)","v":"00:00:00"},null,null,{"$f":"SUM(AMK14:AMK26)","v":"00:00:00"},"00:00:00","00:00:00",{"$f":"SUM(AMN14:AMN30)","v":"00:00:00"},{"$f":"SUM(AMO14:AMO30)","v":"00:00:00"},{"$f":"SUM(AMP14:AMP30)","v":"00:00:00"},null,{"$f":"SUM(AMR14:AMR30)","v":"00:00:00"},null,null,{"$f":"SUM(AMU14:AMU26)","v":"00:00:00"},"00:00:00","00:00:00",{"$f":"SUM(AMX14:AMX30)","v":"00:00:00"},{"$f":"SUM(AMY14:AMY30)","v":"00:00:00"},{"$f":"SUM(AMZ14:AMZ30)","v":"00:00:00"},null,{"$f":"SUM(ANB14:ANB30)","v":"00:00:00"},null,null,{"$f":"SUM(ANE14:ANE26)","v":"00:00:00"},"00:00:00","00:00:00",{"$f":"SUM(ANH14:ANH30)","v":"00:00:00"},{"$f":"SUM(ANI14:ANI30)","v":"00:00:00"},{"$f":"SUM(ANJ14:ANJ30)","v":"00:00:00"},null,{"$f":"SUM(ANL14:ANL30)","v":"00:00:00"},null,null,{"$f":"SUM(ANO14:ANO26)","v":"00:00:00"},"00:00:00","00:00:00",{"$f":"SUM(ANR14:ANR30)","v":"00:00:00"},{"$f":"SUM(ANS14:ANS30)","v":"00:00:00"},{"$f":"SUM(ANT14:ANT30)","v":"00:00:00"},null,{"$f":"SUM(ANV14:ANV30)","v":"00:00:00"},null,null,{"$f":"SUM(ANY14:ANY26)","v":"00:00:00"},"00:00:00","00:00:00",{"$f":"SUM(AOB14:AOB30)","v":"00:00:00"},{"$f":"SUM(AOC14:AOC30)","v":"00:00:00"},{"$f":"SUM(AOD14:AOD30)","v":"00:00:00"},null,{"$f":"SUM(AOF14:AOF30)","v":"00:00:00"},null,null,{"$f":"SUM(AOI14:AOI26)","v":"00:00:00"},"00:00:00","00:00:00",{"$f":"SUM(AOL14:AOL30)","v":"00:00:00"},{"$f":"SUM(AOM14:AOM30)","v":"00:00:00"},{"$f":"SUM(AON14:AON30)","v":"00:00:00"},null,{"$f":"SUM(AOP14:AOP30)","v":"00:00:00"},null,null,{"$f":"SUM(AOS14:AOS26)","v":"00:00:00"},"00:00:00","00:00:00",{"$f":"SUM(AOV14:AOV30)","v":"00:00:00"},{"$f":"SUM(AOW14:AOW30)","v":"00:00:00"},{"$f":"SUM(AOX14:AOX30)","v":"00:00:00"},null,{"$f":"SUM(AOZ14:AOZ30)","v":"00:00:00"},null,null,{"$f":"SUM(APC14:APC26)","v":"00:00:00"},"00:00:00","00:00:00",{"$f":"SUM(APF14:APF30)","v":"00:00:00"},{"$f":"SUM(APG14:APG30)","v":"00:00:00"},{"$f":"SUM(APH14:APH30)","v":"00:00:00"},null,{"$f":"SUM(APJ14:APJ30)","v":"00:00:00"},null,null,{"$f":"SUM(APM14:APM26)","v":"00:00:00"},"00:00:00","00:00:00",{"$f":"SUM(APP14:APP30)","v":"00:00:00"},{"$f":"SUM(APQ14:APQ30)","v":"00:00:00"},{"$f":"SUM(APR14:APR30)","v":"00:00:00"},null,{"$f":"SUM(APT14:APT30)","v":"00:00:00"},null,null,{"$f":"SUM(APW14:APW26)","v":"00:00:00"},"00:00:00","00:00:00",{"$f":"SUM(APZ14:APZ30)","v":"00:00:00"},{"$f":"SUM(AQA14:AQA30)","v":"00:00:00"},{"$f":"SUM(AQB14:AQB30)","v":"00:00:00"},null,{"$f":"SUM(AQD14:AQD30)","v":"00:00:00"},null,null,{"$f":"SUM(AQG14:AQG26)","v":"00:00:00"},"00:00:00","00:00:00",{"$f":"SUM(AQJ14:AQJ30)","v":"00:00:00"},{"$f":"SUM(AQK14:AQK30)","v":"00:00:00"},{"$f":"SUM(AQL14:AQL30)","v":"00:00:00"},null,{"$f":"SUM(AQN14:AQN30)","v":"00:00:00"},null,null,{"$f":"SUM(AQQ14:AQQ26)","v":"00:00:00"},"00:00:00","00:00:00",{"$f":"SUM(AQT14:AQT30)","v":"00:00:00"},{"$f":"SUM(AQU14:AQU30)","v":"00:00:00"},{"$f":"SUM(AQV14:AQV30)","v":"00:00:00"},null,{"$f":"SUM(AQX14:AQX30)","v":"00:00:00"},null,null,{"$f":"SUM(ARA14:ARA26)","v":"00:00:00"},"00:00:00","00:00:00",{"$f":"SUM(ARD14:ARD30)","v":"00:00:00"},{"$f":"SUM(ARE14:ARE30)","v":"00:00:00"},{"$f":"SUM(ARF14:ARF30)","v":"00:00:00"},null,{"$f":"SUM(ARH14:ARH30)","v":"00:00:00"},null,null,{"$f":"SUM(ARK14:ARK26)","v":"00:00:00"},"00:00:00","00:00:00",{"$f":"SUM(ARN14:ARN30)","v":"00:00:00"},{"$f":"SUM(ARO14:ARO30)","v":"00:00:00"},{"$f":"SUM(ARP14:ARP30)","v":"00:00:00"},null,{"$f":"SUM(ARR14:ARR30)","v":"00:00:00"},null,null,{"$f":"SUM(ARU14:ARU26)","v":"00:00:00"},"00:00:00","00:00:00",{"$f":"SUM(ARX14:ARX30)","v":"00:00:00"},{"$f":"SUM(ARY14:ARY30)","v":"00:00:00"},{"$f":"SUM(ARZ14:ARZ30)","v":"00:00:00"},null,{"$f":"SUM(ASB14:ASB30)","v":"00:00:00"},null,null,{"$f":"SUM(ASE14:ASE26)","v":"00:00:00"},"00:00:00","00:00:00",{"$f":"SUM(ASH14:ASH30)","v":"00:00:00"},{"$f":"SUM(ASI14:ASI30)","v":"00:00:00"},{"$f":"SUM(ASJ14:ASJ30)","v":"00:00:00"},null,{"$f":"SUM(ASL14:ASL30)","v":"00:00:00"},null,null,{"$f":"SUM(ASO14:ASO26)","v":"00:00:00"},"00:00:00","00:00:00",{"$f":"SUM(ASR14:ASR30)","v":"00:00:00"},{"$f":"SUM(ASS14:ASS30)","v":"00:00:00"},{"$f":"SUM(AST14:AST30)","v":"00:00:00"},null,{"$f":"SUM(ASV14:ASV30)","v":"00:00:00"},null,null,{"$f":"SUM(ASY14:ASY26)","v":"00:00:00"},"00:00:00","00:00:00",{"$f":"SUM(ATB14:ATB30)","v":"00:00:00"},{"$f":"SUM(ATC14:ATC30)","v":"00:00:00"},{"$f":"SUM(ATD14:ATD30)","v":"00:00:00"},null,{"$f":"SUM(ATF14:ATF30)","v":"00:00:00"},null,null,{"$f":"SUM(ATI14:ATI26)","v":"00:00:00"},"00:00:00","00:00:00",{"$f":"SUM(ATL14:ATL30)","v":"00:00:00"},{"$f":"SUM(ATM14:ATM30)","v":"00:00:00"},{"$f":"SUM(ATN14:ATN30)","v":"00:00:00"},null,{"$f":"SUM(ATP14:ATP30)","v":"00:00:00"},null,null,{"$f":"SUM(ATS14:ATS26)","v":"00:00:00"},"00:00:00","00:00:00",{"$f":"SUM(ATV14:ATV30)","v":"00:00:00"},{"$f":"SUM(ATW14:ATW30)","v":"00:00:00"},{"$f":"SUM(ATX14:ATX30)","v":"00:00:00"},null,{"$f":"SUM(ATZ14:ATZ30)","v":"00:00:00"},null,null,{"$f":"SUM(AUC14:AUC26)","v":"00:00:00"},"00:00:00","00:00:00",{"$f":"SUM(AUF14:AUF30)","v":"00:00:00"},{"$f":"SUM(AUG14:AUG30)","v":"00:00:00"},{"$f":"SUM(AUH14:AUH30)","v":"00:00:00"},null,{"$f":"SUM(AUJ14:AUJ30)","v":"00:00:00"},null,null,{"$f":"SUM(AUM14:AUM26)","v":"00:00:00"},"00:00:00","00:00:00",{"$f":"SUM(AUP14:AUP30)","v":"00:00:00"},{"$f":"SUM(AUQ14:AUQ30)","v":"00:00:00"},{"$f":"SUM(AUR14:AUR30)","v":"00:00:00"},null,{"$f":"SUM(AUT14:AUT30)","v":"00:00:00"},null,null,{"$f":"SUM(AUW14:AUW26)","v":"00:00:00"},"00:00:00","00:00:00",{"$f":"SUM(AUZ14:AUZ30)","v":"00:00:00"},{"$f":"SUM(AVA14:AVA30)","v":"00:00:00"},{"$f":"SUM(AVB14:AVB30)","v":"00:00:00"},null,{"$f":"SUM(AVD14:AVD30)","v":"00:00:00"},null,null,{"$f":"SUM(AVG14:AVG26)","v":"00:00:00"},"00:00:00","00:00:00",{"$f":"SUM(AVJ14:AVJ30)","v":"00:00:00"},{"$f":"SUM(AVK14:AVK30)","v":"00:00:00"},{"$f":"SUM(AVL14:AVL30)","v":"00:00:00"},null,{"$f":"SUM(AVN14:AVN30)","v":"00:00:00"},null,null,{"$f":"SUM(AVQ14:AVQ26)","v":"00:00:00"},"00:00:00","00:00:00",{"$f":"SUM(AVT14:AVT30)","v":"00:00:00"},{"$f":"SUM(AVU14:AVU30)","v":"00:00:00"},{"$f":"SUM(AVV14:AVV30)","v":"00:00:00"},null,{"$f":"SUM(AVX14:AVX30)","v":"00:00:00"},null,null,{"$f":"SUM(AWA14:AWA26)","v":"00:00:00"},"00:00:00","00:00:00",{"$f":"SUM(AWD14:AWD30)","v":"00:00:00"},{"$f":"SUM(AWE14:AWE30)","v":"00:00:00"},{"$f":"SUM(AWF14:AWF30)","v":"00:00:00"},null,{"$f":"SUM(AWH14:AWH30)","v":"00:00:00"},null,null,{"$f":"SUM(AWK14:AWK26)","v":"00:00:00"},"00:00:00","00:00:00",{"$f":"SUM(AWN14:AWN30)","v":"00:00:00"},{"$f":"SUM(AWO14:AWO30)","v":"00:00:00"},{"$f":"SUM(AWP14:AWP30)","v":"00:00:00"},null,{"$f":"SUM(AWR14:AWR30)","v":"00:00:00"},null,null,{"$f":"SUM(AWU14:AWU26)","v":"00:00:00"},"00:00:00","00:00:00",{"$f":"SUM(AWX14:AWX30)","v":"00:00:00"},{"$f":"SUM(AWY14:AWY30)","v":"00:00:00"},{"$f":"SUM(AWZ14:AWZ30)","v":"00:00:00"},null,{"$f":"SUM(AXB14:AXB30)","v":"00:00:00"},null,null,{"$f":"SUM(AXE14:AXE26)","v":"00:00:00"},"00:00:00","00:00:00",{"$f":"SUM(AXH14:AXH30)","v":"00:00:00"},{"$f":"SUM(AXI14:AXI30)","v":"00:00:00"},{"$f":"SUM(AXJ14:AXJ30)","v":"00:00:00"},null,{"$f":"SUM(AXL14:AXL30)","v":"00:00:00"},null,null,{"$f":"SUM(AXO14:AXO26)","v":"00:00:00"},"00:00:00","00:00:00",{"$f":"SUM(AXR14:AXR30)","v":"00:00:00"},{"$f":"SUM(AXS14:AXS30)","v":"00:00:00"},{"$f":"SUM(AXT14:AXT30)","v":"00:00:00"},null,{"$f":"SUM(AXV14:AXV30)","v":"00:00:00"},null,null,{"$f":"SUM(AXY14:AXY26)","v":"00:00:00"},"00:00:00","00:00:00",{"$f":"SUM(AYB14:AYB30)","v":"00:00:00"},{"$f":"SUM(AYC14:AYC30)","v":"00:00:00"},{"$f":"SUM(AYD14:AYD30)","v":"00:00:00"},null,{"$f":"SUM(AYF14:AYF30)","v":"00:00:00"},null,null,{"$f":"SUM(AYI14:AYI26)","v":"00:00:00"},"00:00:00","00:00:00",{"$f":"SUM(AYL14:AYL30)","v":"00:00:00"},{"$f":"SUM(AYM14:AYM30)","v":"00:00:00"},{"$f":"SUM(AYN14:AYN30)","v":"00:00:00"},null,{"$f":"SUM(AYP14:AYP30)","v":"00:00:00"},null,null,{"$f":"SUM(AYS14:AYS26)","v":"00:00:00"},"00:00:00","00:00:00",{"$f":"SUM(AYV14:AYV30)","v":"00:00:00"},{"$f":"SUM(AYW14:AYW30)","v":"00:00:00"},{"$f":"SUM(AYX14:AYX30)","v":"00:00:00"},null,{"$f":"SUM(AYZ14:AYZ30)","v":"00:00:00"},null,null,{"$f":"SUM(AZC14:AZC26)","v":"00:00:00"},"00:00:00","00:00:00",{"$f":"SUM(AZF14:AZF30)","v":"00:00:00"},{"$f":"SUM(AZG14:AZG30)","v":"00:00:00"},{"$f":"SUM(AZH14:AZH30)","v":"00:00:00"},null,{"$f":"SUM(AZJ14:AZJ30)","v":"00:00:00"},null,null,{"$f":"SUM(AZM14:AZM26)","v":"00:00:00"},"00:00:00","00:00:00",{"$f":"SUM(AZP14:AZP30)","v":"00:00:00"},{"$f":"SUM(AZQ14:AZQ30)","v":"00:00:00"},{"$f":"SUM(AZR14:AZR30)","v":"00:00:00"},null,{"$f":"SUM(AZT14:AZT30)","v":"00:00:00"},null,null,{"$f":"SUM(AZW14:AZW26)","v":"00:00:00"},"00:00:00","00:00:00",{"$f":"SUM(AZZ14:AZZ30)","v":"00:00:00"},{"$f":"SUM(BAA14:BAA30)","v":"00:00:00"},{"$f":"SUM(BAB14:BAB30)","v":"00:00:00"},null,{"$f":"SUM(BAD14:BAD30)","v":"00:00:00"},null,null,{"$f":"SUM(BAG14:BAG26)","v":"00:00:00"},"00:00:00","00:00:00",{"$f":"SUM(BAJ14:BAJ30)","v":"00:00:00"},{"$f":"SUM(BAK14:BAK30)","v":"00:00:00"},{"$f":"SUM(BAL14:BAL30)","v":"00:00:00"},null,{"$f":"SUM(BAN14:BAN30)","v":"00:00:00"},null,null,{"$f":"SUM(BAQ14:BAQ26)","v":"00:00:00"},"00:00:00","00:00:00",{"$f":"SUM(BAT14:BAT30)","v":"00:00:00"},{"$f":"SUM(BAU14:BAU30)","v":"00:00:00"},{"$f":"SUM(BAV14:BAV30)","v":"00:00:00"},null,{"$f":"SUM(BAX14:BAX30)","v":"00:00:00"},null,null,{"$f":"SUM(BBA14:BBA26)","v":"00:00:00"},"00:00:00","00:00:00",{"$f":"SUM(BBD14:BBD30)","v":"00:00:00"},{"$f":"SUM(BBE14:BBE30)","v":"00:00:00"},{"$f":"SUM(BBF14:BBF30)","v":"00:00:00"},null,{"$f":"SUM(BBH14:BBH30)","v":"00:00:00"},null,null,{"$f":"SUM(BBK14:BBK26)","v":"00:00:00"},"00:00:00","00:00:00",{"$f":"SUM(BBN14:BBN30)","v":"00:00:00"},{"$f":"SUM(BBO14:BBO30)","v":"00:00:00"},{"$f":"SUM(BBP14:BBP30)","v":"00:00:00"},null,{"$f":"SUM(BBR14:BBR30)","v":"00:00:00"},null,null,{"$f":"SUM(BBU14:BBU26)","v":"00:00:00"},"00:00:00","00:00:00",{"$f":"SUM(BBX14:BBX30)","v":"00:00:00"},{"$f":"SUM(BBY14:BBY30)","v":"00:00:00"},{"$f":"SUM(BBZ14:BBZ30)","v":"00:00:00"},null,{"$f":"SUM(BCB14:BCB30)","v":"00:00:00"},null,null,{"$f":"SUM(BCE14:BCE26)","v":"00:00:00"},"00:00:00","00:00:00",{"$f":"SUM(BCH14:BCH30)","v":"00:00:00"},{"$f":"SUM(BCI14:BCI30)","v":"00:00:00"},{"$f":"SUM(BCJ14:BCJ30)","v":"00:00:00"},null,{"$f":"SUM(BCL14:BCL30)","v":"00:00:00"},null,null,{"$f":"SUM(BCO14:BCO26)","v":"00:00:00"},"00:00:00","00:00:00",{"$f":"SUM(BCR14:BCR30)","v":"00:00:00"},{"$f":"SUM(BCS14:BCS30)","v":"00:00:00"},{"$f":"SUM(BCT14:BCT30)","v":"00:00:00"},null,{"$f":"SUM(BCV14:BCV30)","v":"00:00:00"},null,null,{"$f":"SUM(BCY14:BCY26)","v":"00:00:00"},"00:00:00","00:00:00",{"$f":"SUM(BDB14:BDB30)","v":"00:00:00"},{"$f":"SUM(BDC14:BDC30)","v":"00:00:00"},{"$f":"SUM(BDD14:BDD30)","v":"00:00:00"},null,{"$f":"SUM(BDF14:BDF30)","v":"00:00:00"},null,null,{"$f":"SUM(BDI14:BDI26)","v":"00:00:00"},"00:00:00","00:00:00",{"$f":"SUM(BDL14:BDL30)","v":"00:00:00"},{"$f":"SUM(BDM14:BDM30)","v":"00:00:00"},{"$f":"SUM(BDN14:BDN30)","v":"00:00:00"},null,{"$f":"SUM(BDP14:BDP30)","v":"00:00:00"},null,null,{"$f":"SUM(BDS14:BDS26)","v":"00:00:00"},"00:00:00","00:00:00",{"$f":"SUM(BDV14:BDV30)","v":"00:00:00"},{"$f":"SUM(BDW14:BDW30)","v":"00:00:00"},{"$f":"SUM(BDX14:BDX30)","v":"00:00:00"},null,{"$f":"SUM(BDZ14:BDZ30)","v":"00:00:00"},null,null,{"$f":"SUM(BEC14:BEC26)","v":"00:00:00"},"00:00:00","00:00:00",{"$f":"SUM(BEF14:BEF30)","v":"00:00:00"},{"$f":"SUM(BEG14:BEG30)","v":"00:00:00"},{"$f":"SUM(BEH14:BEH30)","v":"00:00:00"},null,{"$f":"SUM(BEJ14:BEJ30)","v":"00:00:00"},null,null,{"$f":"SUM(BEM14:BEM26)","v":"00:00:00"},"00:00:00","00:00:00",{"$f":"SUM(BEP14:BEP30)","v":"00:00:00"},{"$f":"SUM(BEQ14:BEQ30)","v":"00:00:00"},{"$f":"SUM(BER14:BER30)","v":"00:00:00"},null,{"$f":"SUM(BET14:BET30)","v":"00:00:00"},null,null,{"$f":"SUM(BEW14:BEW26)","v":"00:00:00"},"00:00:00","00:00:00",{"$f":"SUM(BEZ14:BEZ30)","v":"00:00:00"},{"$f":"SUM(BFA14:BFA30)","v":"00:00:00"},{"$f":"SUM(BFB14:BFB30)","v":"00:00:00"},null,{"$f":"SUM(BFD14:BFD30)","v":"00:00:00"},null,null,{"$f":"SUM(BFG14:BFG26)","v":"00:00:00"},"00:00:00","00:00:00",{"$f":"SUM(BFJ14:BFJ30)","v":"00:00:00"},{"$f":"SUM(BFK14:BFK30)","v":"00:00:00"},{"$f":"SUM(BFL14:BFL30)","v":"00:00:00"},null,{"$f":"SUM(BFN14:BFN30)","v":"00:00:00"},null,null,{"$f":"SUM(BFQ14:BFQ26)","v":"00:00:00"},"00:00:00","00:00:00",{"$f":"SUM(BFT14:BFT30)","v":"00:00:00"},{"$f":"SUM(BFU14:BFU30)","v":"00:00:00"},{"$f":"SUM(BFV14:BFV30)","v":"00:00:00"},null,{"$f":"SUM(BFX14:BFX30)","v":"00:00:00"},null,null,{"$f":"SUM(BGA14:BGA26)","v":"00:00:00"},"00:00:00","00:00:00",{"$f":"SUM(BGD14:BGD30)","v":"00:00:00"},{"$f":"SUM(BGE14:BGE30)","v":"00:00:00"},{"$f":"SUM(BGF14:BGF30)","v":"00:00:00"},null,{"$f":"SUM(BGH14:BGH30)","v":"00:00:00"},null,null,{"$f":"SUM(BGK14:BGK26)","v":"00:00:00"},"00:00:00","00:00:00",{"$f":"SUM(BGN14:BGN30)","v":"00:00:00"},{"$f":"SUM(BGO14:BGO30)","v":"00:00:00"},{"$f":"SUM(BGP14:BGP30)","v":"00:00:00"},null,{"$f":"SUM(BGR14:BGR30)","v":"00:00:00"},null,null,{"$f":"SUM(BGU14:BGU26)","v":"00:00:00"},"00:00:00","00:00:00",{"$f":"SUM(BGX14:BGX30)","v":"00:00:00"},{"$f":"SUM(BGY14:BGY30)","v":"00:00:00"},{"$f":"SUM(BGZ14:BGZ30)","v":"00:00:00"},null,{"$f":"SUM(BHB14:BHB30)","v":"00:00:00"},null,null,{"$f":"SUM(BHE14:BHE26)","v":"00:00:00"},"00:00:00","00:00:00",{"$f":"SUM(BHH14:BHH30)","v":"00:00:00"},{"$f":"SUM(BHI14:BHI30)","v":"00:00:00"},{"$f":"SUM(BHJ14:BHJ30)","v":"00:00:00"},null,{"$f":"SUM(BHL14:BHL30)","v":"00:00:00"},null,null,{"$f":"SUM(BHO14:BHO26)","v":"00:00:00"},"00:00:00","00:00:00",{"$f":"SUM(BHR14:BHR30)","v":"00:00:00"},{"$f":"SUM(BHS14:BHS30)","v":"00:00:00"},{"$f":"SUM(BHT14:BHT30)","v":"00:00:00"},null,{"$f":"SUM(BHV14:BHV30)","v":"00:00:00"},null,null,{"$f":"SUM(BHY14:BHY26)","v":"00:00:00"},"00:00:00","00:00:00",{"$f":"SUM(BIB14:BIB30)","v":"00:00:00"},{"$f":"SUM(BIC14:BIC30)","v":"00:00:00"},{"$f":"SUM(BID14:BID30)","v":"00:00:00"},null,{"$f":"SUM(BIF14:BIF30)","v":"00:00:00"},null,null,{"$f":"SUM(BII14:BII26)","v":"00:00:00"},"00:00:00","00:00:00",{"$f":"SUM(BIL14:BIL30)","v":"00:00:00"},{"$f":"SUM(BIM14:BIM30)","v":"00:00:00"},{"$f":"SUM(BIN14:BIN30)","v":"00:00:00"},null,{"$f":"SUM(BIP14:BIP30)","v":"00:00:00"},null,null,{"$f":"SUM(BIS14:BIS26)","v":"00:00:00"},"00:00:00","00:00:00",{"$f":"SUM(BIV14:BIV30)","v":"00:00:00"},{"$f":"SUM(BIW14:BIW30)","v":"00:00:00"},{"$f":"SUM(BIX14:BIX30)","v":"00:00:00"},null,{"$f":"SUM(BIZ14:BIZ30)","v":"00:00:00"},null,null,{"$f":"SUM(BJC14:BJC26)","v":"00:00:00"},"00:00:00","00:00:00",{"$f":"SUM(BJF14:BJF30)","v":"00:00:00"},{"$f":"SUM(BJG14:BJG30)","v":"00:00:00"},{"$f":"SUM(BJH14:BJH30)","v":"00:00:00"},null,{"$f":"SUM(BJJ14:BJJ30)","v":"00:00:00"},null,null,{"$f":"SUM(BJM14:BJM26)","v":"00:00:00"},"00:00:00","00:00:00",{"$f":"SUM(BJP14:BJP30)","v":"00:00:00"},{"$f":"SUM(BJQ14:BJQ30)","v":"00:00:00"},{"$f":"SUM(BJR14:BJR30)","v":"00:00:00"},null,{"$f":"SUM(BJT14:BJT30)","v":"00:00:00"},null,null,{"$f":"SUM(BJW14:BJW26)","v":"00:00:00"},"00:00:00","00:00:00",{"$f":"SUM(BJZ14:BJZ30)","v":"00:00:00"},{"$f":"SUM(BKA14:BKA30)","v":"00:00:00"},{"$f":"SUM(BKB14:BKB30)","v":"00:00:00"},null,{"$f":"SUM(BKD14:BKD30)","v":"00:00:00"},null,null,{"$f":"SUM(BKG14:BKG26)","v":"00:00:00"},"00:00:00","00:00:00",{"$f":"SUM(BKJ14:BKJ30)","v":"00:00:00"},{"$f":"SUM(BKK14:BKK30)","v":"00:00:00"},{"$f":"SUM(BKL14:BKL30)","v":"00:00:00"},null,{"$f":"SUM(BKN14:BKN30)","v":"00:00:00"},null,null,{"$f":"SUM(BKQ14:BKQ26)","v":"00:00:00"},"00:00:00","00:00:00",{"$f":"SUM(BKT14:BKT30)","v":"00:00:00"},{"$f":"SUM(BKU14:BKU30)","v":"00:00:00"},{"$f":"SUM(BKV14:BKV30)","v":"00:00:00"},null,{"$f":"SUM(BKX14:BKX30)","v":"00:00:00"},null,null,{"$f":"SUM(BLA14:BLA26)","v":"00:00:00"},"00:00:00","00:00:00",{"$f":"SUM(BLD14:BLD30)","v":"00:00:00"},{"$f":"SUM(BLE14:BLE30)","v":"00:00:00"},{"$f":"SUM(BLF14:BLF30)","v":"00:00:00"},null,{"$f":"SUM(BLH14:BLH30)","v":"00:00:00"},null,null,{"$f":"SUM(BLK14:BLK26)","v":"00:00:00"},"00:00:00","00:00:00",{"$f":"SUM(BLN14:BLN30)","v":"00:00:00"},{"$f":"SUM(BLO14:BLO30)","v":"00:00:00"},{"$f":"SUM(BLP14:BLP30)","v":"00:00:00"},null,{"$f":"SUM(BLR14:BLR30)","v":"00:00:00"},null,null,{"$f":"SUM(BLU14:BLU26)","v":"00:00:00"},"00:00:00","00:00:00",{"$f":"SUM(BLX14:BLX30)","v":"00:00:00"},{"$f":"SUM(BLY14:BLY30)","v":"00:00:00"},{"$f":"SUM(BLZ14:BLZ30)","v":"00:00:00"},null,{"$f":"SUM(BMB14:BMB30)","v":"00:00:00"},null,null,{"$f":"SUM(BME14:BME26)","v":"00:00:00"},"00:00:00","00:00:00",{"$f":"SUM(BMH14:BMH30)","v":"00:00:00"},{"$f":"SUM(BMI14:BMI30)","v":"00:00:00"},{"$f":"SUM(BMJ14:BMJ30)","v":"00:00:00"},null,{"$f":"SUM(BML14:BML30)","v":"00:00:00"},null,null,{"$f":"SUM(BMO14:BMO26)","v":"00:00:00"},"00:00:00","00:00:00",{"$f":"SUM(BMR14:BMR30)","v":"00:00:00"},{"$f":"SUM(BMS14:BMS30)","v":"00:00:00"},{"$f":"SUM(BMT14:BMT30)","v":"00:00:00"},null,{"$f":"SUM(BMV14:BMV30)","v":"00:00:00"},null,null,{"$f":"SUM(BMY14:BMY26)","v":"00:00:00"},"00:00:00","00:00:00",{"$f":"SUM(BNB14:BNB30)","v":"00:00:00"},{"$f":"SUM(BNC14:BNC30)","v":"00:00:00"},{"$f":"SUM(BND14:BND30)","v":"00:00:00"},null,{"$f":"SUM(BNF14:BNF30)","v":"00:00:00"},null,null,{"$f":"SUM(BNI14:BNI26)","v":"00:00:00"},"00:00:00","00:00:00",{"$f":"SUM(BNL14:BNL30)","v":"00:00:00"},{"$f":"SUM(BNM14:BNM30)","v":"00:00:00"},{"$f":"SUM(BNN14:BNN30)","v":"00:00:00"},null,{"$f":"SUM(BNP14:BNP30)","v":"00:00:00"},null,null,{"$f":"SUM(BNS14:BNS26)","v":"00:00:00"},"00:00:00","00:00:00",{"$f":"SUM(BNV14:BNV30)","v":"00:00:00"},{"$f":"SUM(BNW14:BNW30)","v":"00:00:00"},{"$f":"SUM(BNX14:BNX30)","v":"00:00:00"},null,{"$f":"SUM(BNZ14:BNZ30)","v":"00:00:00"},null,null,{"$f":"SUM(BOC14:BOC26)","v":"00:00:00"},"00:00:00","00:00:00",{"$f":"SUM(BOF14:BOF30)","v":"00:00:00"},{"$f":"SUM(BOG14:BOG30)","v":"00:00:00"},{"$f":"SUM(BOH14:BOH30)","v":"00:00:00"},null,{"$f":"SUM(BOJ14:BOJ30)","v":"00:00:00"},null,null,{"$f":"SUM(BOM14:BOM26)","v":"00:00:00"},"00:00:00","00:00:00",{"$f":"SUM(BOP14:BOP30)","v":"00:00:00"},{"$f":"SUM(BOQ14:BOQ30)","v":"00:00:00"},{"$f":"SUM(BOR14:BOR30)","v":"00:00:00"},null,{"$f":"SUM(BOT14:BOT30)","v":"00:00:00"},null,null,{"$f":"SUM(BOW14:BOW26)","v":"00:00:00"},"00:00:00","00:00:00",{"$f":"SUM(BOZ14:BOZ30)","v":"00:00:00"},{"$f":"SUM(BPA14:BPA30)","v":"00:00:00"},{"$f":"SUM(BPB14:BPB30)","v":"00:00:00"},null,{"$f":"SUM(BPD14:BPD30)","v":"00:00:00"},null,null,{"$f":"SUM(BPG14:BPG26)","v":"00:00:00"},"00:00:00","00:00:00",{"$f":"SUM(BPJ14:BPJ30)","v":"00:00:00"},{"$f":"SUM(BPK14:BPK30)","v":"00:00:00"},{"$f":"SUM(BPL14:BPL30)","v":"00:00:00"},null,{"$f":"SUM(BPN14:BPN30)","v":"00:00:00"},null,null,{"$f":"SUM(BPQ14:BPQ26)","v":"00:00:00"},"00:00:00","00:00:00",{"$f":"SUM(BPT14:BPT30)","v":"00:00:00"},{"$f":"SUM(BPU14:BPU30)","v":"00:00:00"},{"$f":"SUM(BPV14:BPV30)","v":"00:00:00"},null,{"$f":"SUM(BPX14:BPX30)","v":"00:00:00"},null,null,{"$f":"SUM(BQA14:BQA26)","v":"00:00:00"},"00:00:00","00:00:00",{"$f":"SUM(BQD14:BQD30)","v":"00:00:00"},{"$f":"SUM(BQE14:BQE30)","v":"00:00:00"},{"$f":"SUM(BQF14:BQF30)","v":"00:00:00"},null,{"$f":"SUM(BQH14:BQH30)","v":"00:00:00"},null,null,{"$f":"SUM(BQK14:BQK26)","v":"00:00:00"},"00:00:00","00:00:00",{"$f":"SUM(BQN14:BQN30)","v":"00:00:00"},{"$f":"SUM(BQO14:BQO30)","v":"00:00:00"},{"$f":"SUM(BQP14:BQP30)","v":"00:00:00"},null,{"$f":"SUM(BQR14:BQR30)","v":"00:00:00"},null,null,{"$f":"SUM(BQU14:BQU26)","v":"00:00:00"},"00:00:00","00:00:00",{"$f":"SUM(BQX14:BQX30)","v":"00:00:00"},{"$f":"SUM(BQY14:BQY30)","v":"00:00:00"},{"$f":"SUM(BQZ14:BQZ30)","v":"00:00:00"},null,{"$f":"SUM(BRB14:BRB30)","v":"00:00:00"},null,null,{"$f":"SUM(BRE14:BRE26)","v":"00:00:00"},"00:00:00","00:00:00",{"$f":"SUM(BRH14:BRH30)","v":"00:00:00"},{"$f":"SUM(BRI14:BRI30)","v":"00:00:00"},{"$f":"SUM(BRJ14:BRJ30)","v":"00:00:00"},null,{"$f":"SUM(BRL14:BRL30)","v":"00:00:00"},null,null,{"$f":"SUM(BRO14:BRO26)","v":"00:00:00"},"00:00:00","00:00:00",{"$f":"SUM(BRR14:BRR30)","v":"00:00:00"},{"$f":"SUM(BRS14:BRS30)","v":"00:00:00"},{"$f":"SUM(BRT14:BRT30)","v":"00:00:00"},null,{"$f":"SUM(BRV14:BRV30)","v":"00:00:00"},null,null,{"$f":"SUM(BRY14:BRY26)","v":"00:00:00"},"00:00:00","00:00:00",{"$f":"SUM(BSB14:BSB30)","v":"00:00:00"},{"$f":"SUM(BSC14:BSC30)","v":"00:00:00"},{"$f":"SUM(BSD14:BSD30)","v":"00:00:00"},null,{"$f":"SUM(BSF14:BSF30)","v":"00:00:00"},null,null,{"$f":"SUM(BSI14:BSI26)","v":"00:00:00"},"00:00:00","00:00:00",{"$f":"SUM(BSL14:BSL30)","v":"00:00:00"},{"$f":"SUM(BSM14:BSM30)","v":"00:00:00"},{"$f":"SUM(BSN14:BSN30)","v":"00:00:00"},null,{"$f":"SUM(BSP14:BSP30)","v":"00:00:00"},null,null,{"$f":"SUM(BSS14:BSS26)","v":"00:00:00"},"00:00:00","00:00:00",{"$f":"SUM(BSV14:BSV30)","v":"00:00:00"},{"$f":"SUM(BSW14:BSW30)","v":"00:00:00"},{"$f":"SUM(BSX14:BSX30)","v":"00:00:00"},null,{"$f":"SUM(BSZ14:BSZ30)","v":"00:00:00"},null,null,{"$f":"SUM(BTC14:BTC26)","v":"00:00:00"},"00:00:00","00:00:00",{"$f":"SUM(BTF14:BTF30)","v":"00:00:00"},{"$f":"SUM(BTG14:BTG30)","v":"00:00:00"},{"$f":"SUM(BTH14:BTH30)","v":"00:00:00"},null,{"$f":"SUM(BTJ14:BTJ30)","v":"00:00:00"},null,null,{"$f":"SUM(BTM14:BTM26)","v":"00:00:00"},"00:00:00","00:00:00",{"$f":"SUM(BTP14:BTP30)","v":"00:00:00"},{"$f":"SUM(BTQ14:BTQ30)","v":"00:00:00"},{"$f":"SUM(BTR14:BTR30)","v":"00:00:00"},null,{"$f":"SUM(BTT14:BTT30)","v":"00:00:00"},null,null,{"$f":"SUM(BTW14:BTW26)","v":"00:00:00"},"00:00:00","00:00:00",{"$f":"SUM(BTZ14:BTZ30)","v":"00:00:00"},{"$f":"SUM(BUA14:BUA30)","v":"00:00:00"},{"$f":"SUM(BUB14:BUB30)","v":"00:00:00"},null,{"$f":"SUM(BUD14:BUD30)","v":"00:00:00"},null,null,{"$f":"SUM(BUG14:BUG26)","v":"00:00:00"},"00:00:00","00:00:00",{"$f":"SUM(BUJ14:BUJ30)","v":"00:00:00"},{"$f":"SUM(BUK14:BUK30)","v":"00:00:00"},{"$f":"SUM(BUL14:BUL30)","v":"00:00:00"},null,{"$f":"SUM(BUN14:BUN30)","v":"00:00:00"},null,null,{"$f":"SUM(BUQ14:BUQ26)","v":"00:00:00"},"00:00:00","00:00:00",{"$f":"SUM(BUT14:BUT30)","v":"00:00:00"},{"$f":"SUM(BUU14:BUU30)","v":"00:00:00"},{"$f":"SUM(BUV14:BUV30)","v":"00:00:00"},null,{"$f":"SUM(BUX14:BUX30)","v":"00:00:00"},null,null,{"$f":"SUM(BVA14:BVA26)","v":"00:00:00"},"00:00:00","00:00:00",{"$f":"SUM(BVD14:BVD30)","v":"00:00:00"},{"$f":"SUM(BVE14:BVE30)","v":"00:00:00"},{"$f":"SUM(BVF14:BVF30)","v":"00:00:00"},null,{"$f":"SUM(BVH14:BVH30)","v":"00:00:00"},null,null,{"$f":"SUM(BVK14:BVK26)","v":"00:00:00"},"00:00:00","00:00:00",{"$f":"SUM(BVN14:BVN30)","v":"00:00:00"},{"$f":"SUM(BVO14:BVO30)","v":"00:00:00"},{"$f":"SUM(BVP14:BVP30)","v":"00:00:00"},null,{"$f":"SUM(BVR14:BVR30)","v":"00:00:00"},null,null,{"$f":"SUM(BVU14:BVU26)","v":"00:00:00"},"00:00:00","00:00:00",{"$f":"SUM(BVX14:BVX30)","v":"00:00:00"},{"$f":"SUM(BVY14:BVY30)","v":"00:00:00"},{"$f":"SUM(BVZ14:BVZ30)","v":"00:00:00"},null,{"$f":"SUM(BWB14:BWB30)","v":"00:00:00"},null,null,{"$f":"SUM(BWE14:BWE26)","v":"00:00:00"},"00:00:00","00:00:00",{"$f":"SUM(BWH14:BWH30)","v":"00:00:00"},{"$f":"SUM(BWI14:BWI30)","v":"00:00:00"},{"$f":"SUM(BWJ14:BWJ30)","v":"00:00:00"},null,{"$f":"SUM(BWL14:BWL30)","v":"00:00:00"},null,null,{"$f":"SUM(BWO14:BWO26)","v":"00:00:00"},"00:00:00","00:00:00",{"$f":"SUM(BWR14:BWR30)","v":"00:00:00"},{"$f":"SUM(BWS14:BWS30)","v":"00:00:00"},{"$f":"SUM(BWT14:BWT30)","v":"00:00:00"},null,{"$f":"SUM(BWV14:BWV30)","v":"00:00:00"},null,null,{"$f":"SUM(BWY14:BWY26)","v":"00:00:00"},"00:00:00","00:00:00",{"$f":"SUM(BXB14:BXB30)","v":"00:00:00"},{"$f":"SUM(BXC14:BXC30)","v":"00:00:00"},{"$f":"SUM(BXD14:BXD30)","v":"00:00:00"},null,{"$f":"SUM(BXF14:BXF30)","v":"00:00:00"},null,null,{"$f":"SUM(BXI14:BXI26)","v":"00:00:00"},"00:00:00","00:00:00",{"$f":"SUM(BXL14:BXL30)","v":"00:00:00"},{"$f":"SUM(BXM14:BXM30)","v":"00:00:00"},{"$f":"SUM(BXN14:BXN30)","v":"00:00:00"},null,{"$f":"SUM(BXP14:BXP30)","v":"00:00:00"},null,null,{"$f":"SUM(BXS14:BXS26)","v":"00:00:00"},"00:00:00","00:00:00",{"$f":"SUM(BXV14:BXV30)","v":"00:00:00"},{"$f":"SUM(BXW14:BXW30)","v":"00:00:00"},{"$f":"SUM(BXX14:BXX30)","v":"00:00:00"},null,{"$f":"SUM(BXZ14:BXZ30)","v":"00:00:00"},null,null,{"$f":"SUM(BYC14:BYC26)","v":"00:00:00"},"00:00:00","00:00:00",{"$f":"SUM(BYF14:BYF30)","v":"00:00:00"},{"$f":"SUM(BYG14:BYG30)","v":"00:00:00"},{"$f":"SUM(BYH14:BYH30)","v":"00:00:00"},null,{"$f":"SUM(BYJ14:BYJ30)","v":"00:00:00"},null,null,{"$f":"SUM(BYM14:BYM26)","v":"00:00:00"},"00:00:00","00:00:00",{"$f":"SUM(BYP14:BYP30)","v":"00:00:00"},{"$f":"SUM(BYQ14:BYQ30)","v":"00:00:00"},{"$f":"SUM(BYR14:BYR30)","v":"00:00:00"},null,{"$f":"SUM(BYT14:BYT30)","v":"00:00:00"},null,null,{"$f":"SUM(BYW14:BYW26)","v":"00:00:00"},"00:00:00","00:00:00",{"$f":"SUM(BYZ14:BYZ30)","v":"00:00:00"},{"$f":"SUM(BZA14:BZA30)","v":"00:00:00"},{"$f":"SUM(BZB14:BZB30)","v":"00:00:00"},null,{"$f":"SUM(BZD14:BZD30)","v":"00:00:00"},null,null,{"$f":"SUM(BZG14:BZG26)","v":"00:00:00"},"00:00:00","00:00:00",{"$f":"SUM(BZJ14:BZJ30)","v":"00:00:00"},{"$f":"SUM(BZK14:BZK30)","v":"00:00:00"},{"$f":"SUM(BZL14:BZL30)","v":"00:00:00"},null,{"$f":"SUM(BZN14:BZN30)","v":"00:00:00"},null,null,{"$f":"SUM(BZQ14:BZQ26)","v":"00:00:00"},"00:00:00","00:00:00",{"$f":"SUM(BZT14:BZT30)","v":"00:00:00"},{"$f":"SUM(BZU14:BZU30)","v":"00:00:00"},{"$f":"SUM(BZV14:BZV30)","v":"00:00:00"},null,{"$f":"SUM(BZX14:BZX30)","v":"00:00:00"},null,null,{"$f":"SUM(CAA14:CAA26)","v":"00:00:00"},"00:00:00","00:00:00",{"$f":"SUM(CAD14:CAD30)","v":"00:00:00"},{"$f":"SUM(CAE14:CAE30)","v":"00:00:00"},{"$f":"SUM(CAF14:CAF30)","v":"00:00:00"},null,{"$f":"SUM(CAH14:CAH30)","v":"00:00:00"},null,null,{"$f":"SUM(CAK14:CAK26)","v":"00:00:00"},"00:00:00","00:00:00",{"$f":"SUM(CAN14:CAN30)","v":"00:00:00"},{"$f":"SUM(CAO14:CAO30)","v":"00:00:00"},{"$f":"SUM(CAP14:CAP30)","v":"00:00:00"},null,{"$f":"SUM(CAR14:CAR30)","v":"00:00:00"},null,null,{"$f":"SUM(CAU14:CAU26)","v":"00:00:00"},"00:00:00","00:00:00",{"$f":"SUM(CAX14:CAX30)","v":"00:00:00"},{"$f":"SUM(CAY14:CAY30)","v":"00:00:00"},{"$f":"SUM(CAZ14:CAZ30)","v":"00:00:00"},null,{"$f":"SUM(CBB14:CBB30)","v":"00:00:00"},null,null,{"$f":"SUM(CBE14:CBE26)","v":"00:00:00"},"00:00:00","00:00:00",{"$f":"SUM(CBH14:CBH30)","v":"00:00:00"},{"$f":"SUM(CBI14:CBI30)","v":"00:00:00"},{"$f":"SUM(CBJ14:CBJ30)","v":"00:00:00"},null,{"$f":"SUM(CBL14:CBL30)","v":"00:00:00"},null,null,{"$f":"SUM(CBO14:CBO26)","v":"00:00:00"},"00:00:00","00:00:00",{"$f":"SUM(CBR14:CBR30)","v":"00:00:00"},{"$f":"SUM(CBS14:CBS30)","v":"00:00:00"},{"$f":"SUM(CBT14:CBT30)","v":"00:00:00"},null,{"$f":"SUM(CBV14:CBV30)","v":"00:00:00"},null,null,{"$f":"SUM(CBY14:CBY26)","v":"00:00:00"},"00:00:00","00:00:00",{"$f":"SUM(CCB14:CCB30)","v":"00:00:00"},{"$f":"SUM(CCC14:CCC30)","v":"00:00:00"},{"$f":"SUM(CCD14:CCD30)","v":"00:00:00"},null,{"$f":"SUM(CCF14:CCF30)","v":"00:00:00"},null,null,{"$f":"SUM(CCI14:CCI26)","v":"00:00:00"},"00:00:00","00:00:00",{"$f":"SUM(CCL14:CCL30)","v":"00:00:00"},{"$f":"SUM(CCM14:CCM30)","v":"00:00:00"},{"$f":"SUM(CCN14:CCN30)","v":"00:00:00"},null,{"$f":"SUM(CCP14:CCP30)","v":"00:00:00"},null,null,{"$f":"SUM(CCS14:CCS26)","v":"00:00:00"},"00:00:00","00:00:00",{"$f":"SUM(CCV14:CCV30)","v":"00:00:00"},{"$f":"SUM(CCW14:CCW30)","v":"00:00:00"},{"$f":"SUM(CCX14:CCX30)","v":"00:00:00"},null,{"$f":"SUM(CCZ14:CCZ30)","v":"00:00:00"},null,null,{"$f":"SUM(CDC14:CDC26)","v":"00:00:00"},"00:00:00","00:00:00",{"$f":"SUM(CDF14:CDF30)","v":"00:00:00"},{"$f":"SUM(CDG14:CDG30)","v":"00:00:00"},{"$f":"SUM(CDH14:CDH30)","v":"00:00:00"},null,{"$f":"SUM(CDJ14:CDJ30)","v":"00:00:00"},null,null,{"$f":"SUM(CDM14:CDM26)","v":"00:00:00"},"00:00:00","00:00:00",{"$f":"SUM(CDP14:CDP30)","v":"00:00:00"},{"$f":"SUM(CDQ14:CDQ30)","v":"00:00:00"},{"$f":"SUM(CDR14:CDR30)","v":"00:00:00"},null,{"$f":"SUM(CDT14:CDT30)","v":"00:00:00"},null,null,{"$f":"SUM(CDW14:CDW26)","v":"00:00:00"},"00:00:00","00:00:00",{"$f":"SUM(CDZ14:CDZ30)","v":"00:00:00"},{"$f":"SUM(CEA14:CEA30)","v":"00:00:00"},{"$f":"SUM(CEB14:CEB30)","v":"00:00:00"},null,{"$f":"SUM(CED14:CED30)","v":"00:00:00"},null,null,{"$f":"SUM(CEG14:CEG26)","v":"00:00:00"},"00:00:00","00:00:00",{"$f":"SUM(CEJ14:CEJ30)","v":"00:00:00"},{"$f":"SUM(CEK14:CEK30)","v":"00:00:00"},{"$f":"SUM(CEL14:CEL30)","v":"00:00:00"},null,{"$f":"SUM(CEN14:CEN30)","v":"00:00:00"},null,null,{"$f":"SUM(CEQ14:CEQ26)","v":"00:00:00"},"00:00:00","00:00:00",{"$f":"SUM(CET14:CET30)","v":"00:00:00"},{"$f":"SUM(CEU14:CEU30)","v":"00:00:00"},{"$f":"SUM(CEV14:CEV30)","v":"00:00:00"},null,{"$f":"SUM(CEX14:CEX30)","v":"00:00:00"},null,null,{"$f":"SUM(CFA14:CFA26)","v":"00:00:00"},"00:00:00","00:00:00",{"$f":"SUM(CFD14:CFD30)","v":"00:00:00"},{"$f":"SUM(CFE14:CFE30)","v":"00:00:00"},{"$f":"SUM(CFF14:CFF30)","v":"00:00:00"},null,{"$f":"SUM(CFH14:CFH30)","v":"00:00:00"},null,null,{"$f":"SUM(CFK14:CFK26)","v":"00:00:00"},"00:00:00","00:00:00",{"$f":"SUM(CFN14:CFN30)","v":"00:00:00"},{"$f":"SUM(CFO14:CFO30)","v":"00:00:00"},{"$f":"SUM(CFP14:CFP30)","v":"00:00:00"},null,{"$f":"SUM(CFR14:CFR30)","v":"00:00:00"},null,null,{"$f":"SUM(CFU14:CFU26)","v":"00:00:00"},"00:00:00","00:00:00",{"$f":"SUM(CFX14:CFX30)","v":"00:00:00"},{"$f":"SUM(CFY14:CFY30)","v":"00:00:00"},{"$f":"SUM(CFZ14:CFZ30)","v":"00:00:00"},null,{"$f":"SUM(CGB14:CGB30)","v":"00:00:00"},null,null,{"$f":"SUM(CGE14:CGE26)","v":"00:00:00"},"00:00:00","00:00:00",{"$f":"SUM(CGH14:CGH30)","v":"00:00:00"},{"$f":"SUM(CGI14:CGI30)","v":"00:00:00"},{"$f":"SUM(CGJ14:CGJ30)","v":"00:00:00"},null,{"$f":"SUM(CGL14:CGL30)","v":"00:00:00"},null,null,{"$f":"SUM(CGO14:CGO26)","v":"00:00:00"},"00:00:00","00:00:00",{"$f":"SUM(CGR14:CGR30)","v":"00:00:00"},{"$f":"SUM(CGS14:CGS30)","v":"00:00:00"},{"$f":"SUM(CGT14:CGT30)","v":"00:00:00"},null,{"$f":"SUM(CGV14:CGV30)","v":"00:00:00"},null,null,{"$f":"SUM(CGY14:CGY26)","v":"00:00:00"},"00:00:00","00:00:00",{"$f":"SUM(CHB14:CHB30)","v":"00:00:00"},{"$f":"SUM(CHC14:CHC30)","v":"00:00:00"},{"$f":"SUM(CHD14:CHD30)","v":"00:00:00"},null,{"$f":"SUM(CHF14:CHF30)","v":"00:00:00"},null,null,{"$f":"SUM(CHI14:CHI26)","v":"00:00:00"},"00:00:00","00:00:00",{"$f":"SUM(CHL14:CHL30)","v":"00:00:00"},{"$f":"SUM(CHM14:CHM30)","v":"00:00:00"},{"$f":"SUM(CHN14:CHN30)","v":"00:00:00"},null,{"$f":"SUM(CHP14:CHP30)","v":"00:00:00"},null,null,{"$f":"SUM(CHS14:CHS26)","v":"00:00:00"},"00:00:00","00:00:00",{"$f":"SUM(CHV14:CHV30)","v":"00:00:00"},{"$f":"SUM(CHW14:CHW30)","v":"00:00:00"},{"$f":"SUM(CHX14:CHX30)","v":"00:00:00"},null,{"$f":"SUM(CHZ14:CHZ30)","v":"00:00:00"},null,null,{"$f":"SUM(CIC14:CIC26)","v":"00:00:00"},"00:00:00","00:00:00",{"$f":"SUM(CIF14:CIF30)","v":"00:00:00"},{"$f":"SUM(CIG14:CIG30)","v":"00:00:00"},{"$f":"SUM(CIH14:CIH30)","v":"00:00:00"},null,{"$f":"SUM(CIJ14:CIJ30)","v":"00:00:00"},null,null,{"$f":"SUM(CIM14:CIM26)","v":"00:00:00"},"00:00:00","00:00:00",{"$f":"SUM(CIP14:CIP30)","v":"00:00:00"},{"$f":"SUM(CIQ14:CIQ30)","v":"00:00:00"},{"$f":"SUM(CIR14:CIR30)","v":"00:00:00"},null,{"$f":"SUM(CIT14:CIT30)","v":"00:00:00"},null,null,{"$f":"SUM(CIW14:CIW26)","v":"00:00:00"},"00:00:00","00:00:00",{"$f":"SUM(CIZ14:CIZ30)","v":"00:00:00"},{"$f":"SUM(CJA14:CJA30)","v":"00:00:00"},{"$f":"SUM(CJB14:CJB30)","v":"00:00:00"},null,{"$f":"SUM(CJD14:CJD30)","v":"00:00:00"},null,null,{"$f":"SUM(CJG14:CJG26)","v":"00:00:00"},"00:00:00","00:00:00",{"$f":"SUM(CJJ14:CJJ30)","v":"00:00:00"},{"$f":"SUM(CJK14:CJK30)","v":"00:00:00"},{"$f":"SUM(CJL14:CJL30)","v":"00:00:00"},null,{"$f":"SUM(CJN14:CJN30)","v":"00:00:00"},null,null,{"$f":"SUM(CJQ14:CJQ26)","v":"00:00:00"},"00:00:00","00:00:00",{"$f":"SUM(CJT14:CJT30)","v":"00:00:00"},{"$f":"SUM(CJU14:CJU30)","v":"00:00:00"},{"$f":"SUM(CJV14:CJV30)","v":"00:00:00"},null,{"$f":"SUM(CJX14:CJX30)","v":"00:00:00"},null,null,{"$f":"SUM(CKA14:CKA26)","v":"00:00:00"},"00:00:00","00:00:00",{"$f":"SUM(CKD14:CKD30)","v":"00:00:00"},{"$f":"SUM(CKE14:CKE30)","v":"00:00:00"},{"$f":"SUM(CKF14:CKF30)","v":"00:00:00"},null,{"$f":"SUM(CKH14:CKH30)","v":"00:00:00"},null,null,{"$f":"SUM(CKK14:CKK26)","v":"00:00:00"},"00:00:00","00:00:00",{"$f":"SUM(CKN14:CKN30)","v":"00:00:00"},{"$f":"SUM(CKO14:CKO30)","v":"00:00:00"},{"$f":"SUM(CKP14:CKP30)","v":"00:00:00"},null,{"$f":"SUM(CKR14:CKR30)","v":"00:00:00"},null,null,{"$f":"SUM(CKU14:CKU26)","v":"00:00:00"},"00:00:00","00:00:00",{"$f":"SUM(CKX14:CKX30)","v":"00:00:00"},{"$f":"SUM(CKY14:CKY30)","v":"00:00:00"},{"$f":"SUM(CKZ14:CKZ30)","v":"00:00:00"},null,{"$f":"SUM(CLB14:CLB30)","v":"00:00:00"},null,null,{"$f":"SUM(CLE14:CLE26)","v":"00:00:00"},"00:00:00","00:00:00",{"$f":"SUM(CLH14:CLH30)","v":"00:00:00"},{"$f":"SUM(CLI14:CLI30)","v":"00:00:00"},{"$f":"SUM(CLJ14:CLJ30)","v":"00:00:00"},null,{"$f":"SUM(CLL14:CLL30)","v":"00:00:00"},null,null,{"$f":"SUM(CLO14:CLO26)","v":"00:00:00"},"00:00:00","00:00:00",{"$f":"SUM(CLR14:CLR30)","v":"00:00:00"},{"$f":"SUM(CLS14:CLS30)","v":"00:00:00"},{"$f":"SUM(CLT14:CLT30)","v":"00:00:00"},null,{"$f":"SUM(CLV14:CLV30)","v":"00:00:00"},null,null,{"$f":"SUM(CLY14:CLY26)","v":"00:00:00"},"00:00:00","00:00:00",{"$f":"SUM(CMB14:CMB30)","v":"00:00:00"},{"$f":"SUM(CMC14:CMC30)","v":"00:00:00"},{"$f":"SUM(CMD14:CMD30)","v":"00:00:00"},null,{"$f":"SUM(CMF14:CMF30)","v":"00:00:00"},null,null,{"$f":"SUM(CMI14:CMI26)","v":"00:00:00"},"00:00:00","00:00:00",{"$f":"SUM(CML14:CML30)","v":"00:00:00"},{"$f":"SUM(CMM14:CMM30)","v":"00:00:00"},{"$f":"SUM(CMN14:CMN30)","v":"00:00:00"},null,{"$f":"SUM(CMP14:CMP30)","v":"00:00:00"},null,null,{"$f":"SUM(CMS14:CMS26)","v":"00:00:00"},"00:00:00","00:00:00",{"$f":"SUM(CMV14:CMV30)","v":"00:00:00"},{"$f":"SUM(CMW14:CMW30)","v":"00:00:00"},{"$f":"SUM(CMX14:CMX30)","v":"00:00:00"},null,{"$f":"SUM(CMZ14:CMZ30)","v":"00:00:00"},null,null,{"$f":"SUM(CNC14:CNC26)","v":"00:00:00"},"00:00:00","00:00:00",{"$f":"SUM(CNF14:CNF30)","v":"00:00:00"},{"$f":"SUM(CNG14:CNG30)","v":"00:00:00"},{"$f":"SUM(CNH14:CNH30)","v":"00:00:00"},null,{"$f":"SUM(CNJ14:CNJ30)","v":"00:00:00"},null,null,{"$f":"SUM(CNM14:CNM26)","v":"00:00:00"},"00:00:00","00:00:00",{"$f":"SUM(CNP14:CNP30)","v":"00:00:00"},{"$f":"SUM(CNQ14:CNQ30)","v":"00:00:00"},{"$f":"SUM(CNR14:CNR30)","v":"00:00:00"},null,{"$f":"SUM(CNT14:CNT30)","v":"00:00:00"},null,null,{"$f":"SUM(CNW14:CNW26)","v":"00:00:00"},"00:00:00","00:00:00",{"$f":"SUM(CNZ14:CNZ30)","v":"00:00:00"},{"$f":"SUM(COA14:COA30)","v":"00:00:00"},{"$f":"SUM(COB14:COB30)","v":"00:00:00"},null,{"$f":"SUM(COD14:COD30)","v":"00:00:00"},null,null,{"$f":"SUM(COG14:COG26)","v":"00:00:00"},"00:00:00","00:00:00",{"$f":"SUM(COJ14:COJ30)","v":"00:00:00"},{"$f":"SUM(COK14:COK30)","v":"00:00:00"},{"$f":"SUM(COL14:COL30)","v":"00:00:00"},null,{"$f":"SUM(CON14:CON30)","v":"00:00:00"},null,null,{"$f":"SUM(COQ14:COQ26)","v":"00:00:00"},"00:00:00","00:00:00",{"$f":"SUM(COT14:COT30)","v":"00:00:00"},{"$f":"SUM(COU14:COU30)","v":"00:00:00"},{"$f":"SUM(COV14:COV30)","v":"00:00:00"},null,{"$f":"SUM(COX14:COX30)","v":"00:00:00"},null,null,{"$f":"SUM(CPA14:CPA26)","v":"00:00:00"},"00:00:00","00:00:00",{"$f":"SUM(CPD14:CPD30)","v":"00:00:00"},{"$f":"SUM(CPE14:CPE30)","v":"00:00:00"},{"$f":"SUM(CPF14:CPF30)","v":"00:00:00"},null,{"$f":"SUM(CPH14:CPH30)","v":"00:00:00"},null,null,{"$f":"SUM(CPK14:CPK26)","v":"00:00:00"},"00:00:00","00:00:00",{"$f":"SUM(CPN14:CPN30)","v":"00:00:00"},{"$f":"SUM(CPO14:CPO30)","v":"00:00:00"},{"$f":"SUM(CPP14:CPP30)","v":"00:00:00"},null,{"$f":"SUM(CPR14:CPR30)","v":"00:00:00"},null,null,{"$f":"SUM(CPU14:CPU26)","v":"00:00:00"},"00:00:00","00:00:00",{"$f":"SUM(CPX14:CPX30)","v":"00:00:00"},{"$f":"SUM(CPY14:CPY30)","v":"00:00:00"},{"$f":"SUM(CPZ14:CPZ30)","v":"00:00:00"},null,{"$f":"SUM(CQB14:CQB30)","v":"00:00:00"},null,null,{"$f":"SUM(CQE14:CQE26)","v":"00:00:00"},"00:00:00","00:00:00",{"$f":"SUM(CQH14:CQH30)","v":"00:00:00"},{"$f":"SUM(CQI14:CQI30)","v":"00:00:00"},{"$f":"SUM(CQJ14:CQJ30)","v":"00:00:00"},null,{"$f":"SUM(CQL14:CQL30)","v":"00:00:00"},null,null,{"$f":"SUM(CQO14:CQO26)","v":"00:00:00"},"00:00:00","00:00:00",{"$f":"SUM(CQR14:CQR30)","v":"00:00:00"},{"$f":"SUM(CQS14:CQS30)","v":"00:00:00"},{"$f":"SUM(CQT14:CQT30)","v":"00:00:00"},null,{"$f":"SUM(CQV14:CQV30)","v":"00:00:00"},null,null,{"$f":"SUM(CQY14:CQY26)","v":"00:00:00"},"00:00:00","00:00:00",{"$f":"SUM(CRB14:CRB30)","v":"00:00:00"},{"$f":"SUM(CRC14:CRC30)","v":"00:00:00"},{"$f":"SUM(CRD14:CRD30)","v":"00:00:00"},null,{"$f":"SUM(CRF14:CRF30)","v":"00:00:00"},null,null,{"$f":"SUM(CRI14:CRI26)","v":"00:00:00"},"00:00:00","00:00:00",{"$f":"SUM(CRL14:CRL30)","v":"00:00:00"},{"$f":"SUM(CRM14:CRM30)","v":"00:00:00"},{"$f":"SUM(CRN14:CRN30)","v":"00:00:00"},null,{"$f":"SUM(CRP14:CRP30)","v":"00:00:00"},null,null,{"$f":"SUM(CRS14:CRS26)","v":"00:00:00"},"00:00:00","00:00:00",{"$f":"SUM(CRV14:CRV30)","v":"00:00:00"},{"$f":"SUM(CRW14:CRW30)","v":"00:00:00"},{"$f":"SUM(CRX14:CRX30)","v":"00:00:00"},null,{"$f":"SUM(CRZ14:CRZ30)","v":"00:00:00"},null,null,{"$f":"SUM(CSC14:CSC26)","v":"00:00:00"},"00:00:00","00:00:00",{"$f":"SUM(CSF14:CSF30)","v":"00:00:00"},{"$f":"SUM(CSG14:CSG30)","v":"00:00:00"},{"$f":"SUM(CSH14:CSH30)","v":"00:00:00"},null,{"$f":"SUM(CSJ14:CSJ30)","v":"00:00:00"},null,null,{"$f":"SUM(CSM14:CSM26)","v":"00:00:00"},"00:00:00","00:00:00",{"$f":"SUM(CSP14:CSP30)","v":"00:00:00"},{"$f":"SUM(CSQ14:CSQ30)","v":"00:00:00"},{"$f":"SUM(CSR14:CSR30)","v":"00:00:00"},null,{"$f":"SUM(CST14:CST30)","v":"00:00:00"},null,null,{"$f":"SUM(CSW14:CSW26)","v":"00:00:00"},"00:00:00","00:00:00",{"$f":"SUM(CSZ14:CSZ30)","v":"00:00:00"},{"$f":"SUM(CTA14:CTA30)","v":"00:00:00"},{"$f":"SUM(CTB14:CTB30)","v":"00:00:00"},null,{"$f":"SUM(CTD14:CTD30)","v":"00:00:00"},null,null,{"$f":"SUM(CTG14:CTG26)","v":"00:00:00"},"00:00:00","00:00:00",{"$f":"SUM(CTJ14:CTJ30)","v":"00:00:00"},{"$f":"SUM(CTK14:CTK30)","v":"00:00:00"},{"$f":"SUM(CTL14:CTL30)","v":"00:00:00"},null,{"$f":"SUM(CTN14:CTN30)","v":"00:00:00"},null,null,{"$f":"SUM(CTQ14:CTQ26)","v":"00:00:00"},"00:00:00","00:00:00",{"$f":"SUM(CTT14:CTT30)","v":"00:00:00"},{"$f":"SUM(CTU14:CTU30)","v":"00:00:00"},{"$f":"SUM(CTV14:CTV30)","v":"00:00:00"},null,{"$f":"SUM(CTX14:CTX30)","v":"00:00:00"},null,null,{"$f":"SUM(CUA14:CUA26)","v":"00:00:00"},"00:00:00","00:00:00",{"$f":"SUM(CUD14:CUD30)","v":"00:00:00"},{"$f":"SUM(CUE14:CUE30)","v":"00:00:00"},{"$f":"SUM(CUF14:CUF30)","v":"00:00:00"},null,{"$f":"SUM(CUH14:CUH30)","v":"00:00:00"},null,null,{"$f":"SUM(CUK14:CUK26)","v":"00:00:00"},"00:00:00","00:00:00",{"$f":"SUM(CUN14:CUN30)","v":"00:00:00"},{"$f":"SUM(CUO14:CUO30)","v":"00:00:00"},{"$f":"SUM(CUP14:CUP30)","v":"00:00:00"},null,{"$f":"SUM(CUR14:CUR30)","v":"00:00:00"},null,null,{"$f":"SUM(CUU14:CUU26)","v":"00:00:00"},"00:00:00","00:00:00",{"$f":"SUM(CUX14:CUX30)","v":"00:00:00"},{"$f":"SUM(CUY14:CUY30)","v":"00:00:00"},{"$f":"SUM(CUZ14:CUZ30)","v":"00:00:00"},null,{"$f":"SUM(CVB14:CVB30)","v":"00:00:00"},null,null,{"$f":"SUM(CVE14:CVE26)","v":"00:00:00"},"00:00:00","00:00:00",{"$f":"SUM(CVH14:CVH30)","v":"00:00:00"},{"$f":"SUM(CVI14:CVI30)","v":"00:00:00"},{"$f":"SUM(CVJ14:CVJ30)","v":"00:00:00"},null,{"$f":"SUM(CVL14:CVL30)","v":"00:00:00"},null,null,{"$f":"SUM(CVO14:CVO26)","v":"00:00:00"},"00:00:00","00:00:00",{"$f":"SUM(CVR14:CVR30)","v":"00:00:00"},{"$f":"SUM(CVS14:CVS30)","v":"00:00:00"},{"$f":"SUM(CVT14:CVT30)","v":"00:00:00"},null,{"$f":"SUM(CVV14:CVV30)","v":"00:00:00"},null,null,{"$f":"SUM(CVY14:CVY26)","v":"00:00:00"},"00:00:00","00:00:00",{"$f":"SUM(CWB14:CWB30)","v":"00:00:00"},{"$f":"SUM(CWC14:CWC30)","v":"00:00:00"},{"$f":"SUM(CWD14:CWD30)","v":"00:00:00"},null,{"$f":"SUM(CWF14:CWF30)","v":"00:00:00"},null,null,{"$f":"SUM(CWI14:CWI26)","v":"00:00:00"},"00:00:00","00:00:00",{"$f":"SUM(CWL14:CWL30)","v":"00:00:00"},{"$f":"SUM(CWM14:CWM30)","v":"00:00:00"},{"$f":"SUM(CWN14:CWN30)","v":"00:00:00"},null,{"$f":"SUM(CWP14:CWP30)","v":"00:00:00"},null,null,{"$f":"SUM(CWS14:CWS26)","v":"00:00:00"},"00:00:00","00:00:00",{"$f":"SUM(CWV14:CWV30)","v":"00:00:00"},{"$f":"SUM(CWW14:CWW30)","v":"00:00:00"},{"$f":"SUM(CWX14:CWX30)","v":"00:00:00"},null,{"$f":"SUM(CWZ14:CWZ30)","v":"00:00:00"},null,null,{"$f":"SUM(CXC14:CXC26)","v":"00:00:00"},"00:00:00","00:00:00",{"$f":"SUM(CXF14:CXF30)","v":"00:00:00"},{"$f":"SUM(CXG14:CXG30)","v":"00:00:00"},{"$f":"SUM(CXH14:CXH30)","v":"00:00:00"},null,{"$f":"SUM(CXJ14:CXJ30)","v":"00:00:00"},null,null,{"$f":"SUM(CXM14:CXM26)","v":"00:00:00"},"00:00:00","00:00:00",{"$f":"SUM(CXP14:CXP30)","v":"00:00:00"},{"$f":"SUM(CXQ14:CXQ30)","v":"00:00:00"},{"$f":"SUM(CXR14:CXR30)","v":"00:00:00"},null,{"$f":"SUM(CXT14:CXT30)","v":"00:00:00"},null,null,{"$f":"SUM(CXW14:CXW26)","v":"00:00:00"},"00:00:00","00:00:00",{"$f":"SUM(CXZ14:CXZ30)","v":"00:00:00"},{"$f":"SUM(CYA14:CYA30)","v":"00:00:00"},{"$f":"SUM(CYB14:CYB30)","v":"00:00:00"},null,{"$f":"SUM(CYD14:CYD30)","v":"00:00:00"},null,null,{"$f":"SUM(CYG14:CYG26)","v":"00:00:00"},"00:00:00","00:00:00",{"$f":"SUM(CYJ14:CYJ30)","v":"00:00:00"},{"$f":"SUM(CYK14:CYK30)","v":"00:00:00"},{"$f":"SUM(CYL14:CYL30)","v":"00:00:00"},null,{"$f":"SUM(CYN14:CYN30)","v":"00:00:00"},null,null,{"$f":"SUM(CYQ14:CYQ26)","v":"00:00:00"},"00:00:00","00:00:00",{"$f":"SUM(CYT14:CYT30)","v":"00:00:00"},{"$f":"SUM(CYU14:CYU30)","v":"00:00:00"},{"$f":"SUM(CYV14:CYV30)","v":"00:00:00"},null,{"$f":"SUM(CYX14:CYX30)","v":"00:00:00"},null,null,{"$f":"SUM(CZA14:CZA26)","v":"00:00:00"},"00:00:00","00:00:00",{"$f":"SUM(CZD14:CZD30)","v":"00:00:00"},{"$f":"SUM(CZE14:CZE30)","v":"00:00:00"},{"$f":"SUM(CZF14:CZF30)","v":"00:00:00"},null,{"$f":"SUM(CZH14:CZH30)","v":"00:00:00"},null,null,{"$f":"SUM(CZK14:CZK26)","v":"00:00:00"},"00:00:00","00:00:00",{"$f":"SUM(CZN14:CZN30)","v":"00:00:00"},{"$f":"SUM(CZO14:CZO30)","v":"00:00:00"},{"$f":"SUM(CZP14:CZP30)","v":"00:00:00"},null,{"$f":"SUM(CZR14:CZR30)","v":"00:00:00"},null,null,{"$f":"SUM(CZU14:CZU26)","v":"00:00:00"},"00:00:00","00:00:00",{"$f":"SUM(CZX14:CZX30)","v":"00:00:00"},{"$f":"SUM(CZY14:CZY30)","v":"00:00:00"},{"$f":"SUM(CZZ14:CZZ30)","v":"00:00:00"},null,{"$f":"SUM(DAB14:DAB30)","v":"00:00:00"},null,null,{"$f":"SUM(DAE14:DAE26)","v":"00:00:00"},"00:00:00","00:00:00",{"$f":"SUM(DAH14:DAH30)","v":"00:00:00"},{"$f":"SUM(DAI14:DAI30)","v":"00:00:00"},{"$f":"SUM(DAJ14:DAJ30)","v":"00:00:00"},null,{"$f":"SUM(DAL14:DAL30)","v":"00:00:00"},null,null,{"$f":"SUM(DAO14:DAO26)","v":"00:00:00"},"00:00:00","00:00:00",{"$f":"SUM(DAR14:DAR30)","v":"00:00:00"},{"$f":"SUM(DAS14:DAS30)","v":"00:00:00"},{"$f":"SUM(DAT14:DAT30)","v":"00:00:00"},null,{"$f":"SUM(DAV14:DAV30)","v":"00:00:00"},null,null,{"$f":"SUM(DAY14:DAY26)","v":"00:00:00"},"00:00:00","00:00:00",{"$f":"SUM(DBB14:DBB30)","v":"00:00:00"},{"$f":"SUM(DBC14:DBC30)","v":"00:00:00"},{"$f":"SUM(DBD14:DBD30)","v":"00:00:00"},null,{"$f":"SUM(DBF14:DBF30)","v":"00:00:00"},null,null,{"$f":"SUM(DBI14:DBI26)","v":"00:00:00"},"00:00:00","00:00:00",{"$f":"SUM(DBL14:DBL30)","v":"00:00:00"},{"$f":"SUM(DBM14:DBM30)","v":"00:00:00"},{"$f":"SUM(DBN14:DBN30)","v":"00:00:00"},null,{"$f":"SUM(DBP14:DBP30)","v":"00:00:00"},null,null,{"$f":"SUM(DBS14:DBS26)","v":"00:00:00"},"00:00:00","00:00:00",{"$f":"SUM(DBV14:DBV30)","v":"00:00:00"},{"$f":"SUM(DBW14:DBW30)","v":"00:00:00"},{"$f":"SUM(DBX14:DBX30)","v":"00:00:00"},null,{"$f":"SUM(DBZ14:DBZ30)","v":"00:00:00"},null,null,{"$f":"SUM(DCC14:DCC26)","v":"00:00:00"},"00:00:00","00:00:00",{"$f":"SUM(DCF14:DCF30)","v":"00:00:00"},{"$f":"SUM(DCG14:DCG30)","v":"00:00:00"},{"$f":"SUM(DCH14:DCH30)","v":"00:00:00"},null,{"$f":"SUM(DCJ14:DCJ30)","v":"00:00:00"},null,null,{"$f":"SUM(DCM14:DCM26)","v":"00:00:00"},"00:00:00","00:00:00",{"$f":"SUM(DCP14:DCP30)","v":"00:00:00"},{"$f":"SUM(DCQ14:DCQ30)","v":"00:00:00"},{"$f":"SUM(DCR14:DCR30)","v":"00:00:00"},null,{"$f":"SUM(DCT14:DCT30)","v":"00:00:00"},null,null,{"$f":"SUM(DCW14:DCW26)","v":"00:00:00"},"00:00:00","00:00:00",{"$f":"SUM(DCZ14:DCZ30)","v":"00:00:00"},{"$f":"SUM(DDA14:DDA30)","v":"00:00:00"},{"$f":"SUM(DDB14:DDB30)","v":"00:00:00"},null,{"$f":"SUM(DDD14:DDD30)","v":"00:00:00"},null,null,{"$f":"SUM(DDG14:DDG26)","v":"00:00:00"},"00:00:00","00:00:00",{"$f":"SUM(DDJ14:DDJ30)","v":"00:00:00"},{"$f":"SUM(DDK14:DDK30)","v":"00:00:00"},{"$f":"SUM(DDL14:DDL30)","v":"00:00:00"},null,{"$f":"SUM(DDN14:DDN30)","v":"00:00:00"},null,null,{"$f":"SUM(DDQ14:DDQ26)","v":"00:00:00"},"00:00:00","00:00:00",{"$f":"SUM(DDT14:DDT30)","v":"00:00:00"},{"$f":"SUM(DDU14:DDU30)","v":"00:00:00"},{"$f":"SUM(DDV14:DDV30)","v":"00:00:00"},null,{"$f":"SUM(DDX14:DDX30)","v":"00:00:00"},null,null,{"$f":"SUM(DEA14:DEA26)","v":"00:00:00"},"00:00:00","00:00:00",{"$f":"SUM(DED14:DED30)","v":"00:00:00"},{"$f":"SUM(DEE14:DEE30)","v":"00:00:00"},{"$f":"SUM(DEF14:DEF30)","v":"00:00:00"},null,{"$f":"SUM(DEH14:DEH30)","v":"00:00:00"},null,null,{"$f":"SUM(DEK14:DEK26)","v":"00:00:00"},"00:00:00","00:00:00",{"$f":"SUM(DEN14:DEN30)","v":"00:00:00"},{"$f":"SUM(DEO14:DEO30)","v":"00:00:00"},{"$f":"SUM(DEP14:DEP30)","v":"00:00:00"},null,{"$f":"SUM(DER14:DER30)","v":"00:00:00"},null,null,{"$f":"SUM(DEU14:DEU26)","v":"00:00:00"},"00:00:00","00:00:00",{"$f":"SUM(DEX14:DEX30)","v":"00:00:00"},{"$f":"SUM(DEY14:DEY30)","v":"00:00:00"},{"$f":"SUM(DEZ14:DEZ30)","v":"00:00:00"},null,{"$f":"SUM(DFB14:DFB30)","v":"00:00:00"},null,null,{"$f":"SUM(DFE14:DFE26)","v":"00:00:00"},"00:00:00","00:00:00",{"$f":"SUM(DFH14:DFH30)","v":"00:00:00"},{"$f":"SUM(DFI14:DFI30)","v":"00:00:00"},{"$f":"SUM(DFJ14:DFJ30)","v":"00:00:00"},null,{"$f":"SUM(DFL14:DFL30)","v":"00:00:00"},null,null,{"$f":"SUM(DFO14:DFO26)","v":"00:00:00"},"00:00:00","00:00:00",{"$f":"SUM(DFR14:DFR30)","v":"00:00:00"},{"$f":"SUM(DFS14:DFS30)","v":"00:00:00"},{"$f":"SUM(DFT14:DFT30)","v":"00:00:00"},null,{"$f":"SUM(DFV14:DFV30)","v":"00:00:00"},null,null,{"$f":"SUM(DFY14:DFY26)","v":"00:00:00"},"00:00:00","00:00:00",{"$f":"SUM(DGB14:DGB30)","v":"00:00:00"},{"$f":"SUM(DGC14:DGC30)","v":"00:00:00"},{"$f":"SUM(DGD14:DGD30)","v":"00:00:00"},null,{"$f":"SUM(DGF14:DGF30)","v":"00:00:00"},null,null,{"$f":"SUM(DGI14:DGI26)","v":"00:00:00"},"00:00:00","00:00:00",{"$f":"SUM(DGL14:DGL30)","v":"00:00:00"},{"$f":"SUM(DGM14:DGM30)","v":"00:00:00"},{"$f":"SUM(DGN14:DGN30)","v":"00:00:00"},null,{"$f":"SUM(DGP14:DGP30)","v":"00:00:00"},null,null,{"$f":"SUM(DGS14:DGS26)","v":"00:00:00"},"00:00:00","00:00:00",{"$f":"SUM(DGV14:DGV30)","v":"00:00:00"},{"$f":"SUM(DGW14:DGW30)","v":"00:00:00"},{"$f":"SUM(DGX14:DGX30)","v":"00:00:00"},null,{"$f":"SUM(DGZ14:DGZ30)","v":"00:00:00"},null,null,{"$f":"SUM(DHC14:DHC26)","v":"00:00:00"},"00:00:00","00:00:00",{"$f":"SUM(DHF14:DHF30)","v":"00:00:00"},{"$f":"SUM(DHG14:DHG30)","v":"00:00:00"},{"$f":"SUM(DHH14:DHH30)","v":"00:00:00"},null,{"$f":"SUM(DHJ14:DHJ30)","v":"00:00:00"},null,null,{"$f":"SUM(DHM14:DHM26)","v":"00:00:00"},"00:00:00","00:00:00",{"$f":"SUM(DHP14:DHP30)","v":"00:00:00"},{"$f":"SUM(DHQ14:DHQ30)","v":"00:00:00"},{"$f":"SUM(DHR14:DHR30)","v":"00:00:00"},null,{"$f":"SUM(DHT14:DHT30)","v":"00:00:00"},null,null,{"$f":"SUM(DHW14:DHW26)","v":"00:00:00"},"00:00:00","00:00:00",{"$f":"SUM(DHZ14:DHZ30)","v":"00:00:00"},{"$f":"SUM(DIA14:DIA30)","v":"00:00:00"},{"$f":"SUM(DIB14:DIB30)","v":"00:00:00"},null,{"$f":"SUM(DID14:DID30)","v":"00:00:00"},null,null,{"$f":"SUM(DIG14:DIG26)","v":"00:00:00"},"00:00:00","00:00:00",{"$f":"SUM(DIJ14:DIJ30)","v":"00:00:00"},{"$f":"SUM(DIK14:DIK30)","v":"00:00:00"},{"$f":"SUM(DIL14:DIL30)","v":"00:00:00"},null,{"$f":"SUM(DIN14:DIN30)","v":"00:00:00"},null,null,{"$f":"SUM(DIQ14:DIQ26)","v":"00:00:00"},"00:00:00","00:00:00",{"$f":"SUM(DIT14:DIT30)","v":"00:00:00"},{"$f":"SUM(DIU14:DIU30)","v":"00:00:00"},{"$f":"SUM(DIV14:DIV30)","v":"00:00:00"},null,{"$f":"SUM(DIX14:DIX30)","v":"00:00:00"},null,null,{"$f":"SUM(DJA14:DJA26)","v":"00:00:00"},"00:00:00","00:00:00",{"$f":"SUM(DJD14:DJD30)","v":"00:00:00"},{"$f":"SUM(DJE14:DJE30)","v":"00:00:00"},{"$f":"SUM(DJF14:DJF30)","v":"00:00:00"},null,{"$f":"SUM(DJH14:DJH30)","v":"00:00:00"},null,null,{"$f":"SUM(DJK14:DJK26)","v":"00:00:00"},"00:00:00","00:00:00",{"$f":"SUM(DJN14:DJN30)","v":"00:00:00"},{"$f":"SUM(DJO14:DJO30)","v":"00:00:00"},{"$f":"SUM(DJP14:DJP30)","v":"00:00:00"},null,{"$f":"SUM(DJR14:DJR30)","v":"00:00:00"},null,null,{"$f":"SUM(DJU14:DJU26)","v":"00:00:00"},"00:00:00","00:00:00",{"$f":"SUM(DJX14:DJX30)","v":"00:00:00"},{"$f":"SUM(DJY14:DJY30)","v":"00:00:00"},{"$f":"SUM(DJZ14:DJZ30)","v":"00:00:00"},null,{"$f":"SUM(DKB14:DKB30)","v":"00:00:00"},null,null,{"$f":"SUM(DKE14:DKE26)","v":"00:00:00"},"00:00:00","00:00:00",{"$f":"SUM(DKH14:DKH30)","v":"00:00:00"},{"$f":"SUM(DKI14:DKI30)","v":"00:00:00"},{"$f":"SUM(DKJ14:DKJ30)","v":"00:00:00"},null,{"$f":"SUM(DKL14:DKL30)","v":"00:00:00"},null,null,{"$f":"SUM(DKO14:DKO26)","v":"00:00:00"},"00:00:00","00:00:00",{"$f":"SUM(DKR14:DKR30)","v":"00:00:00"},{"$f":"SUM(DKS14:DKS30)","v":"00:00:00"},{"$f":"SUM(DKT14:DKT30)","v":"00:00:00"},null,{"$f":"SUM(DKV14:DKV30)","v":"00:00:00"},null,null,{"$f":"SUM(DKY14:DKY26)","v":"00:00:00"},"00:00:00","00:00:00",{"$f":"SUM(DLB14:DLB30)","v":"00:00:00"},{"$f":"SUM(DLC14:DLC30)","v":"00:00:00"},{"$f":"SUM(DLD14:DLD30)","v":"00:00:00"},null,{"$f":"SUM(DLF14:DLF30)","v":"00:00:00"},null,null,{"$f":"SUM(DLI14:DLI26)","v":"00:00:00"},"00:00:00","00:00:00",{"$f":"SUM(DLL14:DLL30)","v":"00:00:00"},{"$f":"SUM(DLM14:DLM30)","v":"00:00:00"},{"$f":"SUM(DLN14:DLN30)","v":"00:00:00"},null,{"$f":"SUM(DLP14:DLP30)","v":"00:00:00"},null,null,{"$f":"SUM(DLS14:DLS26)","v":"00:00:00"},"00:00:00","00:00:00",{"$f":"SUM(DLV14:DLV30)","v":"00:00:00"},{"$f":"SUM(DLW14:DLW30)","v":"00:00:00"},{"$f":"SUM(DLX14:DLX30)","v":"00:00:00"},null,{"$f":"SUM(DLZ14:DLZ30)","v":"00:00:00"},null,null,{"$f":"SUM(DMC14:DMC26)","v":"00:00:00"},"00:00:00","00:00:00",{"$f":"SUM(DMF14:DMF30)","v":"00:00:00"},{"$f":"SUM(DMG14:DMG30)","v":"00:00:00"},{"$f":"SUM(DMH14:DMH30)","v":"00:00:00"},null,{"$f":"SUM(DMJ14:DMJ30)","v":"00:00:00"},null,null,{"$f":"SUM(DMM14:DMM26)","v":"00:00:00"},"00:00:00","00:00:00",{"$f":"SUM(DMP14:DMP30)","v":"00:00:00"},{"$f":"SUM(DMQ14:DMQ30)","v":"00:00:00"},{"$f":"SUM(DMR14:DMR30)","v":"00:00:00"},null,{"$f":"SUM(DMT14:DMT30)","v":"00:00:00"},null,null,{"$f":"SUM(DMW14:DMW26)","v":"00:00:00"},"00:00:00","00:00:00",{"$f":"SUM(DMZ14:DMZ30)","v":"00:00:00"},{"$f":"SUM(DNA14:DNA30)","v":"00:00:00"},{"$f":"SUM(DNB14:DNB30)","v":"00:00:00"},null,{"$f":"SUM(DND14:DND30)","v":"00:00:00"},null,null,{"$f":"SUM(DNG14:DNG26)","v":"00:00:00"},"00:00:00","00:00:00",{"$f":"SUM(DNJ14:DNJ30)","v":"00:00:00"},{"$f":"SUM(DNK14:DNK30)","v":"00:00:00"},{"$f":"SUM(DNL14:DNL30)","v":"00:00:00"},null,{"$f":"SUM(DNN14:DNN30)","v":"00:00:00"},null,null,{"$f":"SUM(DNQ14:DNQ26)","v":"00:00:00"},"00:00:00","00:00:00",{"$f":"SUM(DNT14:DNT30)","v":"00:00:00"},{"$f":"SUM(DNU14:DNU30)","v":"00:00:00"},{"$f":"SUM(DNV14:DNV30)","v":"00:00:00"},null,{"$f":"SUM(DNX14:DNX30)","v":"00:00:00"},null,null,{"$f":"SUM(DOA14:DOA26)","v":"00:00:00"},"00:00:00","00:00:00",{"$f":"SUM(DOD14:DOD30)","v":"00:00:00"},{"$f":"SUM(DOE14:DOE30)","v":"00:00:00"},{"$f":"SUM(DOF14:DOF30)","v":"00:00:00"},null,{"$f":"SUM(DOH14:DOH30)","v":"00:00:00"},null,null,{"$f":"SUM(DOK14:DOK26)","v":"00:00:00"},"00:00:00","00:00:00",{"$f":"SUM(DON14:DON30)","v":"00:00:00"},{"$f":"SUM(DOO14:DOO30)","v":"00:00:00"},{"$f":"SUM(DOP14:DOP30)","v":"00:00:00"},null,{"$f":"SUM(DOR14:DOR30)","v":"00:00:00"},null,null,{"$f":"SUM(DOU14:DOU26)","v":"00:00:00"},"00:00:00","00:00:00",{"$f":"SUM(DOX14:DOX30)","v":"00:00:00"},{"$f":"SUM(DOY14:DOY30)","v":"00:00:00"},{"$f":"SUM(DOZ14:DOZ30)","v":"00:00:00"},null,{"$f":"SUM(DPB14:DPB30)","v":"00:00:00"},null,null,{"$f":"SUM(DPE14:DPE26)","v":"00:00:00"},"00:00:00","00:00:00",{"$f":"SUM(DPH14:DPH30)","v":"00:00:00"},{"$f":"SUM(DPI14:DPI30)","v":"00:00:00"},{"$f":"SUM(DPJ14:DPJ30)","v":"00:00:00"},null,{"$f":"SUM(DPL14:DPL30)","v":"00:00:00"},null,null,{"$f":"SUM(DPO14:DPO26)","v":"00:00:00"},"00:00:00","00:00:00",{"$f":"SUM(DPR14:DPR30)","v":"00:00:00"},{"$f":"SUM(DPS14:DPS30)","v":"00:00:00"},{"$f":"SUM(DPT14:DPT30)","v":"00:00:00"},null,{"$f":"SUM(DPV14:DPV30)","v":"00:00:00"},null,null,{"$f":"SUM(DPY14:DPY26)","v":"00:00:00"},"00:00:00","00:00:00",{"$f":"SUM(DQB14:DQB30)","v":"00:00:00"},{"$f":"SUM(DQC14:DQC30)","v":"00:00:00"},{"$f":"SUM(DQD14:DQD30)","v":"00:00:00"},null,{"$f":"SUM(DQF14:DQF30)","v":"00:00:00"},null,null,{"$f":"SUM(DQI14:DQI26)","v":"00:00:00"},"00:00:00","00:00:00",{"$f":"SUM(DQL14:DQL30)","v":"00:00:00"},{"$f":"SUM(DQM14:DQM30)","v":"00:00:00"},{"$f":"SUM(DQN14:DQN30)","v":"00:00:00"},null,{"$f":"SUM(DQP14:DQP30)","v":"00:00:00"},null,null,{"$f":"SUM(DQS14:DQS26)","v":"00:00:00"},"00:00:00","00:00:00",{"$f":"SUM(DQV14:DQV30)","v":"00:00:00"},{"$f":"SUM(DQW14:DQW30)","v":"00:00:00"},{"$f":"SUM(DQX14:DQX30)","v":"00:00:00"},null,{"$f":"SUM(DQZ14:DQZ30)","v":"00:00:00"},null,null,{"$f":"SUM(DRC14:DRC26)","v":"00:00:00"},"00:00:00","00:00:00",{"$f":"SUM(DRF14:DRF30)","v":"00:00:00"},{"$f":"SUM(DRG14:DRG30)","v":"00:00:00"},{"$f":"SUM(DRH14:DRH30)","v":"00:00:00"},null,{"$f":"SUM(DRJ14:DRJ30)","v":"00:00:00"},null,null,{"$f":"SUM(DRM14:DRM26)","v":"00:00:00"},"00:00:00","00:00:00",{"$f":"SUM(DRP14:DRP30)","v":"00:00:00"},{"$f":"SUM(DRQ14:DRQ30)","v":"00:00:00"},{"$f":"SUM(DRR14:DRR30)","v":"00:00:00"},null,{"$f":"SUM(DRT14:DRT30)","v":"00:00:00"},null,null,{"$f":"SUM(DRW14:DRW26)","v":"00:00:00"},"00:00:00","00:00:00",{"$f":"SUM(DRZ14:DRZ30)","v":"00:00:00"},{"$f":"SUM(DSA14:DSA30)","v":"00:00:00"},{"$f":"SUM(DSB14:DSB30)","v":"00:00:00"},null,{"$f":"SUM(DSD14:DSD30)","v":"00:00:00"},null,null,{"$f":"SUM(DSG14:DSG26)","v":"00:00:00"},"00:00:00","00:00:00",{"$f":"SUM(DSJ14:DSJ30)","v":"00:00:00"},{"$f":"SUM(DSK14:DSK30)","v":"00:00:00"},{"$f":"SUM(DSL14:DSL30)","v":"00:00:00"},null,{"$f":"SUM(DSN14:DSN30)","v":"00:00:00"},null,null,{"$f":"SUM(DSQ14:DSQ26)","v":"00:00:00"},"00:00:00","00:00:00",{"$f":"SUM(DST14:DST30)","v":"00:00:00"},{"$f":"SUM(DSU14:DSU30)","v":"00:00:00"},{"$f":"SUM(DSV14:DSV30)","v":"00:00:00"},null,{"$f":"SUM(DSX14:DSX30)","v":"00:00:00"},null,null,{"$f":"SUM(DTA14:DTA26)","v":"00:00:00"},"00:00:00","00:00:00",{"$f":"SUM(DTD14:DTD30)","v":"00:00:00"},{"$f":"SUM(DTE14:DTE30)","v":"00:00:00"},{"$f":"SUM(DTF14:DTF30)","v":"00:00:00"},null,{"$f":"SUM(DTH14:DTH30)","v":"00:00:00"},null,null,{"$f":"SUM(DTK14:DTK26)","v":"00:00:00"},"00:00:00","00:00:00",{"$f":"SUM(DTN14:DTN30)","v":"00:00:00"},{"$f":"SUM(DTO14:DTO30)","v":"00:00:00"},{"$f":"SUM(DTP14:DTP30)","v":"00:00:00"},null,{"$f":"SUM(DTR14:DTR30)","v":"00:00:00"},null,null,{"$f":"SUM(DTU14:DTU26)","v":"00:00:00"},"00:00:00","00:00:00",{"$f":"SUM(DTX14:DTX30)","v":"00:00:00"},{"$f":"SUM(DTY14:DTY30)","v":"00:00:00"},{"$f":"SUM(DTZ14:DTZ30)","v":"00:00:00"},null,{"$f":"SUM(DUB14:DUB30)","v":"00:00:00"},null,null,{"$f":"SUM(DUE14:DUE26)","v":"00:00:00"},"00:00:00","00:00:00",{"$f":"SUM(DUH14:DUH30)","v":"00:00:00"},{"$f":"SUM(DUI14:DUI30)","v":"00:00:00"},{"$f":"SUM(DUJ14:DUJ30)","v":"00:00:00"},null,{"$f":"SUM(DUL14:DUL30)","v":"00:00:00"},null,null,{"$f":"SUM(DUO14:DUO26)","v":"00:00:00"},"00:00:00","00:00:00",{"$f":"SUM(DUR14:DUR30)","v":"00:00:00"},{"$f":"SUM(DUS14:DUS30)","v":"00:00:00"},{"$f":"SUM(DUT14:DUT30)","v":"00:00:00"},null,{"$f":"SUM(DUV14:DUV30)","v":"00:00:00"},null,null,{"$f":"SUM(DUY14:DUY26)","v":"00:00:00"},"00:00:00","00:00:00",{"$f":"SUM(DVB14:DVB30)","v":"00:00:00"},{"$f":"SUM(DVC14:DVC30)","v":"00:00:00"},{"$f":"SUM(DVD14:DVD30)","v":"00:00:00"},null,{"$f":"SUM(DVF14:DVF30)","v":"00:00:00"},null,null,{"$f":"SUM(DVI14:DVI26)","v":"00:00:00"},"00:00:00","00:00:00",{"$f":"SUM(DVL14:DVL30)","v":"00:00:00"},{"$f":"SUM(DVM14:DVM30)","v":"00:00:00"},{"$f":"SUM(DVN14:DVN30)","v":"00:00:00"},null,{"$f":"SUM(DVP14:DVP30)","v":"00:00:00"},null,null,{"$f":"SUM(DVS14:DVS26)","v":"00:00:00"},"00:00:00","00:00:00",{"$f":"SUM(DVV14:DVV30)","v":"00:00:00"},{"$f":"SUM(DVW14:DVW30)","v":"00:00:00"},{"$f":"SUM(DVX14:DVX30)","v":"00:00:00"},null,{"$f":"SUM(DVZ14:DVZ30)","v":"00:00:00"},null,null,{"$f":"SUM(DWC14:DWC26)","v":"00:00:00"},"00:00:00","00:00:00",{"$f":"SUM(DWF14:DWF30)","v":"00:00:00"},{"$f":"SUM(DWG14:DWG30)","v":"00:00:00"},{"$f":"SUM(DWH14:DWH30)","v":"00:00:00"},null,{"$f":"SUM(DWJ14:DWJ30)","v":"00:00:00"},null,null,{"$f":"SUM(DWM14:DWM26)","v":"00:00:00"},"00:00:00","00:00:00",{"$f":"SUM(DWP14:DWP30)","v":"00:00:00"},{"$f":"SUM(DWQ14:DWQ30)","v":"00:00:00"},{"$f":"SUM(DWR14:DWR30)","v":"00:00:00"},null,{"$f":"SUM(DWT14:DWT30)","v":"00:00:00"},null,null,{"$f":"SUM(DWW14:DWW26)","v":"00:00:00"},"00:00:00","00:00:00",{"$f":"SUM(DWZ14:DWZ30)","v":"00:00:00"},{"$f":"SUM(DXA14:DXA30)","v":"00:00:00"},{"$f":"SUM(DXB14:DXB30)","v":"00:00:00"},null,{"$f":"SUM(DXD14:DXD30)","v":"00:00:00"},null,null,{"$f":"SUM(DXG14:DXG26)","v":"00:00:00"},"00:00:00","00:00:00",{"$f":"SUM(DXJ14:DXJ30)","v":"00:00:00"},{"$f":"SUM(DXK14:DXK30)","v":"00:00:00"},{"$f":"SUM(DXL14:DXL30)","v":"00:00:00"},null,{"$f":"SUM(DXN14:DXN30)","v":"00:00:00"},null,null,{"$f":"SUM(DXQ14:DXQ26)","v":"00:00:00"},"00:00:00","00:00:00",{"$f":"SUM(DXT14:DXT30)","v":"00:00:00"},{"$f":"SUM(DXU14:DXU30)","v":"00:00:00"},{"$f":"SUM(DXV14:DXV30)","v":"00:00:00"},null,{"$f":"SUM(DXX14:DXX30)","v":"00:00:00"},null,null,{"$f":"SUM(DYA14:DYA26)","v":"00:00:00"},"00:00:00","00:00:00",{"$f":"SUM(DYD14:DYD30)","v":"00:00:00"},{"$f":"SUM(DYE14:DYE30)","v":"00:00:00"},{"$f":"SUM(DYF14:DYF30)","v":"00:00:00"},null,{"$f":"SUM(DYH14:DYH30)","v":"00:00:00"},null,null,{"$f":"SUM(DYK14:DYK26)","v":"00:00:00"},"00:00:00","00:00:00",{"$f":"SUM(DYN14:DYN30)","v":"00:00:00"},{"$f":"SUM(DYO14:DYO30)","v":"00:00:00"},{"$f":"SUM(DYP14:DYP30)","v":"00:00:00"},null,{"$f":"SUM(DYR14:DYR30)","v":"00:00:00"},null,null,{"$f":"SUM(DYU14:DYU26)","v":"00:00:00"},"00:00:00","00:00:00",{"$f":"SUM(DYX14:DYX30)","v":"00:00:00"},{"$f":"SUM(DYY14:DYY30)","v":"00:00:00"},{"$f":"SUM(DYZ14:DYZ30)","v":"00:00:00"},null,{"$f":"SUM(DZB14:DZB30)","v":"00:00:00"},null,null,{"$f":"SUM(DZE14:DZE26)","v":"00:00:00"},"00:00:00","00:00:00",{"$f":"SUM(DZH14:DZH30)","v":"00:00:00"},{"$f":"SUM(DZI14:DZI30)","v":"00:00:00"},{"$f":"SUM(DZJ14:DZJ30)","v":"00:00:00"},null,{"$f":"SUM(DZL14:DZL30)","v":"00:00:00"},null,null,{"$f":"SUM(DZO14:DZO26)","v":"00:00:00"},"00:00:00","00:00:00",{"$f":"SUM(DZR14:DZR30)","v":"00:00:00"},{"$f":"SUM(DZS14:DZS30)","v":"00:00:00"},{"$f":"SUM(DZT14:DZT30)","v":"00:00:00"},null,{"$f":"SUM(DZV14:DZV30)","v":"00:00:00"},null,null,{"$f":"SUM(DZY14:DZY26)","v":"00:00:00"},"00:00:00","00:00:00",{"$f":"SUM(EAB14:EAB30)","v":"00:00:00"},{"$f":"SUM(EAC14:EAC30)","v":"00:00:00"},{"$f":"SUM(EAD14:EAD30)","v":"00:00:00"},null,{"$f":"SUM(EAF14:EAF30)","v":"00:00:00"},null,null,{"$f":"SUM(EAI14:EAI26)","v":"00:00:00"},"00:00:00","00:00:00",{"$f":"SUM(EAL14:EAL30)","v":"00:00:00"},{"$f":"SUM(EAM14:EAM30)","v":"00:00:00"},{"$f":"SUM(EAN14:EAN30)","v":"00:00:00"},null,{"$f":"SUM(EAP14:EAP30)","v":"00:00:00"},null,null,{"$f":"SUM(EAS14:EAS26)","v":"00:00:00"},"00:00:00","00:00:00",{"$f":"SUM(EAV14:EAV30)","v":"00:00:00"},{"$f":"SUM(EAW14:EAW30)","v":"00:00:00"},{"$f":"SUM(EAX14:EAX30)","v":"00:00:00"},null,{"$f":"SUM(EAZ14:EAZ30)","v":"00:00:00"},null,null,{"$f":"SUM(EBC14:EBC26)","v":"00:00:00"},"00:00:00","00:00:00",{"$f":"SUM(EBF14:EBF30)","v":"00:00:00"},{"$f":"SUM(EBG14:EBG30)","v":"00:00:00"},{"$f":"SUM(EBH14:EBH30)","v":"00:00:00"},null,{"$f":"SUM(EBJ14:EBJ30)","v":"00:00:00"},null,null,{"$f":"SUM(EBM14:EBM26)","v":"00:00:00"},"00:00:00","00:00:00",{"$f":"SUM(EBP14:EBP30)","v":"00:00:00"},{"$f":"SUM(EBQ14:EBQ30)","v":"00:00:00"},{"$f":"SUM(EBR14:EBR30)","v":"00:00:00"},null,{"$f":"SUM(EBT14:EBT30)","v":"00:00:00"},null,null,{"$f":"SUM(EBW14:EBW26)","v":"00:00:00"},"00:00:00","00:00:00",{"$f":"SUM(EBZ14:EBZ30)","v":"00:00:00"},{"$f":"SUM(ECA14:ECA30)","v":"00:00:00"},{"$f":"SUM(ECB14:ECB30)","v":"00:00:00"},null,{"$f":"SUM(ECD14:ECD30)","v":"00:00:00"},null,null,{"$f":"SUM(ECG14:ECG26)","v":"00:00:00"},"00:00:00","00:00:00",{"$f":"SUM(ECJ14:ECJ30)","v":"00:00:00"},{"$f":"SUM(ECK14:ECK30)","v":"00:00:00"},{"$f":"SUM(ECL14:ECL30)","v":"00:00:00"},null,{"$f":"SUM(ECN14:ECN30)","v":"00:00:00"},null,null,{"$f":"SUM(ECQ14:ECQ26)","v":"00:00:00"},"00:00:00","00:00:00",{"$f":"SUM(ECT14:ECT30)","v":"00:00:00"},{"$f":"SUM(ECU14:ECU30)","v":"00:00:00"},{"$f":"SUM(ECV14:ECV30)","v":"00:00:00"},null,{"$f":"SUM(ECX14:ECX30)","v":"00:00:00"},null,null,{"$f":"SUM(EDA14:EDA26)","v":"00:00:00"},"00:00:00","00:00:00",{"$f":"SUM(EDD14:EDD30)","v":"00:00:00"},{"$f":"SUM(EDE14:EDE30)","v":"00:00:00"},{"$f":"SUM(EDF14:EDF30)","v":"00:00:00"},null,{"$f":"SUM(EDH14:EDH30)","v":"00:00:00"},null,null,{"$f":"SUM(EDK14:EDK26)","v":"00:00:00"},"00:00:00","00:00:00",{"$f":"SUM(EDN14:EDN30)","v":"00:00:00"},{"$f":"SUM(EDO14:EDO30)","v":"00:00:00"},{"$f":"SUM(EDP14:EDP30)","v":"00:00:00"},null,{"$f":"SUM(EDR14:EDR30)","v":"00:00:00"},null,null,{"$f":"SUM(EDU14:EDU26)","v":"00:00:00"},"00:00:00","00:00:00",{"$f":"SUM(EDX14:EDX30)","v":"00:00:00"},{"$f":"SUM(EDY14:EDY30)","v":"00:00:00"},{"$f":"SUM(EDZ14:EDZ30)","v":"00:00:00"},null,{"$f":"SUM(EEB14:EEB30)","v":"00:00:00"},null,null,{"$f":"SUM(EEE14:EEE26)","v":"00:00:00"},"00:00:00","00:00:00",{"$f":"SUM(EEH14:EEH30)","v":"00:00:00"},{"$f":"SUM(EEI14:EEI30)","v":"00:00:00"},{"$f":"SUM(EEJ14:EEJ30)","v":"00:00:00"},null,{"$f":"SUM(EEL14:EEL30)","v":"00:00:00"},null,null,{"$f":"SUM(EEO14:EEO26)","v":"00:00:00"},"00:00:00","00:00:00",{"$f":"SUM(EER14:EER30)","v":"00:00:00"},{"$f":"SUM(EES14:EES30)","v":"00:00:00"},{"$f":"SUM(EET14:EET30)","v":"00:00:00"},null,{"$f":"SUM(EEV14:EEV30)","v":"00:00:00"},null,null,{"$f":"SUM(EEY14:EEY26)","v":"00:00:00"},"00:00:00","00:00:00",{"$f":"SUM(EFB14:EFB30)","v":"00:00:00"},{"$f":"SUM(EFC14:EFC30)","v":"00:00:00"},{"$f":"SUM(EFD14:EFD30)","v":"00:00:00"},null,{"$f":"SUM(EFF14:EFF30)","v":"00:00:00"},null,null,{"$f":"SUM(EFI14:EFI26)","v":"00:00:00"},"00:00:00","00:00:00",{"$f":"SUM(EFL14:EFL30)","v":"00:00:00"},{"$f":"SUM(EFM14:EFM30)","v":"00:00:00"},{"$f":"SUM(EFN14:EFN30)","v":"00:00:00"},null,{"$f":"SUM(EFP14:EFP30)","v":"00:00:00"},null,null,{"$f":"SUM(EFS14:EFS26)","v":"00:00:00"},"00:00:00","00:00:00",{"$f":"SUM(EFV14:EFV30)","v":"00:00:00"},{"$f":"SUM(EFW14:EFW30)","v":"00:00:00"},{"$f":"SUM(EFX14:EFX30)","v":"00:00:00"},null,{"$f":"SUM(EFZ14:EFZ30)","v":"00:00:00"},null,null,{"$f":"SUM(EGC14:EGC26)","v":"00:00:00"},"00:00:00","00:00:00",{"$f":"SUM(EGF14:EGF30)","v":"00:00:00"},{"$f":"SUM(EGG14:EGG30)","v":"00:00:00"},{"$f":"SUM(EGH14:EGH30)","v":"00:00:00"},null,{"$f":"SUM(EGJ14:EGJ30)","v":"00:00:00"},null,null,{"$f":"SUM(EGM14:EGM26)","v":"00:00:00"},"00:00:00","00:00:00",{"$f":"SUM(EGP14:EGP30)","v":"00:00:00"},{"$f":"SUM(EGQ14:EGQ30)","v":"00:00:00"},{"$f":"SUM(EGR14:EGR30)","v":"00:00:00"},null,{"$f":"SUM(EGT14:EGT30)","v":"00:00:00"},null,null,{"$f":"SUM(EGW14:EGW26)","v":"00:00:00"},"00:00:00","00:00:00",{"$f":"SUM(EGZ14:EGZ30)","v":"00:00:00"},{"$f":"SUM(EHA14:EHA30)","v":"00:00:00"},{"$f":"SUM(EHB14:EHB30)","v":"00:00:00"},null,{"$f":"SUM(EHD14:EHD30)","v":"00:00:00"},null,null,{"$f":"SUM(EHG14:EHG26)","v":"00:00:00"},"00:00:00","00:00:00",{"$f":"SUM(EHJ14:EHJ30)","v":"00:00:00"},{"$f":"SUM(EHK14:EHK30)","v":"00:00:00"},{"$f":"SUM(EHL14:EHL30)","v":"00:00:00"},null,{"$f":"SUM(EHN14:EHN30)","v":"00:00:00"},null,null,{"$f":"SUM(EHQ14:EHQ26)","v":"00:00:00"},"00:00:00","00:00:00",{"$f":"SUM(EHT14:EHT30)","v":"00:00:00"},{"$f":"SUM(EHU14:EHU30)","v":"00:00:00"},{"$f":"SUM(EHV14:EHV30)","v":"00:00:00"},null,{"$f":"SUM(EHX14:EHX30)","v":"00:00:00"},null,null,{"$f":"SUM(EIA14:EIA26)","v":"00:00:00"},"00:00:00","00:00:00",{"$f":"SUM(EID14:EID30)","v":"00:00:00"},{"$f":"SUM(EIE14:EIE30)","v":"00:00:00"},{"$f":"SUM(EIF14:EIF30)","v":"00:00:00"},null,{"$f":"SUM(EIH14:EIH30)","v":"00:00:00"},null,null,{"$f":"SUM(EIK14:EIK26)","v":"00:00:00"},"00:00:00","00:00:00",{"$f":"SUM(EIN14:EIN30)","v":"00:00:00"},{"$f":"SUM(EIO14:EIO30)","v":"00:00:00"},{"$f":"SUM(EIP14:EIP30)","v":"00:00:00"},null,{"$f":"SUM(EIR14:EIR30)","v":"00:00:00"},null,null,{"$f":"SUM(EIU14:EIU26)","v":"00:00:00"},"00:00:00","00:00:00",{"$f":"SUM(EIX14:EIX30)","v":"00:00:00"},{"$f":"SUM(EIY14:EIY30)","v":"00:00:00"},{"$f":"SUM(EIZ14:EIZ30)","v":"00:00:00"},null,{"$f":"SUM(EJB14:EJB30)","v":"00:00:00"},null,null,{"$f":"SUM(EJE14:EJE26)","v":"00:00:00"},"00:00:00","00:00:00",{"$f":"SUM(EJH14:EJH30)","v":"00:00:00"},{"$f":"SUM(EJI14:EJI30)","v":"00:00:00"},{"$f":"SUM(EJJ14:EJJ30)","v":"00:00:00"},null,{"$f":"SUM(EJL14:EJL30)","v":"00:00:00"},null,null,{"$f":"SUM(EJO14:EJO26)","v":"00:00:00"},"00:00:00","00:00:00",{"$f":"SUM(EJR14:EJR30)","v":"00:00:00"},{"$f":"SUM(EJS14:EJS30)","v":"00:00:00"},{"$f":"SUM(EJT14:EJT30)","v":"00:00:00"},null,{"$f":"SUM(EJV14:EJV30)","v":"00:00:00"},null,null,{"$f":"SUM(EJY14:EJY26)","v":"00:00:00"},"00:00:00","00:00:00",{"$f":"SUM(EKB14:EKB30)","v":"00:00:00"},null,{"$f":"SUM(EKD14:EKD30)","v":"00:00:00"},null,{"$f":"SUM(EKF14:EKF30)","v":"00:00:00"},null,{"$f":"SUM(EKH14:EKH26)","v":"00:00:00"},"00:00:00","00:00:00","00:00:00",{"$f":"SUM(EKL14:EKL30)","v":"00:00:00"},null,{"$f":"SUM(EKN14:EKN30)","v":"00:00:00"},null,{"$f":"SUM(EKP14:EKP30)","v":"00:00:00"},null,{"$f":"SUM(EKR14:EKR26)","v":"00:00:00"},"00:00:00","00:00:00","00:00:00"]
[null,null,null,null,null,null,null,null,null,null,null,null,null,null,null,"p"]
["alkaa",null,"Väliaikatarkastelu",null,null,null,null,null,null,null,null,null,null,null,null,"p"]
["loppuu",null,"Sitom","Sidot","Säänt","yht",null,null,null,null,null,null,null,null,null,"p"]
[{"$f":"B34-B33+1","v":1},"päivää, joissa tunteja yht.",null,null,null,{"$f":"VAsitom+VAsidot+VAsaant","v":0},"h",null,null,null,null,null,null,null,null,"p"]

{"sheet":"Poissaolot","index":1,"n_rows":11,"n_cols":8,"rows_kept":11,"cut":false,"hidden":true,"merged":[]}
[null,null,"Poissaolomerkintöjen koonti",null,null,null,null,{"$f":"OpeNimi","v":"Olli Opettaja"}]
[null,null,null,null,null,null,null,{"$f":"Koulu","v":"OMNIA"}]
[null,null,null,null,null,null,"Tulostus",{"$f":"NOW()","v":"2019-01-07T16:03:57.580"}]
[]
[]
[]
[]
[null,null,"Rv","Pvm","Merkintä","Sitomaton","Sidottu","Huomautus"]
[null,null,null,null,"L tai l","Tuntia","Tuntia","= Alin huomautuskohta TAS:ssa"]
[]
[null,null,null,null,"Ei poissaolomerkintöjä"]

{"sheet":"Osakoonti","index":2,"n_rows":34,"n_cols":8,"rows_kept":34,"cut":false,"hidden":true,"merged":[[39,2,39,7],[34,2,34,7],[35,2,35,7],[36,2,36,7],[37,2,37,7],[38,2,38,7],[46,2,46,7],[40,2,40,7],[41,2,41,7],[42,2,42,7],[43,2,43,7],[44,2,44,7],[45,2,45,7]]}
["Osakoonti"]
[null,"Tähän taulukkoon voi syöttää pidemmän aikajakson tuntitiedot summattuna. Tuntimäärä kirjoitetaan normaalina lukuna. "]
[null,"Ohjelma summaa automaattisesti tuntilukemat  TAS-taulukon yhteenvedon  toteutuneen tuntilaskennan lukemiin."]
[null,"Kootusta tuntitiedosta tulee olla esittää myös muu hyväksyttävä dokumentti."]
[]
[null,null,null,null,null,null,null,"Lisätieto 1"]
[null,null,"Osakootun tiedon aikaväli","Ensimmäinen pvm"]
[null,null,null,"Vimeinen pvm"]
[]
[null,null,null,null,null,null,null,"Lisätieto 2"]
[null,null,"Epämukavan työn pituus"]
[]
[null,null,{"$f":"Suunnitelma!$B$13","v":"Työajan jakautuminen"},"Sitomaton","Sidottu","Sääntelemätön",null,"Lisätieto 3"]
[null,null,{"$f":"Suunnitelma!$B$14","v":"Yhteissuunnittelu ja -kehittäminen"}]
[null,null,{"$f":"Suunnitelma!$B$15","v":"Oppimisen ohjaus ja suunnittelu"}]
[null,null,{"$f":"Suunnitelma!$B$16","v":"Työpaikalla tapahtuva oppiminen"}]
[null,null,{"$f":"Suunnitelma!$B$17","v":"Arviointi"}]
[null,null,{"$f":"Suunnitelma!$B$18","v":"Vastuuopettaja"}]
[null,null,{"$f":"Suunnitelma!$B$19","v":"Tutkintovastaava"}]
[null,null,{"$f":"Suunnitelma!$B$20","v":"Pedaopettaja"}]
[null,null,{"$f":"Suunnitelma!$B$21","v":"Digiopettaja"}]
[null,null,{"$f":"Suunnitelma!$B$22","v":"Yhdysopettaja"}]
[null,null,{"$f":"Suunnitelma!$B$23","v":"Kulttuurivastaava"}]
[null,null,{"$f":"Suunnitelma!$B$24","v":"Kestävä kehitys"}]
[null,null,{"$f":"Suunnitelma!$B$25","v":"Kv-vastaava"}]
[null,null,{"$f":"Suunnitelma!$B$26","v":"Valmennustoiminta"}]
[null,null,{"$f":"Suunnitelma!$B$27","v":"Projektit"}]
[null,null,{"$f":"Suunnitelma!$B$28","v":"Itsensä kehittäminen"}]
[null,null,{"$f":"Suunnitelma!$B$29","v":"Muu"}]
[null,null,{"$f":"Suunnitelma!$B$30","v":"Sairauspoissaolon sitomaton työ"}]
[null,null,null,{"$f":"SUM(D14:D30)","v":0},{"$f":"SUM(E14:E30)","v":0},0]
[]
[]
[null,null,"Lisätieto 4"]

{"sheet":"Kalenteri","index":3,"n_rows":34,"n_cols":374,"rows_kept":34,"cut":false,"hidden":true,"merged":[]}
[]
["Kalenterimerkinnät",null,null,null,null,null,null,null,null,1,2,3,4,5,6,7,8,9,10,11,12,13,14,15,16,17,18,19,20,21,22,23,24,25,26,27,28,29,30,31,32,33,34,35,36,37,38,39,40,41,42,43,44,45,46,47,48,49,50,51,52,53,54,55,56,57,58,59,60,61,62,63,64,65,66,67,68,69,70,71,72,73,74,75,76,77,78,79,80,81,82,83,84,85,86,87,88,89,90,91,92,93,94,95,96,97,98,99,100,101,102,103,104,105,106,107,108,109,110,111,112,113,114,115,116,117,118,119,120,121,122,123,124,125,126,127,128,129,130,131,132,133,134,135,136,137,138,139,140,141,142,143,144,145,146,147,148,149,150,151,152,153,154,155,156,157,158,159,160,161,162,163,164,165,166,167,168,169,170,171,172,173,174,175,176,177,178,179,180,181,182,183,184,185,186,187,188,189,190,191,192,193,194,195,196,197,198,199,200,201,202,203,204,205,206,207,208,209,210,211,212,213,214,215,216,217,218,219,220,221,222,223,224,225,226,227,228,229,230,231,232,233,234,235,236,237,238,239,240,241,242,243,244,245,246,247,248,249,250,251,252,253,254,255,256,257,258,259,260,261,262,263,264,265,266,267,268,269,270,271,272,273,274,275,276,277,278,279,280,281,282,283,284,285,286,287,288,289,290,291,292,293,294,295,296,297,298,299,300,301,302,303,304,305,306,307,308,309,310,311,312,313,314,315,316,317,318,319,320,321,322,323,324,325,326,327,328,329,330,331,332,333,334,335,336,337,338,339,340,341,342,343,344,345,346,347,348,349,350,351,352,353,354,355,356,357,358,359,360,361,362,363,364,365]
[null,null,null,null,null,null,null,null,null,1,null,null,null,null,null,2,null,null,null,null,null,null,3,null,null,null,null,null,null,4,null,null,null,null,null,null,5,null,null,null,null,null,null,6,null,null,null,null,null,null,7,null,null,null,null,null,null,8,null,null,null,null,null,null,9,null,null,null,null,null,null,10,null,null,null,null,null,null,11,null,null,null,null,null,null,12,null,null,null,null,null,null,13,null,null,null,null,null,null,14,null,null,null,null,null,null,15,null,null,null,null,null,null,16,null,null,null,null,null,null,17,null,null,null,null,null,null,18,null,null,null,null,null,null,19,null,null,null,null,null,null,20,null,null,null,null,null,null,21,null,null,null,null,null,null,22,null,null,null,null,null,null,23,null,null,null,null,null,null,24,null,null,null,null,null,null,25,null,null,null,null,null,null,26,null,null,null,null,null,null,27,null,null,null,null,null,null,28,null,null,null,null,null,null,29,null,null,null,null,null,null,30,null,null,null,null,null,null,31,null,null,null,null,null,null,32,null,null,null,null,null,null,33,null,null,null,null,null,null,34,null,null,null,null,null,null,35,null,null,null,null,null,null,36,null,null,null,null,null,null,37,null,null,null,null,null,null,38,null,null,null,null,null,null,39,null,null,null,null,null,null,40,null,null,null,null,null,null,41,null,null,null,null,null,null,42,null,null,null,null,null,null,43,null,null,null,null,null,null,44,null,null,null,null,null,null,45,null,null,null,null,null,null,46,null,null,null,null,null,null,47,null,null,null,null,null,null,48,null,null,null,null,null,null,49,null,null,null,null,null,null,50,null,null,null,null,null,null,51,null,null,null,null,null,null,52,null,null,null,null,null,null,53]
[null,null,null,null,null,null,null,null,null,"ti","ke","to","pe","la","su","ma","ti","ke","to","pe","la","su","ma","ti","ke","to","pe","la","su","ma","ti","ke","to","pe","la","su","ma","ti","ke","to","pe","la","su","ma","ti","ke","to","pe","la","su","ma","ti","ke","to","pe","la","su","ma","ti","ke","to","pe","la","su","ma","ti","ke","to","pe","la","su","ma","ti","ke","to","pe","la","su","ma","ti","ke","to","pe","la","su","ma","ti","ke","to","pe","la","su","ma","ti","ke","to","pe","la","su","ma","ti","ke","to","pe","la","su","ma","ti","ke","to","pe","la","su","ma","ti","ke","to","pe","la","su","ma","ti","ke","to","pe","la","su","ma","ti","ke","to","pe","la","su","ma","ti","ke","to","pe","la","su","ma","ti","ke","to","pe","la","su","ma","ti","ke","to","pe","la","su","ma","ti","ke","to","pe","la","su","ma","ti","ke","to","pe","la","su","ma","ti","ke","to","pe","la","su","ma","ti","ke","to","pe","la","su","ma","ti","ke","to","pe","la","su","ma","ti","ke","to","pe","la","su","ma","ti","ke","to","pe","la","su","ma","ti","ke","to","pe","la","su","ma","ti","ke","to","pe","la","su","ma","ti","ke","to","pe","la","su","ma","ti","ke","to","pe","la","su","ma","ti","ke","to","pe","la","su","ma","ti","ke","to","pe","la","su","ma","ti","ke","to","pe","la","su","ma","ti","ke","to","pe","la","su","ma","ti","ke","to","pe","la","su","ma","ti","ke","to","pe","la","su","ma","ti","ke","to","pe","la","su","ma","ti","ke","to","pe","la","su","ma","ti","ke","to","pe","la","su","ma","ti","ke","to","pe","la","su","ma","ti","ke","to","pe","la","su","ma","ti","ke","to","pe","la","su","ma","ti","ke","to","pe","la","su","ma","ti","ke","to","pe","la","su","ma","ti","ke","to","pe","la","su","ma","ti","ke","to","pe","la","su","ma","ti","ke","to","pe","la","su","ma","ti","ke","to","pe","la","su","ma","ti","ke","to","pe","la","su","ma","ti","ke","to","pe","la","su","ma","ti"]
[null,null,null,null,null,null,null,null,null,"2019-01-01","2019-01-02","2019-01-03","2019-01-04","2019-01-05","2019-01-06","2019-01-07","2019-01-08","2019-01-09","2019-01-10","2019-01-11","2019-01-12","2019-01-13","2019-01-14","2019-01-15","2019-01-16","2019-01-17","2019-01-18","2019-01-19","2019-01-20","2019-01-21","2019-01-22","2019-01-23","2019-01-24","2019-01-25","2019-01-26","2019-01-27","2019-01-28","2019-01-29","2019-01-30","2019-01-31","2019-02-01","2019-02-02","2019-02-03","2019-02-04","2019-02-05","2019-02-06","2019-02-07","2019-02-08","2019-02-09","2019-02-10","2019-02-11","2019-02-12","2019-02-13","2019-02-14","2019-02-15","2019-02-16","2019-02-17","2019-02-18","2019-02-19","2019-02-20","2019-02-21","2019-02-22","2019-02-23","2019-02-24","2019-02-25","2019-02-26","2019-02-27","2019-02-28","2019-03-01","2019-03-02","2019-03-03","2019-03-04","2019-03-05","2019-03-06","2019-03-07","2019-03-08","2019-03-09","2019-03-10","2019-03-11","2019-03-12","2019-03-13","2019-03-14","2019-03-15","2019-03-16","2019-03-17","2019-03-18","2019-03-19","2019-03-20","2019-03-21","2019-03-22","2019-03-23","2019-03-24","2019-03-25","2019-03-26","2019-03-27","2019-03-28","2019-03-29","2019-03-30","2019-03-31","2019-04-01","2019-04-02","2019-04-03","2019-04-04","2019-04-05","2019-04-06","2019-04-07","2019-04-08","2019-04-09","2019-04-10","2019-04-11","2019-04-12","2019-04-13","2019-04-14","2019-04-15","2019-04-16","2019-04-17","2019-04-18","2019-04-19","2019-04-20","2019-04-21","2019-04-22","2019-04-23","2019-04-24","2019-04-25","2019-04-26","2019-04-27","2019-04-28","2019-04-29","2019-04-30","2019-05-01","2019-05-02","2019-05-03","2019-05-04","2019-05-05","2019-05-06","2019-05-07","2019-05-08","2019-05-09","2019-05-10","2019-05-11","2019-05-12","2019-05-13","2019-05-14","2019-05-15","2019-05-16","2019-05-17","2019-05-18","2019-05-19","2019-05-20","2019-05-21","2019-05-22","2019-05-23","2019-05-24","2019-05-25","2019-05-26","2019-05-27","2019-05-28","2019-05-29","2019-05-30","2019-05-31","2019-06-01","2019-06-02","2019-06-03","2019-06-04","2019-06-05","2019-06-06","2019-06-07","2019-06-08","2019-06-09","2019-06-10","2019-06-11","2019-06-12","2019-06-13","2019-06-14","2019-06-15","2019-06-16","2019-06-17","2019-06-18","2019-06-19","2019-06-20","2019-06-21","2019-06-22","2019-06-23","2019-06-24","2019-06-25","2019-06-26","2019-06-27","2019-06-28","2019-06-29","2019-06-30","2019-07-01","2019-07-02","2019-07-03","2019-07-04","2019-07-05","2019-07-06","2019-07-07","2019-07-08","2019-07-09","2019-07-10","2019-07-11","2019-07-12","2019-07-13","2019-07-14","2019-07-15","2019-07-16","2019-07-17","2019-07-18","2019-07-19","2019-07-20","2019-07-21","2019-07-22","2019-07-23","2019-07-24","2019-07-25","2019-07-26","2019-07-27","2019-07-28","2019-07-29","2019-07-30","2019-07-31","2019-08-01","2019-08-02","2019-08-03","2019-08-04","2019-08-05","2019-08-06","2019-08-07","2019-08-08","2019-08-09","2019-08-10","2019-08-11","2019-08-12","2019-08-13","2019-08-14","2019-08-15","2019-08-16","2019-08-17","2019-08-18","2019-08-19","2019-08-20","2019-08-21","2019-08-22","2019-08-23","2019-08-24","2019-08-25","2019-08-26","2019-08-27","2019-08-28","2019-08-29","2019-08-30","2019-08-31","2019-09-01","2019-09-02","2019-09-03","2019-09-04","2019-09-05","2019-09-06","2019-09-07","2019-09-08","2019-09-09","2019-09-10","2019-09-11","2019-09-12","2019-09-13","2019-09-14","2019-09-15","2019-09-16","2019-09-17","2019-09-18","2019-09-19","2019-09-20","2019-09-21","2019-09-22","2019-09-23","2019-09-24","2019-09-25","2019-09-26","2019-09-27","2019-09-28","2019-09-29","2019-09-30","2019-10-01","2019-10-02","2019-10-03","2019-10-04","2019-10-05","2019-10-06","2019-10-07","2019-10-08","2019-10-09","2019-10-10","2019-10-11","2019-10-12","2019-10-13","2019-10-14","2019-10-15","2019-10-16","2019-10-17","2019-10-18","2019-10-19","2019-10-20","2019-10-21","2019-10-22","2019-10-23","2019-10-24","2019-10-25","2019-10-26","2019-10-27","2019-10-28","2019-10-29","2019-10-30","2019-10-31","2019-11-01","2019-11-02","2019-11-03","2019-11-04","2019-11-05","2019-11-06","2019-11-07","2019-11-08","2019-11-09","2019-11-10","2019-11-11","2019-11-12","2019-11-13","2019-11-14","2019-11-15","2019-11-16","2019-11-17","2019-11-18","2019-11-19","2019-11-20","2019-11-21","2019-11-22","2019-11-23","2019-11-24","2019-11-25","2019-11-26","2019-11-27","2019-11-28","2019-11-29","2019-11-30","2019-12-01","2019-12-02","2019-12-03","2019-12-04","2019-12-05","2019-12-06","2019-12-07","2019-12-08","2019-12-09","2019-12-10","2019-12-11","2019-12-12","2019-12-13","2019-12-14","2019-12-15","2019-12-16","2019-12-17","2019-12-18","2019-12-19","2019-12-20","2019-12-21","2019-12-22","2019-12-23","2019-12-24","2019-12-25","2019-12-26","2019-12-27","2019-12-28","2019-12-29","2019-12-30","2019-12-31"]
[null,null,null,null,null,null,null,"Arkiviikonpäivä",{"$f":"SUM(J6:NJ6)","v":261},{"$f":"IF(J4=\"la\",0,IF(J4=\"su\",0,1))","v":1},1,1,1,0,0,1,1,1,1,1,0,0,1,1,1,1,1,0,0,1,1,1,1,1,0,0,1,1,1,1,1,0,0,1,1,1,1,1,0,0,1,1,1,1,1,0,0,1,1,1,1,1,0,0,1,1,1,1,1,0,0,1,1,1,{"$f":"IF(BW4=\"la\",0,IF(BW4=\"su\",0,1))","v":1},1,0,0,1,1,1,1,1,0,0,1,1,1,1,1,0,0,1,1,1,1,1,0,0,1,1,1,1,1,0,0,1,1,1,1,1,0,0,1,1,1,1,1,0,0,1,1,1,1,1,0,0,1,1,1,1,1,0,0,1,1,1,1,{"$f":"IF(EI4=\"la\",0,IF(EI4=\"su\",0,1))","v":1},0,0,1,1,1,1,1,0,0,1,1,1,1,1,0,0,1,1,1,1,1,0,0,1,1,1,1,1,0,0,1,1,1,1,1,0,0,1,1,1,1,1,0,0,1,1,1,1,1,0,0,1,1,1,1,1,0,0,1,1,1,1,1,{"$f":"IF(GU4=\"la\",0,IF(GU4=\"su\",0,1))","v":0},0,1,1,1,1,1,0,0,1,1,1,1,1,0,0,1,1,1,1,1,0,0,1,1,1,1,1,0,0,1,1,1,1,1,0,0,1,1,1,1,1,0,0,1,1,1,1,1,0,0,1,1,1,1,1,0,0,1,1,1,1,1,0,{"$f":"IF(JG4=\"la\",0,IF(JG4=\"su\",0,1))","v":0},1,1,1,1,1,0,0,1,1,1,1,1,0,0,1,1,1,1,1,0,0,1,1,1,1,1,0,0,1,1,1,1,1,0,0,1,1,1,1,1,0,0,1,1,1,1,1,0,0,1,1,1,1,1,0,0,1,1,1,1,1,0,0,{"$f":"IF(LS4=\"la\",0,IF(LS4=\"su\",0,1))","v":1},1,1,1,1,0,0,1,1,1,1,1,0,0,1,1,1,1,1,0,0,1,1,1,1,1,0,0,1,1,1,1,1,0,0,1,1,1,1,1,0,0,1,1]
[null,null,null,null,null,null,null,"Arkipyhäpäiv",{"$f":"SUM(J7:NJ7)","v":12},1,null,null,null,null,1,null,null,null,null,null,null,null,null,null,null,null,null,null,null,null,null,null,null,null,null,null,null,null,null,null,null,null,null,null,null,null,null,null,null,null,null,null,null,null,null,null,null,null,null,null,null,null,null,null,null,null,null,null,null,null,null,null,null,null,null,null,null,null,null,null,null,null,null,null,null,null,null,null,null,null,null,null,null,null,null,null,null,null,null,null,null,null,null,null,null,null,null,null,null,null,null,null,null,null,null,null,null,1,null,1,1,null,null,null,null,null,null,null,null,1,null,null,null,null,null,null,null,null,null,null,null,null,null,null,null,null,null,null,null,null,null,null,null,null,null,null,null,null,1,null,null,null,null,null,null,null,null,null,null,null,null,null,null,null,null,null,null,null,null,null,1,null,null,null,null,null,null,null,null,null,null,null,null,null,null,null,null,null,null,null,null,null,null,null,null,null,null,null,null,null,null,null,null,null,null,null,null,null,null,null,null,null,null,null,null,null,null,null,null,null,null,null,null,null,null,null,null,null,null,null,null,null,null,null,null,null,null,null,null,null,null,null,null,null,null,null,null,null,null,null,null,null,null,null,null,null,null,null,null,null,null,null,null,null,null,null,null,null,null,null,null,null,null,null,null,null,null,null,null,null,null,null,null,null,null,null,null,null,null,null,null,null,null,null,null,null,null,null,null,null,null,null,null,null,null,null,null,null,null,null,null,null,null,null,null,null,null,null,null,null,null,null,null,null,null,null,null,null,null,null,null,null,null,null,null,null,null,null,1,null,null,null,null,null,null,null,null,null,null,null,null,null,null,null,null,null,1,1,1]
[null,null,null,null,null,null,null,"Arkityöpäivä",251,{"$f":"IF(J6=1,IF(J7=1,0,1),0)","v":0},{"$f":"IF(K6=1,IF(K7=1,0,1),0)","v":1},1,1,0,0,1,1,1,1,1,0,0,1,1,1,1,1,0,0,1,1,1,1,1,0,0,1,1,1,1,1,0,0,1,1,1,1,1,0,0,1,1,1,1,1,0,0,1,1,1,1,1,0,0,1,1,1,1,1,0,0,1,1,1,{"$f":"IF(BW6=1,IF(BW7=1,0,1),0)","v":1},1,0,0,1,1,1,1,1,0,0,1,1,1,1,1,0,0,1,1,1,1,1,0,0,1,1,1,1,1,0,0,1,1,1,1,1,0,0,1,1,1,1,0,0,0,0,1,1,1,1,0,0,1,1,0,1,1,0,0,1,1,1,1,{"$f":"IF(EI6=1,IF(EI7=1,0,1),0)","v":1},0,0,1,1,1,1,1,0,0,1,1,1,1,1,0,0,1,1,1,0,1,0,0,1,1,1,1,1,0,0,1,1,1,1,1,0,0,1,1,1,1,0,0,0,1,1,1,1,1,0,0,1,1,1,1,1,0,0,1,1,1,1,1,{"$f":"IF(GU6=1,IF(GU7=1,0,1),0)","v":0},0,1,1,1,1,1,0,0,1,1,1,1,1,0,0,1,1,1,1,1,0,0,1,1,1,1,1,0,0,1,1,1,1,1,0,0,1,1,1,1,1,0,0,1,1,1,1,1,0,0,1,1,1,1,1,0,0,1,1,1,1,1,0,{"$f":"IF(JG6=1,IF(JG7=1,0,1),0)","v":0},1,1,1,1,1,0,0,1,1,1,1,1,0,0,1,1,1,1,1,0,0,1,1,1,1,1,0,0,1,1,1,1,1,0,0,1,1,1,1,1,0,0,1,1,1,1,1,0,0,1,1,1,1,1,0,0,1,1,1,1,1,0,0,{"$f":"IF(LS6=1,IF(LS7=1,0,1),0)","v":1},1,1,1,1,0,0,1,1,1,1,1,0,0,1,1,1,1,0,0,0,1,1,1,1,1,0,0,1,1,1,1,1,0,0,1,0,0,0,1,0,0,1,1]
[null,null,null,null,null,null,null,"Vapaajaksopäivien määrä (laskettu)",{"$f":"COUNTA(J9:NK9)","v":70},"v","v","v","v","v","v",null,null,null,null,null,null,null,null,null,null,null,null,null,null,null,null,null,null,null,null,null,null,null,null,null,null,null,null,null,null,null,null,null,null,null,null,null,null,null,null,null,null,"v","v","v","v","v","v","v",null,null,null,null,null,null,null,null,null,null,null,null,null,null,null,null,null,null,null,null,null,null,null,null,null,null,null,null,null,null,null,null,null,null,null,null,null,null,null,null,null,null,null,null,null,null,null,null,null,null,null,null,null,null,null,null,null,null,null,null,null,null,null,null,null,null,null,null,null,null,null,null,null,null,null,null,null,null,null,null,null,null,null,null,null,null,null,null,null,null,null,null,null,null,null,null,null,null,null,null,null,null,null,null,null,null,null,null,null,null,null,null,null,null,null,null,null,null,null,"v","v","v","v","v","v","v","v","v","v","v","v","v","v","v","v","v","v","v","v","v","v","v","v","v","v","v","v","v","v","v","v","v","v","v","v","v","v","v","v","v","v",null,null,null,null,null,null,null,null,null,null,null,null,null,null,null,null,null,null,null,null,null,null,null,null,null,null,null,null,null,null,null,null,null,null,null,null,null,null,null,null,null,null,null,null,null,null,null,null,null,null,null,null,null,null,null,null,null,null,null,null,null,null,null,null,null,null,null,null,null,null,"v","v","v","v","v","v","v",null,null,null,null,null,null,null,null,null,null,null,null,null,null,null,null,null,null,null,null,null,null,null,null,null,null,null,null,null,null,null,null,null,null,null,null,null,null,null,null,null,null,null,null,null,null,null,null,null,null,null,null,null,null,null,null,null,null,null,null,null,null,null,null,"v","v","v","v","v","v","v","v"]
["yht",{"$f":"SUM(B12:B18)","v":70},"Vapaajaksot",null,null,"Arkipyhät",null,"Työpäivien määrä",{"$f":"SUM(J10:NJ10)","v":211},{"$f":"IF(J6=1,IF(J9=\"\",1,\"\"),\"\")","v":""},{"$f":"IF(K6=1,IF(K9=\"\",1,\"\"),\"\")","v":""},"","","","",1,1,1,1,1,"","",1,{"$f":"IF(X6=1,IF(X9=\"\",1,\"\"),\"\")","v":1},{"$f":"IF(Y6=1,IF(Y9=\"\",1,\"\"),\"\")","v":1},{"$f":"IF(Z6=1,IF(Z9=\"\",1,\"\"),\"\")","v":1},{"$f":"IF(AA6=1,IF(AA9=\"\",1,\"\"),\"\")","v":1},{"$f":"IF(AB6=1,IF(AB9=\"\",1,\"\"),\"\")","v":""},{"$f":"IF(AC6=1,IF(AC9=\"\",1,\"\"),\"\")","v":""},{"$f":"IF(AD6=1,IF(AD9=\"\",1,\"\"),\"\")","v":1},{"$f":"IF(AE6=1,IF(AE9=\"\",1,\"\"),\"\")","v":1},{"$f":"IF(AF6=1,IF(AF9=\"\",1,\"\"),\"\")","v":1},{"$f":"IF(AG6=1,IF(AG9=\"\",1,\"\"),\"\")","v":1},{"$f":"IF(AH6=1,IF(AH9=\"\",1,\"\"),\"\")","v":1},{"$f":"IF(AI6=1,IF(AI9=\"\",1,\"\"),\"\")","v":""},{"$f":"IF(AJ6=1,IF(AJ9=\"\",1,\"\"),\"\")","v":""},1,{"$f":"IF(AL6=1,IF(AL9=\"\",1,\"\"),\"\")","v":1},{"$f":"IF(AM6=1,IF(AM9=\"\",1,\"\"),\"\")","v":1},{"$f":"IF(AN6=1,IF(AN9=\"\",1,\"\"),\"\")","v":1},{"$f":"IF(AO6=1,IF(AO9=\"\",1,\"\"),\"\")","v":1},{"$f":"IF(AP6=1,IF(AP9=\"\",1,\"\"),\"\")","v":""},{"$f":"IF(AQ6=1,IF(AQ9=\"\",1,\"\"),\"\")","v":""},{"$f":"IF(AR6=1,IF(AR9=\"\",1,\"\"),\"\")","v":1},{"$f":"IF(AS6=1,IF(AS9=\"\",1,\"\"),\"\")","v":1},{"$f":"IF(AT6=1,IF(AT9=\"\",1,\"\"),\"\")","v":1},{"$f":"IF(AU6=1,IF(AU9=\"\",1,\"\"),\"\")","v":1},{"$f":"IF(AV6=1,IF(AV9=\"\",1,\"\"),\"\")","v":1},{"$f":"IF(AW6=1,IF(AW9=\"\",1,\"\"),\"\")","v":""},{"$f":"IF(AX6=1,IF(AX9=\"\",1,\"\"),\"\")","v":""},1,{"$f":"IF(AZ6=1,IF(AZ9=\"\",1,\"\"),\"\")","v":1},{"$f":"IF(BA6=1,IF(BA9=\"\",1,\"\"),\"\")","v":1},{"$f":"IF(BB6=1,IF(BB9=\"\",1,\"\"),\"\")","v":1},{"$f":"IF(BC6=1,IF(BC9=\"\",1,\"\"),\"\")","v":1},{"$f":"IF(BD6=1,IF(BD9=\"\",1,\"\"),\"\")","v":""},{"$f":"IF(BE6=1,IF(BE9=\"\",1,\"\"),\"\")","v":""},{"$f":"IF(BF6=1,IF(BF9=\"\",1,\"\"),\"\")","v":""},{"$f":"IF(BG6=1,IF(BG9=\"\",1,\"\"),\"\")","v":""},{"$f":"IF(BH6=1,IF(BH9=\"\",1,\"\"),\"\")","v":""},{"$f":"IF(BI6=1,IF(BI9=\"\",1,\"\"),\"\")","v":""},{"$f":"IF(BJ6=1,IF(BJ9=\"\",1,\"\"),\"\")","v":""},{"$f":"IF(BK6=1,IF(BK9=\"\",1,\"\"),\"\")","v":""},"",{"$f":"IF(BM6=1,IF(BM9=\"\",1,\"\"),\"\")","v":1},{"$f":"IF(BN6=1,IF(BN9=\"\",1,\"\"),\"\")","v":1},{"$f":"IF(BO6=1,IF(BO9=\"\",1,\"\"),\"\")","v":1},{"$f":"IF(BP6=1,IF(BP9=\"\",1,\"\"),\"\")","v":1},{"$f":"IF(BQ6=1,IF(BQ9=\"\",1,\"\"),\"\")","v":1},{"$f":"IF(BR6=1,IF(BR9=\"\",1,\"\"),\"\")","v":""},{"$f":"IF(BS6=1,IF(BS9=\"\",1,\"\"),\"\")","v":""},{"$f":"IF(BT6=1,IF(BT9=\"\",1,\"\"),\"\")","v":1},{"$f":"IF(BU6=1,IF(BU9=\"\",1,\"\"),\"\")","v":1},{"$f":"IF(BV6=1,IF(BV9=\"\",1,\"\"),\"\")","v":1},{"$f":"IF(BW6=1,IF(BW9=\"\",1,\"\"),\"\")","v":1},{"$f":"IF(BX6=1,IF(BX9=\"\",1,\"\"),\"\")","v":1},{"$f":"IF(BY6=1,IF(BY9=\"\",1,\"\"),\"\")","v":""},"",{"$f":"IF(CA6=1,IF(CA9=\"\",1,\"\"),\"\")","v":1},{"$f":"IF(CB6=1,IF(CB9=\"\",1,\"\"),\"\")","v":1},{"$f":"IF(CC6=1,IF(CC9=\"\",1,\"\"),\"\")","v":1},{"$f":"IF(CD6=1,IF(CD9=\"\",1,\"\"),\"\")","v":1},{"$f":"IF(CE6=1,IF(CE9=\"\",1,\"\"),\"\")","v":1},{"$f":"IF(CF6=1,IF(CF9=\"\",1,\"\"),\"\")","v":""},{"$f":"IF(CG6=1,IF(CG9=\"\",1,\"\"),\"\")","v":""},{"$f":"IF(CH6=1,IF(CH9=\"\",1,\"\"),\"\")","v":1},{"$f":"IF(CI6=1,IF(CI9=\"\",1,\"\"),\"\")","v":1},{"$f":"IF(CJ6=1,IF(CJ9=\"\",1,\"\"),\"\")","v":1},{"$f":"IF(CK6=1,IF(CK9=\"\",1,\"\"),\"\")","v":1},{"$f":"IF(CL6=1,IF(CL9=\"\",1,\"\"),\"\")","v":1},"",{"$f":"IF(CN6=1,IF(CN9=\"\",1,\"\"),\"\")","v":""},{"$f":"IF(CO6=1,IF(CO9=\"\",1,\"\"),\"\")","v":1},{"$f":"IF(CP6=1,IF(CP9=\"\",1,\"\"),\"\")","v":1},{"$f":"IF(CQ6=1,IF(CQ9=\"\",1,\"\"),\"\")","v":1},{"$f":"IF(CR6=1,IF(CR9=\"\",1,\"\"),\"\")","v":1},{"$f":"IF(CS6=1,IF(CS9=\"\",1,\"\"),\"\")","v":1},{"$f":"IF(CT6=1,IF(CT9=\"\",1,\"\"),\"\")","v":""},{"$f":"IF(CU6=1,IF(CU9=\"\",1,\"\"),\"\")","v":""},{"$f":"IF(CV6=1,IF(CV9=\"\",1,\"\"),\"\")","v":1},{"$f":"IF(CW6=1,IF(CW9=\"\",1,\"\"),\"\")","v":1},{"$f":"IF(CX6=1,IF(CX9=\"\",1,\"\"),\"\")","v":1},{"$f":"IF(CY6=1,IF(CY9=\"\",1,\"\"),\"\")","v":1},{"$f":"IF(CZ6=1,IF(CZ9=\"\",1,\"\"),\"\")","v":1},"",{"$f":"IF(DB6=1,IF(DB9=\"\",1,\"\"),\"\")","v":""},{"$f":"IF(DC6=1,IF(DC9=\"\",1,\"\"),\"\")","v":1},{"$f":"IF(DD6=1,IF(DD9=\"\",1,\"\"),\"\")","v":1},{"$f":"IF(DE6=1,IF(DE9=\"\",1,\"\"),\"\")","v":1},{"$f":"IF(DF6=1,IF(DF9=\"\",1,\"\"),\"\")","v":1},{"$f":"IF(DG6=1,IF(DG9=\"\",1,\"\"),\"\")","v":1},{"$f":"IF(DH6=1,IF(DH9=\"\",1,\"\"),\"\")","v":""},{"$f":"IF(DI6=1,IF(DI9=\"\",1,\"\"),\"\")","v":""},{"$f":"IF(DJ6=1,IF(DJ9=\"\",1,\"\"),\"\")","v":1},{"$f":"IF(DK6=1,IF(DK9=\"\",1,\"\"),\"\")","v":1},{"$f":"IF(DL6=1,IF(DL9=\"\",1,\"\"),\"\")","v":1},{"$f":"IF(DM6=1,IF(DM9=\"\",1,\"\"),\"\")","v":1},1,{"$f":"IF(DO6=1,IF(DO9=\"\",1,\"\"),\"\")","v":""},{"$f":"IF(DP6=1,IF(DP9=\"\",1,\"\"),\"\")","v":""},{"$f":"IF(DQ6=1,IF(DQ9=\"\",1,\"\"),\"\")","v":1},{"$f":"IF(DR6=1,IF(DR9=\"\",1,\"\"),\"\")","v":1},{"$f":"IF(DS6=1,IF(DS9=\"\",1,\"\"),\"\")","v":1},{"$f":"IF(DT6=1,IF(DT9=\"\",1,\"\"),\"\")","v":1},{"$f":"IF(DU6=1,IF(DU9=\"\",1,\"\"),\"\")","v":1},{"$f":"IF(DV6=1,IF(DV9=\"\",1,\"\"),\"\")","v":""},{"$f":"IF(DW6=1,IF(DW9=\"\",1,\"\"),\"\")","v":""},{"$f":"IF(DX6=1,IF(DX9=\"\",1,\"\"),\"\")","v":1},{"$f":"IF(DY6=1,IF(DY9=\"\",1,\"\"),\"\")","v":1},{"$f":"IF(DZ6=1,IF(DZ9=\"\",1,\"\"),\"\")","v":1},{"$f":"IF(EA6=1,IF(EA9=\"\",1,\"\"),\"\")","v":1},1,{"$f":"IF(EC6=1,IF(EC9=\"\",1,\"\"),\"\")","v":""},{"$f":"IF(ED6=1,IF(ED9=\"\",1,\"\"),\"\")","v":""},{"$f":"IF(EE6=1,IF(EE9=\"\",1,\"\"),\"\")","v":1},{"$f":"IF(EF6=1,IF(EF9=\"\",1,\"\"),\"\")","v":1},{"$f":"IF(EG6=1,IF(EG9=\"\",1,\"\"),\"\")","v":1},{"$f":"IF(EH6=1,IF(EH9=\"\",1,\"\"),\"\")","v":1},{"$f":"IF(EI6=1,IF(EI9=\"\",1,\"\"),\"\")","v":1},{"$f":"IF(EJ6=1,IF(EJ9=\"\",1,\"\"),\"\")","v":""},{"$f":"IF(EK6=1,IF(EK9=\"\",1,\"\"),\"\")","v":""},{"$f":"IF(EL6=1,IF(EL9=\"\",1,\"\"),\"\")","v":1},{"$f":"IF(EM6=1,IF(EM9=\"\",1,\"\"),\"\")","v":1},{"$f":"IF(EN6=1,IF(EN9=\"\",1,\"\"),\"\")","v":1},1,{"$f":"IF(EP6=1,IF(EP9=\"\",1,\"\"),\"\")","v":1},{"$f":"IF(EQ6=1,IF(EQ9=\"\",1,\"\"),\"\")","v":""},{"$f":"IF(ER6=1,IF(ER9=\"\",1,\"\"),\"\")","v":""},{"$f":"IF(ES6=1,IF(ES9=\"\",1,\"\"),\"\")","v":1},{"$f":"IF(ET6=1,IF(ET9=\"\",1,\"\"),\"\")","v":1},{"$f":"IF(EU6=1,IF(EU9=\"\",1,\"\"),\"\")","v":1},{"$f":"IF(EV6=1,IF(EV9=\"\",1,\"\"),\"\")","v":1},{"$f":"IF(EW6=1,IF(EW9=\"\",1,\"\"),\"\")","v":1},{"$f":"IF(EX6=1,IF(EX9=\"\",1,\"\"),\"\")","v":""},{"$f":"IF(EY6=1,IF(EY9=\"\",1,\"\"),\"\")","v":""},{"$f":"IF(EZ6=1,IF(EZ9=\"\",1,\"\"),\"\")","v":1},{"$f":"IF(FA6=1,IF(FA9=\"\",1,\"\"),\"\")","v":1},{"$f":"IF(FB6=1,IF(FB9=\"\",1,\"\"),\"\")","v":1},1,{"$f":"IF(FD6=1,IF(FD9=\"\",1,\"\"),\"\")","v":1},{"$f":"IF(FE6=1,IF(FE9=\"\",1,\"\"),\"\")","v":""},{"$f":"IF(FF6=1,IF(FF9=\"\",1,\"\"),\"\")","v":""},{"$f":"IF(FG6=1,IF(FG9=\"\",1,\"\"),\"\")","v":1},{"$f":"IF(FH6=1,IF(FH9=\"\",1,\"\"),\"\")","v":1},{"$f":"IF(FI6=1,IF(FI9=\"\",1,\"\"),\"\")","v":1},{"$f":"IF(FJ6=1,IF(FJ9=\"\",1,\"\"),\"\")","v":1},{"$f":"IF(FK6=1,IF(FK9=\"\",1,\"\"),\"\")","v":1},{"$f":"IF(FL6=1,IF(FL9=\"\",1,\"\"),\"\")","v":""},{"$f":"IF(FM6=1,IF(FM9=\"\",1,\"\"),\"\")","v":""},{"$f":"IF(FN6=1,IF(FN9=\"\",1,\"\"),\"\")","v":1},{"$f":"IF(FO6=1,IF(FO9=\"\",1,\"\"),\"\")","v":1},1,{"$f":"IF(FQ6=1,IF(FQ9=\"\",1,\"\"),\"\")","v":1},{"$f":"IF(FR6=1,IF(FR9=\"\",1,\"\"),\"\")","v":1},{"$f":"IF(FS6=1,IF(FS9=\"\",1,\"\"),\"\")","v":""},{"$f":"IF(FT6=1,IF(FT9=\"\",1,\"\"),\"\")","v":""},{"$f":"IF(FU6=1,IF(FU9=\"\",1,\"\"),\"\")","v":1},{"$f":"IF(FV6=1,IF(FV9=\"\",1,\"\"),\"\")","v":1},{"$f":"IF(FW6=1,IF(FW9=\"\",1,\"\"),\"\")","v":1},{"$f":"IF(FX6=1,IF(FX9=\"\",1,\"\"),\"\")","v":1},{"$f":"IF(FY6=1,IF(FY9=\"\",1,\"\"),\"\")","v":1},{"$f":"IF(FZ6=1,IF(FZ9=\"\",1,\"\"),\"\")","v":""},{"$f":"IF(GA6=1,IF(GA9=\"\",1,\"\"),\"\")","v":""},{"$f":"IF(GB6=1,IF(GB9=\"\",1,\"\"),\"\")","v":""},{"$f":"IF(GC6=1,IF(GC9=\"\",1,\"\"),\"\")","v":""},"",{"$f":"IF(GE6=1,IF(GE9=\"\",1,\"\"),\"\")","v":""},{"$f":"IF(GF6=1,IF(GF9=\"\",1,\"\"),\"\")","v":""},{"$f":"IF(GG6=1,IF(GG9=\"\",1,\"\"),\"\")","v":""},{"$f":"IF(GH6=1,IF(GH9=\"\",1,\"\"),\"\")","v":""},{"$f":"IF(GI6=1,IF(GI9=\"\",1,\"\"),\"\")","v":""},{"$f":"IF(GJ6=1,IF(GJ9=\"\",1,\"\"),\"\")","v":""},{"$f":"IF(GK6=1,IF(GK9=\"\",1,\"\"),\"\")","v":""},{"$f":"IF(GL6=1,IF(GL9=\"\",1,\"\"),\"\")","v":""},{"$f":"IF(GM6=1,IF(GM9=\"\",1,\"\"),\"\")","v":""},{"$f":"IF(GN6=1,IF(GN9=\"\",1,\"\"),\"\")","v":""},{"$f":"IF(GO6=1,IF(GO9=\"\",1,\"\"),\"\")","v":""},{"$f":"IF(GP6=1,IF(GP9=\"\",1,\"\"),\"\")","v":""},"",{"$f":"IF(GR6=1,IF(GR9=\"\",1,\"\"),\"\")","v":""},{"$f":"IF(GS6=1,IF(GS9=\"\",1,\"\"),\"\")","v":""},{"$f":"IF(GT6=1,IF(GT9=\"\",1,\"\"),\"\")","v":""},{"$f":"IF(GU6=1,IF(GU9=\"\",1,\"\"),\"\")","v":""},{"$f":"IF(GV6=1,IF(GV9=\"\",1,\"\"),\"\")","v":""},{"$f":"IF(GW6=1,IF(GW9=\"\",1,\"\"),\"\")","v":""},{"$f":"IF(GX6=1,IF(GX9=\"\",1,\"\"),\"\")","v":""},{"$f":"IF(GY6=1,IF(GY9=\"\",1,\"\"),\"\")","v":""},{"$f":"IF(GZ6=1,IF(GZ9=\"\",1,\"\"),\"\")","v":""},{"$f":"IF(HA6=1,IF(HA9=\"\",1,\"\"),\"\")","v":""},{"$f":"IF(HB6=1,IF(HB9=\"\",1,\"\"),\"\")","v":""},{"$f":"IF(HC6=1,IF(HC9=\"\",1,\"\"),\"\")","v":""},{"$f":"IF(HD6=1,IF(HD9=\"\",1,\"\"),\"\")","v":""},"",{"$f":"IF(HF6=1,IF(HF9=\"\",1,\"\"),\"\")","v":""},{"$f":"IF(HG6=1,IF(HG9=\"\",1,\"\"),\"\")","v":""},{"$f":"IF(HH6=1,IF(HH9=\"\",1,\"\"),\"\")","v":""},{"$f":"IF(HI6=1,IF(HI9=\"\",1,\"\"),\"\")","v":""},{"$f":"IF(HJ6=1,IF(HJ9=\"\",1,\"\"),\"\")","v":""},{"$f":"IF(HK6=1,IF(HK9=\"\",1,\"\"),\"\")","v":""},{"$f":"IF(HL6=1,IF(HL9=\"\",1,\"\"),\"\")","v":""},{"$f":"IF(HM6=1,IF(HM9=\"\",1,\"\"),\"\")","v":""},{"$f":"IF(HN6=1,IF(HN9=\"\",1,\"\"),\"\")","v":""},{"$f":"IF(HO6=1,IF(HO9=\"\",1,\"\"),\"\")","v":""},{"$f":"IF(HP6=1,IF(HP9=\"\",1,\"\"),\"\")","v":""},{"$f":"IF(HQ6=1,IF(HQ9=\"\",1,\"\"),\"\")","v":""},1,{"$f":"IF(HS6=1,IF(HS9=\"\",1,\"\"),\"\")","v":1},{"$f":"IF(HT6=1,IF(HT9=\"\",1,\"\"),\"\")","v":1},{"$f":"IF(HU6=1,IF(HU9=\"\",1,\"\"),\"\")","v":1},{"$f":"IF(HV6=1,IF(HV9=\"\",1,\"\"),\"\")","v":1},{"$f":"IF(HW6=1,IF(HW9=\"\",1,\"\"),\"\")","v":""},{"$f":"IF(HX6=1,IF(HX9=\"\",1,\"\"),\"\")","v":""},{"$f":"IF(HY6=1,IF(HY9=\"\",1,\"\"),\"\")","v":1},{"$f":"IF(HZ6=1,IF(HZ9=\"\",1,\"\"),\"\")","v":1},{"$f":"IF(IA6=1,IF(IA9=\"\",1,\"\"),\"\")","v":1},{"$f":"IF(IB6=1,IF(IB9=\"\",1,\"\"),\"\")","v":1},{"$f":"IF(IC6=1,IF(IC9=\"\",1,\"\"),\"\")","v":1},{"$f":"IF(ID6=1,IF(ID9=\"\",1,\"\"),\"\")","v":""},{"$f":"IF(IE6=1,IF(IE9=\"\",1,\"\"),\"\")","v":""},1,{"$f":"IF(IG6=1,IF(IG9=\"\",1,\"\"),\"\")","v":1},{"$f":"IF(IH6=1,IF(IH9=\"\",1,\"\"),\"\")","v":1},{"$f":"IF(II6=1,IF(II9=\"\",1,\"\"),\"\")","v":1},{"$f":"IF(IJ6=1,IF(IJ9=\"\",1,\"\"),\"\")","v":1},{"$f":"IF(IK6=1,IF(IK9=\"\",1,\"\"),\"\")","v":""},{"$f":"IF(IL6=1,IF(IL9=\"\",1,\"\"),\"\")","v":""},{"$f":"IF(IM6=1,IF(IM9=\"\",1,\"\"),\"\")","v":1},{"$f":"IF(IN6=1,IF(IN9=\"\",1,\"\"),\"\")","v":1},{"$f":"IF(IO6=1,IF(IO9=\"\",1,\"\"),\"\")","v":1},{"$f":"IF(IP6=1,IF(IP9=\"\",1,\"\"),\"\")","v":1},{"$f":"IF(IQ6=1,IF(IQ9=\"\",1,\"\"),\"\")","v":1},{"$f":"IF(IR6=1,IF(IR9=\"\",1,\"\"),\"\")","v":""},"",{"$f":"IF(IT6=1,IF(IT9=\"\",1,\"\"),\"\")","v":1},{"$f":"IF(IU6=1,IF(IU9=\"\",1,\"\"),\"\")","v":1},{"$f":"IF(IV6=1,IF(IV9=\"\",1,\"\"),\"\")","v":1},{"$f":"IF(IW6=1,IF(IW9=\"\",1,\"\"),\"\")","v":1},{"$f":"IF(IX6=1,IF(IX9=\"\",1,\"\"),\"\")","v":1},{"$f":"IF(IY6=1,IF(IY9=\"\",1,\"\"),\"\")","v":""},{"$f":"IF(IZ6=1,IF(IZ9=\"\",1,\"\"),\"\")","v":""},{"$f":"IF(JA6=1,IF(JA9=\"\",1,\"\"),\"\")","v":1},{"$f":"IF(JB6=1,IF(JB9=\"\",1,\"\"),\"\")","v":1},{"$f":"IF(JC6=1,IF(JC9=\"\",1,\"\"),\"\")","v":1},{"$f":"IF(JD6=1,IF(JD9=\"\",1,\"\"),\"\")","v":1},{"$f":"IF(JE6=1,IF(JE9=\"\",1,\"\"),\"\")","v":1},{"$f":"IF(JF6=1,IF(JF9=\"\",1,\"\"),\"\")","v":""},"",{"$f":"IF(JH6=1,IF(JH9=\"\",1,\"\"),\"\")","v":1},{"$f":"IF(JI6=1,IF(JI9=\"\",1,\"\"),\"\")","v":1},{"$f":"IF(JJ6=1,IF(JJ9=\"\",1,\"\"),\"\")","v":1},{"$f":"IF(JK6=1,IF(JK9=\"\",1,\"\"),\"\")","v":1},{"$f":"IF(JL6=1,IF(JL9=\"\",1,\"\"),\"\")","v":1},{"$f":"IF(JM6=1,IF(JM9=\"\",1,\"\"),\"\")","v":""},{"$f":"IF(JN6=1,IF(JN9=\"\",1,\"\"),\"\")","v":""},{"$f":"IF(JO6=1,IF(JO9=\"\",1,\"\"),\"\")","v":1},{"$f":"IF(JP6=1,IF(JP9=\"\",1,\"\"),\"\")","v":1},{"$f":"IF(JQ6=1,IF(JQ9=\"\",1,\"\"),\"\")","v":1},{"$f":"IF(JR6=1,IF(JR9=\"\",1,\"\"),\"\")","v":1},{"$f":"IF(JS6=1,IF(JS9=\"\",1,\"\"),\"\")","v":1},"",{"$f":"IF(JU6=1,IF(JU9=\"\",1,\"\"),\"\")","v":""},{"$f":"IF(JV6=1,IF(JV9=\"\",1,\"\"),\"\")","v":1},{"$f":"IF(JW6=1,IF(JW9=\"\",1,\"\"),\"\")","v":1},{"$f":"IF(JX6=1,IF(JX9=\"\",1,\"\"),\"\")","v":1},{"$f":"IF(JY6=1,IF(JY9=\"\",1,\"\"),\"\")","v":1},{"$f":"IF(JZ6=1,IF(JZ9=\"\",1,\"\"),\"\")","v":1},{"$f":"IF(KA6=1,IF(KA9=\"\",1,\"\"),\"\")","v":""},{"$f":"IF(KB6=1,IF(KB9=\"\",1,\"\"),\"\")","v":""},{"$f":"IF(KC6=1,IF(KC9=\"\",1,\"\"),\"\")","v":1},{"$f":"IF(KD6=1,IF(KD9=\"\",1,\"\"),\"\")","v":1},{"$f":"IF(KE6=1,IF(KE9=\"\",1,\"\"),\"\")","v":1},{"$f":"IF(KF6=1,IF(KF9=\"\",1,\"\"),\"\")","v":1},{"$f":"IF(KG6=1,IF(KG9=\"\",1,\"\"),\"\")","v":1},"",{"$f":"IF(KI6=1,IF(KI9=\"\",1,\"\"),\"\")","v":""},{"$f":"IF(KJ6=1,IF(KJ9=\"\",1,\"\"),\"\")","v":""},{"$f":"IF(KK6=1,IF(KK9=\"\",1,\"\"),\"\")","v":""},{"$f":"IF(KL6=1,IF(KL9=\"\",1,\"\"),\"\")","v":""},{"$f":"IF(KM6=1,IF(KM9=\"\",1,\"\"),\"\")","v":""},{"$f":"IF(KN6=1,IF(KN9=\"\",1,\"\"),\"\")","v":""},{"$f":"IF(KO6=1,IF(KO9=\"\",1,\"\"),\"\")","v":""},{"$f":"IF(KP6=1,IF(KP9=\"\",1,\"\"),\"\")","v":""},{"$f":"IF(KQ6=1,IF(KQ9=\"\",1,\"\"),\"\")","v":1},{"$f":"IF(KR6=1,IF(KR9=\"\",1,\"\"),\"\")","v":1},{"$f":"IF(KS6=1,IF(KS9=\"\",1,\"\"),\"\")","v":1},{"$f":"IF(KT6=1,IF(KT9=\"\",1,\"\"),\"\")","v":1},1,{"$f":"IF(KV6=1,IF(KV9=\"\",1,\"\"),\"\")","v":""},{"$f":"IF(KW6=1,IF(KW9=\"\",1,\"\"),\"\")","v":""},{"$f":"IF(KX6=1,IF(KX9=\"\",1,\"\"),\"\")","v":1},{"$f":"IF(KY6=1,IF(KY9=\"\",1,\"\"),\"\")","v":1},{"$f":"IF(KZ6=1,IF(KZ9=\"\",1,\"\"),\"\")","v":1},{"$f":"IF(LA6=1,IF(LA9=\"\",1,\"\"),\"\")","v":1},{"$f":"IF(LB6=1,IF(LB9=\"\",1,\"\"),\"\")","v":1},{"$f":"IF(LC6=1,IF(LC9=\"\",1,\"\"),\"\")","v":""},{"$f":"IF(LD6=1,IF(LD9=\"\",1,\"\"),\"\")","v":""},{"$f":"IF(LE6=1,IF(LE9=\"\",1,\"\"),\"\")","v":1},{"$f":"IF(LF6=1,IF(LF9=\"\",1,\"\"),\"\")","v":1},{"$f":"IF(LG6=1,IF(LG9=\"\",1,\"\"),\"\")","v":1},{"$f":"IF(LH6=1,IF(LH9=\"\",1,\"\"),\"\")","v":1},1,{"$f":"IF(LJ6=1,IF(LJ9=\"\",1,\"\"),\"\")","v":""},{"$f":"IF(LK6=1,IF(LK9=\"\",1,\"\"),\"\")","v":""},{"$f":"IF(LL6=1,IF(LL9=\"\",1,\"\"),\"\")","v":1},{"$f":"IF(LM6=1,IF(LM9=\"\",1,\"\"),\"\")","v":1},{"$f":"IF(LN6=1,IF(LN9=\"\",1,\"\"),\"\")","v":1},{"$f":"IF(LO6=1,IF(LO9=\"\",1,\"\"),\"\")","v":1},{"$f":"IF(LP6=1,IF(LP9=\"\",1,\"\"),\"\")","v":1},{"$f":"IF(LQ6=1,IF(LQ9=\"\",1,\"\"),\"\")","v":""},{"$f":"IF(LR6=1,IF(LR9=\"\",1,\"\"),\"\")","v":""},{"$f":"IF(LS6=1,IF(LS9=\"\",1,\"\"),\"\")","v":1},{"$f":"IF(LT6=1,IF(LT9=\"\",1,\"\"),\"\")","v":1},{"$f":"IF(LU6=1,IF(LU9=\"\",1,\"\"),\"\")","v":1},1,{"$f":"IF(LW6=1,IF(LW9=\"\",1,\"\"),\"\")","v":1},{"$f":"IF(LX6=1,IF(LX9=\"\",1,\"\"),\"\")","v":""},{"$f":"IF(LY6=1,IF(LY9=\"\",1,\"\"),\"\")","v":""},{"$f":"IF(LZ6=1,IF(LZ9=\"\",1,\"\"),\"\")","v":1},{"$f":"IF(MA6=1,IF(MA9=\"\",1,\"\"),\"\")","v":1},{"$f":"IF(MB6=1,IF(MB9=\"\",1,\"\"),\"\")","v":1},{"$f":"IF(MC6=1,IF(MC9=\"\",1,\"\"),\"\")","v":1},{"$f":"IF(MD6=1,IF(MD9=\"\",1,\"\"),\"\")","v":1},{"$f":"IF(ME6=1,IF(ME9=\"\",1,\"\"),\"\")","v":""},{"$f":"IF(MF6=1,IF(MF9=\"\",1,\"\"),\"\")","v":""},{"$f":"IF(MG6=1,IF(MG9=\"\",1,\"\"),\"\")","v":1},{"$f":"IF(MH6=1,IF(MH9=\"\",1,\"\"),\"\")","v":1},{"$f":"IF(MI6=1,IF(MI9=\"\",1,\"\"),\"\")","v":1},1,{"$f":"IF(MK6=1,IF(MK9=\"\",1,\"\"),\"\")","v":1},{"$f":"IF(ML6=1,IF(ML9=\"\",1,\"\"),\"\")","v":""},{"$f":"IF(MM6=1,IF(MM9=\"\",1,\"\"),\"\")","v":""},{"$f":"IF(MN6=1,IF(MN9=\"\",1,\"\"),\"\")","v":1},{"$f":"IF(MO6=1,IF(MO9=\"\",1,\"\"),\"\")","v":1},{"$f":"IF(MP6=1,IF(MP9=\"\",1,\"\"),\"\")","v":1},{"$f":"IF(MQ6=1,IF(MQ9=\"\",1,\"\"),\"\")","v":1},{"$f":"IF(MR6=1,IF(MR9=\"\",1,\"\"),\"\")","v":1},{"$f":"IF(MS6=1,IF(MS9=\"\",1,\"\"),\"\")","v":""},{"$f":"IF(MT6=1,IF(MT9=\"\",1,\"\"),\"\")","v":""},{"$f":"IF(MU6=1,IF(MU9=\"\",1,\"\"),\"\")","v":1},{"$f":"IF(MV6=1,IF(MV9=\"\",1,\"\"),\"\")","v":1},1,{"$f":"IF(MX6=1,IF(MX9=\"\",1,\"\"),\"\")","v":1},{"$f":"IF(MY6=1,IF(MY9=\"\",1,\"\"),\"\")","v":1},{"$f":"IF(MZ6=1,IF(MZ9=\"\",1,\"\"),\"\")","v":""},{"$f":"IF(NA6=1,IF(NA9=\"\",1,\"\"),\"\")","v":""},{"$f":"IF(NB6=1,IF(NB9=\"\",1,\"\"),\"\")","v":1},{"$f":"IF(NC6=1,IF(NC9=\"\",1,\"\"),\"\")","v":""},{"$f":"IF(ND6=1,IF(ND9=\"\",1,\"\"),\"\")","v":""},{"$f":"IF(NE6=1,IF(NE9=\"\",1,\"\"),\"\")","v":""},{"$f":"IF(NF6=1,IF(NF9=\"\",1,\"\"),\"\")","v":""},{"$f":"IF(NG6=1,IF(NG9=\"\",1,\"\"),\"\")","v":""},{"$f":"IF(NH6=1,IF(NH9=\"\",1,\"\"),\"\")","v":""},{"$f":"IF(NI6=1,IF(NI9=\"\",1,\"\"),\"\")","v":""},{"$f":"IF(NJ6=1,IF(NJ9=\"\",1,\"\"),\"\")","v":""}]
[null,{"$f":"I9","v":70},"Ensimm. vapaa","Viim. vapaa",null,"Päivämäärä",null,"Työpäivien määrä, kun poissaolot vähennetty",211,{"$f":"IF(J10=1,IF(J15=\"P\",\"\",IF(J13=\"z\",\"\",1)),\"\")","v":""},"","","","","",1,1,1,1,1,"","",1,1,1,1,1,"","",1,1,1,1,1,"","",1,1,1,1,1,"","",1,1,1,1,1,"","",1,1,1,1,1,"","","","","","","","","",1,1,1,1,1,"","",1,1,{"$f":"IF(BV10=1,IF(BV15=\"P\",\"\",IF(BV13=\"z\",\"\",1)),\"\")","v":1},1,1,"","",1,1,1,1,1,"","",1,1,1,1,1,"","",1,1,1,1,1,"","",1,1,1,1,1,"","",1,1,1,1,1,"","",1,1,1,1,1,"","",1,1,1,1,1,"","",1,1,1,1,1,"","",1,1,1,{"$f":"IF(EH10=1,IF(EH15=\"P\",\"\",IF(EH13=\"z\",\"\",1)),\"\")","v":1},1,"","",1,1,1,1,1,"","",1,1,1,1,1,"","",1,1,1,{"$f":"IF(FC10=1,IF(FC15=\"P\",\"\",IF(FC13=\"z\",\"\",1)),\"\")","v":1},{"$f":"IF(FD10=1,IF(FD15=\"P\",\"\",IF(FD13=\"z\",\"\",1)),\"\")","v":1},"","",1,1,{"$f":"IF(FI10=1,IF(FI15=\"P\",\"\",IF(FI13=\"z\",\"\",1)),\"\")","v":1},{"$f":"IF(FJ10=1,IF(FJ15=\"P\",\"\",IF(FJ13=\"z\",\"\",1)),\"\")","v":1},{"$f":"IF(FK10=1,IF(FK15=\"P\",\"\",IF(FK13=\"z\",\"\",1)),\"\")","v":1},{"$f":"IF(FL10=1,IF(FL15=\"P\",\"\",IF(FL13=\"z\",\"\",1)),\"\")","v":""},"",{"$f":"IF(FN10=1,IF(FN15=\"P\",\"\",IF(FN13=\"z\",\"\",1)),\"\")","v":1},{"$f":"IF(FO10=1,IF(FO15=\"P\",\"\",IF(FO13=\"z\",\"\",1)),\"\")","v":1},{"$f":"IF(FP10=1,IF(FP15=\"P\",\"\",IF(FP13=\"z\",\"\",1)),\"\")","v":1},{"$f":"IF(FQ10=1,IF(FQ15=\"P\",\"\",IF(FQ13=\"z\",\"\",1)),\"\")","v":1},1,{"$f":"IF(FS10=1,IF(FS15=\"P\",\"\",IF(FS13=\"z\",\"\",1)),\"\")","v":""},{"$f":"IF(FT10=1,IF(FT15=\"P\",\"\",IF(FT13=\"z\",\"\",1)),\"\")","v":""},{"$f":"IF(FU10=1,IF(FU15=\"P\",\"\",IF(FU13=\"z\",\"\",1)),\"\")","v":1},{"$f":"IF(FV10=1,IF(FV15=\"P\",\"\",IF(FV13=\"z\",\"\",1)),\"\")","v":1},1,{"$f":"IF(FX10=1,IF(FX15=\"P\",\"\",IF(FX13=\"z\",\"\",1)),\"\")","v":1},{"$f":"IF(FY10=1,IF(FY15=\"P\",\"\",IF(FY13=\"z\",\"\",1)),\"\")","v":1},{"$f":"IF(FZ10=1,IF(FZ15=\"P\",\"\",IF(FZ13=\"z\",\"\",1)),\"\")","v":""},{"$f":"IF(GA10=1,IF(GA15=\"P\",\"\",IF(GA13=\"z\",\"\",1)),\"\")","v":""},"",{"$f":"IF(GC10=1,IF(GC15=\"P\",\"\",IF(GC13=\"z\",\"\",1)),\"\")","v":""},{"$f":"IF(GD10=1,IF(GD15=\"P\",\"\",IF(GD13=\"z\",\"\",1)),\"\")","v":""},{"$f":"IF(GE10=1,IF(GE15=\"P\",\"\",IF(GE13=\"z\",\"\",1)),\"\")","v":""},{"$f":"IF(GF10=1,IF(GF15=\"P\",\"\",IF(GF13=\"z\",\"\",1)),\"\")","v":""},"",{"$f":"IF(GH10=1,IF(GH15=\"P\",\"\",IF(GH13=\"z\",\"\",1)),\"\")","v":""},{"$f":"IF(GI10=1,IF(GI15=\"P\",\"\",IF(GI13=\"z\",\"\",1)),\"\")","v":""},{"$f":"IF(GJ10=1,IF(GJ15=\"P\",\"\",IF(GJ13=\"z\",\"\",1)),\"\")","v":""},{"$f":"IF(GK10=1,IF(GK15=\"P\",\"\",IF(GK13=\"z\",\"\",1)),\"\")","v":""},"",{"$f":"IF(GM10=1,IF(GM15=\"P\",\"\",IF(GM13=\"z\",\"\",1)),\"\")","v":""},{"$f":"IF(GN10=1,IF(GN15=\"P\",\"\",IF(GN13=\"z\",\"\",1)),\"\")","v":""},{"$f":"IF(GO10=1,IF(GO15=\"P\",\"\",IF(GO13=\"z\",\"\",1)),\"\")","v":""},{"$f":"IF(GP10=1,IF(GP15=\"P\",\"\",IF(GP13=\"z\",\"\",1)),\"\")","v":""},"",{"$f":"IF(GR10=1,IF(GR15=\"P\",\"\",IF(GR13=\"z\",\"\",1)),\"\")","v":""},{"$f":"IF(GS10=1,IF(GS15=\"P\",\"\",IF(GS13=\"z\",\"\",1)),\"\")","v":""},{"$f":"IF(GT10=1,IF(GT15=\"P\",\"\",IF(GT13=\"z\",\"\",1)),\"\")","v":""},{"$f":"IF(GU10=1,IF(GU15=\"P\",\"\",IF(GU13=\"z\",\"\",1)),\"\")","v":""},"",{"$f":"IF(GW10=1,IF(GW15=\"P\",\"\",IF(GW13=\"z\",\"\",1)),\"\")","v":""},{"$f":"IF(GX10=1,IF(GX15=\"P\",\"\",IF(GX13=\"z\",\"\",1)),\"\")","v":""},{"$f":"IF(GY10=1,IF(GY15=\"P\",\"\",IF(GY13=\"z\",\"\",1)),\"\")","v":""},{"$f":"IF(GZ10=1,IF(GZ15=\"P\",\"\",IF(GZ13=\"z\",\"\",1)),\"\")","v":""},"",{"$f":"IF(HB10=1,IF(HB15=\"P\",\"\",IF(HB13=\"z\",\"\",1)),\"\")","v":""},{"$f":"IF(HC10=1,IF(HC15=\"P\",\"\",IF(HC13=\"z\",\"\",1)),\"\")","v":""},{"$f":"IF(HD10=1,IF(HD15=\"P\",\"\",IF(HD13=\"z\",\"\",1)),\"\")","v":""},{"$f":"IF(HE10=1,IF(HE15=\"P\",\"\",IF(HE13=\"z\",\"\",1)),\"\")","v":""},"",{"$f":"IF(HG10=1,IF(HG15=\"P\",\"\",IF(HG13=\"z\",\"\",1)),\"\")","v":""},{"$f":"IF(HH10=1,IF(HH15=\"P\",\"\",IF(HH13=\"z\",\"\",1)),\"\")","v":""},{"$f":"IF(HI10=1,IF(HI15=\"P\",\"\",IF(HI13=\"z\",\"\",1)),\"\")","v":""},{"$f":"IF(HJ10=1,IF(HJ15=\"P\",\"\",IF(HJ13=\"z\",\"\",1)),\"\")","v":""},"",{"$f":"IF(HL10=1,IF(HL15=\"P\",\"\",IF(HL13=\"z\",\"\",1)),\"\")","v":""},{"$f":"IF(HM10=1,IF(HM15=\"P\",\"\",IF(HM13=\"z\",\"\",1)),\"\")","v":""},{"$f":"IF(HN10=1,IF(HN15=\"P\",\"\",IF(HN13=\"z\",\"\",1)),\"\")","v":""},{"$f":"IF(HO10=1,IF(HO15=\"P\",\"\",IF(HO13=\"z\",\"\",1)),\"\")","v":""},"",{"$f":"IF(HQ10=1,IF(HQ15=\"P\",\"\",IF(HQ13=\"z\",\"\",1)),\"\")","v":""},{"$f":"IF(HR10=1,IF(HR15=\"P\",\"\",IF(HR13=\"z\",\"\",1)),\"\")","v":1},{"$f":"IF(HS10=1,IF(HS15=\"P\",\"\",IF(HS13=\"z\",\"\",1)),\"\")","v":1},{"$f":"IF(HT10=1,IF(HT15=\"P\",\"\",IF(HT13=\"z\",\"\",1)),\"\")","v":1},1,{"$f":"IF(HV10=1,IF(HV15=\"P\",\"\",IF(HV13=\"z\",\"\",1)),\"\")","v":1},{"$f":"IF(HW10=1,IF(HW15=\"P\",\"\",IF(HW13=\"z\",\"\",1)),\"\")","v":""},{"$f":"IF(HX10=1,IF(HX15=\"P\",\"\",IF(HX13=\"z\",\"\",1)),\"\")","v":""},{"$f":"IF(HY10=1,IF(HY15=\"P\",\"\",IF(HY13=\"z\",\"\",1)),\"\")","v":1},1,{"$f":"IF(IA10=1,IF(IA15=\"P\",\"\",IF(IA13=\"z\",\"\",1)),\"\")","v":1},{"$f":"IF(IB10=1,IF(IB15=\"P\",\"\",IF(IB13=\"z\",\"\",1)),\"\")","v":1},{"$f":"IF(IC10=1,IF(IC15=\"P\",\"\",IF(IC13=\"z\",\"\",1)),\"\")","v":1},{"$f":"IF(ID10=1,IF(ID15=\"P\",\"\",IF(ID13=\"z\",\"\",1)),\"\")","v":""},"",{"$f":"IF(IF10=1,IF(IF15=\"P\",\"\",IF(IF13=\"z\",\"\",1)),\"\")","v":1},{"$f":"IF(IG10=1,IF(IG15=\"P\",\"\",IF(IG13=\"z\",\"\",1)),\"\")","v":1},{"$f":"IF(IH10=1,IF(IH15=\"P\",\"\",IF(IH13=\"z\",\"\",1)),\"\")","v":1},{"$f":"IF(II10=1,IF(II15=\"P\",\"\",IF(II13=\"z\",\"\",1)),\"\")","v":1},1,{"$f":"IF(IK10=1,IF(IK15=\"P\",\"\",IF(IK13=\"z\",\"\",1)),\"\")","v":""},{"$f":"IF(IL10=1,IF(IL15=\"P\",\"\",IF(IL13=\"z\",\"\",1)),\"\")","v":""},{"$f":"IF(IM10=1,IF(IM15=\"P\",\"\",IF(IM13=\"z\",\"\",1)),\"\")","v":1},{"$f":"IF(IN10=1,IF(IN15=\"P\",\"\",IF(IN13=\"z\",\"\",1)),\"\")","v":1},1,{"$f":"IF(IP10=1,IF(IP15=\"P\",\"\",IF(IP13=\"z\",\"\",1)),\"\")","v":1},{"$f":"IF(IQ10=1,IF(IQ15=\"P\",\"\",IF(IQ13=\"z\",\"\",1)),\"\")","v":1},{"$f":"IF(IR10=1,IF(IR15=\"P\",\"\",IF(IR13=\"z\",\"\",1)),\"\")","v":""},{"$f":"IF(IS10=1,IF(IS15=\"P\",\"\",IF(IS13=\"z\",\"\",1)),\"\")","v":""},1,{"$f":"IF(IU10=1,IF(IU15=\"P\",\"\",IF(IU13=\"z\",\"\",1)),\"\")","v":1},{"$f":"IF(IV10=1,IF(IV15=\"P\",\"\",IF(IV13=\"z\",\"\",1)),\"\")","v":1},{"$f":"IF(IW10=1,IF(IW15=\"P\",\"\",IF(IW13=\"z\",\"\",1)),\"\")","v":1},{"$f":"IF(IX10=1,IF(IX15=\"P\",\"\",IF(IX13=\"z\",\"\",1)),\"\")","v":1},"",{"$f":"IF(IZ10=1,IF(IZ15=\"P\",\"\",IF(IZ13=\"z\",\"\",1)),\"\")","v":""},{"$f":"IF(JA10=1,IF(JA15=\"P\",\"\",IF(JA13=\"z\",\"\",1)),\"\")","v":1},{"$f":"IF(JB10=1,IF(JB15=\"P\",\"\",IF(JB13=\"z\",\"\",1)),\"\")","v":1},{"$f":"IF(JC10=1,IF(JC15=\"P\",\"\",IF(JC13=\"z\",\"\",1)),\"\")","v":1},1,{"$f":"IF(JE10=1,IF(JE15=\"P\",\"\",IF(JE13=\"z\",\"\",1)),\"\")","v":1},{"$f":"IF(JF10=1,IF(JF15=\"P\",\"\",IF(JF13=\"z\",\"\",1)),\"\")","v":""},{"$f":"IF(JG10=1,IF(JG15=\"P\",\"\",IF(JG13=\"z\",\"\",1)),\"\")","v":""},{"$f":"IF(JH10=1,IF(JH15=\"P\",\"\",IF(JH13=\"z\",\"\",1)),\"\")","v":1},1,{"$f":"IF(JJ10=1,IF(JJ15=\"P\",\"\",IF(JJ13=\"z\",\"\",1)),\"\")","v":1},{"$f":"IF(JK10=1,IF(JK15=\"P\",\"\",IF(JK13=\"z\",\"\",1)),\"\")","v":1},{"$f":"IF(JL10=1,IF(JL15=\"P\",\"\",IF(JL13=\"z\",\"\",1)),\"\")","v":1},{"$f":"IF(JM10=1,IF(JM15=\"P\",\"\",IF(JM13=\"z\",\"\",1)),\"\")","v":""},"",{"$f":"IF(JO10=1,IF(JO15=\"P\",\"\",IF(JO13=\"z\",\"\",1)),\"\")","v":1},{"$f":"IF(JP10=1,IF(JP15=\"P\",\"\",IF(JP13=\"z\",\"\",1)),\"\")","v":1},{"$f":"IF(JQ10=1,IF(JQ15=\"P\",\"\",IF(JQ13=\"z\",\"\",1)),\"\")","v":1},{"$f":"IF(JR10=1,IF(JR15=\"P\",\"\",IF(JR13=\"z\",\"\",1)),\"\")","v":1},1,{"$f":"IF(JT10=1,IF(JT15=\"P\",\"\",IF(JT13=\"z\",\"\",1)),\"\")","v":""},{"$f":"IF(JU10=1,IF(JU15=\"P\",\"\",IF(JU13=\"z\",\"\",1)),\"\")","v":""},{"$f":"IF(JV10=1,IF(JV15=\"P\",\"\",IF(JV13=\"z\",\"\",1)),\"\")","v":1},{"$f":"IF(JW10=1,IF(JW15=\"P\",\"\",IF(JW13=\"z\",\"\",1)),\"\")","v":1},1,{"$f":"IF(JY10=1,IF(JY15=\"P\",\"\",IF(JY13=\"z\",\"\",1)),\"\")","v":1},{"$f":"IF(JZ10=1,IF(JZ15=\"P\",\"\",IF(JZ13=\"z\",\"\",1)),\"\")","v":1},{"$f":"IF(KA10=1,IF(KA15=\"P\",\"\",IF(KA13=\"z\",\"\",1)),\"\")","v":""},{"$f":"IF(KB10=1,IF(KB15=\"P\",\"\",IF(KB13=\"z\",\"\",1)),\"\")","v":""},1,{"$f":"IF(KD10=1,IF(KD15=\"P\",\"\",IF(KD13=\"z\",\"\",1)),\"\")","v":1},{"$f":"IF(KE10=1,IF(KE15=\"P\",\"\",IF(KE13=\"z\",\"\",1)),\"\")","v":1},{"$f":"IF(KF10=1,IF(KF15=\"P\",\"\",IF(KF13=\"z\",\"\",1)),\"\")","v":1},{"$f":"IF(KG10=1,IF(KG15=\"P\",\"\",IF(KG13=\"z\",\"\",1)),\"\")","v":1},"",{"$f":"IF(KI10=1,IF(KI15=\"P\",\"\",IF(KI13=\"z\",\"\",1)),\"\")","v":""},{"$f":"IF(KJ10=1,IF(KJ15=\"P\",\"\",IF(KJ13=\"z\",\"\",1)),\"\")","v":""},{"$f":"IF(KK10=1,IF(KK15=\"P\",\"\",IF(KK13=\"z\",\"\",1)),\"\")","v":""},{"$f":"IF(KL10=1,IF(KL15=\"P\",\"\",IF(KL13=\"z\",\"\",1)),\"\")","v":""},"",{"$f":"IF(KN10=1,IF(KN15=\"P\",\"\",IF(KN13=\"z\",\"\",1)),\"\")","v":""},{"$f":"IF(KO10=1,IF(KO15=\"P\",\"\",IF(KO13=\"z\",\"\",1)),\"\")","v":""},{"$f":"IF(KP10=1,IF(KP15=\"P\",\"\",IF(KP13=\"z\",\"\",1)),\"\")","v":""},{"$f":"IF(KQ10=1,IF(KQ15=\"P\",\"\",IF(KQ13=\"z\",\"\",1)),\"\")","v":1},1,{"$f":"IF(KS10=1,IF(KS15=\"P\",\"\",IF(KS13=\"z\",\"\",1)),\"\")","v":1},{"$f":"IF(KT10=1,IF(KT15=\"P\",\"\",IF(KT13=\"z\",\"\",1)),\"\")","v":1},{"$f":"IF(KU10=1,IF(KU15=\"P\",\"\",IF(KU13=\"z\",\"\",1)),\"\")","v":1},{"$f":"IF(KV10=1,IF(KV15=\"P\",\"\",IF(KV13=\"z\",\"\",1)),\"\")","v":""},"",{"$f":"IF(KX10=1,IF(KX15=\"P\",\"\",IF(KX13=\"z\",\"\",1)),\"\")","v":1},{"$f":"IF(KY10=1,IF(KY15=\"P\",\"\",IF(KY13=\"z\",\"\",1)),\"\")","v":1},{"$f":"IF(KZ10=1,IF(KZ15=\"P\",\"\",IF(KZ13=\"z\",\"\",1)),\"\")","v":1},{"$f":"IF(LA10=1,IF(LA15=\"P\",\"\",IF(LA13=\"z\",\"\",1)),\"\")","v":1},1,{"$f":"IF(LC10=1,IF(LC15=\"P\",\"\",IF(LC13=\"z\",\"\",1)),\"\")","v":""},{"$f":"IF(LD10=1,IF(LD15=\"P\",\"\",IF(LD13=\"z\",\"\",1)),\"\")","v":""},{"$f":"IF(LE10=1,IF(LE15=\"P\",\"\",IF(LE13=\"z\",\"\",1)),\"\")","v":1},{"$f":"IF(LF10=1,IF(LF15=\"P\",\"\",IF(LF13=\"z\",\"\",1)),\"\")","v":1},1,{"$f":"IF(LH10=1,IF(LH15=\"P\",\"\",IF(LH13=\"z\",\"\",1)),\"\")","v":1},{"$f":"IF(LI10=1,IF(LI15=\"P\",\"\",IF(LI13=\"z\",\"\",1)),\"\")","v":1},{"$f":"IF(LJ10=1,IF(LJ15=\"P\",\"\",IF(LJ13=\"z\",\"\",1)),\"\")","v":""},{"$f":"IF(LK10=1,IF(LK15=\"P\",\"\",IF(LK13=\"z\",\"\",1)),\"\")","v":""},1,{"$f":"IF(LM10=1,IF(LM15=\"P\",\"\",IF(LM13=\"z\",\"\",1)),\"\")","v":1},{"$f":"IF(LN10=1,IF(LN15=\"P\",\"\",IF(LN13=\"z\",\"\",1)),\"\")","v":1},{"$f":"IF(LO10=1,IF(LO15=\"P\",\"\",IF(LO13=\"z\",\"\",1)),\"\")","v":1},{"$f":"IF(LP10=1,IF(LP15=\"P\",\"\",IF(LP13=\"z\",\"\",1)),\"\")","v":1},"",{"$f":"IF(LR10=1,IF(LR15=\"P\",\"\",IF(LR13=\"z\",\"\",1)),\"\")","v":""},{"$f":"IF(LS10=1,IF(LS15=\"P\",\"\",IF(LS13=\"z\",\"\",1)),\"\")","v":1},{"$f":"IF(LT10=1,IF(LT15=\"P\",\"\",IF(LT13=\"z\",\"\",1)),\"\")","v":1},{"$f":"IF(LU10=1,IF(LU15=\"P\",\"\",IF(LU13=\"z\",\"\",1)),\"\")","v":1},1,{"$f":"IF(LW10=1,IF(LW15=\"P\",\"\",IF(LW13=\"z\",\"\",1)),\"\")","v":1},{"$f":"IF(LX10=1,IF(LX15=\"P\",\"\",IF(LX13=\"z\",\"\",1)),\"\")","v":""},{"$f":"IF(LY10=1,IF(LY15=\"P\",\"\",IF(LY13=\"z\",\"\",1)),\"\")","v":""},{"$f":"IF(LZ10=1,IF(LZ15=\"P\",\"\",IF(LZ13=\"z\",\"\",1)),\"\")","v":1},1,{"$f":"IF(MB10=1,IF(MB15=\"P\",\"\",IF(MB13=\"z\",\"\",1)),\"\")","v":1},{"$f":"IF(MC10=1,IF(MC15=\"P\",\"\",IF(MC13=\"z\",\"\",1)),\"\")","v":1},{"$f":"IF(MD10=1,IF(MD15=\"P\",\"\",IF(MD13=\"z\",\"\",1)),\"\")","v":1},{"$f":"IF(ME10=1,IF(ME15=\"P\",\"\",IF(ME13=\"z\",\"\",1)),\"\")","v":""},"",{"$f":"IF(MG10=1,IF(MG15=\"P\",\"\",IF(MG13=\"z\",\"\",1)),\"\")","v":1},{"$f":"IF(MH10=1,IF(MH15=\"P\",\"\",IF(MH13=\"z\",\"\",1)),\"\")","v":1},{"$f":"IF(MI10=1,IF(MI15=\"P\",\"\",IF(MI13=\"z\",\"\",1)),\"\")","v":1},{"$f":"IF(MJ10=1,IF(MJ15=\"P\",\"\",IF(MJ13=\"z\",\"\",1)),\"\")","v":1},1,{"$f":"IF(ML10=1,IF(ML15=\"P\",\"\",IF(ML13=\"z\",\"\",1)),\"\")","v":""},{"$f":"IF(MM10=1,IF(MM15=\"P\",\"\",IF(MM13=\"z\",\"\",1)),\"\")","v":""},{"$f":"IF(MN10=1,IF(MN15=\"P\",\"\",IF(MN13=\"z\",\"\",1)),\"\")","v":1},{"$f":"IF(MO10=1,IF(MO15=\"P\",\"\",IF(MO13=\"z\",\"\",1)),\"\")","v":1},1,{"$f":"IF(MQ10=1,IF(MQ15=\"P\",\"\",IF(MQ13=\"z\",\"\",1)),\"\")","v":1},{"$f":"IF(MR10=1,IF(MR15=\"P\",\"\",IF(MR13=\"z\",\"\",1)),\"\")","v":1},{"$f":"IF(MS10=1,IF(MS15=\"P\",\"\",IF(MS13=\"z\",\"\",1)),\"\")","v":""},{"$f":"IF(MT10=1,IF(MT15=\"P\",\"\",IF(MT13=\"z\",\"\",1)),\"\")","v":""},1,{"$f":"IF(MV10=1,IF(MV15=\"P\",\"\",IF(MV13=\"z\",\"\",1)),\"\")","v":1},{"$f":"IF(MW10=1,IF(MW15=\"P\",\"\",IF(MW13=\"z\",\"\",1)),\"\")","v":1},{"$f":"IF(MX10=1,IF(MX15=\"P\",\"\",IF(MX13=\"z\",\"\",1)),\"\")","v":1},{"$f":"IF(MY10=1,IF(MY15=\"P\",\"\",IF(MY13=\"z\",\"\",1)),\"\")","v":1},"",{"$f":"IF(NA10=1,IF(NA15=\"P\",\"\",IF(NA13=\"z\",\"\",1)),\"\")","v":""},{"$f":"IF(NB10=1,IF(NB15=\"P\",\"\",IF(NB13=\"z\",\"\",1)),\"\")","v":1},{"$f":"IF(NC10=1,IF(NC15=\"P\",\"\",IF(NC13=\"z\",\"\",1)),\"\")","v":""},{"$f":"IF(ND10=1,IF(ND15=\"P\",\"\",IF(ND13=\"z\",\"\",1)),\"\")","v":""},"",{"$f":"IF(NF10=1,IF(NF15=\"P\",\"\",IF(NF13=\"z\",\"\",1)),\"\")","v":""},{"$f":"IF(NG10=1,IF(NG15=\"P\",\"\",IF(NG13=\"z\",\"\",1)),\"\")","v":""},{"$f":"IF(NH10=1,IF(NH15=\"P\",\"\",IF(NH13=\"z\",\"\",1)),\"\")","v":""},{"$f":"IF(NI10=1,IF(NI15=\"P\",\"\",IF(NI13=\"z\",\"\",1)),\"\")","v":""},""]
[null,{"$f":"IF(D12=\"\",\"\",IF(C12=\"\",\"\",D12-C12+1))","v":6},"2019-01-01","2019-01-06",null,"2019-01-01",null,"Työpäivät ilman arkipyhiä",205,{"$f":"IF(J10=1,IF(J7=1,0,1),\"\")","v":""},{"$f":"IF(K10=1,IF(K7=1,0,1),\"\")","v":""},"","","","",1,1,1,1,1,"","",1,1,1,1,1,"","",1,1,1,1,1,"","",1,1,1,1,1,"","",1,1,1,1,1,"","",1,1,1,1,1,"","","","","","","","","",1,1,1,1,1,"","",1,1,1,{"$f":"IF(BW10=1,IF(BW7=1,0,1),\"\")","v":1},1,"","",1,1,1,1,1,"","",1,1,1,1,1,"","",1,1,1,1,1,"","",1,1,1,1,1,"","",1,1,1,1,1,"","",1,1,1,1,0,"","",0,1,1,1,1,"","",1,1,0,1,1,"","",1,1,1,1,{"$f":"IF(EI10=1,IF(EI7=1,0,1),\"\")","v":1},"","",1,1,1,1,1,"","",1,1,1,1,1,"","",1,1,1,0,1,"","",1,1,1,1,1,"","",1,1,1,1,1,"","",1,1,1,1,0,"","","","","","","","","","","","","","","","","","","","","",{"$f":"IF(GU10=1,IF(GU7=1,0,1),\"\")","v":""},"","","","","","","","","","","","","","","","","","","","","","",1,1,1,1,1,"","",1,1,1,1,1,"","",1,1,1,1,1,"","",1,1,1,1,1,"","",1,1,1,1,1,"","",1,1,1,1,1,"",{"$f":"IF(JG10=1,IF(JG7=1,0,1),\"\")","v":""},1,1,1,1,1,"","",1,1,1,1,1,"","",1,1,1,1,1,"","",1,1,1,1,1,"","","","","","","","","",1,1,1,1,1,"","",1,1,1,1,1,"","",1,1,1,1,1,"","",1,1,1,1,1,"","",{"$f":"IF(LS10=1,IF(LS7=1,0,1),\"\")","v":1},1,1,1,1,"","",1,1,1,1,1,"","",1,1,1,1,0,"","",1,1,1,1,1,"","",1,1,1,1,1,"","",1,"","","","","","","",""]
[null,{"$f":"IF(D13=\"\",\"\",IF(C13=\"\",\"\",D13-C13+1))","v":7},"2019-02-18","2019-02-24",null,"2019-01-06",null,"Virkavapaapäivien määrä",{"$f":"COUNTIF(J13:NJ13,\"z\")","v":0}]
[null,42,"2019-06-24","2019-08-04",null,"2019-04-19",null,"Virkavapaat, jotka vähentävät työpäivien määrää",{"$f":"COUNTIF(J14:NJ14,\"z\")","v":0},{"$f":"IF(J13=\"z\",IF(J9=\"v\",\"\",IF(J7=1,\"\",IF(J6=1,\"z\",\"\"))),\"\")","v":""},{"$f":"IF(K13=\"z\",IF(K9=\"v\",\"\",IF(K7=1,\"\",IF(K6=1,\"z\",\"\"))),\"\")","v":""},{"$f":"IF(L13=\"z\",IF(L9=\"v\",\"\",IF(L7=1,\"\",IF(L6=1,\"z\",\"\"))),\"\")","v":""},"","","","","","","","","","","","","","","","","","","","","","","","","","","","","","","","","","","","","","","","","","","","","","","","","","","","","","","","","","","","","","",{"$f":"IF(BW13=\"z\",IF(BW9=\"v\",\"\",IF(BW7=1,\"\",IF(BW6=1,\"z\",\"\"))),\"\")","v":""},"","","","","","","","","","","","","","","","","","","","","","","","","","","","","","","","","","","","","","","","","","","","","","","","","","","","","","","","","","","","","","","",{"$f":"IF(EI13=\"z\",IF(EI9=\"v\",\"\",IF(EI7=1,\"\",IF(EI6=1,\"z\",\"\"))),\"\")","v":""},"","","","","","","","","","","","","","","","","","","","","","","","","","","","","","","","","","","","","","","","","","","","","","","","","","","","","","","","","","","","","","","",{"$f":"IF(GU13=\"z\",IF(GU9=\"v\",\"\",IF(GU7=1,\"\",IF(GU6=1,\"z\",\"\"))),\"\")","v":""},"","","","","","","","","","","","","","","","","","","","","","","","","","","","","","","","","","","","","","","","","","","","","","","","","","","","","","","","","","","","","","","",{"$f":"IF(JG13=\"z\",IF(JG9=\"v\",\"\",IF(JG7=1,\"\",IF(JG6=1,\"z\",\"\"))),\"\")","v":""},"","","","","","","","","","","","","","","","","","","","","","","","","","","","","","","","","","","","","","","","","","","","","","","","","","","","","","","","","","","","","","","",{"$f":"IF(LS13=\"z\",IF(LS9=\"v\",\"\",IF(LS7=1,\"\",IF(LS6=1,\"z\",\"\"))),\"\")","v":""},"","","","","","","","","","","","","","","","","","","","","","","","","","","","","","","","","","","","","",{"$f":"IF(NE13=\"z\",IF(NE9=\"v\",\"\",IF(NE6=1,\"\",\"z\")),\"\")","v":""},{"$f":"IF(NF13=\"z\",IF(NF9=\"v\",\"\",IF(NF6=1,\"\",\"z\")),\"\")","v":""},{"$f":"IF(NG13=\"z\",IF(NG9=\"v\",\"\",IF(NG6=1,\"\",\"z\")),\"\")","v":""},{"$f":"IF(NH13=\"z\",IF(NH9=\"v\",\"\",IF(NH6=1,\"\",\"z\")),\"\")","v":""},{"$f":"IF(NI13=\"z\",IF(NI9=\"v\",\"\",IF(NI6=1,\"\",\"z\")),\"\")","v":""},{"$f":"IF(NJ13=\"z\",IF(NJ9=\"v\",\"\",IF(NJ6=1,\"\",\"z\")),\"\")","v":""}]
[null,7,"2019-10-14","2019-10-20",null,"2019-04-21",null,"Pitkät poissaolot (P), jotka vähentävät työpäivien määrää",{"$f":"COUNTIF(J15:NJ15,\"p\")","v":0},{"$f":"IF(J16=\"p\",IF(J9=\"v\",\"\",IF(J7=1,\"\",IF(J13=\"z\",\"\",IF(J6=1,\"P\",\"\")))),\"\")","v":""},{"$f":"IF(K16=\"p\",IF(K9=\"v\",\"\",IF(K7=1,\"\",IF(K13=\"z\",\"\",IF(K6=1,\"P\",\"\")))),\"\")","v":""},{"$f":"IF(L16=\"p\",IF(L9=\"v\",\"\",IF(L7=1,\"\",IF(L13=\"z\",\"\",IF(L6=1,\"P\",\"\")))),\"\")","v":""},{"$f":"IF(M16=\"p\",IF(M9=\"v\",\"\",IF(M7=1,\"\",IF(M13=\"z\",\"\",IF(M6=1,\"P\",\"\")))),\"\")","v":""},{"$f":"IF(N16=\"p\",IF(N9=\"v\",\"\",IF(N7=1,\"\",IF(N13=\"z\",\"\",IF(N6=1,\"P\",\"\")))),\"\")","v":""},{"$f":"IF(O16=\"p\",IF(O9=\"v\",\"\",IF(O7=1,\"\",IF(O13=\"z\",\"\",IF(O6=1,\"P\",\"\")))),\"\")","v":""},{"$f":"IF(P16=\"p\",IF(P9=\"v\",\"\",IF(P7=1,\"\",IF(P13=\"z\",\"\",IF(P6=1,\"P\",\"\")))),\"\")","v":""},{"$f":"IF(Q16=\"p\",IF(Q9=\"v\",\"\",IF(Q7=1,\"\",IF(Q13=\"z\",\"\",IF(Q6=1,\"P\",\"\")))),\"\")","v":""},{"$f":"IF(R16=\"p\",IF(R9=\"v\",\"\",IF(R7=1,\"\",IF(R13=\"z\",\"\",IF(R6=1,\"P\",\"\")))),\"\")","v":""},{"$f":"IF(S16=\"p\",IF(S9=\"v\",\"\",IF(S7=1,\"\",IF(S13=\"z\",\"\",IF(S6=1,\"P\",\"\")))),\"\")","v":""},{"$f":"IF(T16=\"p\",IF(T9=\"v\",\"\",IF(T7=1,\"\",IF(T13=\"z\",\"\",IF(T6=1,\"P\",\"\")))),\"\")","v":""},{"$f":"IF(U16=\"p\",IF(U9=\"v\",\"\",IF(U7=1,\"\",IF(U13=\"z\",\"\",IF(U6=1,\"P\",\"\")))),\"\")","v":""},{"$f":"IF(V16=\"p\",IF(V9=\"v\",\"\",IF(V7=1,\"\",IF(V13=\"z\",\"\",IF(V6=1,\"P\",\"\")))),\"\")","v":""},{"$f":"IF(W16=\"p\",IF(W9=\"v\",\"\",IF(W7=1,\"\",IF(W13=\"z\",\"\",IF(W6=1,\"P\",\"\")))),\"\")","v":""},{"$f":"IF(X16=\"p\",IF(X9=\"v\",\"\",IF(X7=1,\"\",IF(X13=\"z\",\"\",IF(X6=1,\"P\",\"\")))),\"\")","v":""},{"$f":"IF(Y16=\"p\",IF(Y9=\"v\",\"\",IF(Y7=1,\"\",IF(Y13=\"z\",\"\",IF(Y6=1,\"P\",\"\")))),\"\")","v":""},{"$f":"IF(Z16=\"p\",IF(Z9=\"v\",\"\",IF(Z7=1,\"\",IF(Z13=\"z\",\"\",IF(Z6=1,\"P\",\"\")))),\"\")","v":""},{"$f":"IF(AA16=\"p\",IF(AA9=\"v\",\"\",IF(AA7=1,\"\",IF(AA13=\"z\",\"\",IF(AA6=1,\"P\",\"\")))),\"\")","v":""},{"$f":"IF(AB16=\"p\",IF(AB9=\"v\",\"\",IF(AB7=1,\"\",IF(AB13=\"z\",\"\",IF(AB6=1,\"P\",\"\")))),\"\")","v":""},{"$f":"IF(AC16=\"p\",IF(AC9=\"v\",\"\",IF(AC7=1,\"\",IF(AC13=\"z\",\"\",IF(AC6=1,\"P\",\"\")))),\"\")","v":""},{"$f":"IF(AD16=\"p\",IF(AD9=\"v\",\"\",IF(AD7=1,\"\",IF(AD13=\"z\",\"\",IF(AD6=1,\"P\",\"\")))),\"\")","v":""},{"$f":"IF(AE16=\"p\",IF(AE9=\"v\",\"\",IF(AE7=1,\"\",IF(AE13=\"z\",\"\",IF(AE6=1,\"P\",\"\")))),\"\")","v":""},{"$f":"IF(AF16=\"p\",IF(AF9=\"v\",\"\",IF(AF7=1,\"\",IF(AF13=\"z\",\"\",IF(AF6=1,\"P\",\"\")))),\"\")","v":""},{"$f":"IF(AG16=\"p\",IF(AG9=\"v\",\"\",IF(AG7=1,\"\",IF(AG13=\"z\",\"\",IF(AG6=1,\"P\",\"\")))),\"\")","v":""},{"$f":"IF(AH16=\"p\",IF(AH9=\"v\",\"\",IF(AH7=1,\"\",IF(AH13=\"z\",\"\",IF(AH6=1,\"P\",\"\")))),\"\")","v":""},{"$f":"IF(AI16=\"p\",IF(AI9=\"v\",\"\",IF(AI7=1,\"\",IF(AI13=\"z\",\"\",IF(AI6=1,\"P\",\"\")))),\"\")","v":""},{"$f":"IF(AJ16=\"p\",IF(AJ9=\"v\",\"\",IF(AJ7=1,\"\",IF(AJ13=\"z\",\"\",IF(AJ6=1,\"P\",\"\")))),\"\")","v":""},{"$f":"IF(AK16=\"p\",IF(AK9=\"v\",\"\",IF(AK7=1,\"\",IF(AK13=\"z\",\"\",IF(AK6=1,\"P\",\"\")))),\"\")","v":""},{"$f":"IF(AL16=\"p\",IF(AL9=\"v\",\"\",IF(AL7=1,\"\",IF(AL13=\"z\",\"\",IF(AL6=1,\"P\",\"\")))),\"\")","v":""},{"$f":"IF(AM16=\"p\",IF(AM9=\"v\",\"\",IF(AM7=1,\"\",IF(AM13=\"z\",\"\",IF(AM6=1,\"P\",\"\")))),\"\")","v":""},{"$f":"IF(AN16=\"p\",IF(AN9=\"v\",\"\",IF(AN7=1,\"\",IF(AN13=\"z\",\"\",IF(AN6=1,\"P\",\"\")))),\"\")","v":""},{"$f":"IF(AO16=\"p\",IF(AO9=\"v\",\"\",IF(AO7=1,\"\",IF(AO13=\"z\",\"\",IF(AO6=1,\"P\",\"\")))),\"\")","v":""},{"$f":"IF(AP16=\"p\",IF(AP9=\"v\",\"\",IF(AP7=1,\"\",IF(AP13=\"z\",\"\",IF(AP6=1,\"P\",\"\")))),\"\")","v":""},{"$f":"IF(AQ16=\"p\",IF(AQ9=\"v\",\"\",IF(AQ7=1,\"\",IF(AQ13=\"z\",\"\",IF(AQ6=1,\"P\",\"\")))),\"\")","v":""},{"$f":"IF(AR16=\"p\",IF(AR9=\"v\",\"\",IF(AR7=1,\"\",IF(AR13=\"z\",\"\",IF(AR6=1,\"P\",\"\")))),\"\")","v":""},{"$f":"IF(AS16=\"p\",IF(AS9=\"v\",\"\",IF(AS7=1,\"\",IF(AS13=\"z\",\"\",IF(AS6=1,\"P\",\"\")))),\"\")","v":""},{"$f":"IF(AT16=\"p\",IF(AT9=\"v\",\"\",IF(AT7=1,\"\",IF(AT13=\"z\",\"\",IF(AT6=1,\"P\",\"\")))),\"\")","v":""},{"$f":"IF(AU16=\"p\",IF(AU9=\"v\",\"\",IF(AU7=1,\"\",IF(AU13=\"z\",\"\",IF(AU6=1,\"P\",\"\")))),\"\")","v":""},{"$f":"IF(AV16=\"p\",IF(AV9=\"v\",\"\",IF(AV7=1,\"\",IF(AV13=\"z\",\"\",IF(AV6=1,\"P\",\"\")))),\"\")","v":""},{"$f":"IF(AW16=\"p\",IF(AW9=\"v\",\"\",IF(AW7=1,\"\",IF(AW13=\"z\",\"\",IF(AW6=1,\"P\",\"\")))),\"\")","v":""},{"$f":"IF(AX16=\"p\",IF(AX9=\"v\",\"\",IF(AX7=1,\"\",IF(AX13=\"z\",\"\",IF(AX6=1,\"P\",\"\")))),\"\")","v":""},{"$f":"IF(AY16=\"p\",IF(AY9=\"v\",\"\",IF(AY7=1,\"\",IF(AY13=\"z\",\"\",IF(AY6=1,\"P\",\"\")))),\"\")","v":""},{"$f":"IF(AZ16=\"p\",IF(AZ9=\"v\",\"\",IF(AZ7=1,\"\",IF(AZ13=\"z\",\"\",IF(AZ6=1,\"P\",\"\")))),\"\")","v":""},{"$f":"IF(BA16=\"p\",IF(BA9=\"v\",\"\",IF(BA7=1,\"\",IF(BA13=\"z\",\"\",IF(BA6=1,\"P\",\"\")))),\"\")","v":""},{"$f":"IF(BB16=\"p\",IF(BB9=\"v\",\"\",IF(BB7=1,\"\",IF(BB13=\"z\",\"\",IF(BB6=1,\"P\",\"\")))),\"\")","v":""},{"$f":"IF(BC16=\"p\",IF(BC9=\"v\",\"\",IF(BC7=1,\"\",IF(BC13=\"z\",\"\",IF(BC6=1,\"P\",\"\")))),\"\")","v":""},{"$f":"IF(BD16=\"p\",IF(BD9=\"v\",\"\",IF(BD7=1,\"\",IF(BD13=\"z\",\"\",IF(BD6=1,\"P\",\"\")))),\"\")","v":""},{"$f":"IF(BE16=\"p\",IF(BE9=\"v\",\"\",IF(BE7=1,\"\",IF(BE13=\"z\",\"\",IF(BE6=1,\"P\",\"\")))),\"\")","v":""},{"$f":"IF(BF16=\"p\",IF(BF9=\"v\",\"\",IF(BF7=1,\"\",IF(BF13=\"z\",\"\",IF(BF6=1,\"P\",\"\")))),\"\")","v":""},{"$f":"IF(BG16=\"p\",IF(BG9=\"v\",\"\",IF(BG7=1,\"\",IF(BG13=\"z\",\"\",IF(BG6=1,\"P\",\"\")))),\"\")","v":""},{"$f":"IF(BH16=\"p\",IF(BH9=\"v\",\"\",IF(BH7=1,\"\",IF(BH13=\"z\",\"\",IF(BH6=1,\"P\",\"\")))),\"\")","v":""},{"$f":"IF(BI16=\"p\",IF(BI9=\"v\",\"\",IF(BI7=1,\"\",IF(BI13=\"z\",\"\",IF(BI6=1,\"P\",\"\")))),\"\")","v":""},{"$f":"IF(BJ16=\"p\",IF(BJ9=\"v\",\"\",IF(BJ7=1,\"\",IF(BJ13=\"z\",\"\",IF(BJ6=1,\"P\",\"\")))),\"\")","v":""},{"$f":"IF(BK16=\"p\",IF(BK9=\"v\",\"\",IF(BK7=1,\"\",IF(BK13=\"z\",\"\",IF(BK6=1,\"P\",\"\")))),\"\")","v":""},{"$f":"IF(BL16=\"p\",IF(BL9=\"v\",\"\",IF(BL7=1,\"\",IF(BL13=\"z\",\"\",IF(BL6=1,\"P\",\"\")))),\"\")","v":""},{"$f":"IF(BM16=\"p\",IF(BM9=\"v\",\"\",IF(BM7=1,\"\",IF(BM13=\"z\",\"\",IF(BM6=1,\"P\",\"\")))),\"\")","v":""},{"$f":"IF(BN16=\"p\",IF(BN9=\"v\",\"\",IF(BN7=1,\"\",IF(BN13=\"z\",\"\",IF(BN6=1,\"P\",\"\")))),\"\")","v":""},{"$f":"IF(BO16=\"p\",IF(BO9=\"v\",\"\",IF(BO7=1,\"\",IF(BO13=\"z\",\"\",IF(BO6=1,\"P\",\"\")))),\"\")","v":""},{"$f":"IF(BP16=\"p\",IF(BP9=\"v\",\"\",IF(BP7=1,\"\",IF(BP13=\"z\",\"\",IF(BP6=1,\"P\",\"\")))),\"\")","v":""},{"$f":"IF(BQ16=\"p\",IF(BQ9=\"v\",\"\",IF(BQ7=1,\"\",IF(BQ13=\"z\",\"\",IF(BQ6=1,\"P\",\"\")))),\"\")","v":""},{"$f":"IF(BR16=\"p\",IF(BR9=\"v\",\"\",IF(BR7=1,\"\",IF(BR13=\"z\",\"\",IF(BR6=1,\"P\",\"\")))),\"\")","v":""},{"$f":"IF(BS16=\"p\",IF(BS9=\"v\",\"\",IF(BS7=1,\"\",IF(BS13=\"z\",\"\",IF(BS6=1,\"P\",\"\")))),\"\")","v":""},{"$f":"IF(BT16=\"p\",IF(BT9=\"v\",\"\",IF(BT7=1,\"\",IF(BT13=\"z\",\"\",IF(BT6=1,\"P\",\"\")))),\"\")","v":""},{"$f":"IF(BU16=\"p\",IF(BU9=\"v\",\"\",IF(BU7=1,\"\",IF(BU13=\"z\",\"\",IF(BU6=1,\"P\",\"\")))),\"\")","v":""},{"$f":"IF(BV16=\"p\",IF(BV9=\"v\",\"\",IF(BV7=1,\"\",IF(BV13=\"z\",\"\",IF(BV6=1,\"P\",\"\")))),\"\")","v":""},{"$f":"IF(BW16=\"p\",IF(BW9=\"v\",\"\",IF(BW7=1,\"\",IF(BW13=\"z\",\"\",IF(BW6=1,\"P\",\"\")))),\"\")","v":""},{"$f":"IF(BX16=\"p\",IF(BX9=\"v\",\"\",IF(BX7=1,\"\",IF(BX13=\"z\",\"\",IF(BX6=1,\"P\",\"\")))),\"\")","v":""},{"$f":"IF(BY16=\"p\",IF(BY9=\"v\",\"\",IF(BY7=1,\"\",IF(BY13=\"z\",\"\",IF(BY6=1,\"P\",\"\")))),\"\")","v":""},{"$f":"IF(BZ16=\"p\",IF(BZ9=\"v\",\"\",IF(BZ7=1,\"\",IF(BZ13=\"z\",\"\",IF(BZ6=1,\"P\",\"\")))),\"\")","v":""},{"$f":"IF(CA16=\"p\",IF(CA9=\"v\",\"\",IF(CA7=1,\"\",IF(CA13=\"z\",\"\",IF(CA6=1,\"P\",\"\")))),\"\")","v":""},{"$f":"IF(CB16=\"p\",IF(CB9=\"v\",\"\",IF(CB7=1,\"\",IF(CB13=\"z\",\"\",IF(CB6=1,\"P\",\"\")))),\"\")","v":""},{"$f":"IF(CC16=\"p\",IF(CC9=\"v\",\"\",IF(CC7=1,\"\",IF(CC13=\"z\",\"\",IF(CC6=1,\"P\",\"\")))),\"\")","v":""},{"$f":"IF(CD16=\"p\",IF(CD9=\"v\",\"\",IF(CD7=1,\"\",IF(CD13=\"z\",\"\",IF(CD6=1,\"P\",\"\")))),\"\")","v":""},{"$f":"IF(CE16=\"p\",IF(CE9=\"v\",\"\",IF(CE7=1,\"\",IF(CE13=\"z\",\"\",IF(CE6=1,\"P\",\"\")))),\"\")","v":""},{"$f":"IF(CF16=\"p\",IF(CF9=\"v\",\"\",IF(CF7=1,\"\",IF(CF13=\"z\",\"\",IF(CF6=1,\"P\",\"\")))),\"\")","v":""},{"$f":"IF(CG16=\"p\",IF(CG9=\"v\",\"\",IF(CG7=1,\"\",IF(CG13=\"z\",\"\",IF(CG6=1,\"P\",\"\")))),\"\")","v":""},{"$f":"IF(CH16=\"p\",IF(CH9=\"v\",\"\",IF(CH7=1,\"\",IF(CH13=\"z\",\"\",IF(CH6=1,\"P\",\"\")))),\"\")","v":""},{"$f":"IF(CI16=\"p\",IF(CI9=\"v\",\"\",IF(CI7=1,\"\",IF(CI13=\"z\",\"\",IF(CI6=1,\"P\",\"\")))),\"\")","v":""},{"$f":"IF(CJ16=\"p\",IF(CJ9=\"v\",\"\",IF(CJ7=1,\"\",IF(CJ13=\"z\",\"\",IF(CJ6=1,\"P\",\"\")))),\"\")","v":""},{"$f":"IF(CK16=\"p\",IF(CK9=\"v\",\"\",IF(CK7=1,\"\",IF(CK13=\"z\",\"\",IF(CK6=1,\"P\",\"\")))),\"\")","v":""},{"$f":"IF(CL16=\"p\",IF(CL9=\"v\",\"\",IF(CL7=1,\"\",IF(CL13=\"z\",\"\",IF(CL6=1,\"P\",\"\")))),\"\")","v":""},{"$f":"IF(CM16=\"p\",IF(CM9=\"v\",\"\",IF(CM7=1,\"\",IF(CM13=\"z\",\"\",IF(CM6=1,\"P\",\"\")))),\"\")","v":""},{"$f":"IF(CN16=\"p\",IF(CN9=\"v\",\"\",IF(CN7=1,\"\",IF(CN13=\"z\",\"\",IF(CN6=1,\"P\",\"\")))),\"\")","v":""},{"$f":"IF(CO16=\"p\",IF(CO9=\"v\",\"\",IF(CO7=1,\"\",IF(CO13=\"z\",\"\",IF(CO6=1,\"P\",\"\")))),\"\")","v":""},{"$f":"IF(CP16=\"p\",IF(CP9=\"v\",\"\",IF(CP7=1,\"\",IF(CP13=\"z\",\"\",IF(CP6=1,\"P\",\"\")))),\"\")","v":""},{"$f":"IF(CQ16=\"p\",IF(CQ9=\"v\",\"\",IF(CQ7=1,\"\",IF(CQ13=\"z\",\"\",IF(CQ6=1,\"P\",\"\")))),\"\")","v":""},{"$f":"IF(CR16=\"p\",IF(CR9=\"v\",\"\",IF(CR7=1,\"\",IF(CR13=\"z\",\"\",IF(CR6=1,\"P\",\"\")))),\"\")","v":""},{"$f":"IF(CS16=\"p\",IF(CS9=\"v\",\"\",IF(CS7=1,\"\",IF(CS13=\"z\",\"\",IF(CS6=1,\"P\",\"\")))),\"\")","v":""},{"$f":"IF(CT16=\"p\",IF(CT9=\"v\",\"\",IF(CT7=1,\"\",IF(CT13=\"z\",\"\",IF(CT6=1,\"P\",\"\")))),\"\")","v":""},{"$f":"IF(CU16=\"p\",IF(CU9=\"v\",\"\",IF(CU7=1,\"\",IF(CU13=\"z\",\"\",IF(CU6=1,\"P\",\"\")))),\"\")","v":""},{"$f":"IF(CV16=\"p\",IF(CV9=\"v\",\"\",IF(CV7=1,\"\",IF(CV13=\"z\",\"\",IF(CV6=1,\"P\",\"\")))),\"\")","v":""},{"$f":"IF(CW16=\"p\",IF(CW9=\"v\",\"\",IF(CW7=1,\"\",IF(CW13=\"z\",\"\",IF(CW6=1,\"P\",\"\")))),\"\")","v":""},{"$f":"IF(CX16=\"p\",IF(CX9=\"v\",\"\",IF(CX7=1,\"\",IF(CX13=\"z\",\"\",IF(CX6=1,\"P\",\"\")))),\"\")","v":""},{"$f":"IF(CY16=\"p\",IF(CY9=\"v\",\"\",IF(CY7=1,\"\",IF(CY13=\"z\",\"\",IF(CY6=1,\"P\",\"\")))),\"\")","v":""},{"$f":"IF(CZ16=\"p\",IF(CZ9=\"v\",\"\",IF(CZ7=1,\"\",IF(CZ13=\"z\",\"\",IF(CZ6=1,\"P\",\"\")))),\"\")","v":""},{"$f":"IF(DA16=\"p\",IF(DA9=\"v\",\"\",IF(DA7=1,\"\",IF(DA13=\"z\",\"\",IF(DA6=1,\"P\",\"\")))),\"\")","v":""},{"$f":"IF(DB16=\"p\",IF(DB9=\"v\",\"\",IF(DB7=1,\"\",IF(DB13=\"z\",\"\",IF(DB6=1,\"P\",\"\")))),\"\")","v":""},{"$f":"IF(DC16=\"p\",IF(DC9=\"v\",\"\",IF(DC7=1,\"\",IF(DC13=\"z\",\"\",IF(DC6=1,\"P\",\"\")))),\"\")","v":""},{"$f":"IF(DD16=\"p\",IF(DD9=\"v\",\"\",IF(DD7=1,\"\",IF(DD13=\"z\",\"\",IF(DD6=1,\"P\",\"\")))),\"\")","v":""},{"$f":"IF(DE16=\"p\",IF(DE9=\"v\",\"\",IF(DE7=1,\"\",IF(DE13=\"z\",\"\",IF(DE6=1,\"P\",\"\")))),\"\")","v":""},{"$f":"IF(DF16=\"p\",IF(DF9=\"v\",\"\",IF(DF7=1,\"\",IF(DF13=\"z\",\"\",IF(DF6=1,\"P\",\"\")))),\"\")","v":""},{"$f":"IF(DG16=\"p\",IF(DG9=\"v\",\"\",IF(DG7=1,\"\",IF(DG13=\"z\",\"\",IF(DG6=1,\"P\",\"\")))),\"\")","v":""},{"$f":"IF(DH16=\"p\",IF(DH9=\"v\",\"\",IF(DH7=1,\"\",IF(DH13=\"z\",\"\",IF(DH6=1,\"P\",\"\")))),\"\")","v":""},{"$f":"IF(DI16=\"p\",IF(DI9=\"v\",\"\",IF(DI7=1,\"\",IF(DI13=\"z\",\"\",IF(DI6=1,\"P\",\"\")))),\"\")","v":""},{"$f":"IF(DJ16=\"p\",IF(DJ9=\"v\",\"\",IF(DJ7=1,\"\",IF(DJ13=\"z\",\"\",IF(DJ6=1,\"P\",\"\")))),\"\")","v":""},{"$f":"IF(DK16=\"p\",IF(DK9=\"v\",\"\",IF(DK7=1,\"\",IF(DK13=\"z\",\"\",IF(DK6=1,\"P\",\"\")))),\"\")","v":""},{"$f":"IF(DL16=\"p\",IF(DL9=\"v\",\"\",IF(DL7=1,\"\",IF(DL13=\"z\",\"\",IF(DL6=1,\"P\",\"\")))),\"\")","v":""},{"$f":"IF(DM16=\"p\",IF(DM9=\"v\",\"\",IF(DM7=1,\"\",IF(DM13=\"z\",\"\",IF(DM6=1,\"P\",\"\")))),\"\")","v":""},{"$f":"IF(DN16=\"p\",IF(DN9=\"v\",\"\",IF(DN7=1,\"\",IF(DN13=\"z\",\"\",IF(DN6=1,\"P\",\"\")))),\"\")","v":""},{"$f":"IF(DO16=\"p\",IF(DO9=\"v\",\"\",IF(DO7=1,\"\",IF(DO13=\"z\",\"\",IF(DO6=1,\"P\",\"\")))),\"\")","v":""},{"$f":"IF(DP16=\"p\",IF(DP9=\"v\",\"\",IF(DP7=1,\"\",IF(DP13=\"z\",\"\",IF(DP6=1,\"P\",\"\")))),\"\")","v":""},{"$f":"IF(DQ16=\"p\",IF(DQ9=\"v\",\"\",IF(DQ7=1,\"\",IF(DQ13=\"z\",\"\",IF(DQ6=1,\"P\",\"\")))),\"\")","v":""},{"$f":"IF(DR16=\"p\",IF(DR9=\"v\",\"\",IF(DR7=1,\"\",IF(DR13=\"z\",\"\",IF(DR6=1,\"P\",\"\")))),\"\")","v":""},{"$f":"IF(DS16=\"p\",IF(DS9=\"v\",\"\",IF(DS7=1,\"\",IF(DS13=\"z\",\"\",IF(DS6=1,\"P\",\"\")))),\"\")","v":""},{"$f":"IF(DT16=\"p\",IF(DT9=\"v\",\"\",IF(DT7=1,\"\",IF(DT13=\"z\",\"\",IF(DT6=1,\"P\",\"\")))),\"\")","v":""},{"$f":"IF(DU16=\"p\",IF(DU9=\"v\",\"\",IF(DU7=1,\"\",IF(DU13=\"z\",\"\",IF(DU6=1,\"P\",\"\")))),\"\")","v":""},{"$f":"IF(DV16=\"p\",IF(DV9=\"v\",\"\",IF(DV7=1,\"\",IF(DV13=\"z\",\"\",IF(DV6=1,\"P\",\"\")))),\"\")","v":""},{"$f":"IF(DW16=\"p\",IF(DW9=\"v\",\"\",IF(DW7=1,\"\",IF(DW13=\"z\",\"\",IF(DW6=1,\"P\",\"\")))),\"\")","v":""},{"$f":"IF(DX16=\"p\",IF(DX9=\"v\",\"\",IF(DX7=1,\"\",IF(DX13=\"z\",\"\",IF(DX6=1,\"P\",\"\")))),\"\")","v":""},{"$f":"IF(DY16=\"p\",IF(DY9=\"v\",\"\",IF(DY7=1,\"\",IF(DY13=\"z\",\"\",IF(DY6=1,\"P\",\"\")))),\"\")","v":""},{"$f":"IF(DZ16=\"p\",IF(DZ9=\"v\",\"\",IF(DZ7=1,\"\",IF(DZ13=\"z\",\"\",IF(DZ6=1,\"P\",\"\")))),\"\")","v":""},{"$f":"IF(EA16=\"p\",IF(EA9=\"v\",\"\",IF(EA7=1,\"\",IF(EA13=\"z\",\"\",IF(EA6=1,\"P\",\"\")))),\"\")","v":""},{"$f":"IF(EB16=\"p\",IF(EB9=\"v\",\"\",IF(EB7=1,\"\",IF(EB13=\"z\",\"\",IF(EB6=1,\"P\",\"\")))),\"\")","v":""},{"$f":"IF(EC16=\"p\",IF(EC9=\"v\",\"\",IF(EC7=1,\"\",IF(EC13=\"z\",\"\",IF(EC6=1,\"P\",\"\")))),\"\")","v":""},{"$f":"IF(ED16=\"p\",IF(ED9=\"v\",\"\",IF(ED7=1,\"\",IF(ED13=\"z\",\"\",IF(ED6=1,\"P\",\"\")))),\"\")","v":""},{"$f":"IF(EE16=\"p\",IF(EE9=\"v\",\"\",IF(EE7=1,\"\",IF(EE13=\"z\",\"\",IF(EE6=1,\"P\",\"\")))),\"\")","v":""},{"$f":"IF(EF16=\"p\",IF(EF9=\"v\",\"\",IF(EF7=1,\"\",IF(EF13=\"z\",\"\",IF(EF6=1,\"P\",\"\")))),\"\")","v":""},{"$f":"IF(EG16=\"p\",IF(EG9=\"v\",\"\",IF(EG7=1,\"\",IF(EG13=\"z\",\"\",IF(EG6=1,\"P\",\"\")))),\"\")","v":""},{"$f":"IF(EH16=\"p\",IF(EH9=\"v\",\"\",IF(EH7=1,\"\",IF(EH13=\"z\",\"\",IF(EH6=1,\"P\",\"\")))),\"\")","v":""},{"$f":"IF(EI16=\"p\",IF(EI9=\"v\",\"\",IF(EI7=1,\"\",IF(EI13=\"z\",\"\",IF(EI6=1,\"P\",\"\")))),\"\")","v":""},{"$f":"IF(EJ16=\"p\",IF(EJ9=\"v\",\"\",IF(EJ7=1,\"\",IF(EJ13=\"z\",\"\",IF(EJ6=1,\"P\",\"\")))),\"\")","v":""},{"$f":"IF(EK16=\"p\",IF(EK9=\"v\",\"\",IF(EK7=1,\"\",IF(EK13=\"z\",\"\",IF(EK6=1,\"P\",\"\")))),\"\")","v":""},{"$f":"IF(EL16=\"p\",IF(EL9=\"v\",\"\",IF(EL7=1,\"\",IF(EL13=\"z\",\"\",IF(EL6=1,\"P\",\"\")))),\"\")","v":""},{"$f":"IF(EM16=\"p\",IF(EM9=\"v\",\"\",IF(EM7=1,\"\",IF(EM13=\"z\",\"\",IF(EM6=1,\"P\",\"\")))),\"\")","v":""},{"$f":"IF(EN16=\"p\",IF(EN9=\"v\",\"\",IF(EN7=1,\"\",IF(EN13=\"z\",\"\",IF(EN6=1,\"P\",\"\")))),\"\")","v":""},{"$f":"IF(EO16=\"p\",IF(EO9=\"v\",\"\",IF(EO7=1,\"\",IF(EO13=\"z\",\"\",IF(EO6=1,\"P\",\"\")))),\"\")","v":""},{"$f":"IF(EP16=\"p\",IF(EP9=\"v\",\"\",IF(EP7=1,\"\",IF(EP13=\"z\",\"\",IF(EP6=1,\"P\",\"\")))),\"\")","v":""},{"$f":"IF(EQ16=\"p\",IF(EQ9=\"v\",\"\",IF(EQ7=1,\"\",IF(EQ13=\"z\",\"\",IF(EQ6=1,\"P\",\"\")))),\"\")","v":""},{"$f":"IF(ER16=\"p\",IF(ER9=\"v\",\"\",IF(ER7=1,\"\",IF(ER13=\"z\",\"\",IF(ER6=1,\"P\",\"\")))),\"\")","v":""},{"$f":"IF(ES16=\"p\",IF(ES9=\"v\",\"\",IF(ES7=1,\"\",IF(ES13=\"z\",\"\",IF(ES6=1,\"P\",\"\")))),\"\")","v":""},{"$f":"IF(ET16=\"p\",IF(ET9=\"v\",\"\",IF(ET7=1,\"\",IF(ET13=\"z\",\"\",IF(ET6=1,\"P\",\"\")))),\"\")","v":""},{"$f":"IF(EU16=\"p\",IF(EU9=\"v\",\"\",IF(EU7=1,\"\",IF(EU13=\"z\",\"\",IF(EU6=1,\"P\",\"\")))),\"\")","v":""},{"$f":"IF(EV16=\"p\",IF(EV9=\"v\",\"\",IF(EV7=1,\"\",IF(EV13=\"z\",\"\",IF(EV6=1,\"P\",\"\")))),\"\")","v":""},{"$f":"IF(EW16=\"p\",IF(EW9=\"v\",\"\",IF(EW7=1,\"\",IF(EW13=\"z\",\"\",IF(EW6=1,\"P\",\"\")))),\"\")","v":""},{"$f":"IF(EX16=\"p\",IF(EX9=\"v\",\"\",IF(EX7=1,\"\",IF(EX13=\"z\",\"\",IF(EX6=1,\"P\",\"\")))),\"\")","v":""},{"$f":"IF(EY16=\"p\",IF(EY9=\"v\",\"\",IF(EY7=1,\"\",IF(EY13=\"z\",\"\",IF(EY6=1,\"P\",\"\")))),\"\")","v":""},{"$f":"IF(EZ16=\"p\",IF(EZ9=\"v\",\"\",IF(EZ7=1,\"\",IF(EZ13=\"z\",\"\",IF(EZ6=1,\"P\",\"\")))),\"\")","v":""},{"$f":"IF(FA16=\"p\",IF(FA9=\"v\",\"\",IF(FA7=1,\"\",IF(FA13=\"z\",\"\",IF(FA6=1,\"P\",\"\")))),\"\")","v":""},{"$f":"IF(FB16=\"p\",IF(FB9=\"v\",\"\",IF(FB7=1,\"\",IF(FB13=\"z\",\"\",IF(FB6=1,\"P\",\"\")))),\"\")","v":""},{"$f":"IF(FC16=\"p\",IF(FC9=\"v\",\"\",IF(FC7=1,\"\",IF(FC13=\"z\",\"\",IF(FC6=1,\"P\",\"\")))),\"\")","v":""},{"$f":"IF(FD16=\"p\",IF(FD9=\"v\",\"\",IF(FD7=1,\"\",IF(FD13=\"z\",\"\",IF(FD6=1,\"P\",\"\")))),\"\")","v":""},{"$f":"IF(FE16=\"p\",IF(FE9=\"v\",\"\",IF(FE7=1,\"\",IF(FE13=\"z\",\"\",IF(FE6=1,\"P\",\"\")))),\"\")","v":""},{"$f":"IF(FF16=\"p\",IF(FF9=\"v\",\"\",IF(FF7=1,\"\",IF(FF13=\"z\",\"\",IF(FF6=1,\"P\",\"\")))),\"\")","v":""},{"$f":"IF(FG16=\"p\",IF(FG9=\"v\",\"\",IF(FG7=1,\"\",IF(FG13=\"z\",\"\",IF(FG6=1,\"P\",\"\")))),\"\")","v":""},{"$f":"IF(FH16=\"p\",IF(FH9=\"v\",\"\",IF(FH7=1,\"\",IF(FH13=\"z\",\"\",IF(FH6=1,\"P\",\"\")))),\"\")","v":""},{"$f":"IF(FI16=\"p\",IF(FI9=\"v\",\"\",IF(FI7=1,\"\",IF(FI13=\"z\",\"\",IF(FI6=1,\"P\",\"\")))),\"\")","v":""},{"$f":"IF(FJ16=\"p\",IF(FJ9=\"v\",\"\",IF(FJ7=1,\"\",IF(FJ13=\"z\",\"\",IF(FJ6=1,\"P\",\"\")))),\"\")","v":""},{"$f":"IF(FK16=\"p\",IF(FK9=\"v\",\"\",IF(FK7=1,\"\",IF(FK13=\"z\",\"\",IF(FK6=1,\"P\",\"\")))),\"\")","v":""},{"$f":"IF(FL16=\"p\",IF(FL9=\"v\",\"\",IF(FL7=1,\"\",IF(FL13=\"z\",\"\",IF(FL6=1,\"P\",\"\")))),\"\")","v":""},{"$f":"IF(FM16=\"p\",IF(FM9=\"v\",\"\",IF(FM7=1,\"\",IF(FM13=\"z\",\"\",IF(FM6=1,\"P\",\"\")))),\"\")","v":""},{"$f":"IF(FN16=\"p\",IF(FN9=\"v\",\"\",IF(FN7=1,\"\",IF(FN13=\"z\",\"\",IF(FN6=1,\"P\",\"\")))),\"\")","v":""},{"$f":"IF(FO16=\"p\",IF(FO9=\"v\",\"\",IF(FO7=1,\"\",IF(FO13=\"z\",\"\",IF(FO6=1,\"P\",\"\")))),\"\")","v":""},{"$f":"IF(FP16=\"p\",IF(FP9=\"v\",\"\",IF(FP7=1,\"\",IF(FP13=\"z\",\"\",IF(FP6=1,\"P\",\"\")))),\"\")","v":""},{"$f":"IF(FQ16=\"p\",IF(FQ9=\"v\",\"\",IF(FQ7=1,\"\",IF(FQ13=\"z\",\"\",IF(FQ6=1,\"P\",\"\")))),\"\")","v":""},{"$f":"IF(FR16=\"p\",IF(FR9=\"v\",\"\",IF(FR7=1,\"\",IF(FR13=\"z\",\"\",IF(FR6=1,\"P\",\"\")))),\"\")","v":""},{"$f":"IF(FS16=\"p\",IF(FS9=\"v\",\"\",IF(FS7=1,\"\",IF(FS13=\"z\",\"\",IF(FS6=1,\"P\",\"\")))),\"\")","v":""},{"$f":"IF(FT16=\"p\",IF(FT9=\"v\",\"\",IF(FT7=1,\"\",IF(FT13=\"z\",\"\",IF(FT6=1,\"P\",\"\")))),\"\")","v":""},{"$f":"IF(FU16=\"p\",IF(FU9=\"v\",\"\",IF(FU7=1,\"\",IF(FU13=\"z\",\"\",IF(FU6=1,\"P\",\"\")))),\"\")","v":""},{"$f":"IF(FV16=\"p\",IF(FV9=\"v\",\"\",IF(FV7=1,\"\",IF(FV13=\"z\",\"\",IF(FV6=1,\"P\",\"\")))),\"\")","v":""},{"$f":"IF(FW16=\"p\",IF(FW9=\"v\",\"\",IF(FW7=1,\"\",IF(FW13=\"z\",\"\",IF(FW6=1,\"P\",\"\")))),\"\")","v":""},{"$f":"IF(FX16=\"p\",IF(FX9=\"v\",\"\",IF(FX7=1,\"\",IF(FX13=\"z\",\"\",IF(FX6=1,\"P\",\"\")))),\"\")","v":""},{"$f":"IF(FY16=\"p\",IF(FY9=\"v\",\"\",IF(FY7=1,\"\",IF(FY13=\"z\",\"\",IF(FY6=1,\"P\",\"\")))),\"\")","v":""},{"$f":"IF(FZ16=\"p\",IF(FZ9=\"v\",\"\",IF(FZ7=1,\"\",IF(FZ13=\"z\",\"\",IF(FZ6=1,\"P\",\"\")))),\"\")","v":""},{"$f":"IF(GA16=\"p\",IF(GA9=\"v\",\"\",IF(GA7=1,\"\",IF(GA13=\"z\",\"\",IF(GA6=1,\"P\",\"\")))),\"\")","v":""},{"$f":"IF(GB16=\"p\",IF(GB9=\"v\",\"\",IF(GB7=1,\"\",IF(GB13=\"z\",\"\",IF(GB6=1,\"P\",\"\")))),\"\")","v":""},{"$f":"IF(GC16=\"p\",IF(GC9=\"v\",\"\",IF(GC7=1,\"\",IF(GC13=\"z\",\"\",IF(GC6=1,\"P\",\"\")))),\"\")","v":""},{"$f":"IF(GD16=\"p\",IF(GD9=\"v\",\"\",IF(GD7=1,\"\",IF(GD13=\"z\",\"\",IF(GD6=1,\"P\",\"\")))),\"\")","v":""},{"$f":"IF(GE16=\"p\",IF(GE9=\"v\",\"\",IF(GE7=1,\"\",IF(GE13=\"z\",\"\",IF(GE6=1,\"P\",\"\")))),\"\")","v":""},{"$f":"IF(GF16=\"p\",IF(GF9=\"v\",\"\",IF(GF7=1,\"\",IF(GF13=\"z\",\"\",IF(GF6=1,\"P\",\"\")))),\"\")","v":""},{"$f":"IF(GG16=\"p\",IF(GG9=\"v\",\"\",IF(GG7=1,\"\",IF(GG13=\"z\",\"\",IF(GG6=1,\"P\",\"\")))),\"\")","v":""},{"$f":"IF(GH16=\"p\",IF(GH9=\"v\",\"\",IF(GH7=1,\"\",IF(GH13=\"z\",\"\",IF(GH6=1,\"P\",\"\")))),\"\")","v":""},{"$f":"IF(GI16=\"p\",IF(GI9=\"v\",\"\",IF(GI7=1,\"\",IF(GI13=\"z\",\"\",IF(GI6=1,\"P\",\"\")))),\"\")","v":""},{"$f":"IF(GJ16=\"p\",IF(GJ9=\"v\",\"\",IF(GJ7=1,\"\",IF(GJ13=\"z\",\"\",IF(GJ6=1,\"P\",\"\")))),\"\")","v":""},{"$f":"IF(GK16=\"p\",IF(GK9=\"v\",\"\",IF(GK7=1,\"\",IF(GK13=\"z\",\"\",IF(GK6=1,\"P\",\"\")))),\"\")","v":""},{"$f":"IF(GL16=\"p\",IF(GL9=\"v\",\"\",IF(GL7=1,\"\",IF(GL13=\"z\",\"\",IF(GL6=1,\"P\",\"\")))),\"\")","v":""},{"$f":"IF(GM16=\"p\",IF(GM9=\"v\",\"\",IF(GM7=1,\"\",IF(GM13=\"z\",\"\",IF(GM6=1,\"P\",\"\")))),\"\")","v":""},{"$f":"IF(GN16=\"p\",IF(GN9=\"v\",\"\",IF(GN7=1,\"\",IF(GN13=\"z\",\"\",IF(GN6=1,\"P\",\"\")))),\"\")","v":""},{"$f":"IF(GO16=\"p\",IF(GO9=\"v\",\"\",IF(GO7=1,\"\",IF(GO13=\"z\",\"\",IF(GO6=1,\"P\",\"\")))),\"\")","v":""},{"$f":"IF(GP16=\"p\",IF(GP9=\"v\",\"\",IF(GP7=1,\"\",IF(GP13=\"z\",\"\",IF(GP6=1,\"P\",\"\")))),\"\")","v":""},{"$f":"IF(GQ16=\"p\",IF(GQ9=\"v\",\"\",IF(GQ7=1,\"\",IF(GQ13=\"z\",\"\",IF(GQ6=1,\"P\",\"\")))),\"\")","v":""},{"$f":"IF(GR16=\"p\",IF(GR9=\"v\",\"\",IF(GR7=1,\"\",IF(GR13=\"z\",\"\",IF(GR6=1,\"P\",\"\")))),\"\")","v":""},{"$f":"IF(GS16=\"p\",IF(GS9=\"v\",\"\",IF(GS7=1,\"\",IF(GS13=\"z\",\"\",IF(GS6=1,\"P\",\"\")))),\"\")","v":""},{"$f":"IF(GT16=\"p\",IF(GT9=\"v\",\"\",IF(GT7=1,\"\",IF(GT13=\"z\",\"\",IF(GT6=1,\"P\",\"\")))),\"\")","v":""},{"$f":"IF(GU16=\"p\",IF(GU9=\"v\",\"\",IF(GU7=1,\"\",IF(GU13=\"z\",\"\",IF(GU6=1,\"P\",\"\")))),\"\")","v":""},{"$f":"IF(GV16=\"p\",IF(GV9=\"v\",\"\",IF(GV7=1,\"\",IF(GV13=\"z\",\"\",IF(GV6=1,\"P\",\"\")))),\"\")","v":""},{"$f":"IF(GW16=\"p\",IF(GW9=\"v\",\"\",IF(GW7=1,\"\",IF(GW13=\"z\",\"\",IF(GW6=1,\"P\",\"\")))),\"\")","v":""},{"$f":"IF(GX16=\"p\",IF(GX9=\"v\",\"\",IF(GX7=1,\"\",IF(GX13=\"z\",\"\",IF(GX6=1,\"P\",\"\")))),\"\")","v":""},{"$f":"IF(GY16=\"p\",IF(GY9=\"v\",\"\",IF(GY7=1,\"\",IF(GY13=\"z\",\"\",IF(GY6=1,\"P\",\"\")))),\"\")","v":""},{"$f":"IF(GZ16=\"p\",IF(GZ9=\"v\",\"\",IF(GZ7=1,\"\",IF(GZ13=\"z\",\"\",IF(GZ6=1,\"P\",\"\")))),\"\")","v":""},{"$f":"IF(HA16=\"p\",IF(HA9=\"v\",\"\",IF(HA7=1,\"\",IF(HA13=\"z\",\"\",IF(HA6=1,\"P\",\"\")))),\"\")","v":""},{"$f":"IF(HB16=\"p\",IF(HB9=\"v\",\"\",IF(HB7=1,\"\",IF(HB13=\"z\",\"\",IF(HB6=1,\"P\",\"\")))),\"\")","v":""},{"$f":"IF(HC16=\"p\",IF(HC9=\"v\",\"\",IF(HC7=1,\"\",IF(HC13=\"z\",\"\",IF(HC6=1,\"P\",\"\")))),\"\")","v":""},{"$f":"IF(HD16=\"p\",IF(HD9=\"v\",\"\",IF(HD7=1,\"\",IF(HD13=\"z\",\"\",IF(HD6=1,\"P\",\"\")))),\"\")","v":""},{"$f":"IF(HE16=\"p\",IF(HE9=\"v\",\"\",IF(HE7=1,\"\",IF(HE13=\"z\",\"\",IF(HE6=1,\"P\",\"\")))),\"\")","v":""},{"$f":"IF(HF16=\"p\",IF(HF9=\"v\",\"\",IF(HF7=1,\"\",IF(HF13=\"z\",\"\",IF(HF6=1,\"P\",\"\")))),\"\")","v":""},{"$f":"IF(HG16=\"p\",IF(HG9=\"v\",\"\",IF(HG7=1,\"\",IF(HG13=\"z\",\"\",IF(HG6=1,\"P\",\"\")))),\"\")","v":""},{"$f":"IF(HH16=\"p\",IF(HH9=\"v\",\"\",IF(HH7=1,\"\",IF(HH13=\"z\",\"\",IF(HH6=1,\"P\",\"\")))),\"\")","v":""},{"$f":"IF(HI16=\"p\",IF(HI9=\"v\",\"\",IF(HI7=1,\"\",IF(HI13=\"z\",\"\",IF(HI6=1,\"P\",\"\")))),\"\")","v":""},{"$f":"IF(HJ16=\"p\",IF(HJ9=\"v\",\"\",IF(HJ7=1,\"\",IF(HJ13=\"z\",\"\",IF(HJ6=1,\"P\",\"\")))),\"\")","v":""},{"$f":"IF(HK16=\"p\",IF(HK9=\"v\",\"\",IF(HK7=1,\"\",IF(HK13=\"z\",\"\",IF(HK6=1,\"P\",\"\")))),\"\")","v":""},{"$f":"IF(HL16=\"p\",IF(HL9=\"v\",\"\",IF(HL7=1,\"\",IF(HL13=\"z\",\"\",IF(HL6=1,\"P\",\"\")))),\"\")","v":""},{"$f":"IF(HM16=\"p\",IF(HM9=\"v\",\"\",IF(HM7=1,\"\",IF(HM13=\"z\",\"\",IF(HM6=1,\"P\",\"\")))),\"\")","v":""},{"$f":"IF(HN16=\"p\",IF(HN9=\"v\",\"\",IF(HN7=1,\"\",IF(HN13=\"z\",\"\",IF(HN6=1,\"P\",\"\")))),\"\")","v":""},{"$f":"IF(HO16=\"p\",IF(HO9=\"v\",\"\",IF(HO7=1,\"\",IF(HO13=\"z\",\"\",IF(HO6=1,\"P\",\"\")))),\"\")","v":""},{"$f":"IF(HP16=\"p\",IF(HP9=\"v\",\"\",IF(HP7=1,\"\",IF(HP13=\"z\",\"\",IF(HP6=1,\"P\",\"\")))),\"\")","v":""},{"$f":"IF(HQ16=\"p\",IF(HQ9=\"v\",\"\",IF(HQ7=1,\"\",IF(HQ13=\"z\",\"\",IF(HQ6=1,\"P\",\"\")))),\"\")","v":""},{"$f":"IF(HR16=\"p\",IF(HR9=\"v\",\"\",IF(HR7=1,\"\",IF(HR13=\"z\",\"\",IF(HR6=1,\"P\",\"\")))),\"\")","v":""},{"$f":"IF(HS16=\"p\",IF(HS9=\"v\",\"\",IF(HS7=1,\"\",IF(HS13=\"z\",\"\",IF(HS6=1,\"P\",\"\")))),\"\")","v":""},{"$f":"IF(HT16=\"p\",IF(HT9=\"v\",\"\",IF(HT7=1,\"\",IF(HT13=\"z\",\"\",IF(HT6=1,\"P\",\"\")))),\"\")","v":""},{"$f":"IF(HU16=\"p\",IF(HU9=\"v\",\"\",IF(HU7=1,\"\",IF(HU13=\"z\",\"\",IF(HU6=1,\"P\",\"\")))),\"\")","v":""},{"$f":"IF(HV16=\"p\",IF(HV9=\"v\",\"\",IF(HV7=1,\"\",IF(HV13=\"z\",\"\",IF(HV6=1,\"P\",\"\")))),\"\")","v":""},{"$f":"IF(HW16=\"p\",IF(HW9=\"v\",\"\",IF(HW7=1,\"\",IF(HW13=\"z\",\"\",IF(HW6=1,\"P\",\"\")))),\"\")","v":""},{"$f":"IF(HX16=\"p\",IF(HX9=\"v\",\"\",IF(HX7=1,\"\",IF(HX13=\"z\",\"\",IF(HX6=1,\"P\",\"\")))),\"\")","v":""},{"$f":"IF(HY16=\"p\",IF(HY9=\"v\",\"\",IF(HY7=1,\"\",IF(HY13=\"z\",\"\",IF(HY6=1,\"P\",\"\")))),\"\")","v":""},{"$f":"IF(HZ16=\"p\",IF(HZ9=\"v\",\"\",IF(HZ7=1,\"\",IF(HZ13=\"z\",\"\",IF(HZ6=1,\"P\",\"\")))),\"\")","v":""},{"$f":"IF(IA16=\"p\",IF(IA9=\"v\",\"\",IF(IA7=1,\"\",IF(IA13=\"z\",\"\",IF(IA6=1,\"P\",\"\")))),\"\")","v":""},{"$f":"IF(IB16=\"p\",IF(IB9=\"v\",\"\",IF(IB7=1,\"\",IF(IB13=\"z\",\"\",IF(IB6=1,\"P\",\"\")))),\"\")","v":""},{"$f":"IF(IC16=\"p\",IF(IC9=\"v\",\"\",IF(IC7=1,\"\",IF(IC13=\"z\",\"\",IF(IC6=1,\"P\",\"\")))),\"\")","v":""},{"$f":"IF(ID16=\"p\",IF(ID9=\"v\",\"\",IF(ID7=1,\"\",IF(ID13=\"z\",\"\",IF(ID6=1,\"P\",\"\")))),\"\")","v":""},{"$f":"IF(IE16=\"p\",IF(IE9=\"v\",\"\",IF(IE7=1,\"\",IF(IE13=\"z\",\"\",IF(IE6=1,\"P\",\"\")))),\"\")","v":""},{"$f":"IF(IF16=\"p\",IF(IF9=\"v\",\"\",IF(IF7=1,\"\",IF(IF13=\"z\",\"\",IF(IF6=1,\"P\",\"\")))),\"\")","v":""},{"$f":"IF(IG16=\"p\",IF(IG9=\"v\",\"\",IF(IG7=1,\"\",IF(IG13=\"z\",\"\",IF(IG6=1,\"P\",\"\")))),\"\")","v":""},{"$f":"IF(IH16=\"p\",IF(IH9=\"v\",\"\",IF(IH7=1,\"\",IF(IH13=\"z\",\"\",IF(IH6=1,\"P\",\"\")))),\"\")","v":""},{"$f":"IF(II16=\"p\",IF(II9=\"v\",\"\",IF(II7=1,\"\",IF(II13=\"z\",\"\",IF(II6=1,\"P\",\"\")))),\"\")","v":""},{"$f":"IF(IJ16=\"p\",IF(IJ9=\"v\",\"\",IF(IJ7=1,\"\",IF(IJ13=\"z\",\"\",IF(IJ6=1,\"P\",\"\")))),\"\")","v":""},{"$f":"IF(IK16=\"p\",IF(IK9=\"v\",\"\",IF(IK7=1,\"\",IF(IK13=\"z\",\"\",IF(IK6=1,\"P\",\"\")))),\"\")","v":""},{"$f":"IF(IL16=\"p\",IF(IL9=\"v\",\"\",IF(IL7=1,\"\",IF(IL13=\"z\",\"\",IF(IL6=1,\"P\",\"\")))),\"\")","v":""},{"$f":"IF(IM16=\"p\",IF(IM9=\"v\",\"\",IF(IM7=1,\"\",IF(IM13=\"z\",\"\",IF(IM6=1,\"P\",\"\")))),\"\")","v":""},{"$f":"IF(IN16=\"p\",IF(IN9=\"v\",\"\",IF(IN7=1,\"\",IF(IN13=\"z\",\"\",IF(IN6=1,\"P\",\"\")))),\"\")","v":""},{"$f":"IF(IO16=\"p\",IF(IO9=\"v\",\"\",IF(IO7=1,\"\",IF(IO13=\"z\",\"\",IF(IO6=1,\"P\",\"\")))),\"\")","v":""},{"$f":"IF(IP16=\"p\",IF(IP9=\"v\",\"\",IF(IP7=1,\"\",IF(IP13=\"z\",\"\",IF(IP6=1,\"P\",\"\")))),\"\")","v":""},{"$f":"IF(IQ16=\"p\",IF(IQ9=\"v\",\"\",IF(IQ7=1,\"\",IF(IQ13=\"z\",\"\",IF(IQ6=1,\"P\",\"\")))),\"\")","v":""},{"$f":"IF(IR16=\"p\",IF(IR9=\"v\",\"\",IF(IR7=1,\"\",IF(IR13=\"z\",\"\",IF(IR6=1,\"P\",\"\")))),\"\")","v":""},{"$f":"IF(IS16=\"p\",IF(IS9=\"v\",\"\",IF(IS7=1,\"\",IF(IS13=\"z\",\"\",IF(IS6=1,\"P\",\"\")))),\"\")","v":""},{"$f":"IF(IT16=\"p\",IF(IT9=\"v\",\"\",IF(IT7=1,\"\",IF(IT13=\"z\",\"\",IF(IT6=1,\"P\",\"\")))),\"\")","v":""},{"$f":"IF(IU16=\"p\",IF(IU9=\"v\",\"\",IF(IU7=1,\"\",IF(IU13=\"z\",\"\",IF(IU6=1,\"P\",\"\")))),\"\")","v":""},{"$f":"IF(IV16=\"p\",IF(IV9=\"v\",\"\",IF(IV7=1,\"\",IF(IV13=\"z\",\"\",IF(IV6=1,\"P\",\"\")))),\"\")","v":""},{"$f":"IF(IW16=\"p\",IF(IW9=\"v\",\"\",IF(IW7=1,\"\",IF(IW13=\"z\",\"\",IF(IW6=1,\"P\",\"\")))),\"\")","v":""},{"$f":"IF(IX16=\"p\",IF(IX9=\"v\",\"\",IF(IX7=1,\"\",IF(IX13=\"z\",\"\",IF(IX6=1,\"P\",\"\")))),\"\")","v":""},{"$f":"IF(IY16=\"p\",IF(IY9=\"v\",\"\",IF(IY7=1,\"\",IF(IY13=\"z\",\"\",IF(IY6=1,\"P\",\"\")))),\"\")","v":""},{"$f":"IF(IZ16=\"p\",IF(IZ9=\"v\",\"\",IF(IZ7=1,\"\",IF(IZ13=\"z\",\"\",IF(IZ6=1,\"P\",\"\")))),\"\")","v":""},{"$f":"IF(JA16=\"p\",IF(JA9=\"v\",\"\",IF(JA7=1,\"\",IF(JA13=\"z\",\"\",IF(JA6=1,\"P\",\"\")))),\"\")","v":""},{"$f":"IF(JB16=\"p\",IF(JB9=\"v\",\"\",IF(JB7=1,\"\",IF(JB13=\"z\",\"\",IF(JB6=1,\"P\",\"\")))),\"\")","v":""},{"$f":"IF(JC16=\"p\",IF(JC9=\"v\",\"\",IF(JC7=1,\"\",IF(JC13=\"z\",\"\",IF(JC6=1,\"P\",\"\")))),\"\")","v":""},{"$f":"IF(JD16=\"p\",IF(JD9=\"v\",\"\",IF(JD7=1,\"\",IF(JD13=\"z\",\"\",IF(JD6=1,\"P\",\"\")))),\"\")","v":""},{"$f":"IF(JE16=\"p\",IF(JE9=\"v\",\"\",IF(JE7=1,\"\",IF(JE13=\"z\",\"\",IF(JE6=1,\"P\",\"\")))),\"\")","v":""},{"$f":"IF(JF16=\"p\",IF(JF9=\"v\",\"\",IF(JF7=1,\"\",IF(JF13=\"z\",\"\",IF(JF6=1,\"P\",\"\")))),\"\")","v":""},{"$f":"IF(JG16=\"p\",IF(JG9=\"v\",\"\",IF(JG7=1,\"\",IF(JG13=\"z\",\"\",IF(JG6=1,\"P\",\"\")))),\"\")","v":""},{"$f":"IF(JH16=\"p\",IF(JH9=\"v\",\"\",IF(JH7=1,\"\",IF(JH13=\"z\",\"\",IF(JH6=1,\"P\",\"\")))),\"\")","v":""},{"$f":"IF(JI16=\"p\",IF(JI9=\"v\",\"\",IF(JI7=1,\"\",IF(JI13=\"z\",\"\",IF(JI6=1,\"P\",\"\")))),\"\")","v":""},{"$f":"IF(JJ16=\"p\",IF(JJ9=\"v\",\"\",IF(JJ7=1,\"\",IF(JJ13=\"z\",\"\",IF(JJ6=1,\"P\",\"\")))),\"\")","v":""},{"$f":"IF(JK16=\"p\",IF(JK9=\"v\",\"\",IF(JK7=1,\"\",IF(JK13=\"z\",\"\",IF(JK6=1,\"P\",\"\")))),\"\")","v":""},{"$f":"IF(JL16=\"p\",IF(JL9=\"v\",\"\",IF(JL7=1,\"\",IF(JL13=\"z\",\"\",IF(JL6=1,\"P\",\"\")))),\"\")","v":""},{"$f":"IF(JM16=\"p\",IF(JM9=\"v\",\"\",IF(JM7=1,\"\",IF(JM13=\"z\",\"\",IF(JM6=1,\"P\",\"\")))),\"\")","v":""},{"$f":"IF(JN16=\"p\",IF(JN9=\"v\",\"\",IF(JN7=1,\"\",IF(JN13=\"z\",\"\",IF(JN6=1,\"P\",\"\")))),\"\")","v":""},{"$f":"IF(JO16=\"p\",IF(JO9=\"v\",\"\",IF(JO7=1,\"\",IF(JO13=\"z\",\"\",IF(JO6=1,\"P\",\"\")))),\"\")","v":""},{"$f":"IF(JP16=\"p\",IF(JP9=\"v\",\"\",IF(JP7=1,\"\",IF(JP13=\"z\",\"\",IF(JP6=1,\"P\",\"\")))),\"\")","v":""},{"$f":"IF(JQ16=\"p\",IF(JQ9=\"v\",\"\",IF(JQ7=1,\"\",IF(JQ13=\"z\",\"\",IF(JQ6=1,\"P\",\"\")))),\"\")","v":""},{"$f":"IF(JR16=\"p\",IF(JR9=\"v\",\"\",IF(JR7=1,\"\",IF(JR13=\"z\",\"\",IF(JR6=1,\"P\",\"\")))),\"\")","v":""},{"$f":"IF(JS16=\"p\",IF(JS9=\"v\",\"\",IF(JS7=1,\"\",IF(JS13=\"z\",\"\",IF(JS6=1,\"P\",\"\")))),\"\")","v":""},{"$f":"IF(JT16=\"p\",IF(JT9=\"v\",\"\",IF(JT7=1,\"\",IF(JT13=\"z\",\"\",IF(JT6=1,\"P\",\"\")))),\"\")","v":""},{"$f":"IF(JU16=\"p\",IF(JU9=\"v\",\"\",IF(JU7=1,\"\",IF(JU13=\"z\",\"\",IF(JU6=1,\"P\",\"\")))),\"\")","v":""},{"$f":"IF(JV16=\"p\",IF(JV9=\"v\",\"\",IF(JV7=1,\"\",IF(JV13=\"z\",\"\",IF(JV6=1,\"P\",\"\")))),\"\")","v":""},{"$f":"IF(JW16=\"p\",IF(JW9=\"v\",\"\",IF(JW7=1,\"\",IF(JW13=\"z\",\"\",IF(JW6=1,\"P\",\"\")))),\"\")","v":""},{"$f":"IF(JX16=\"p\",IF(JX9=\"v\",\"\",IF(JX7=1,\"\",IF(JX13=\"z\",\"\",IF(JX6=1,\"P\",\"\")))),\"\")","v":""},{"$f":"IF(JY16=\"p\",IF(JY9=\"v\",\"\",IF(JY7=1,\"\",IF(JY13=\"z\",\"\",IF(JY6=1,\"P\",\"\")))),\"\")","v":""},{"$f":"IF(JZ16=\"p\",IF(JZ9=\"v\",\"\",IF(JZ7=1,\"\",IF(JZ13=\"z\",\"\",IF(JZ6=1,\"P\",\"\")))),\"\")","v":""},{"$f":"IF(KA16=\"p\",IF(KA9=\"v\",\"\",IF(KA7=1,\"\",IF(KA13=\"z\",\"\",IF(KA6=1,\"P\",\"\")))),\"\")","v":""},{"$f":"IF(KB16=\"p\",IF(KB9=\"v\",\"\",IF(KB7=1,\"\",IF(KB13=\"z\",\"\",IF(KB6=1,\"P\",\"\")))),\"\")","v":""},{"$f":"IF(KC16=\"p\",IF(KC9=\"v\",\"\",IF(KC7=1,\"\",IF(KC13=\"z\",\"\",IF(KC6=1,\"P\",\"\")))),\"\")","v":""},{"$f":"IF(KD16=\"p\",IF(KD9=\"v\",\"\",IF(KD7=1,\"\",IF(KD13=\"z\",\"\",IF(KD6=1,\"P\",\"\")))),\"\")","v":""},{"$f":"IF(KE16=\"p\",IF(KE9=\"v\",\"\",IF(KE7=1,\"\",IF(KE13=\"z\",\"\",IF(KE6=1,\"P\",\"\")))),\"\")","v":""},{"$f":"IF(KF16=\"p\",IF(KF9=\"v\",\"\",IF(KF7=1,\"\",IF(KF13=\"z\",\"\",IF(KF6=1,\"P\",\"\")))),\"\")","v":""},{"$f":"IF(KG16=\"p\",IF(KG9=\"v\",\"\",IF(KG7=1,\"\",IF(KG13=\"z\",\"\",IF(KG6=1,\"P\",\"\")))),\"\")","v":""},{"$f":"IF(KH16=\"p\",IF(KH9=\"v\",\"\",IF(KH7=1,\"\",IF(KH13=\"z\",\"\",IF(KH6=1,\"P\",\"\")))),\"\")","v":""},{"$f":"IF(KI16=\"p\",IF(KI9=\"v\",\"\",IF(KI7=1,\"\",IF(KI13=\"z\",\"\",IF(KI6=1,\"P\",\"\")))),\"\")","v":""},{"$f":"IF(KJ16=\"p\",IF(KJ9=\"v\",\"\",IF(KJ7=1,\"\",IF(KJ13=\"z\",\"\",IF(KJ6=1,\"P\",\"\")))),\"\")","v":""},{"$f":"IF(KK16=\"p\",IF(KK9=\"v\",\"\",IF(KK7=1,\"\",IF(KK13=\"z\",\"\",IF(KK6=1,\"P\",\"\")))),\"\")","v":""},{"$f":"IF(KL16=\"p\",IF(KL9=\"v\",\"\",IF(KL7=1,\"\",IF(KL13=\"z\",\"\",IF(KL6=1,\"P\",\"\")))),\"\")","v":""},{"$f":"IF(KM16=\"p\",IF(KM9=\"v\",\"\",IF(KM7=1,\"\",IF(KM13=\"z\",\"\",IF(KM6=1,\"P\",\"\")))),\"\")","v":""},{"$f":"IF(KN16=\"p\",IF(KN9=\"v\",\"\",IF(KN7=1,\"\",IF(KN13=\"z\",\"\",IF(KN6=1,\"P\",\"\")))),\"\")","v":""},{"$f":"IF(KO16=\"p\",IF(KO9=\"v\",\"\",IF(KO7=1,\"\",IF(KO13=\"z\",\"\",IF(KO6=1,\"P\",\"\")))),\"\")","v":""},{"$f":"IF(KP16=\"p\",IF(KP9=\"v\",\"\",IF(KP7=1,\"\",IF(KP13=\"z\",\"\",IF(KP6=1,\"P\",\"\")))),\"\")","v":""},{"$f":"IF(KQ16=\"p\",IF(KQ9=\"v\",\"\",IF(KQ7=1,\"\",IF(KQ13=\"z\",\"\",IF(KQ6=1,\"P\",\"\")))),\"\")","v":""},{"$f":"IF(KR16=\"p\",IF(KR9=\"v\",\"\",IF(KR7=1,\"\",IF(KR13=\"z\",\"\",IF(KR6=1,\"P\",\"\")))),\"\")","v":""},{"$f":"IF(KS16=\"p\",IF(KS9=\"v\",\"\",IF(KS7=1,\"\",IF(KS13=\"z\",\"\",IF(KS6=1,\"P\",\"\")))),\"\")","v":""},{"$f":"IF(KT16=\"p\",IF(KT9=\"v\",\"\",IF(KT7=1,\"\",IF(KT13=\"z\",\"\",IF(KT6=1,\"P\",\"\")))),\"\")","v":""},{"$f":"IF(KU16=\"p\",IF(KU9=\"v\",\"\",IF(KU7=1,\"\",IF(KU13=\"z\",\"\",IF(KU6=1,\"P\",\"\")))),\"\")","v":""},{"$f":"IF(KV16=\"p\",IF(KV9=\"v\",\"\",IF(KV7=1,\"\",IF(KV13=\"z\",\"\",IF(KV6=1,\"P\",\"\")))),\"\")","v":""},{"$f":"IF(KW16=\"p\",IF(KW9=\"v\",\"\",IF(KW7=1,\"\",IF(KW13=\"z\",\"\",IF(KW6=1,\"P\",\"\")))),\"\")","v":""},{"$f":"IF(KX16=\"p\",IF(KX9=\"v\",\"\",IF(KX7=1,\"\",IF(KX13=\"z\",\"\",IF(KX6=1,\"P\",\"\")))),\"\")","v":""},{"$f":"IF(KY16=\"p\",IF(KY9=\"v\",\"\",IF(KY7=1,\"\",IF(KY13=\"z\",\"\",IF(KY6=1,\"P\",\"\")))),\"\")","v":""},{"$f":"IF(KZ16=\"p\",IF(KZ9=\"v\",\"\",IF(KZ7=1,\"\",IF(KZ13=\"z\",\"\",IF(KZ6=1,\"P\",\"\")))),\"\")","v":""},{"$f":"IF(LA16=\"p\",IF(LA9=\"v\",\"\",IF(LA7=1,\"\",IF(LA13=\"z\",\"\",IF(LA6=1,\"P\",\"\")))),\"\")","v":""},{"$f":"IF(LB16=\"p\",IF(LB9=\"v\",\"\",IF(LB7=1,\"\",IF(LB13=\"z\",\"\",IF(LB6=1,\"P\",\"\")))),\"\")","v":""},{"$f":"IF(LC16=\"p\",IF(LC9=\"v\",\"\",IF(LC7=1,\"\",IF(LC13=\"z\",\"\",IF(LC6=1,\"P\",\"\")))),\"\")","v":""},{"$f":"IF(LD16=\"p\",IF(LD9=\"v\",\"\",IF(LD7=1,\"\",IF(LD13=\"z\",\"\",IF(LD6=1,\"P\",\"\")))),\"\")","v":""},{"$f":"IF(LE16=\"p\",IF(LE9=\"v\",\"\",IF(LE7=1,\"\",IF(LE13=\"z\",\"\",IF(LE6=1,\"P\",\"\")))),\"\")","v":""},{"$f":"IF(LF16=\"p\",IF(LF9=\"v\",\"\",IF(LF7=1,\"\",IF(LF13=\"z\",\"\",IF(LF6=1,\"P\",\"\")))),\"\")","v":""},{"$f":"IF(LG16=\"p\",IF(LG9=\"v\",\"\",IF(LG7=1,\"\",IF(LG13=\"z\",\"\",IF(LG6=1,\"P\",\"\")))),\"\")","v":""},{"$f":"IF(LH16=\"p\",IF(LH9=\"v\",\"\",IF(LH7=1,\"\",IF(LH13=\"z\",\"\",IF(LH6=1,\"P\",\"\")))),\"\")","v":""},{"$f":"IF(LI16=\"p\",IF(LI9=\"v\",\"\",IF(LI7=1,\"\",IF(LI13=\"z\",\"\",IF(LI6=1,\"P\",\"\")))),\"\")","v":""},{"$f":"IF(LJ16=\"p\",IF(LJ9=\"v\",\"\",IF(LJ7=1,\"\",IF(LJ13=\"z\",\"\",IF(LJ6=1,\"P\",\"\")))),\"\")","v":""},{"$f":"IF(LK16=\"p\",IF(LK9=\"v\",\"\",IF(LK7=1,\"\",IF(LK13=\"z\",\"\",IF(LK6=1,\"P\",\"\")))),\"\")","v":""},{"$f":"IF(LL16=\"p\",IF(LL9=\"v\",\"\",IF(LL7=1,\"\",IF(LL13=\"z\",\"\",IF(LL6=1,\"P\",\"\")))),\"\")","v":""},{"$f":"IF(LM16=\"p\",IF(LM9=\"v\",\"\",IF(LM7=1,\"\",IF(LM13=\"z\",\"\",IF(LM6=1,\"P\",\"\")))),\"\")","v":""},{"$f":"IF(LN16=\"p\",IF(LN9=\"v\",\"\",IF(LN7=1,\"\",IF(LN13=\"z\",\"\",IF(LN6=1,\"P\",\"\")))),\"\")","v":""},{"$f":"IF(LO16=\"p\",IF(LO9=\"v\",\"\",IF(LO7=1,\"\",IF(LO13=\"z\",\"\",IF(LO6=1,\"P\",\"\")))),\"\")","v":""},{"$f":"IF(LP16=\"p\",IF(LP9=\"v\",\"\",IF(LP7=1,\"\",IF(LP13=\"z\",\"\",IF(LP6=1,\"P\",\"\")))),\"\")","v":""},{"$f":"IF(LQ16=\"p\",IF(LQ9=\"v\",\"\",IF(LQ7=1,\"\",IF(LQ13=\"z\",\"\",IF(LQ6=1,\"P\",\"\")))),\"\")","v":""},{"$f":"IF(LR16=\"p\",IF(LR9=\"v\",\"\",IF(LR7=1,\"\",IF(LR13=\"z\",\"\",IF(LR6=1,\"P\",\"\")))),\"\")","v":""},{"$f":"IF(LS16=\"p\",IF(LS9=\"v\",\"\",IF(LS7=1,\"\",IF(LS13=\"z\",\"\",IF(LS6=1,\"P\",\"\")))),\"\")","v":""},{"$f":"IF(LT16=\"p\",IF(LT9=\"v\",\"\",IF(LT7=1,\"\",IF(LT13=\"z\",\"\",IF(LT6=1,\"P\",\"\")))),\"\")","v":""},{"$f":"IF(LU16=\"p\",IF(LU9=\"v\",\"\",IF(LU7=1,\"\",IF(LU13=\"z\",\"\",IF(LU6=1,\"P\",\"\")))),\"\")","v":""},{"$f":"IF(LV16=\"p\",IF(LV9=\"v\",\"\",IF(LV7=1,\"\",IF(LV13=\"z\",\"\",IF(LV6=1,\"P\",\"\")))),\"\")","v":""},{"$f":"IF(LW16=\"p\",IF(LW9=\"v\",\"\",IF(LW7=1,\"\",IF(LW13=\"z\",\"\",IF(LW6=1,\"P\",\"\")))),\"\")","v":""},{"$f":"IF(LX16=\"p\",IF(LX9=\"v\",\"\",IF(LX7=1,\"\",IF(LX13=\"z\",\"\",IF(LX6=1,\"P\",\"\")))),\"\")","v":""},{"$f":"IF(LY16=\"p\",IF(LY9=\"v\",\"\",IF(LY7=1,\"\",IF(LY13=\"z\",\"\",IF(LY6=1,\"P\",\"\")))),\"\")","v":""},{"$f":"IF(LZ16=\"p\",IF(LZ9=\"v\",\"\",IF(LZ7=1,\"\",IF(LZ13=\"z\",\"\",IF(LZ6=1,\"P\",\"\")))),\"\")","v":""},{"$f":"IF(MA16=\"p\",IF(MA9=\"v\",\"\",IF(MA7=1,\"\",IF(MA13=\"z\",\"\",IF(MA6=1,\"P\",\"\")))),\"\")","v":""},{"$f":"IF(MB16=\"p\",IF(MB9=\"v\",\"\",IF(MB7=1,\"\",IF(MB13=\"z\",\"\",IF(MB6=1,\"P\",\"\")))),\"\")","v":""},{"$f":"IF(MC16=\"p\",IF(MC9=\"v\",\"\",IF(MC7=1,\"\",IF(MC13=\"z\",\"\",IF(MC6=1,\"P\",\"\")))),\"\")","v":""},{"$f":"IF(MD16=\"p\",IF(MD9=\"v\",\"\",IF(MD7=1,\"\",IF(MD13=\"z\",\"\",IF(MD6=1,\"P\",\"\")))),\"\")","v":""},{"$f":"IF(ME16=\"p\",IF(ME9=\"v\",\"\",IF(ME7=1,\"\",IF(ME13=\"z\",\"\",IF(ME6=1,\"P\",\"\")))),\"\")","v":""},{"$f":"IF(MF16=\"p\",IF(MF9=\"v\",\"\",IF(MF7=1,\"\",IF(MF13=\"z\",\"\",IF(MF6=1,\"P\",\"\")))),\"\")","v":""},{"$f":"IF(MG16=\"p\",IF(MG9=\"v\",\"\",IF(MG7=1,\"\",IF(MG13=\"z\",\"\",IF(MG6=1,\"P\",\"\")))),\"\")","v":""},{"$f":"IF(MH16=\"p\",IF(MH9=\"v\",\"\",IF(MH7=1,\"\",IF(MH13=\"z\",\"\",IF(MH6=1,\"P\",\"\")))),\"\")","v":""},{"$f":"IF(MI16=\"p\",IF(MI9=\"v\",\"\",IF(MI7=1,\"\",IF(MI13=\"z\",\"\",IF(MI6=1,\"P\",\"\")))),\"\")","v":""},{"$f":"IF(MJ16=\"p\",IF(MJ9=\"v\",\"\",IF(MJ7=1,\"\",IF(MJ13=\"z\",\"\",IF(MJ6=1,\"P\",\"\")))),\"\")","v":""},{"$f":"IF(MK16=\"p\",IF(MK9=\"v\",\"\",IF(MK7=1,\"\",IF(MK13=\"z\",\"\",IF(MK6=1,\"P\",\"\")))),\"\")","v":""},{"$f":"IF(ML16=\"p\",IF(ML9=\"v\",\"\",IF(ML7=1,\"\",IF(ML13=\"z\",\"\",IF(ML6=1,\"P\",\"\")))),\"\")","v":""},{"$f":"IF(MM16=\"p\",IF(MM9=\"v\",\"\",IF(MM7=1,\"\",IF(MM13=\"z\",\"\",IF(MM6=1,\"P\",\"\")))),\"\")","v":""},{"$f":"IF(MN16=\"p\",IF(MN9=\"v\",\"\",IF(MN7=1,\"\",IF(MN13=\"z\",\"\",IF(MN6=1,\"P\",\"\")))),\"\")","v":""},{"$f":"IF(MO16=\"p\",IF(MO9=\"v\",\"\",IF(MO7=1,\"\",IF(MO13=\"z\",\"\",IF(MO6=1,\"P\",\"\")))),\"\")","v":""},{"$f":"IF(MP16=\"p\",IF(MP9=\"v\",\"\",IF(MP7=1,\"\",IF(MP13=\"z\",\"\",IF(MP6=1,\"P\",\"\")))),\"\")","v":""},{"$f":"IF(MQ16=\"p\",IF(MQ9=\"v\",\"\",IF(MQ7=1,\"\",IF(MQ13=\"z\",\"\",IF(MQ6=1,\"P\",\"\")))),\"\")","v":""},{"$f":"IF(MR16=\"p\",IF(MR9=\"v\",\"\",IF(MR7=1,\"\",IF(MR13=\"z\",\"\",IF(MR6=1,\"P\",\"\")))),\"\")","v":""},{"$f":"IF(MS16=\"p\",IF(MS9=\"v\",\"\",IF(MS7=1,\"\",IF(MS13=\"z\",\"\",IF(MS6=1,\"P\",\"\")))),\"\")","v":""},{"$f":"IF(MT16=\"p\",IF(MT9=\"v\",\"\",IF(MT7=1,\"\",IF(MT13=\"z\",\"\",IF(MT6=1,\"P\",\"\")))),\"\")","v":""},{"$f":"IF(MU16=\"p\",IF(MU9=\"v\",\"\",IF(MU7=1,\"\",IF(MU13=\"z\",\"\",IF(MU6=1,\"P\",\"\")))),\"\")","v":""},{"$f":"IF(MV16=\"p\",IF(MV9=\"v\",\"\",IF(MV7=1,\"\",IF(MV13=\"z\",\"\",IF(MV6=1,\"P\",\"\")))),\"\")","v":""},{"$f":"IF(MW16=\"p\",IF(MW9=\"v\",\"\",IF(MW7=1,\"\",IF(MW13=\"z\",\"\",IF(MW6=1,\"P\",\"\")))),\"\")","v":""},{"$f":"IF(MX16=\"p\",IF(MX9=\"v\",\"\",IF(MX7=1,\"\",IF(MX13=\"z\",\"\",IF(MX6=1,\"P\",\"\")))),\"\")","v":""},{"$f":"IF(MY16=\"p\",IF(MY9=\"v\",\"\",IF(MY7=1,\"\",IF(MY13=\"z\",\"\",IF(MY6=1,\"P\",\"\")))),\"\")","v":""},{"$f":"IF(MZ16=\"p\",IF(MZ9=\"v\",\"\",IF(MZ7=1,\"\",IF(MZ13=\"z\",\"\",IF(MZ6=1,\"P\",\"\")))),\"\")","v":""},{"$f":"IF(NA16=\"p\",IF(NA9=\"v\",\"\",IF(NA7=1,\"\",IF(NA13=\"z\",\"\",IF(NA6=1,\"P\",\"\")))),\"\")","v":""},{"$f":"IF(NB16=\"p\",IF(NB9=\"v\",\"\",IF(NB7=1,\"\",IF(NB13=\"z\",\"\",IF(NB6=1,\"P\",\"\")))),\"\")","v":""},{"$f":"IF(NC16=\"p\",IF(NC9=\"v\",\"\",IF(NC7=1,\"\",IF(NC13=\"z\",\"\",IF(NC6=1,\"P\",\"\")))),\"\")","v":""},{"$f":"IF(ND16=\"p\",IF(ND9=\"v\",\"\",IF(ND7=1,\"\",IF(ND13=\"z\",\"\",IF(ND6=1,\"P\",\"\")))),\"\")","v":""},{"$f":"IF(NE16=\"p\",IF(NE9=\"v\",\"\",IF(NE7=1,\"\",IF(NE13=\"z\",\"\",IF(NE6=1,\"P\",\"\")))),\"\")","v":""},{"$f":"IF(NF16=\"p\",IF(NF9=\"v\",\"\",IF(NF7=1,\"\",IF(NF13=\"z\",\"\",IF(NF6=1,\"P\",\"\")))),\"\")","v":""},{"$f":"IF(NG16=\"p\",IF(NG9=\"v\",\"\",IF(NG7=1,\"\",IF(NG13=\"z\",\"\",IF(NG6=1,\"P\",\"\")))),\"\")","v":""},{"$f":"IF(NH16=\"p\",IF(NH9=\"v\",\"\",IF(NH7=1,\"\",IF(NH13=\"z\",\"\",IF(NH6=1,\"P\",\"\")))),\"\")","v":""},{"$f":"IF(NI16=\"p\",IF(NI9=\"v\",\"\",IF(NI7=1,\"\",IF(NI13=\"z\",\"\",IF(NI6=1,\"P\",\"\")))),\"\")","v":""},{"$f":"IF(NJ16=\"p\",IF(NJ9=\"v\",\"\",IF(NJ7=1,\"\",IF(NJ13=\"z\",\"\",IF(NJ6=1,\"P\",\"\")))),\"\")","v":""}]
[null,8,"2019-12-24","2019-12-31",null,"2019-04-22",null,"Pitkien poissaolojen määrä",{"$f":"COUNTIF(J16:NJ16,\"p\")","v":0}]
[null,"",null,null,null,"2019-05-01",null,"Lyhyet poissaolot (L). Eivät vaikuta tuntimääriin eikä päiviin",{"$f":"COUNTIF(J17:NJ17,\"L\")","v":0},{"$f":"TAS!$R$8","v":0},{"$f":"TAS!$AB$8","v":0},{"$f":"TAS!$AL$8","v":0},{"$f":"TAS!$AV$8","v":0},{"$f":"TAS!$BF$8","v":0},{"$f":"TAS!$BP$8","v":0},{"$f":"TAS!$BZ$8","v":0},{"$f":"TAS!$CJ$8","v":0},{"$f":"TAS!$CT$8","v":0},{"$f":"TAS!$DD$8","v":0},{"$f":"TAS!$DN$8","v":0},{"$f":"TAS!$DX$8","v":0},{"$f":"TAS!$EH$8","v":0},{"$f":"TAS!$ER$8","v":0},{"$f":"TAS!$FB$8","v":0},{"$f":"TAS!$FL$8","v":0},{"$f":"TAS!$FV$8","v":0},{"$f":"TAS!$GF$8","v":0},{"$f":"TAS!$GP$8","v":0},{"$f":"TAS!$GZ$8","v":0},{"$f":"TAS!$HJ$8","v":0},{"$f":"TAS!$HT$8","v":0},{"$f":"TAS!$ID$8","v":0},{"$f":"TAS!$IN$8","v":0},{"$f":"TAS!$IX$8","v":0},{"$f":"TAS!$JH$8","v":0},{"$f":"TAS!$JR$8","v":0},{"$f":"TAS!$KB$8","v":0},{"$f":"TAS!$KL$8","v":0},{"$f":"TAS!$KV$8","v":0},{"$f":"TAS!$LF$8","v":0},{"$f":"TAS!$LP$8","v":0},{"$f":"TAS!$LZ$8","v":0},{"$f":"TAS!$MJ$8","v":0},{"$f":"TAS!$MT$8","v":0},{"$f":"TAS!$ND$8","v":0},{"$f":"TAS!$NN$8","v":0},{"$f":"TAS!$NX$8","v":0},{"$f":"TAS!$OH$8","v":0},{"$f":"TAS!$OR$8","v":0},{"$f":"TAS!$PB$8","v":0},{"$f":"TAS!$PL$8","v":0},{"$f":"TAS!$PV$8","v":0},{"$f":"TAS!$QF$8","v":0},{"$f":"TAS!$QP$8","v":0},{"$f":"TAS!$QZ$8","v":0},{"$f":"TAS!$RJ$8","v":0},{"$f":"TAS!$RT$8","v":0},{"$f":"TAS!$SD$8","v":0},{"$f":"TAS!$SN$8","v":0},{"$f":"TAS!$SX$8","v":0},{"$f":"TAS!$TH$8","v":0},{"$f":"TAS!$TR$8","v":0},{"$f":"TAS!$UB$8","v":0},{"$f":"TAS!$UL$8","v":0},{"$f":"TAS!$UV$8","v":0},{"$f":"TAS!$VF$8","v":0},{"$f":"TAS!$VP$8","v":0},{"$f":"TAS!$VZ$8","v":0},{"$f":"TAS!$WJ$8","v":0},{"$f":"TAS!$WT$8","v":0},{"$f":"TAS!$XD$8","v":0},{"$f":"TAS!$XN$8","v":0},{"$f":"TAS!$XX$8","v":0},{"$f":"TAS!$YH$8","v":0},{"$f":"TAS!$YR$8","v":0},{"$f":"TAS!$ZB$8","v":0},{"$f":"TAS!$ZL$8","v":0},{"$f":"TAS!$ZV$8","v":0},{"$f":"TAS!$AAF$8","v":0},{"$f":"TAS!$AAP$8","v":0},{"$f":"TAS!$AAZ$8","v":0},{"$f":"TAS!$ABJ$8","v":0},{"$f":"TAS!$ABT$8","v":0},{"$f":"TAS!$ACD$8","v":0},{"$f":"TAS!$ACN$8","v":0},{"$f":"TAS!$ACX$8","v":0},{"$f":"TAS!$ADH$8","v":0},{"$f":"TAS!$ADR$8","v":0},{"$f":"TAS!$AEB$8","v":0},{"$f":"TAS!$AEL$8","v":0},{"$f":"TAS!$AEV$8","v":0},{"$f":"TAS!$AFF$8","v":0},{"$f":"TAS!$AFP$8","v":0},{"$f":"TAS!$AFZ$8","v":0},{"$f":"TAS!$AGJ$8","v":0},{"$f":"TAS!$AGT$8","v":0},{"$f":"TAS!$AHD$8","v":0},{"$f":"TAS!$AHN$8","v":0},{"$f":"TAS!$AHX$8","v":0},{"$f":"TAS!$AIH$8","v":0},{"$f":"TAS!$AIR$8","v":0},{"$f":"TAS!$AJB$8","v":0},{"$f":"TAS!$AJL$8","v":0},{"$f":"TAS!$AJV$8","v":0},{"$f":"TAS!$AKF$8","v":0},{"$f":"TAS!$AKP$8","v":0},{"$f":"TAS!$AKZ$8","v":0},{"$f":"TAS!$ALJ$8","v":0},{"$f":"TAS!$ALT$8","v":0},{"$f":"TAS!$AMD$8","v":0},{"$f":"TAS!$AMN$8","v":0},{"$f":"TAS!$AMX$8","v":0},{"$f":"TAS!$ANH$8","v":0},{"$f":"TAS!$ANR$8","v":0},{"$f":"TAS!$AOB$8","v":0},{"$f":"TAS!$AOL$8","v":0},{"$f":"TAS!$AOV$8","v":0},{"$f":"TAS!$APF$8","v":0},{"$f":"TAS!$APP$8","v":0},{"$f":"TAS!$APZ$8","v":0},{"$f":"TAS!$AQJ$8","v":0},{"$f":"TAS!$AQT$8","v":0},{"$f":"TAS!$ARD$8","v":0},{"$f":"TAS!$ARN$8","v":0},{"$f":"TAS!$ARX$8","v":0},{"$f":"TAS!$ASH$8","v":0},{"$f":"TAS!$ASR$8","v":0},{"$f":"TAS!$ATB$8","v":0},{"$f":"TAS!$ATL$8","v":0},{"$f":"TAS!$ATV$8","v":0},{"$f":"TAS!$AUF$8","v":0},{"$f":"TAS!$AUP$8","v":0},{"$f":"TAS!$AUZ$8","v":0},{"$f":"TAS!$AVJ$8","v":0},{"$f":"TAS!$AVT$8","v":0},{"$f":"TAS!$AWD$8","v":0},{"$f":"TAS!$AWN$8","v":0},{"$f":"TAS!$AWX$8","v":0},{"$f":"TAS!$AXH$8","v":0},{"$f":"TAS!$AXR$8","v":0},{"$f":"TAS!$AYB$8","v":0},{"$f":"TAS!$AYL$8","v":0},{"$f":"TAS!$AYV$8","v":0},{"$f":"TAS!$AZF$8","v":0},{"$f":"TAS!$AZP$8","v":0},{"$f":"TAS!$AZZ$8","v":0},{"$f":"TAS!$BAJ$8","v":0},{"$f":"TAS!$BAT$8","v":0},{"$f":"TAS!$BBD$8","v":0},{"$f":"TAS!$BBN$8","v":0},{"$f":"TAS!$BBX$8","v":0},{"$f":"TAS!$BCH$8","v":0},{"$f":"TAS!$BCR$8","v":0},{"$f":"TAS!$BDB$8","v":0},{"$f":"TAS!$BDL$8","v":0},{"$f":"TAS!$BDV$8","v":0},{"$f":"TAS!$BEF$8","v":0},{"$f":"TAS!$BEP$8","v":0},{"$f":"TAS!$BEZ$8","v":0},{"$f":"TAS!$BFJ$8","v":0},{"$f":"TAS!$BFT$8","v":0},{"$f":"TAS!$BGD$8","v":0},{"$f":"TAS!$BGN$8","v":0},{"$f":"TAS!$BGX$8","v":0},{"$f":"TAS!$BHH$8","v":0},{"$f":"TAS!$BHR$8","v":0},{"$f":"TAS!$BIB$8","v":0},{"$f":"TAS!$BIL$8","v":0},{"$f":"TAS!$BIV$8","v":0},{"$f":"TAS!$BJF$8","v":0},{"$f":"TAS!$BJP$8","v":0},{"$f":"TAS!$BJZ$8","v":0},{"$f":"TAS!$BKJ$8","v":0},{"$f":"TAS!$BKT$8","v":0},{"$f":"TAS!$BLD$8","v":0},{"$f":"TAS!$BLN$8","v":0},{"$f":"TAS!$BLX$8","v":0},{"$f":"TAS!$BMH$8","v":0},{"$f":"TAS!$BMR$8","v":0},{"$f":"TAS!$BNB$8","v":0},{"$f":"TAS!$BNL$8","v":0},{"$f":"TAS!$BNV$8","v":0},{"$f":"TAS!$BOF$8","v":0},{"$f":"TAS!$BOP$8","v":0},{"$f":"TAS!$BOZ$8","v":0},{"$f":"TAS!$BPJ$8","v":0},{"$f":"TAS!$BPT$8","v":0},{"$f":"TAS!$BQD$8","v":0},{"$f":"TAS!$BQN$8","v":0},{"$f":"TAS!$BQX$8","v":0},{"$f":"TAS!$BRH$8","v":0},{"$f":"TAS!$BRR$8","v":0},{"$f":"TAS!$BSB$8","v":0},{"$f":"TAS!$BSL$8","v":0},{"$f":"TAS!$BSV$8","v":0},{"$f":"TAS!$BTF$8","v":0},{"$f":"TAS!$BTP$8","v":0},{"$f":"TAS!$BTZ$8","v":0},{"$f":"TAS!$BUJ$8","v":0},{"$f":"TAS!$BUT$8","v":0},{"$f":"TAS!$BVD$8","v":0},{"$f":"TAS!$BVN$8","v":0},{"$f":"TAS!$BVX$8","v":0},{"$f":"TAS!$BWH$8","v":0},{"$f":"TAS!$BWR$8","v":0},{"$f":"TAS!$BXB$8","v":0},{"$f":"TAS!$BXL$8","v":0},{"$f":"TAS!$BXV$8","v":0},{"$f":"TAS!$BYF$8","v":0},{"$f":"TAS!$BYP$8","v":0},{"$f":"TAS!$BYZ$8","v":0},{"$f":"TAS!$BZJ$8","v":0},{"$f":"TAS!$BZT$8","v":0},{"$f":"TAS!$CAD$8","v":0},{"$f":"TAS!$CAN$8","v":0},{"$f":"TAS!$CAX$8","v":0},{"$f":"TAS!$CBH$8","v":0},{"$f":"TAS!$CBR$8","v":0},{"$f":"TAS!$CCB$8","v":0},{"$f":"TAS!$CCL$8","v":0},{"$f":"TAS!$CCV$8","v":0},{"$f":"TAS!$CDF$8","v":0},{"$f":"TAS!$CDP$8","v":0},{"$f":"TAS!$CDZ$8","v":0},{"$f":"TAS!$CEJ$8","v":0},{"$f":"TAS!$CET$8","v":0},{"$f":"TAS!$CFD$8","v":0},{"$f":"TAS!$CFN$8","v":0},{"$f":"TAS!$CFX$8","v":0},{"$f":"TAS!$CGH$8","v":0},{"$f":"TAS!$CGR$8","v":0},{"$f":"TAS!$CHB$8","v":0},{"$f":"TAS!$CHL$8","v":0},{"$f":"TAS!$CHV$8","v":0},{"$f":"TAS!$CIF$8","v":0},{"$f":"TAS!$CIP$8","v":0},{"$f":"TAS!$CIZ$8","v":0},{"$f":"TAS!$CJJ$8","v":0},{"$f":"TAS!$CJT$8","v":0},{"$f":"TAS!$CKD$8","v":0},{"$f":"TAS!$CKN$8","v":0},{"$f":"TAS!$CKX$8","v":0},{"$f":"TAS!$CLH$8","v":0},{"$f":"TAS!$CLR$8","v":0},{"$f":"TAS!$CMB$8","v":0},{"$f":"TAS!$CML$8","v":0},{"$f":"TAS!$CMV$8","v":0},{"$f":"TAS!$CNF$8","v":0},{"$f":"TAS!$CNP$8","v":0},{"$f":"TAS!$CNZ$8","v":0},{"$f":"TAS!$COJ$8","v":0},{"$f":"TAS!$COT$8","v":0},{"$f":"TAS!$CPD$8","v":0},{"$f":"TAS!$CPN$8","v":0},{"$f":"TAS!$CPX$8","v":0},{"$f":"TAS!$CQH$8","v":0},{"$f":"TAS!$CQR$8","v":0},{"$f":"TAS!$CRB$8","v":0},{"$f":"TAS!$CRL$8","v":0},{"$f":"TAS!$CRV$8","v":0},{"$f":"TAS!$CSF$8","v":0},{"$f":"TAS!$CSP$8","v":0},{"$f":"TAS!$CSZ$8","v":0},{"$f":"TAS!$CTJ$8","v":0},{"$f":"TAS!$CTT$8","v":0},{"$f":"TAS!$CUD$8","v":0},{"$f":"TAS!$CUN$8","v":0},{"$f":"TAS!$CUX$8","v":0},{"$f":"TAS!$CVH$8","v":0},{"$f":"TAS!$CVR$8","v":0},{"$f":"TAS!$CWB$8","v":0},{"$f":"TAS!$CWL$8","v":0},{"$f":"TAS!$CWV$8","v":0},{"$f":"TAS!$CXF$8","v":0},{"$f":"TAS!$CXP$8","v":0},{"$f":"TAS!$CXZ$8","v":0},{"$f":"TAS!$CYJ$8","v":0},{"$f":"TAS!$CYT$8","v":0},{"$f":"TAS!$CZD$8","v":0},{"$f":"TAS!$CZN$8","v":0},{"$f":"TAS!$CZX$8","v":0},{"$f":"TAS!$DAH$8","v":0},{"$f":"TAS!$DAR$8","v":0},{"$f":"TAS!$DBB$8","v":0},{"$f":"TAS!$DBL$8","v":0},{"$f":"TAS!$DBV$8","v":0},{"$f":"TAS!$DCF$8","v":0},{"$f":"TAS!$DCP$8","v":0},{"$f":"TAS!$DCZ$8","v":0},{"$f":"TAS!$DDJ$8","v":0},{"$f":"TAS!$DDT$8","v":0},{"$f":"TAS!$DED$8","v":0},{"$f":"TAS!$DEN$8","v":0},{"$f":"TAS!$DEX$8","v":0},{"$f":"TAS!$DFH$8","v":0},{"$f":"TAS!$DFR$8","v":0},{"$f":"TAS!$DGB$8","v":0},{"$f":"TAS!$DGL$8","v":0},{"$f":"TAS!$DGV$8","v":0},{"$f":"TAS!$DHF$8","v":0},{"$f":"TAS!$DHP$8","v":0},{"$f":"TAS!$DHZ$8","v":0},{"$f":"TAS!$DIJ$8","v":0},{"$f":"TAS!$DIT$8","v":0},{"$f":"TAS!$DJD$8","v":0},{"$f":"TAS!$DJN$8","v":0},{"$f":"TAS!$DJX$8","v":0},{"$f":"TAS!$DKH$8","v":0},{"$f":"TAS!$DKR$8","v":0},{"$f":"TAS!$DLB$8","v":0},{"$f":"TAS!$DLL$8","v":0},{"$f":"TAS!$DLV$8","v":0},{"$f":"TAS!$DMF$8","v":0},{"$f":"TAS!$DMP$8","v":0},{"$f":"TAS!$DMZ$8","v":0},{"$f":"TAS!$DNJ$8","v":0},{"$f":"TAS!$DNT$8","v":0},{"$f":"TAS!$DOD$8","v":0},{"$f":"TAS!$DON$8","v":0},{"$f":"TAS!$DOX$8","v":0},{"$f":"TAS!$DPH$8","v":0},{"$f":"TAS!$DPR$8","v":0},{"$f":"TAS!$DQB$8","v":0},{"$f":"TAS!$DQL$8","v":0},{"$f":"TAS!$DQV$8","v":0},{"$f":"TAS!$DRF$8","v":0},{"$f":"TAS!$DRP$8","v":0},{"$f":"TAS!$DRZ$8","v":0},{"$f":"TAS!$DSJ$8","v":0},{"$f":"TAS!$DST$8","v":0},{"$f":"TAS!$DTD$8","v":0},{"$f":"TAS!$DTN$8","v":0},{"$f":"TAS!$DTX$8","v":0},{"$f":"TAS!$DUH$8","v":0},{"$f":"TAS!$DUR$8","v":0},{"$f":"TAS!$DVB$8","v":0},{"$f":"TAS!$DVL$8","v":0},{"$f":"TAS!$DVV$8","v":0},{"$f":"TAS!$DWF$8","v":0},{"$f":"TAS!$DWP$8","v":0},{"$f":"TAS!$DWZ$8","v":0},{"$f":"TAS!$DXJ$8","v":0},{"$f":"TAS!$DXT$8","v":0},{"$f":"TAS!$DYD$8","v":0},{"$f":"TAS!$DYN$8","v":0},{"$f":"TAS!$DYX$8","v":0},{"$f":"TAS!$DZH$8","v":0},{"$f":"TAS!$DZR$8","v":0},{"$f":"TAS!$EAB$8","v":0},{"$f":"TAS!$EAL$8","v":0},{"$f":"TAS!$EAV$8","v":0},{"$f":"TAS!$EBF$8","v":0},{"$f":"TAS!$EBP$8","v":0},{"$f":"TAS!$EBZ$8","v":0},{"$f":"TAS!$ECJ$8","v":0},{"$f":"TAS!$ECT$8","v":0},{"$f":"TAS!$EDD$8","v":0},{"$f":"TAS!$EDN$8","v":0},{"$f":"TAS!$EDX$8","v":0},{"$f":"TAS!$EEH$8","v":0},{"$f":"TAS!$EER$8","v":0},{"$f":"TAS!$EFB$8","v":0},{"$f":"TAS!$EFL$8","v":0},{"$f":"TAS!$EFV$8","v":0},{"$f":"TAS!$EGF$8","v":0},{"$f":"TAS!$EGP$8","v":0},{"$f":"TAS!$EGZ$8","v":0},{"$f":"TAS!$EHJ$8","v":0},{"$f":"TAS!$EHT$8","v":0},{"$f":"TAS!$EID$8","v":0},{"$f":"TAS!$EIN$8","v":0},{"$f":"TAS!$EIX$8","v":0},{"$f":"TAS!$EJH$8","v":0},{"$f":"TAS!$EJR$8","v":0}]
[null,null,null,null,null,"2019-05-30",null," käytetään suunnitelmassa laskettaessa keskim. Päivän pit.",{"$f":"I6-(I19/7*5)","v":211}]
["yht",{"$f":"SUM(B21:B25)","v":0},"Virkavapaat",null,null,"2019-06-21",null,"Vapaajaksopäivien lukumäärä (ilmoitettu)",{"$f":"VapaaJaksot","v":70}]
["työpv",{"$f":"I14","v":0},"Ensimm. vapaa","Viim. vapaa",null,"2019-12-06",null,"Keskimääräinen työpäivän pituus",{"$f":"TyoPaivaPit","v":7.109004739336493},null,null,null,null," "]
[null,"",null,null,null,"2019-12-24",null,"Keskimääräinen työaika, jos arkipyhinä ei tehdä työtä",{"$f":"VTA/I12","v":7.3170731707317076}]
[null,"",null,null,null,"2019-12-25"]
[null,"",null,null,null,"2019-12-26"]
[null,"",null,null,null,null,null,"1500/(arkiviikonpäivät-vapaajaksopäivät/7*5)*työpäivät*100%",{"$f":"INT(VTA/(I6-I19/7*5)*I11*I25+0.5)","v":1500}]
[null,"",null,null,null,null,null,"Osa-aika%",{"$f":"OsaAikaisuus","v":1}]
["yht",{"$f":"SUM(B28:B32)","v":0},"Pitkät poissaolot (P)",null,"   (esim. yli 7 päivän sairauspoissaolo)",null,null,"päiväys",{"$f":"IF(I27=\"\",TODAY(),I27)","v":"2019-01-07"},{"$f":"J5","v":"2019-01-01"},{"$f":"K5","v":"2019-01-02"},"2019-01-03","2019-01-04","2019-01-05","2019-01-06","2019-01-07","2019-01-08","2019-01-09","2019-01-10","2019-01-11","2019-01-12","2019-01-13","2019-01-14","2019-01-15","2019-01-16","2019-01-17","2019-01-18","2019-01-19","2019-01-20","2019-01-21","2019-01-22","2019-01-23","2019-01-24","2019-01-25","2019-01-26","2019-01-27","2019-01-28","2019-01-29","2019-01-30","2019-01-31","2019-02-01","2019-02-02","2019-02-03","2019-02-04","2019-02-05","2019-02-06","2019-02-07","2019-02-08","2019-02-09","2019-02-10","2019-02-11","2019-02-12","2019-02-13","2019-02-14","2019-02-15","2019-02-16","2019-02-17","2019-02-18","2019-02-19","2019-02-20","2019-02-21","2019-02-22","2019-02-23","2019-02-24","2019-02-25","2019-02-26","2019-02-27","2019-02-28","2019-03-01","2019-03-02","2019-03-03","2019-03-04","2019-03-05","2019-03-06",{"$f":"BW5","v":"2019-03-07"},"2019-03-08","2019-03-09","2019-03-10","2019-03-11","2019-03-12","2019-03-13","2019-03-14","2019-03-15","2019-03-16","2019-03-17","2019-03-18","2019-03-19","2019-03-20","2019-03-21","2019-03-22","2019-03-23","2019-03-24","2019-03-25","2019-03-26","2019-03-27","2019-03-28","2019-03-29","2019-03-30","2019-03-31","2019-04-01","2019-04-02","2019-04-03","2019-04-04","2019-04-05","2019-04-06","2019-04-07","2019-04-08","2019-04-09","2019-04-10","2019-04-11","2019-04-12","2019-04-13","2019-04-14","2019-04-15","2019-04-16","2019-04-17","2019-04-18","2019-04-19","2019-04-20","2019-04-21","2019-04-22","2019-04-23","2019-04-24","2019-04-25","2019-04-26","2019-04-27","2019-04-28","2019-04-29","2019-04-30","2019-05-01","2019-05-02","2019-05-03","2019-05-04","2019-05-05","2019-05-06","2019-05-07","2019-05-08","2019-05-09",{"$f":"EI5","v":"2019-05-10"},"2019-05-11","2019-05-12","2019-05-13","2019-05-14","2019-05-15","2019-05-16","2019-05-17","2019-05-18","2019-05-19","2019-05-20","2019-05-21","2019-05-22","2019-05-23","2019-05-24","2019-05-25","2019-05-26","2019-05-27","2019-05-28","2019-05-29","2019-05-30","2019-05-31","2019-06-01","2019-06-02","2019-06-03","2019-06-04","2019-06-05","2019-06-06","2019-06-07","2019-06-08","2019-06-09","2019-06-10","2019-06-11","2019-06-12","2019-06-13","2019-06-14","2019-06-15","2019-06-16","2019-06-17","2019-06-18","2019-06-19","2019-06-20","2019-06-21","2019-06-22","2019-06-23","2019-06-24","2019-06-25","2019-06-26","2019-06-27","2019-06-28","2019-06-29","2019-06-30","2019-07-01","2019-07-02","2019-07-03","2019-07-04","2019-07-05","2019-07-06","2019-07-07","2019-07-08","2019-07-09","2019-07-10","2019-07-11","2019-07-12",{"$f":"GU5","v":"2019-07-13"},"2019-07-14","2019-07-15","2019-07-16","2019-07-17","2019-07-18","2019-07-19","2019-07-20","2019-07-21","2019-07-22","2019-07-23","2019-07-24","2019-07-25","2019-07-26","2019-07-27","2019-07-28","2019-07-29","2019-07-30","2019-07-31","2019-08-01","2019-08-02","2019-08-03","2019-08-04","2019-08-05","2019-08-06","2019-08-07","2019-08-08","2019-08-09","2019-08-10","2019-08-11","2019-08-12","2019-08-13","2019-08-14","2019-08-15","2019-08-16","2019-08-17","2019-08-18","2019-08-19","2019-08-20","2019-08-21","2019-08-22","2019-08-23","2019-08-24","2019-08-25","2019-08-26","2019-08-27","2019-08-28","2019-08-29","2019-08-30","2019-08-31","2019-09-01","2019-09-02","2019-09-03","2019-09-04","2019-09-05","2019-09-06","2019-09-07","2019-09-08","2019-09-09","2019-09-10","2019-09-11","2019-09-12","2019-09-13","2019-09-14",{"$f":"JG5","v":"2019-09-15"},"2019-09-16","2019-09-17","2019-09-18","2019-09-19","2019-09-20","2019-09-21","2019-09-22","2019-09-23","2019-09-24","2019-09-25","2019-09-26","2019-09-27","2019-09-28","2019-09-29","2019-09-30","2019-10-01","2019-10-02","2019-10-03","2019-10-04","2019-10-05","2019-10-06","2019-10-07","2019-10-08","2019-10-09","2019-10-10","2019-10-11","2019-10-12","2019-10-13","2019-10-14","2019-10-15","2019-10-16","2019-10-17","2019-10-18","2019-10-19","2019-10-20","2019-10-21","2019-10-22","2019-10-23","2019-10-24","2019-10-25","2019-10-26","2019-10-27","2019-10-28","2019-10-29","2019-10-30","2019-10-31","2019-11-01","2019-11-02","2019-11-03","2019-11-04","2019-11-05","2019-11-06","2019-11-07","2019-11-08","2019-11-09","2019-11-10","2019-11-11","2019-11-12","2019-11-13","2019-11-14","2019-11-15","2019-11-16","2019-11-17",{"$f":"LS5","v":"2019-11-18"},"2019-11-19","2019-11-20","2019-11-21","2019-11-22","2019-11-23","2019-11-24","2019-11-25","2019-11-26","2019-11-27","2019-11-28","2019-11-29","2019-11-30","2019-12-01","2019-12-02","2019-12-03","2019-12-04","2019-12-05","2019-12-06","2019-12-07","2019-12-08","2019-12-09","2019-12-10","2019-12-11","2019-12-12","2019-12-13","2019-12-14","2019-12-15","2019-12-16","2019-12-17","2019-12-18","2019-12-19","2019-12-20","2019-12-21","2019-12-22","2019-12-23","2019-12-24","2019-12-25","2019-12-26","2019-12-27","2019-12-28","2019-12-29","2019-12-30","2019-12-31"]
["työpv",{"$f":"I15","v":0},"Ensimm. Pv","Viim. pv",null,null,null,"Muu päiväys (%-laskennan kokeilua varten)",null,{"$f":"SUM($J$10:J10)","v":0},{"$f":"SUM($J$10:K10)","v":0},{"$f":"SUM($J$10:L10)","v":0},{"$f":"SUM($J$10:M10)","v":0},{"$f":"SUM($J$10:N10)","v":0},{"$f":"SUM($J$10:O10)","v":0},{"$f":"SUM($J$10:P10)","v":1},{"$f":"SUM($J$10:Q10)","v":2},{"$f":"SUM($J$10:R10)","v":3},{"$f":"SUM($J$10:S10)","v":4},{"$f":"SUM($J$10:T10)","v":5},{"$f":"SUM($J$10:U10)","v":5},{"$f":"SUM($J$10:V10)","v":5},{"$f":"SUM($J$10:W10)","v":6},{"$f":"SUM($J$10:X10)","v":7},{"$f":"SUM($J$10:Y10)","v":8},{"$f":"SUM($J$10:Z10)","v":9},{"$f":"SUM($J$10:AA10)","v":10},{"$f":"SUM($J$10:AB10)","v":10},{"$f":"SUM($J$10:AC10)","v":10},{"$f":"SUM($J$10:AD10)","v":11},{"$f":"SUM($J$10:AE10)","v":12},{"$f":"SUM($J$10:AF10)","v":13},{"$f":"SUM($J$10:AG10)","v":14},{"$f":"SUM($J$10:AH10)","v":15},{"$f":"SUM($J$10:AI10)","v":15},{"$f":"SUM($J$10:AJ10)","v":15},{"$f":"SUM($J$10:AK10)","v":16},{"$f":"SUM($J$10:AL10)","v":17},{"$f":"SUM($J$10:AM10)","v":18},{"$f":"SUM($J$10:AN10)","v":19},{"$f":"SUM($J$10:AO10)","v":20},{"$f":"SUM($J$10:AP10)","v":20},{"$f":"SUM($J$10:AQ10)","v":20},{"$f":"SUM($J$10:AR10)","v":21},{"$f":"SUM($J$10:AS10)","v":22},{"$f":"SUM($J$10:AT10)","v":23},{"$f":"SUM($J$10:AU10)","v":24},{"$f":"SUM($J$10:AV10)","v":25},{"$f":"SUM($J$10:AW10)","v":25},{"$f":"SUM($J$10:AX10)","v":25},{"$f":"SUM($J$10:AY10)","v":26},{"$f":"SUM($J$10:AZ10)","v":27},{"$f":"SUM($J$10:BA10)","v":28},{"$f":"SUM($J$10:BB10)","v":29},{"$f":"SUM($J$10:BC10)","v":30},{"$f":"SUM($J$10:BD10)","v":30},{"$f":"SUM($J$10:BE10)","v":30},{"$f":"SUM($J$10:BF10)","v":30},{"$f":"SUM($J$10:BG10)","v":30},{"$f":"SUM($J$10:BH10)","v":30},{"$f":"SUM($J$10:BI10)","v":30},{"$f":"SUM($J$10:BJ10)","v":30},{"$f":"SUM($J$10:BK10)","v":30},{"$f":"SUM($J$10:BL10)","v":30},{"$f":"SUM($J$10:BM10)","v":31},{"$f":"SUM($J$10:BN10)","v":32},{"$f":"SUM($J$10:BO10)","v":33},{"$f":"SUM($J$10:BP10)","v":34},{"$f":"SUM($J$10:BQ10)","v":35},{"$f":"SUM($J$10:BR10)","v":35},{"$f":"SUM($J$10:BS10)","v":35},{"$f":"SUM($J$10:BT10)","v":36},{"$f":"SUM($J$10:BU10)","v":37},{"$f":"SUM($J$10:BV10)","v":38},{"$f":"SUM($J$10:BW10)","v":39},{"$f":"SUM($J$10:BX10)","v":40},{"$f":"SUM($J$10:BY10)","v":40},{"$f":"SUM($J$10:BZ10)","v":40},{"$f":"SUM($J$10:CA10)","v":41},{"$f":"SUM($J$10:CB10)","v":42},{"$f":"SUM($J$10:CC10)","v":43},{"$f":"SUM($J$10:CD10)","v":44},{"$f":"SUM($J$10:CE10)","v":45},{"$f":"SUM($J$10:CF10)","v":45},{"$f":"SUM($J$10:CG10)","v":45},{"$f":"SUM($J$10:CH10)","v":46},{"$f":"SUM($J$10:CI10)","v":47},{"$f":"SUM($J$10:CJ10)","v":48},{"$f":"SUM($J$10:CK10)","v":49},{"$f":"SUM($J$10:CL10)","v":50},{"$f":"SUM($J$10:CM10)","v":50},{"$f":"SUM($J$10:CN10)","v":50},{"$f":"SUM($J$10:CO10)","v":51},{"$f":"SUM($J$10:CP10)","v":52},{"$f":"SUM($J$10:CQ10)","v":53},{"$f":"SUM($J$10:CR10)","v":54},{"$f":"SUM($J$10:CS10)","v":55},{"$f":"SUM($J$10:CT10)","v":55},{"$f":"SUM($J$10:CU10)","v":55},{"$f":"SUM($J$10:CV10)","v":56},{"$f":"SUM($J$10:CW10)","v":57},{"$f":"SUM($J$10:CX10)","v":58},{"$f":"SUM($J$10:CY10)","v":59},{"$f":"SUM($J$10:CZ10)","v":60},{"$f":"SUM($J$10:DA10)","v":60},{"$f":"SUM($J$10:DB10)","v":60},{"$f":"SUM($J$10:DC10)","v":61},{"$f":"SUM($J$10:DD10)","v":62},{"$f":"SUM($J$10:DE10)","v":63},{"$f":"SUM($J$10:DF10)","v":64},{"$f":"SUM($J$10:DG10)","v":65},{"$f":"SUM($J$10:DH10)","v":65},{"$f":"SUM($J$10:DI10)","v":65},{"$f":"SUM($J$10:DJ10)","v":66},{"$f":"SUM($J$10:DK10)","v":67},{"$f":"SUM($J$10:DL10)","v":68},{"$f":"SUM($J$10:DM10)","v":69},{"$f":"SUM($J$10:DN10)","v":70},{"$f":"SUM($J$10:DO10)","v":70},{"$f":"SUM($J$10:DP10)","v":70},{"$f":"SUM($J$10:DQ10)","v":71},{"$f":"SUM($J$10:DR10)","v":72},{"$f":"SUM($J$10:DS10)","v":73},{"$f":"SUM($J$10:DT10)","v":74},{"$f":"SUM($J$10:DU10)","v":75},{"$f":"SUM($J$10:DV10)","v":75},{"$f":"SUM($J$10:DW10)","v":75},{"$f":"SUM($J$10:DX10)","v":76},{"$f":"SUM($J$10:DY10)","v":77},{"$f":"SUM($J$10:DZ10)","v":78},{"$f":"SUM($J$10:EA10)","v":79},{"$f":"SUM($J$10:EB10)","v":80},{"$f":"SUM($J$10:EC10)","v":80},{"$f":"SUM($J$10:ED10)","v":80},{"$f":"SUM($J$10:EE10)","v":81},{"$f":"SUM($J$10:EF10)","v":82},{"$f":"SUM($J$10:EG10)","v":83},{"$f":"SUM($J$10:EH10)","v":84},{"$f":"SUM($J$10:EI10)","v":85},{"$f":"SUM($J$10:EJ10)","v":85},{"$f":"SUM($J$10:EK10)","v":85},{"$f":"SUM($J$10:EL10)","v":86},{"$f":"SUM($J$10:EM10)","v":87},{"$f":"SUM($J$10:EN10)","v":88},{"$f":"SUM($J$10:EO10)","v":89},{"$f":"SUM($J$10:EP10)","v":90},{"$f":"SUM($J$10:EQ10)","v":90},{"$f":"SUM($J$10:ER10)","v":90},{"$f":"SUM($J$10:ES10)","v":91},{"$f":"SUM($J$10:ET10)","v":92},{"$f":"SUM($J$10:EU10)","v":93},{"$f":"SUM($J$10:EV10)","v":94},{"$f":"SUM($J$10:EW10)","v":95},{"$f":"SUM($J$10:EX10)","v":95},{"$f":"SUM($J$10:EY10)","v":95},{"$f":"SUM($J$10:EZ10)","v":96},{"$f":"SUM($J$10:FA10)","v":97},{"$f":"SUM($J$10:FB10)","v":98},{"$f":"SUM($J$10:FC10)","v":99},{"$f":"SUM($J$10:FD10)","v":100},{"$f":"SUM($J$10:FE10)","v":100},{"$f":"SUM($J$10:FF10)","v":100},{"$f":"SUM($J$10:FG10)","v":101},{"$f":"SUM($J$10:FH10)","v":102},{"$f":"SUM($J$10:FI10)","v":103},{"$f":"SUM($J$10:FJ10)","v":104},{"$f":"SUM($J$10:FK10)","v":105},{"$f":"SUM($J$10:FL10)","v":105},{"$f":"SUM($J$10:FM10)","v":105},{"$f":"SUM($J$10:FN10)","v":106},{"$f":"SUM($J$10:FO10)","v":107},{"$f":"SUM($J$10:FP10)","v":108},{"$f":"SUM($J$10:FQ10)","v":109},{"$f":"SUM($J$10:FR10)","v":110},{"$f":"SUM($J$10:FS10)","v":110},{"$f":"SUM($J$10:FT10)","v":110},{"$f":"SUM($J$10:FU10)","v":111},{"$f":"SUM($J$10:FV10)","v":112},{"$f":"SUM($J$10:FW10)","v":113},{"$f":"SUM($J$10:FX10)","v":114},{"$f":"SUM($J$10:FY10)","v":115},{"$f":"SUM($J$10:FZ10)","v":115},{"$f":"SUM($J$10:GA10)","v":115},{"$f":"SUM($J$10:GB10)","v":115},{"$f":"SUM($J$10:GC10)","v":115},{"$f":"SUM($J$10:GD10)","v":115},{"$f":"SUM($J$10:GE10)","v":115},{"$f":"SUM($J$10:GF10)","v":115},{"$f":"SUM($J$10:GG10)","v":115},{"$f":"SUM($J$10:GH10)","v":115},{"$f":"SUM($J$10:GI10)","v":115},{"$f":"SUM($J$10:GJ10)","v":115},{"$f":"SUM($J$10:GK10)","v":115},{"$f":"SUM($J$10:GL10)","v":115},{"$f":"SUM($J$10:GM10)","v":115},{"$f":"SUM($J$10:GN10)","v":115},{"$f":"SUM($J$10:GO10)","v":115},{"$f":"SUM($J$10:GP10)","v":115},{"$f":"SUM($J$10:GQ10)","v":115},{"$f":"SUM($J$10:GR10)","v":115},{"$f":"SUM($J$10:GS10)","v":115},{"$f":"SUM($J$10:GT10)","v":115},{"$f":"SUM($J$10:GU10)","v":115},{"$f":"SUM($J$10:GV10)","v":115},{"$f":"SUM($J$10:GW10)","v":115},{"$f":"SUM($J$10:GX10)","v":115},{"$f":"SUM($J$10:GY10)","v":115},{"$f":"SUM($J$10:GZ10)","v":115},{"$f":"SUM($J$10:HA10)","v":115},{"$f":"SUM($J$10:HB10)","v":115},{"$f":"SUM($J$10:HC10)","v":115},{"$f":"SUM($J$10:HD10)","v":115},{"$f":"SUM($J$10:HE10)","v":115},{"$f":"SUM($J$10:HF10)","v":115},{"$f":"SUM($J$10:HG10)","v":115},{"$f":"SUM($J$10:HH10)","v":115},{"$f":"SUM($J$10:HI10)","v":115},{"$f":"SUM($J$10:HJ10)","v":115},{"$f":"SUM($J$10:HK10)","v":115},{"$f":"SUM($J$10:HL10)","v":115},{"$f":"SUM($J$10:HM10)","v":115},{"$f":"SUM($J$10:HN10)","v":115},{"$f":"SUM($J$10:HO10)","v":115},{"$f":"SUM($J$10:HP10)","v":115},{"$f":"SUM($J$10:HQ10)","v":115},{"$f":"SUM($J$10:HR10)","v":116},{"$f":"SUM($J$10:HS10)","v":117},{"$f":"SUM($J$10:HT10)","v":118},{"$f":"SUM($J$10:HU10)","v":119},{"$f":"SUM($J$10:HV10)","v":120},{"$f":"SUM($J$10:HW10)","v":120},{"$f":"SUM($J$10:HX10)","v":120},{"$f":"SUM($J$10:HY10)","v":121},{"$f":"SUM($J$10:HZ10)","v":122},{"$f":"SUM($J$10:IA10)","v":123},{"$f":"SUM($J$10:IB10)","v":124},{"$f":"SUM($J$10:IC10)","v":125},{"$f":"SUM($J$10:ID10)","v":125},{"$f":"SUM($J$10:IE10)","v":125},{"$f":"SUM($J$10:IF10)","v":126},{"$f":"SUM($J$10:IG10)","v":127},{"$f":"SUM($J$10:IH10)","v":128},{"$f":"SUM($J$10:II10)","v":129},{"$f":"SUM($J$10:IJ10)","v":130},{"$f":"SUM($J$10:IK10)","v":130},{"$f":"SUM($J$10:IL10)","v":130},{"$f":"SUM($J$10:IM10)","v":131},{"$f":"SUM($J$10:IN10)","v":132},{"$f":"SUM($J$10:IO10)","v":133},{"$f":"SUM($J$10:IP10)","v":134},{"$f":"SUM($J$10:IQ10)","v":135},{"$f":"SUM($J$10:IR10)","v":135},{"$f":"SUM($J$10:IS10)","v":135},{"$f":"SUM($J$10:IT10)","v":136},{"$f":"SUM($J$10:IU10)","v":137},{"$f":"SUM($J$10:IV10)","v":138},{"$f":"SUM($J$10:IW10)","v":139},{"$f":"SUM($J$10:IX10)","v":140},{"$f":"SUM($J$10:IY10)","v":140},{"$f":"SUM($J$10:IZ10)","v":140},{"$f":"SUM($J$10:JA10)","v":141},{"$f":"SUM($J$10:JB10)","v":142},{"$f":"SUM($J$10:JC10)","v":143},{"$f":"SUM($J$10:JD10)","v":144},{"$f":"SUM($J$10:JE10)","v":145},{"$f":"SUM($J$10:JF10)","v":145},{"$f":"SUM($J$10:JG10)","v":145},{"$f":"SUM($J$10:JH10)","v":146},{"$f":"SUM($J$10:JI10)","v":147},{"$f":"SUM($J$10:JJ10)","v":148},{"$f":"SUM($J$10:JK10)","v":149},{"$f":"SUM($J$10:JL10)","v":150},{"$f":"SUM($J$10:JM10)","v":150},{"$f":"SUM($J$10:JN10)","v":150},{"$f":"SUM($J$10:JO10)","v":151},{"$f":"SUM($J$10:JP10)","v":152},{"$f":"SUM($J$10:JQ10)","v":153},{"$f":"SUM($J$10:JR10)","v":154},{"$f":"SUM($J$10:JS10)","v":155},{"$f":"SUM($J$10:JT10)","v":155},{"$f":"SUM($J$10:JU10)","v":155},{"$f":"SUM($J$10:JV10)","v":156},{"$f":"SUM($J$10:JW10)","v":157},{"$f":"SUM($J$10:JX10)","v":158},{"$f":"SUM($J$10:JY10)","v":159},{"$f":"SUM($J$10:JZ10)","v":160},{"$f":"SUM($J$10:KA10)","v":160},{"$f":"SUM($J$10:KB10)","v":160},{"$f":"SUM($J$10:KC10)","v":161},{"$f":"SUM($J$10:KD10)","v":162},{"$f":"SUM($J$10:KE10)","v":163},{"$f":"SUM($J$10:KF10)","v":164},{"$f":"SUM($J$10:KG10)","v":165},{"$f":"SUM($J$10:KH10)","v":165},{"$f":"SUM($J$10:KI10)","v":165},{"$f":"SUM($J$10:KJ10)","v":165},{"$f":"SUM($J$10:KK10)","v":165},{"$f":"SUM($J$10:KL10)","v":165},{"$f":"SUM($J$10:KM10)","v":165},{"$f":"SUM($J$10:KN10)","v":165},{"$f":"SUM($J$10:KO10)","v":165},{"$f":"SUM($J$10:KP10)","v":165},{"$f":"SUM($J$10:KQ10)","v":166},{"$f":"SUM($J$10:KR10)","v":167},{"$f":"SUM($J$10:KS10)","v":168},{"$f":"SUM($J$10:KT10)","v":169},{"$f":"SUM($J$10:KU10)","v":170},{"$f":"SUM($J$10:KV10)","v":170},{"$f":"SUM($J$10:KW10)","v":170},{"$f":"SUM($J$10:KX10)","v":171},{"$f":"SUM($J$10:KY10)","v":172},{"$f":"SUM($J$10:KZ10)","v":173},{"$f":"SUM($J$10:LA10)","v":174},{"$f":"SUM($J$10:LB10)","v":175},{"$f":"SUM($J$10:LC10)","v":175},{"$f":"SUM($J$10:LD10)","v":175},{"$f":"SUM($J$10:LE10)","v":176},{"$f":"SUM($J$10:LF10)","v":177},{"$f":"SUM($J$10:LG10)","v":178},{"$f":"SUM($J$10:LH10)","v":179},{"$f":"SUM($J$10:LI10)","v":180},{"$f":"SUM($J$10:LJ10)","v":180},{"$f":"SUM($J$10:LK10)","v":180},{"$f":"SUM($J$10:LL10)","v":181},{"$f":"SUM($J$10:LM10)","v":182},{"$f":"SUM($J$10:LN10)","v":183},{"$f":"SUM($J$10:LO10)","v":184},{"$f":"SUM($J$10:LP10)","v":185},{"$f":"SUM($J$10:LQ10)","v":185},{"$f":"SUM($J$10:LR10)","v":185},{"$f":"SUM($J$10:LS10)","v":186},{"$f":"SUM($J$10:LT10)","v":187},{"$f":"SUM($J$10:LU10)","v":188},{"$f":"SUM($J$10:LV10)","v":189},{"$f":"SUM($J$10:LW10)","v":190},{"$f":"SUM($J$10:LX10)","v":190},{"$f":"SUM($J$10:LY10)","v":190},{"$f":"SUM($J$10:LZ10)","v":191},{"$f":"SUM($J$10:MA10)","v":192},{"$f":"SUM($J$10:MB10)","v":193},{"$f":"SUM($J$10:MC10)","v":194},{"$f":"SUM($J$10:MD10)","v":195},{"$f":"SUM($J$10:ME10)","v":195},{"$f":"SUM($J$10:MF10)","v":195},{"$f":"SUM($J$10:MG10)","v":196},{"$f":"SUM($J$10:MH10)","v":197},{"$f":"SUM($J$10:MI10)","v":198},{"$f":"SUM($J$10:MJ10)","v":199},{"$f":"SUM($J$10:MK10)","v":200},{"$f":"SUM($J$10:ML10)","v":200},{"$f":"SUM($J$10:MM10)","v":200},{"$f":"SUM($J$10:MN10)","v":201},{"$f":"SUM($J$10:MO10)","v":202},{"$f":"SUM($J$10:MP10)","v":203},{"$f":"SUM($J$10:MQ10)","v":204},{"$f":"SUM($J$10:MR10)","v":205},{"$f":"SUM($J$10:MS10)","v":205},{"$f":"SUM($J$10:MT10)","v":205},{"$f":"SUM($J$10:MU10)","v":206},{"$f":"SUM($J$10:MV10)","v":207},{"$f":"SUM($J$10:MW10)","v":208},{"$f":"SUM($J$10:MX10)","v":209},{"$f":"SUM($J$10:MY10)","v":210},{"$f":"SUM($J$10:MZ10)","v":210},{"$f":"SUM($J$10:NA10)","v":210},{"$f":"SUM($J$10:NB10)","v":211},{"$f":"SUM($J$10:NC10)","v":211},{"$f":"SUM($J$10:ND10)","v":211},{"$f":"SUM($J$10:NE10)","v":211},{"$f":"SUM($J$10:NF10)","v":211},{"$f":"SUM($J$10:NG10)","v":211},{"$f":"SUM($J$10:NH10)","v":211},{"$f":"SUM($J$10:NI10)","v":211},{"$f":"SUM($J$10:NJ10)","v":211}]
[null,{"$f":"IF(D28=\"\",\"\",IF(C28=\"\",\"\",D28-C28+1))","v":""},null,null,null,null,null,"Työpäivien suhde",{"$f":"HLOOKUP(I26,J26:NJ28,3)","v":4.7393364928909956E-3},{"$f":"J27/$I$10","v":0},0,{"$f":"L27/$I$10","v":0},{"$f":"M27/$I$10","v":0},{"$f":"N27/$I$10","v":0},{"$f":"O27/$I$10","v":0},{"$f":"P27/$I$10","v":4.7393364928909956E-3},{"$f":"Q27/$I$10","v":9.4786729857819912E-3},{"$f":"R27/$I$10","v":1.4218009478672985E-2},{"$f":"S27/$I$10","v":1.8957345971563982E-2},{"$f":"T27/$I$10","v":2.3696682464454975E-2},{"$f":"U27/$I$10","v":2.3696682464454975E-2},{"$f":"V27/$I$10","v":2.3696682464454975E-2},{"$f":"W27/$I$10","v":2.843601895734597E-2},{"$f":"X27/$I$10","v":3.3175355450236969E-2},{"$f":"Y27/$I$10","v":3.7914691943127965E-2},{"$f":"Z27/$I$10","v":4.2654028436018961E-2},{"$f":"AA27/$I$10","v":4.7393364928909949E-2},{"$f":"AB27/$I$10","v":4.7393364928909949E-2},{"$f":"AC27/$I$10","v":4.7393364928909949E-2},{"$f":"AD27/$I$10","v":5.2132701421800945E-2},{"$f":"AE27/$I$10","v":5.6872037914691941E-2},{"$f":"AF27/$I$10","v":6.1611374407582936E-2},{"$f":"AG27/$I$10","v":6.6350710900473939E-2},{"$f":"AH27/$I$10","v":7.1090047393364927E-2},{"$f":"AI27/$I$10","v":7.1090047393364927E-2},{"$f":"AJ27/$I$10","v":7.1090047393364927E-2},{"$f":"AK27/$I$10","v":7.582938388625593E-2},{"$f":"AL27/$I$10","v":8.0568720379146919E-2},{"$f":"AM27/$I$10","v":8.5308056872037921E-2},{"$f":"AN27/$I$10","v":9.004739336492891E-2},{"$f":"AO27/$I$10","v":9.4786729857819899E-2},{"$f":"AP27/$I$10","v":9.4786729857819899E-2},{"$f":"AQ27/$I$10","v":9.4786729857819899E-2},{"$f":"AR27/$I$10","v":9.9526066350710901E-2},{"$f":"AS27/$I$10","v":0.10426540284360189},{"$f":"AT27/$I$10","v":0.10900473933649289},{"$f":"AU27/$I$10","v":0.11374407582938388},{"$f":"AV27/$I$10","v":0.11848341232227488},{"$f":"AW27/$I$10","v":0.11848341232227488},{"$f":"AX27/$I$10","v":0.11848341232227488},{"$f":"AY27/$I$10","v":0.12322274881516587},{"$f":"AZ27/$I$10","v":0.12796208530805686},{"$f":"BA27/$I$10","v":0.13270142180094788},{"$f":"BB27/$I$10","v":0.13744075829383887},{"$f":"BC27/$I$10","v":0.14218009478672985},{"$f":"BD27/$I$10","v":0.14218009478672985},{"$f":"BE27/$I$10","v":0.14218009478672985},{"$f":"BF27/$I$10","v":0.14218009478672985},{"$f":"BG27/$I$10","v":0.14218009478672985},{"$f":"BH27/$I$10","v":0.14218009478672985},{"$f":"BI27/$I$10","v":0.14218009478672985},{"$f":"BJ27/$I$10","v":0.14218009478672985},{"$f":"BK27/$I$10","v":0.14218009478672985},{"$f":"BL27/$I$10","v":0.14218009478672985},{"$f":"BM27/$I$10","v":0.14691943127962084},{"$f":"BN27/$I$10","v":0.15165876777251186},{"$f":"BO27/$I$10","v":0.15639810426540285},{"$f":"BP27/$I$10","v":0.16113744075829384},{"$f":"BQ27/$I$10","v":0.16587677725118483},{"$f":"BR27/$I$10","v":0.16587677725118483},{"$f":"BS27/$I$10","v":0.16587677725118483},{"$f":"BT27/$I$10","v":0.17061611374407584},{"$f":"BU27/$I$10","v":0.17535545023696683},{"$f":"BV27/$I$10","v":0.18009478672985782},{"$f":"BW27/$I$10","v":0.18483412322274881},{"$f":"BX27/$I$10","v":0.1895734597156398},{"$f":"BY27/$I$10","v":0.1895734597156398},{"$f":"BZ27/$I$10","v":0.1895734597156398},{"$f":"CA27/$I$10","v":0.19431279620853081},{"$f":"CB27/$I$10","v":0.1990521327014218},{"$f":"CC27/$I$10","v":0.20379146919431279},{"$f":"CD27/$I$10","v":0.20853080568720378},{"$f":"CE27/$I$10","v":0.2132701421800948},{"$f":"CF27/$I$10","v":0.2132701421800948},{"$f":"CG27/$I$10","v":0.2132701421800948},{"$f":"CH27/$I$10","v":0.21800947867298578},{"$f":"CI27/$I$10","v":0.22274881516587677},{"$f":"CJ27/$I$10","v":0.22748815165876776},{"$f":"CK27/$I$10","v":0.23222748815165878},{"$f":"CL27/$I$10","v":0.23696682464454977},{"$f":"CM27/$I$10","v":0.23696682464454977},{"$f":"CN27/$I$10","v":0.23696682464454977},{"$f":"CO27/$I$10","v":0.24170616113744076},{"$f":"CP27/$I$10","v":0.24644549763033174},{"$f":"CQ27/$I$10","v":0.25118483412322273},{"$f":"CR27/$I$10","v":0.25592417061611372},{"$f":"CS27/$I$10","v":0.26066350710900477},{"$f":"CT27/$I$10","v":0.26066350710900477},{"$f":"CU27/$I$10","v":0.26066350710900477},{"$f":"CV27/$I$10","v":0.26540284360189575},{"$f":"CW27/$I$10","v":0.27014218009478674},{"$f":"CX27/$I$10","v":0.27488151658767773},{"$f":"CY27/$I$10","v":0.27962085308056872},{"$f":"CZ27/$I$10","v":0.28436018957345971},{"$f":"DA27/$I$10","v":0.28436018957345971},{"$f":"DB27/$I$10","v":0.28436018957345971},{"$f":"DC27/$I$10","v":0.2890995260663507},{"$f":"DD27/$I$10","v":0.29383886255924169},{"$f":"DE27/$I$10","v":0.29857819905213268},{"$f":"DF27/$I$10","v":0.30331753554502372},{"$f":"DG27/$I$10","v":0.30805687203791471},{"$f":"DH27/$I$10","v":0.30805687203791471},{"$f":"DI27/$I$10","v":0.30805687203791471},{"$f":"DJ27/$I$10","v":0.3127962085308057},{"$f":"DK27/$I$10","v":0.31753554502369669},{"$f":"DL27/$I$10","v":0.32227488151658767},{"$f":"DM27/$I$10","v":0.32701421800947866},{"$f":"DN27/$I$10","v":0.33175355450236965},{"$f":"DO27/$I$10","v":0.33175355450236965},{"$f":"DP27/$I$10","v":0.33175355450236965},{"$f":"DQ27/$I$10","v":0.33649289099526064},{"$f":"DR27/$I$10","v":0.34123222748815168},{"$f":"DS27/$I$10","v":0.34597156398104267},{"$f":"DT27/$I$10","v":0.35071090047393366},{"$f":"DU27/$I$10","v":0.35545023696682465},{"$f":"DV27/$I$10","v":0.35545023696682465},{"$f":"DW27/$I$10","v":0.35545023696682465},{"$f":"DX27/$I$10","v":0.36018957345971564},{"$f":"DY27/$I$10","v":0.36492890995260663},{"$f":"DZ27/$I$10","v":0.36966824644549762},{"$f":"EA27/$I$10","v":0.37440758293838861},{"$f":"EB27/$I$10","v":0.37914691943127959},{"$f":"EC27/$I$10","v":0.37914691943127959},{"$f":"ED27/$I$10","v":0.37914691943127959},{"$f":"EE27/$I$10","v":0.38388625592417064},{"$f":"EF27/$I$10","v":0.38862559241706163},{"$f":"EG27/$I$10","v":0.39336492890995262},{"$f":"EH27/$I$10","v":0.3981042654028436},{"$f":"EI27/$I$10","v":0.40284360189573459},{"$f":"EJ27/$I$10","v":0.40284360189573459},{"$f":"EK27/$I$10","v":0.40284360189573459},{"$f":"EL27/$I$10","v":0.40758293838862558},{"$f":"EM27/$I$10","v":0.41232227488151657},{"$f":"EN27/$I$10","v":0.41706161137440756},{"$f":"EO27/$I$10","v":0.4218009478672986},{"$f":"EP27/$I$10","v":0.42654028436018959},{"$f":"EQ27/$I$10","v":0.42654028436018959},{"$f":"ER27/$I$10","v":0.42654028436018959},{"$f":"ES27/$I$10","v":0.43127962085308058},{"$f":"ET27/$I$10","v":0.43601895734597157},{"$f":"EU27/$I$10","v":0.44075829383886256},{"$f":"EV27/$I$10","v":0.44549763033175355},{"$f":"EW27/$I$10","v":0.45023696682464454},{"$f":"EX27/$I$10","v":0.45023696682464454},{"$f":"EY27/$I$10","v":0.45023696682464454},{"$f":"EZ27/$I$10","v":0.45497630331753552},{"$f":"FA27/$I$10","v":0.45971563981042651},{"$f":"FB27/$I$10","v":0.46445497630331756},{"$f":"FC27/$I$10","v":0.46919431279620855},{"$f":"FD27/$I$10","v":0.47393364928909953},{"$f":"FE27/$I$10","v":0.47393364928909953},{"$f":"FF27/$I$10","v":0.47393364928909953},{"$f":"FG27/$I$10","v":0.47867298578199052},{"$f":"FH27/$I$10","v":0.48341232227488151},{"$f":"FI27/$I$10","v":0.4881516587677725},{"$f":"FJ27/$I$10","v":0.49289099526066349},{"$f":"FK27/$I$10","v":0.49763033175355448},{"$f":"FL27/$I$10","v":0.49763033175355448},{"$f":"FM27/$I$10","v":0.49763033175355448},{"$f":"FN27/$I$10","v":0.50236966824644547},{"$f":"FO27/$I$10","v":0.50710900473933651},{"$f":"FP27/$I$10","v":0.51184834123222744},{"$f":"FQ27/$I$10","v":0.51658767772511849},{"$f":"FR27/$I$10","v":0.52132701421800953},{"$f":"FS27/$I$10","v":0.52132701421800953},{"$f":"FT27/$I$10","v":0.52132701421800953},{"$f":"FU27/$I$10","v":0.52606635071090047},{"$f":"FV27/$I$10","v":0.53080568720379151},{"$f":"FW27/$I$10","v":0.53554502369668244},{"$f":"FX27/$I$10","v":0.54028436018957349},{"$f":"FY27/$I$10","v":0.54502369668246442},{"$f":"FZ27/$I$10","v":0.54502369668246442},{"$f":"GA27/$I$10","v":0.54502369668246442},{"$f":"GB27/$I$10","v":0.54502369668246442},{"$f":"GC27/$I$10","v":0.54502369668246442},{"$f":"GD27/$I$10","v":0.54502369668246442},{"$f":"GE27/$I$10","v":0.54502369668246442},{"$f":"GF27/$I$10","v":0.54502369668246442},{"$f":"GG27/$I$10","v":0.54502369668246442},{"$f":"GH27/$I$10","v":0.54502369668246442},{"$f":"GI27/$I$10","v":0.54502369668246442},{"$f":"GJ27/$I$10","v":0.54502369668246442},{"$f":"GK27/$I$10","v":0.54502369668246442},{"$f":"GL27/$I$10","v":0.54502369668246442},{"$f":"GM27/$I$10","v":0.54502369668246442},{"$f":"GN27/$I$10","v":0.54502369668246442},{"$f":"GO27/$I$10","v":0.54502369668246442},{"$f":"GP27/$I$10","v":0.54502369668246442},{"$f":"GQ27/$I$10","v":0.54502369668246442},{"$f":"GR27/$I$10","v":0.54502369668246442},{"$f":"GS27/$I$10","v":0.54502369668246442},{"$f":"GT27/$I$10","v":0.54502369668246442},{"$f":"GU27/$I$10","v":0.54502369668246442},{"$f":"GV27/$I$10","v":0.54502369668246442},{"$f":"GW27/$I$10","v":0.54502369668246442},{"$f":"GX27/$I$10","v":0.54502369668246442},{"$f":"GY27/$I$10","v":0.54502369668246442},{"$f":"GZ27/$I$10","v":0.54502369668246442},{"$f":"HA27/$I$10","v":0.54502369668246442},{"$f":"HB27/$I$10","v":0.54502369668246442},{"$f":"HC27/$I$10","v":0.54502369668246442},{"$f":"HD27/$I$10","v":0.54502369668246442},{"$f":"HE27/$I$10","v":0.54502369668246442},{"$f":"HF27/$I$10","v":0.54502369668246442},{"$f":"HG27/$I$10","v":0.54502369668246442},{"$f":"HH27/$I$10","v":0.54502369668246442},{"$f":"HI27/$I$10","v":0.54502369668246442},{"$f":"HJ27/$I$10","v":0.54502369668246442},{"$f":"HK27/$I$10","v":0.54502369668246442},{"$f":"HL27/$I$10","v":0.54502369668246442},{"$f":"HM27/$I$10","v":0.54502369668246442},{"$f":"HN27/$I$10","v":0.54502369668246442},{"$f":"HO27/$I$10","v":0.54502369668246442},{"$f":"HP27/$I$10","v":0.54502369668246442},{"$f":"HQ27/$I$10","v":0.54502369668246442},{"$f":"HR27/$I$10","v":0.54976303317535546},{"$f":"HS27/$I$10","v":0.5545023696682464},{"$f":"HT27/$I$10","v":0.55924170616113744},{"$f":"HU27/$I$10","v":0.56398104265402849},{"$f":"HV27/$I$10","v":0.56872037914691942},{"$f":"HW27/$I$10","v":0.56872037914691942},{"$f":"HX27/$I$10","v":0.56872037914691942},{"$f":"HY27/$I$10","v":0.57345971563981046},{"$f":"HZ27/$I$10","v":0.5781990521327014},{"$f":"IA27/$I$10","v":0.58293838862559244},{"$f":"IB27/$I$10","v":0.58767772511848337},{"$f":"IC27/$I$10","v":0.59241706161137442},{"$f":"ID27/$I$10","v":0.59241706161137442},{"$f":"IE27/$I$10","v":0.59241706161137442},{"$f":"IF27/$I$10","v":0.59715639810426535},{"$f":"IG27/$I$10","v":0.6018957345971564},{"$f":"IH27/$I$10","v":0.60663507109004744},{"$f":"II27/$I$10","v":0.61137440758293837},{"$f":"IJ27/$I$10","v":0.61611374407582942},{"$f":"IK27/$I$10","v":0.61611374407582942},{"$f":"IL27/$I$10","v":0.61611374407582942},{"$f":"IM27/$I$10","v":0.62085308056872035},{"$f":"IN27/$I$10","v":0.62559241706161139},{"$f":"IO27/$I$10","v":0.63033175355450233},{"$f":"IP27/$I$10","v":0.63507109004739337},{"$f":"IQ27/$I$10","v":0.6398104265402843},{"$f":"IR27/$I$10","v":0.6398104265402843},{"$f":"IS27/$I$10","v":0.6398104265402843},{"$f":"IT27/$I$10","v":0.64454976303317535},{"$f":"IU27/$I$10","v":0.64928909952606639},{"$f":"IV27/$I$10","v":0.65402843601895733},{"$f":"IW27/$I$10","v":0.65876777251184837},{"$f":"IX27/$I$10","v":0.6635071090047393},{"$f":"IY27/$I$10","v":0.6635071090047393},{"$f":"IZ27/$I$10","v":0.6635071090047393},{"$f":"JA27/$I$10","v":0.66824644549763035},{"$f":"JB27/$I$10","v":0.67298578199052128},{"$f":"JC27/$I$10","v":0.67772511848341233},{"$f":"JD27/$I$10","v":0.68246445497630337},{"$f":"JE27/$I$10","v":0.6872037914691943},{"$f":"JF27/$I$10","v":0.6872037914691943},{"$f":"JG27/$I$10","v":0.6872037914691943},{"$f":"JH27/$I$10","v":0.69194312796208535},{"$f":"JI27/$I$10","v":0.69668246445497628},{"$f":"JJ27/$I$10","v":0.70142180094786732},{"$f":"JK27/$I$10","v":0.70616113744075826},{"$f":"JL27/$I$10","v":0.7109004739336493},{"$f":"JM27/$I$10","v":0.7109004739336493},{"$f":"JN27/$I$10","v":0.7109004739336493},{"$f":"JO27/$I$10","v":0.71563981042654023},{"$f":"JP27/$I$10","v":0.72037914691943128},{"$f":"JQ27/$I$10","v":0.72511848341232232},{"$f":"JR27/$I$10","v":0.72985781990521326},{"$f":"JS27/$I$10","v":0.7345971563981043},{"$f":"JT27/$I$10","v":0.7345971563981043},{"$f":"JU27/$I$10","v":0.7345971563981043},{"$f":"JV27/$I$10","v":0.73933649289099523},{"$f":"JW27/$I$10","v":0.74407582938388628},{"$f":"JX27/$I$10","v":0.74881516587677721},{"$f":"JY27/$I$10","v":0.75355450236966826},{"$f":"JZ27/$I$10","v":0.75829383886255919},{"$f":"KA27/$I$10","v":0.75829383886255919},{"$f":"KB27/$I$10","v":0.75829383886255919},{"$f":"KC27/$I$10","v":0.76303317535545023},{"$f":"KD27/$I$10","v":0.76777251184834128},{"$f":"KE27/$I$10","v":0.77251184834123221},{"$f":"KF27/$I$10","v":0.77725118483412325},{"$f":"KG27/$I$10","v":0.78199052132701419},{"$f":"KH27/$I$10","v":0.78199052132701419},{"$f":"KI27/$I$10","v":0.78199052132701419},{"$f":"KJ27/$I$10","v":0.78199052132701419},{"$f":"KK27/$I$10","v":0.78199052132701419},{"$f":"KL27/$I$10","v":0.78199052132701419},{"$f":"KM27/$I$10","v":0.78199052132701419},{"$f":"KN27/$I$10","v":0.78199052132701419},{"$f":"KO27/$I$10","v":0.78199052132701419},{"$f":"KP27/$I$10","v":0.78199052132701419},{"$f":"KQ27/$I$10","v":0.78672985781990523},{"$f":"KR27/$I$10","v":0.79146919431279616},{"$f":"KS27/$I$10","v":0.79620853080568721},{"$f":"KT27/$I$10","v":0.80094786729857825},{"$f":"KU27/$I$10","v":0.80568720379146919},{"$f":"KV27/$I$10","v":0.80568720379146919},{"$f":"KW27/$I$10","v":0.80568720379146919},{"$f":"KX27/$I$10","v":0.81042654028436023},{"$f":"KY27/$I$10","v":0.81516587677725116},{"$f":"KZ27/$I$10","v":0.81990521327014221},{"$f":"LA27/$I$10","v":0.82464454976303314},{"$f":"LB27/$I$10","v":0.82938388625592419},{"$f":"LC27/$I$10","v":0.82938388625592419},{"$f":"LD27/$I$10","v":0.82938388625592419},{"$f":"LE27/$I$10","v":0.83412322274881512},{"$f":"LF27/$I$10","v":0.83886255924170616},{"$f":"LG27/$I$10","v":0.84360189573459721},{"$f":"LH27/$I$10","v":0.84834123222748814},{"$f":"LI27/$I$10","v":0.85308056872037918},{"$f":"LJ27/$I$10","v":0.85308056872037918},{"$f":"LK27/$I$10","v":0.85308056872037918},{"$f":"LL27/$I$10","v":0.85781990521327012},{"$f":"LM27/$I$10","v":0.86255924170616116},{"$f":"LN27/$I$10","v":0.86729857819905209},{"$f":"LO27/$I$10","v":0.87203791469194314},{"$f":"LP27/$I$10","v":0.87677725118483407},{"$f":"LQ27/$I$10","v":0.87677725118483407},{"$f":"LR27/$I$10","v":0.87677725118483407},{"$f":"LS27/$I$10","v":0.88151658767772512},{"$f":"LT27/$I$10","v":0.88625592417061616},{"$f":"LU27/$I$10","v":0.89099526066350709},{"$f":"LV27/$I$10","v":0.89573459715639814},{"$f":"LW27/$I$10","v":0.90047393364928907},{"$f":"LX27/$I$10","v":0.90047393364928907},{"$f":"LY27/$I$10","v":0.90047393364928907},{"$f":"LZ27/$I$10","v":0.90521327014218012},{"$f":"MA27/$I$10","v":0.90995260663507105},{"$f":"MB27/$I$10","v":0.91469194312796209},{"$f":"MC27/$I$10","v":0.91943127962085303},{"$f":"MD27/$I$10","v":0.92417061611374407},{"$f":"ME27/$I$10","v":0.92417061611374407},{"$f":"MF27/$I$10","v":0.92417061611374407},{"$f":"MG27/$I$10","v":0.92890995260663511},{"$f":"MH27/$I$10","v":0.93364928909952605},{"$f":"MI27/$I$10","v":0.93838862559241709},{"$f":"MJ27/$I$10","v":0.94312796208530802},{"$f":"MK27/$I$10","v":0.94786729857819907},{"$f":"ML27/$I$10","v":0.94786729857819907},{"$f":"MM27/$I$10","v":0.94786729857819907},{"$f":"MN27/$I$10","v":0.95260663507109},{"$f":"MO27/$I$10","v":0.95734597156398105},{"$f":"MP27/$I$10","v":0.96208530805687209},{"$f":"MQ27/$I$10","v":0.96682464454976302},{"$f":"MR27/$I$10","v":0.97156398104265407},{"$f":"MS27/$I$10","v":0.97156398104265407},{"$f":"MT27/$I$10","v":0.97156398104265407},{"$f":"MU27/$I$10","v":0.976303317535545},{"$f":"MV27/$I$10","v":0.98104265402843605},{"$f":"MW27/$I$10","v":0.98578199052132698},{"$f":"MX27/$I$10","v":0.99052132701421802},{"$f":"MY27/$I$10","v":0.99526066350710896},{"$f":"MZ27/$I$10","v":0.99526066350710896},{"$f":"NA27/$I$10","v":0.99526066350710896},{"$f":"NB27/$I$10","v":1},{"$f":"NC27/$I$10","v":1},{"$f":"ND27/$I$10","v":1},{"$f":"NE27/$I$10","v":1},{"$f":"NF27/$I$10","v":1},{"$f":"NG27/$I$10","v":1},{"$f":"NH27/$I$10","v":1},{"$f":"NI27/$I$10","v":1},{"$f":"NJ27/$I$10","v":1}]
[null,"",null,null,null,null,null,null,null,1,2,3,4,5,6,7,8,9,10,11,12,13,14,15,16,17,18,19,20,21,22,23,24,25,26,27,28,29,30,31,32,33,34,35,36,37,38,39,40,41,42,43,44,45,46,47,48,49,50,51,52,53,54,55,56,57,58,59,60,61,62,63,64,65,66,67,68,69,70,71,72,73,74,75,76,77,78,79,80,81,82,83,84,85,86,87,88,89,90,91,92,93,94,95,96,97,98,99,100,101,102,103,104,105,106,107,108,109,110,111,112,113,114,115,116,117,118,119,120,121,122,123,124,125,126,127,128,129,130,131,132,133,134,135,136,137,138,139,140,141,142,143,144,145,146,147,148,149,150,151,152,153,154,155,156,157,158,159,160,161,162,163,164,165,166,167,168,169,170,171,172,173,174,175,176,177,178,179,180,181,182,183,184,185,186,187,188,189,190,191,192,193,194,195,196,197,198,199,200,201,202,203,204,205,206,207,208,209,210,211,212,213,214,215,216,217,218,219,220,221,222,223,224,225,226,227,228,229,230,231,232,233,234,235,236,237,238,239,240,241,242,243,244,245,246,247,248,249,250,251,252,253,254,255,256,257,258,259,260,261,262,263,264,265,266,267,268,269,270,271,272,273,274,275,276,277,278,279,280,281,282,283,284,285,286,287,288,289,290,291,292,293,294,295,296,297,298,299,300,301,302,303,304,305,306,307,308,309,310,311,312,313,314,315,316,317,318,319,320,321,322,323,324,325,326,327,328,329,330,331,332,333,334,335,336,337,338,339,340,341,342,343,344,345,346,347,348,349,350,351,352,353,354,355,356,357,358,359,360,361,362,363,364,365]
[null,"",null,null,null,null,null,"Kalenteripäivien suhde",{"$f":"HLOOKUP(I26,J26:NJ30,5)","v":1.9178082191780823E-2},{"$f":"J29/365","v":2.7397260273972603E-3},{"$f":"K29/365","v":5.4794520547945206E-3},8.21917808219178E-3,1.0958904109589041E-2,1.3698630136986301E-2,1.643835616438356E-2,1.9178082191780823E-2,2.1917808219178082E-2,2.4657534246575342E-2,2.7397260273972601E-2,3.0136986301369864E-2,{"$f":"U29/365","v":3.287671232876712E-2},{"$f":"V29/365","v":3.5616438356164383E-2},{"$f":"W29/365","v":3.8356164383561646E-2},{"$f":"X29/365","v":4.1095890410958902E-2},{"$f":"Y29/365","v":4.3835616438356165E-2},{"$f":"Z29/365","v":4.6575342465753428E-2},{"$f":"AA29/365","v":4.9315068493150684E-2},{"$f":"AB29/365","v":5.2054794520547946E-2},{"$f":"AC29/365","v":5.4794520547945202E-2},5.7534246575342465E-2,{"$f":"AE29/365","v":6.0273972602739728E-2},{"$f":"AF29/365","v":6.3013698630136991E-2},{"$f":"AG29/365","v":6.575342465753424E-2},{"$f":"AH29/365","v":6.8493150684931503E-2},{"$f":"AI29/365","v":7.1232876712328766E-2},{"$f":"AJ29/365","v":7.3972602739726029E-2},{"$f":"AK29/365","v":7.6712328767123292E-2},{"$f":"AL29/365","v":7.9452054794520555E-2},{"$f":"AM29/365","v":8.2191780821917804E-2},8.4931506849315067E-2,{"$f":"AO29/365","v":8.7671232876712329E-2},{"$f":"AP29/365","v":9.0410958904109592E-2},{"$f":"AQ29/365","v":9.3150684931506855E-2},{"$f":"AR29/365","v":9.5890410958904104E-2},{"$f":"AS29/365","v":9.8630136986301367E-2},{"$f":"AT29/365","v":0.10136986301369863},{"$f":"AU29/365","v":0.10410958904109589},{"$f":"AV29/365","v":0.10684931506849316},{"$f":"AW29/365","v":0.1095890410958904},0.11232876712328767,{"$f":"AY29/365","v":0.11506849315068493},{"$f":"AZ29/365","v":0.11780821917808219},{"$f":"BA29/365","v":0.12054794520547946},{"$f":"BB29/365","v":0.12328767123287671},{"$f":"BC29/365","v":0.12602739726027398},{"$f":"BD29/365","v":0.12876712328767123},{"$f":"BE29/365","v":0.13150684931506848},{"$f":"BF29/365","v":0.13424657534246576},{"$f":"BG29/365","v":0.13698630136986301},0.13972602739726028,{"$f":"BI29/365","v":0.14246575342465753},{"$f":"BJ29/365","v":0.14520547945205478},{"$f":"BK29/365","v":0.14794520547945206},{"$f":"BL29/365","v":0.15068493150684931},{"$f":"BM29/365","v":0.15342465753424658},{"$f":"BN29/365","v":0.15616438356164383},{"$f":"BO29/365","v":0.15890410958904111},{"$f":"BP29/365","v":0.16164383561643836},{"$f":"BQ29/365","v":0.16438356164383561},0.16712328767123288,{"$f":"BS29/365","v":0.16986301369863013},{"$f":"BT29/365","v":0.17260273972602741},{"$f":"BU29/365","v":0.17534246575342466},{"$f":"BV29/365","v":0.17808219178082191},{"$f":"BW29/365","v":0.18082191780821918},{"$f":"BX29/365","v":0.18356164383561643},{"$f":"BY29/365","v":0.18630136986301371},{"$f":"BZ29/365","v":0.18904109589041096},{"$f":"CA29/365","v":0.19178082191780821},0.19452054794520549,{"$f":"CC29/365","v":0.19726027397260273},{"$f":"CD29/365","v":0.2},{"$f":"CE29/365","v":0.20273972602739726},{"$f":"CF29/365","v":0.20547945205479451},{"$f":"CG29/365","v":0.20821917808219179},{"$f":"CH29/365","v":0.21095890410958903},{"$f":"CI29/365","v":0.21369863013698631},{"$f":"CJ29/365","v":0.21643835616438356},{"$f":"CK29/365","v":0.21917808219178081},0.22191780821917809,{"$f":"CM29/365","v":0.22465753424657534},{"$f":"CN29/365","v":0.22739726027397261},{"$f":"CO29/365","v":0.23013698630136986},{"$f":"CP29/365","v":0.23287671232876711},{"$f":"CQ29/365","v":0.23561643835616439},{"$f":"CR29/365","v":0.23835616438356164},{"$f":"CS29/365","v":0.24109589041095891},{"$f":"CT29/365","v":0.24383561643835616},{"$f":"CU29/365","v":0.24657534246575341},0.24931506849315069,{"$f":"CW29/365","v":0.25205479452054796},{"$f":"CX29/365","v":0.25479452054794521},{"$f":"CY29/365","v":0.25753424657534246},{"$f":"CZ29/365","v":0.26027397260273971},{"$f":"DA29/365","v":0.26301369863013696},{"$f":"DB29/365","v":0.26575342465753427},{"$f":"DC29/365","v":0.26849315068493151},{"$f":"DD29/365","v":0.27123287671232876},{"$f":"DE29/365","v":0.27397260273972601},0.27671232876712326,{"$f":"DG29/365","v":0.27945205479452057},{"$f":"DH29/365","v":0.28219178082191781},{"$f":"DI29/365","v":0.28493150684931506},{"$f":"DJ29/365","v":0.28767123287671231},{"$f":"DK29/365","v":0.29041095890410956},{"$f":"DL29/365","v":0.29315068493150687},{"$f":"DM29/365","v":0.29589041095890412},{"$f":"DN29/365","v":0.29863013698630136},{"$f":"DO29/365","v":0.30136986301369861},0.30410958904109592,{"$f":"DQ29/365","v":0.30684931506849317},{"$f":"DR29/365","v":0.30958904109589042},{"$f":"DS29/365","v":0.31232876712328766},{"$f":"DT29/365","v":0.31506849315068491},{"$f":"DU29/365","v":0.31780821917808222},{"$f":"DV29/365","v":0.32054794520547947},{"$f":"DW29/365","v":0.32328767123287672},{"$f":"DX29/365","v":0.32602739726027397},{"$f":"DY29/365","v":0.32876712328767121},0.33150684931506852,{"$f":"EA29/365","v":0.33424657534246577},{"$f":"EB29/365","v":0.33698630136986302},{"$f":"EC29/365","v":0.33972602739726027},{"$f":"ED29/365","v":0.34246575342465752},{"$f":"EE29/365","v":0.34520547945205482},{"$f":"EF29/365","v":0.34794520547945207},{"$f":"EG29/365","v":0.35068493150684932},{"$f":"EH29/365","v":0.35342465753424657},{"$f":"EI29/365","v":0.35616438356164382},0.35890410958904112,{"$f":"EK29/365","v":0.36164383561643837},{"$f":"EL29/365","v":0.36438356164383562},{"$f":"EM29/365","v":0.36712328767123287},{"$f":"EN29/365","v":0.36986301369863012},{"$f":"EO29/365","v":0.37260273972602742},{"$f":"EP29/365","v":0.37534246575342467},{"$f":"EQ29/365","v":0.37808219178082192},{"$f":"ER29/365","v":0.38082191780821917},{"$f":"ES29/365","v":0.38356164383561642},0.38630136986301372,{"$f":"EU29/365","v":0.38904109589041097},{"$f":"EV29/365","v":0.39178082191780822},{"$f":"EW29/365","v":0.39452054794520547},{"$f":"EX29/365","v":0.39726027397260272},{"$f":"EY29/365","v":0.4},{"$f":"EZ29/365","v":0.40273972602739727},{"$f":"FA29/365","v":0.40547945205479452},{"$f":"FB29/365","v":0.40821917808219177},{"$f":"FC29/365","v":0.41095890410958902},0.41369863013698632,{"$f":"FE29/365","v":0.41643835616438357},{"$f":"FF29/365","v":0.41917808219178082},{"$f":"FG29/365","v":0.42191780821917807},{"$f":"FH29/365","v":0.42465753424657532},{"$f":"FI29/365","v":0.42739726027397262},{"$f":"FJ29/365","v":0.43013698630136987},{"$f":"FK29/365","v":0.43287671232876712},{"$f":"FL29/365","v":0.43561643835616437},{"$f":"FM29/365","v":0.43835616438356162},0.44109589041095892,{"$f":"FO29/365","v":0.44383561643835617},{"$f":"FP29/365","v":0.44657534246575342},{"$f":"FQ29/365","v":0.44931506849315067},{"$f":"FR29/365","v":0.45205479452054792},{"$f":"FS29/365","v":0.45479452054794522},{"$f":"FT29/365","v":0.45753424657534247},{"$f":"FU29/365","v":0.46027397260273972},{"$f":"FV29/365","v":0.46301369863013697},{"$f":"FW29/365","v":0.46575342465753422},0.46849315068493153,{"$f":"FY29/365","v":0.47123287671232877},{"$f":"FZ29/365","v":0.47397260273972602},{"$f":"GA29/365","v":0.47671232876712327},{"$f":"GB29/365","v":0.47945205479452052},{"$f":"GC29/365","v":0.48219178082191783},{"$f":"GD29/365","v":0.48493150684931507},{"$f":"GE29/365","v":0.48767123287671232},{"$f":"GF29/365","v":0.49041095890410957},{"$f":"GG29/365","v":0.49315068493150682},0.49589041095890413,{"$f":"GI29/365","v":0.49863013698630138},{"$f":"GJ29/365","v":0.50136986301369868},{"$f":"GK29/365","v":0.50410958904109593},{"$f":"GL29/365","v":0.50684931506849318},{"$f":"GM29/365","v":0.50958904109589043},{"$f":"GN29/365","v":0.51232876712328768},{"$f":"GO29/365","v":0.51506849315068493},{"$f":"GP29/365","v":0.51780821917808217},{"$f":"GQ29/365","v":0.52054794520547942},0.52328767123287667,{"$f":"GS29/365","v":0.52602739726027392},{"$f":"GT29/365","v":0.52876712328767128},{"$f":"GU29/365","v":0.53150684931506853},{"$f":"GV29/365","v":0.53424657534246578},{"$f":"GW29/365","v":0.53698630136986303},{"$f":"GX29/365","v":0.53972602739726028},{"$f":"GY29/365","v":0.54246575342465753},{"$f":"GZ29/365","v":0.54520547945205478},{"$f":"HA29/365","v":0.54794520547945202},0.55068493150684927,{"$f":"HC29/365","v":0.55342465753424652},{"$f":"HD29/365","v":0.55616438356164388},{"$f":"HE29/365","v":0.55890410958904113},{"$f":"HF29/365","v":0.56164383561643838},{"$f":"HG29/365","v":0.56438356164383563},{"$f":"HH29/365","v":0.56712328767123288},{"$f":"HI29/365","v":0.56986301369863013},{"$f":"HJ29/365","v":0.57260273972602738},{"$f":"HK29/365","v":0.57534246575342463},0.57808219178082187,{"$f":"HM29/365","v":0.58082191780821912},{"$f":"HN29/365","v":0.58356164383561648},{"$f":"HO29/365","v":0.58630136986301373},{"$f":"HP29/365","v":0.58904109589041098},{"$f":"HQ29/365","v":0.59178082191780823},{"$f":"HR29/365","v":0.59452054794520548},{"$f":"HS29/365","v":0.59726027397260273},{"$f":"HT29/365","v":0.6},{"$f":"HU29/365","v":0.60273972602739723},0.60547945205479448,{"$f":"HW29/365","v":0.60821917808219184},{"$f":"HX29/365","v":0.61095890410958908},{"$f":"HY29/365","v":0.61369863013698633},{"$f":"HZ29/365","v":0.61643835616438358},{"$f":"IA29/365","v":0.61917808219178083},{"$f":"IB29/365","v":0.62191780821917808},{"$f":"IC29/365","v":0.62465753424657533},{"$f":"ID29/365","v":0.62739726027397258},{"$f":"IE29/365","v":0.63013698630136983},0.63287671232876708,{"$f":"IG29/365","v":0.63561643835616444},{"$f":"IH29/365","v":0.63835616438356169},{"$f":"II29/365","v":0.64109589041095894},{"$f":"IJ29/365","v":0.64383561643835618},{"$f":"IK29/365","v":0.64657534246575343},{"$f":"IL29/365","v":0.64931506849315068},{"$f":"IM29/365","v":0.65205479452054793},{"$f":"IN29/365","v":0.65479452054794518},{"$f":"IO29/365","v":0.65753424657534243},0.66027397260273968,{"$f":"IQ29/365","v":0.66301369863013704},{"$f":"IR29/365","v":0.66575342465753429},{"$f":"IS29/365","v":0.66849315068493154},{"$f":"IT29/365","v":0.67123287671232879},{"$f":"IU29/365","v":0.67397260273972603},{"$f":"IV29/365","v":0.67671232876712328},{"$f":"IW29/365","v":0.67945205479452053},{"$f":"IX29/365","v":0.68219178082191778},{"$f":"IY29/365","v":0.68493150684931503},0.68767123287671228,{"$f":"JA29/365","v":0.69041095890410964},{"$f":"JB29/365","v":0.69315068493150689},{"$f":"JC29/365","v":0.69589041095890414},{"$f":"JD29/365","v":0.69863013698630139},{"$f":"JE29/365","v":0.70136986301369864},{"$f":"JF29/365","v":0.70410958904109588},{"$f":"JG29/365","v":0.70684931506849313},{"$f":"JH29/365","v":0.70958904109589038},{"$f":"JI29/365","v":0.71232876712328763},0.71506849315068488,{"$f":"JK29/365","v":0.71780821917808224},{"$f":"JL29/365","v":0.72054794520547949},{"$f":"JM29/365","v":0.72328767123287674},{"$f":"JN29/365","v":0.72602739726027399},{"$f":"JO29/365","v":0.72876712328767124},{"$f":"JP29/365","v":0.73150684931506849},{"$f":"JQ29/365","v":0.73424657534246573},{"$f":"JR29/365","v":0.73698630136986298},{"$f":"JS29/365","v":0.73972602739726023},0.74246575342465748,{"$f":"JU29/365","v":0.74520547945205484},{"$f":"JV29/365","v":0.74794520547945209},{"$f":"JW29/365","v":0.75068493150684934},{"$f":"JX29/365","v":0.75342465753424659},{"$f":"JY29/365","v":0.75616438356164384},{"$f":"JZ29/365","v":0.75890410958904109},{"$f":"KA29/365","v":0.76164383561643834},{"$f":"KB29/365","v":0.76438356164383559},{"$f":"KC29/365","v":0.76712328767123283},0.76986301369863008,{"$f":"KE29/365","v":0.77260273972602744},{"$f":"KF29/365","v":0.77534246575342469},{"$f":"KG29/365","v":0.77808219178082194},{"$f":"KH29/365","v":0.78082191780821919},{"$f":"KI29/365","v":0.78356164383561644},{"$f":"KJ29/365","v":0.78630136986301369},{"$f":"KK29/365","v":0.78904109589041094},{"$f":"KL29/365","v":0.79178082191780819},{"$f":"KM29/365","v":0.79452054794520544},0.79726027397260268,{"$f":"KO29/365","v":0.8},{"$f":"KP29/365","v":0.80273972602739729},{"$f":"KQ29/365","v":0.80547945205479454},{"$f":"KR29/365","v":0.80821917808219179},{"$f":"KS29/365","v":0.81095890410958904},{"$f":"KT29/365","v":0.81369863013698629},{"$f":"KU29/365","v":0.81643835616438354},{"$f":"KV29/365","v":0.81917808219178079},{"$f":"KW29/365","v":0.82191780821917804},0.8246575342465754,{"$f":"KY29/365","v":0.82739726027397265},{"$f":"KZ29/365","v":0.83013698630136989},{"$f":"LA29/365","v":0.83287671232876714},{"$f":"LB29/365","v":0.83561643835616439},{"$f":"LC29/365","v":0.83835616438356164},{"$f":"LD29/365","v":0.84109589041095889},{"$f":"LE29/365","v":0.84383561643835614},{"$f":"LF29/365","v":0.84657534246575339},{"$f":"LG29/365","v":0.84931506849315064},0.852054794520548,{"$f":"LI29/365","v":0.85479452054794525},{"$f":"LJ29/365","v":0.8575342465753425},{"$f":"LK29/365","v":0.86027397260273974},{"$f":"LL29/365","v":0.86301369863013699},{"$f":"LM29/365","v":0.86575342465753424},{"$f":"LN29/365","v":0.86849315068493149},{"$f":"LO29/365","v":0.87123287671232874},{"$f":"LP29/365","v":0.87397260273972599},{"$f":"LQ29/365","v":0.87671232876712324},0.8794520547945206,{"$f":"LS29/365","v":0.88219178082191785},{"$f":"LT29/365","v":0.8849315068493151},{"$f":"LU29/365","v":0.88767123287671235},{"$f":"LV29/365","v":0.8904109589041096},{"$f":"LW29/365","v":0.89315068493150684},{"$f":"LX29/365","v":0.89589041095890409},{"$f":"LY29/365","v":0.89863013698630134},{"$f":"LZ29/365","v":0.90136986301369859},{"$f":"MA29/365","v":0.90410958904109584},0.9068493150684932,{"$f":"MC29/365","v":0.90958904109589045},{"$f":"MD29/365","v":0.9123287671232877},{"$f":"ME29/365","v":0.91506849315068495},{"$f":"MF29/365","v":0.9178082191780822},{"$f":"MG29/365","v":0.92054794520547945},{"$f":"MH29/365","v":0.92328767123287669},{"$f":"MI29/365","v":0.92602739726027394},{"$f":"MJ29/365","v":0.92876712328767119},{"$f":"MK29/365","v":0.93150684931506844},0.9342465753424658,{"$f":"MM29/365","v":0.93698630136986305},{"$f":"MN29/365","v":0.9397260273972603},{"$f":"MO29/365","v":0.94246575342465755},{"$f":"MP29/365","v":0.9452054794520548},{"$f":"MQ29/365","v":0.94794520547945205},{"$f":"MR29/365","v":0.9506849315068493},{"$f":"MS29/365","v":0.95342465753424654},{"$f":"MT29/365","v":0.95616438356164379},{"$f":"MU29/365","v":0.95890410958904104},0.9616438356164384,{"$f":"MW29/365","v":0.96438356164383565},{"$f":"MX29/365","v":0.9671232876712329},{"$f":"MY29/365","v":0.96986301369863015},{"$f":"MZ29/365","v":0.9726027397260274},{"$f":"NA29/365","v":0.97534246575342465},{"$f":"NB29/365","v":0.9780821917808219},{"$f":"NC29/365","v":0.98082191780821915},{"$f":"ND29/365","v":0.98356164383561639},{"$f":"NE29/365","v":0.98630136986301364},0.989041095890411,{"$f":"NG29/365","v":0.99178082191780825},{"$f":"NH29/365","v":0.9945205479452055},{"$f":"NI29/365","v":0.99726027397260275},{"$f":"NJ29/365","v":1}]
[null,""]
[null,""]
[]
[null,{"$f":"I11","v":211},{"$f":"H10","v":"Työpäivien määrä"}]

{"sheet":"Tuloste","index":4,"n_rows":15,"n_cols":94,"rows_kept":15,"cut":false,"hidden":true,"merged":[]}
[]
[null,null,"Tuloste TAS-taulukkoon merkityistä päiväkirjamerkinnöistä"]
[null,null,"Sarakeleveys on nolla niissä tapauksissa, kun yhtään merkintää ei ole tehty kyseiseen kohtaan"]
[]
[null,null,{"$f":"TAS!D1","v":"Olli Opettaja"},null,null,{"$f":"TAS!H1","v":"OMNIA"}]
[null,null,null,null,null,null,null,null,null,null,null,null,null,null,null,null,null,null,null,null,null,null,null,null,null,"Sit","Sit","Sit","Sit","Sit","Sit","Sit","Sit","Sit","Sit","Sit","Sit","Sit","Sit","Sit","Sit","Sid","Sid","Sid","Sid","Sid","Sid","Sid","Sid","Sid","Sid","Sid","Sid","Sid","Sid","Sid","Sid","Saa","Saa","Saa","Saa","Saa","Saa","Saa","Saa","Saa","Saa","Saa","Saa","Saa","Saa","Saa","Huo","Huo","Huo","Huo","Huo","Huo","Huo","Huo","Huo","Huo","Huo","Huo","Huo","Huo","Huo"]
[null,null,"Pvm","Sijoitetut tunnit","Kelloajoista lasketut tunnit","1. Työjakso",null,null,"Huom","2. Työjakso",null,null,"Huom","3.Työjakso",null,null,"Huom","Lounastauko","Huom","Poissa","Epämukava työ",null,"Loppui","Huom","Tunnit","Yhteissuunnittelu ja -kehittäminen","Oppimisen ohjaus","Työpaikalla tapahtuva oppiminen","Arviointi","Vastuuopettaja","Tutkintovastaava","Pedaopettaja","Digiopettaja","Yhdysopettaja","Kulttuurivastaava","Kestävä kehitys","Kv-vastaava","Valmennustoiminta","Muu","Yhteensä",null,"Yhteissuunnittelu ja -kehittäminen","Oppimisen ohjaus","Työpaikalla tapahtuva oppiminen","Arviointi","Vastuuopettaja","Tutkintovastaava","Pedaopettaja","Digiopettaja","Yhdysopettaja","Kulttuurivastaava","Kestävä kehitys","Kv-vastaava","Valmennustoiminta","Muu","Yhteensä",null,"Yhteissuunnittelu ja -kehittäminen","Oppimisen ohjaus","Työpaikalla tapahtuva oppiminen","Arviointi","Vastuuopettaja","Tutkintovastaava","Pedaopettaja","Digiopettaja","Yhdysopettaja","Kulttuurivastaava","Kestävä kehitys","Kv-vastaava","Valmennustoiminta","Muu","Yhteensä",null,"Yhteissuunnittelu ja -kehittäminen","Oppimisen ohjaus","Työpaikalla tapahtuva oppiminen","Arviointi","Vastuuopettaja","Tutkintovastaava","Pedaopettaja","Digiopettaja","Yhdysopettaja","Kulttuurivastaava","Kestävä kehitys","Kv-vastaava","Valmennustoiminta","Muu"]
[]
[]
[null,null,null,{"$f":"SUM(D11:D375)*24","v":0},{"$f":"SUM(E11:E375)*24","v":0},{"$f":"COUNTA(F11:F376)","v":0},0,{"$f":"SUM(H11:H375)*24","v":0},0,0,0,0,0,0,0,0,0,5,0,0,0,0,0,0,{"$f":"SUM(Y11:Y375)*24","v":"00:00:00"},{"$f":"COUNTA(Z11:Z376)","v":0},{"$f":"COUNTA(AA11:AA376)","v":0},0,{"$f":"COUNTA(AC11:AC376)","v":0},{"$f":"COUNTA(AD11:AD376)","v":0},{"$f":"COUNTA(AE11:AE376)","v":0},{"$f":"COUNTA(AF11:AF376)","v":0},{"$f":"COUNTA(AG11:AG376)","v":0},{"$f":"COUNTA(AH11:AH376)","v":0},{"$f":"COUNTA(AI11:AI376)","v":0},{"$f":"COUNTA(AJ11:AJ376)","v":0},{"$f":"COUNTA(AK11:AK376)","v":0},{"$f":"COUNTA(AL11:AL376)","v":0},{"$f":"COUNTA(AM11:AM376)","v":0},{"$f":"SUM(AN11:AN375)*24","v":0},{"$f":"COUNTA(AO11:AO376)","v":0},0,{"$f":"COUNTA(AQ11:AQ376)","v":0},{"$f":"COUNTA(AR11:AR376)","v":0},{"$f":"COUNTA(AS11:AS376)","v":0},{"$f":"COUNTA(AT11:AT376)","v":0},{"$f":"COUNTA(AU11:AU376)","v":0},{"$f":"COUNTA(AV11:AV376)","v":0},{"$f":"COUNTA(AW11:AW376)","v":0},{"$f":"COUNTA(AX11:AX376)","v":0},{"$f":"COUNTA(AY11:AY376)","v":0},{"$f":"COUNTA(AZ11:AZ376)","v":0},{"$f":"COUNTA(BA11:BA376)","v":0},{"$f":"COUNTA(BB11:BB376)","v":0},{"$f":"COUNTA(BC11:BC376)","v":0},{"$f":"SUM(BD11:BD375)*24","v":0},{"$f":"COUNTA(BE11:BE376)","v":0},{"$f":"COUNTA(BF11:BF376)","v":0},{"$f":"COUNTA(BG11:BG376)","v":0},{"$f":"COUNTA(BH11:BH376)","v":0},{"$f":"COUNTA(BI11:BI376)","v":0},{"$f":"COUNTA(BJ11:BJ376)","v":0},{"$f":"COUNTA(BK11:BK376)","v":0},{"$f":"COUNTA(BL11:BL376)","v":0},{"$f":"COUNTA(BM11:BM376)","v":0},{"$f":"COUNTA(BN11:BN376)","v":0},{"$f":"COUNTA(BO11:BO376)","v":0},{"$f":"COUNTA(BP11:BP376)","v":0},{"$f":"COUNTA(BQ11:BQ376)","v":0},{"$f":"COUNTA(BR11:BR376)","v":0},{"$f":"COUNTA(BS11:BS376)","v":0},{"$f":"SUM(BT11:BT375)*24","v":0},{"$f":"COUNTA(BU11:BU376)","v":0},{"$f":"COUNTA(BV11:BV376)","v":0},{"$f":"COUNTA(BW11:BW376)","v":0},{"$f":"COUNTA(BX11:BX376)","v":0},{"$f":"COUNTA(BY11:BY376)","v":0},{"$f":"COUNTA(BZ11:BZ376)","v":0},{"$f":"COUNTA(CA11:CA376)","v":0},{"$f":"COUNTA(CB11:CB376)","v":0},{"$f":"COUNTA(CC11:CC376)","v":0},{"$f":"COUNTA(CD11:CD376)","v":0},{"$f":"COUNTA(CE11:CE376)","v":0},{"$f":"COUNTA(CF11:CF376)","v":0},{"$f":"COUNTA(CG11:CG376)","v":0},{"$f":"COUNTA(CH11:CH376)","v":0},{"$f":"COUNTA(CI11:CI376)","v":0},null,{"$f":"COUNTA(CK11:CK376)","v":0},{"$f":"COUNTA(CL11:CL376)","v":0},{"$f":"COUNTA(CM11:CM376)","v":0},{"$f":"COUNTA(CN11:CN376)","v":0},{"$f":"COUNTA(CO11:CO376)","v":0},{"$f":"COUNTA(CP11:CP376)","v":0}]
[null,null,"2019-01-01","00:00:00","00:00:00",null,null,null,null,null,null,null,null,null,null,null,null,"00:30:00",null,null,null,null,null,null,"00:00:00"]
[null,null,"2019-01-02","00:00:00","00:00:00",null,null,null,null,null,null,null,null,null,null,null,null,"00:30:00",null,null,null,null,null,null,"00:00:00"]
[null,null,"2019-01-03","00:00:00","00:00:00",null,null,null,null,null,null,null,null,null,null,null,null,"00:30:00",null,null,null,null,null,null,"00:00:00"]
[null,null,"2019-01-04","00:00:00","00:00:00",null,null,null,null,null,null,null,null,null,null,null,null,"00:30:00",null,null,null,null,null,null,"00:00:00"]
[null,null,"2019-01-05","00:00:00","00:00:00",null,null,null,null,null,null,null,null,null,null,null,null,"00:30:00",null,null,null,null,null,null,"00:00:00"]

{"sheet":"Suunnitelma","index":5,"n_rows":35,"n_cols":9,"rows_kept":35,"cut":false,"hidden":false,"merged":[]}
[null,"Tassi - Vuosisuunnitelma",{"$f":"TAS!$D$1","v":"Olli Opettaja"},null,null,null,null,null,{"$f":"Koulu","v":"OMNIA"}]
[]
[]
[null,"Osa-aikaisuus",1,null,{"$f":"LaskettuPvMaara","v":211},null,"Vuoden työpäivien lukumäärä"]
[null,"Vapaajaksopäivien määrä",70,"pv"]
[null,"Nimellinen vuosityöaika",1500,"h",{"$f":"TodellinenVTA","v":1500},null,"Todellinen vuosityöaika (henkilökohtaiset vapaat huomioitu)"]
[null,"Sitomattoman työn osuus (min.)",0.25,null,{"$f":"SitomatonOsuus","v":0},null,"Tämän hetken tilanne"]
[null,"Keskimääräinen työpäivän pituus",{"$f":"VTA/LaskettuPvMaara","v":7.109004739336493},"h",{"$f":"TyoPaivaPit/24","v":"07:06:32.417"},null,"Muodossa hh:mm"]
[]
[null,"Viikkotyöaika (määräaikaiselle)",37.5,"h"]
[]
[null,"Syötä sidotut, sitomattomat ja sääntelemättömät tunnit  normaaleina lukuina (esim. 250)"]
[null,"Työajan jakautuminen","Sitomaton",null,"Sidottu",null,"Sääntelemätön",null,"Huomautus"]
[null,"Yhteissuunnittelu ja -kehittäminen"]
[null,"Oppimisen ohjaus ja suunnittelu"]
[null,"Työpaikalla tapahtuva oppiminen"]
[null,"Arviointi"]
[null,"Vastuuopettaja"]
[null,"Tutkintovastaava"]
[null,"Pedaopettaja"]
[null,"Digiopettaja"]
[null,"Yhdysopettaja"]
[null,"Kulttuurivastaava"]
[null,"Kestävä kehitys"]
[null,"Kv-vastaava"]
[null,"Valmennustoiminta"]
[null,"Projektit"]
[null,"Itsensä kehittäminen"]
[null,"Muu"]
[null,"Sairauspoissaolon sitomaton työ",{"$f":"INT(TAS!C30+0.5)","v":0},null,null,null,null,null,"Käyttäjä ei tee merkintöjä tälle riville. Ohjelma täyttää automaattisesti."]
[null,"Yhteensä",{"$f":"SUM(C14:C30)","v":0},null,{"$f":"SUM(E14:E30)","v":0},null,0]
[]
[null,"Kaikki suunnitellut tunnit yhteensä",{"$f":"C31+E31+G31","v":0},"h"," Vuoden lopussa tämän tulisi olla yhtä suuri kuin todellinen vuosityöaika."]
[null,"Vielä kohdentamattomat tunnit",{"$f":"TodellinenVTA-C33","v":1500},"h"," Tämän tulisi olla nolla vuoden lopussa."]
[null,"Suunnitellut ja kohdentamattomat yht",{"$f":"SUM(C33:C34)","v":1500},"h"," Tämä on edellisten summa ja samalla todellinen vuosityöaika"]